{"text_format":"1","workbook":"xlsx","n_sheets":8,"sheets":["TUTORIEL","Identification","Population","Accueil","Sécurité","Education","Formation","Synthèse"],"not_rendered":{"charts":0,"images":3,"macros":1,"external_links":1,"defined_names":3,"comments":0,"pivot_tables":0},"unopened":[],"bounds":{"document_bytes":16777216,"sheet_cells":100000,"rows_first":2000,"rows_last":500,"rows_between":2000,"halvings":0,"cell_chars":16384,"cell_head_chars":4096},"cells_cut":0,"cells_raw":0,"read":"whole","date_system":"1900"}

{"sheet":"TUTORIEL","index":0,"n_rows":7,"n_cols":53,"rows_kept":7,"cut":false,"hidden":false,"merged":[[0,0,0,20],[1,0,1,20],[2,0,2,20],[3,0,3,20]]}
["Fonctionnement du tableau de bord"]
["Ce tableau de bord a été mis en ligne sur le site de l'académie de Besançon et optimisé pour en permettre une adaptation à chaque situation d'établissement"]
["La première page permet de paramétrer les différents tableaux sans qu'il soit nécessaire de copier à chaque fois le calendrier et votre structure d'établissement."]
["Les informations saisies dans chaque chapitre sont répertoriés directement dans la feuille de synthèse qu'il conviendra d'imprimer et d'en faire un agrandissement A3.",null,null,null,null,null,null,null,null,null,null,null,null,null,null,null,null,null,null,null,null,null,null,null,null,null,null,null,null,null,null,null,null,null,null,null,null,null,null,null,null,null,null,null,null,null,null,null,null,null,null,null,"Apercu"]
[null,null,null,null,null,null,null,null,null,null,null,null,null,null,null,null,null,null,null,null,null,null,null,null,null,null,null,null,null,null,null,null,null,null,null,null,null,null,null,null,null,null,null,null,null,null,null,null,null,null,null,null,"Impression aperçu OUI "]
[null,null,null,null,null,null,null,null,null,null,null,null,null,null,null,null,null,null,null,null,null,null,null,null,null,null,null,null,null,null,null,null,null,null,null,null,null,null,null,null,null,null,null,null,null,null,null,null,null,null,null,null,"Impression aperçu NON"]
[null,null,null,null,null,null,null,null,null,null,null,null,null,null,null,null,null,null,null,null,null,null,null,null,null,null,null,null,null,null,null,null,null,null,null,null,null,null,null,null,null,null,null,null,null,null,null,null,null,null,null,null,1]

{"sheet":"Identification","index":1,"n_rows":40,"n_cols":3,"rows_kept":40,"cut":false,"hidden":false,"merged":[[0,2,39,2],[26,0,26,1],[27,0,27,1],[28,1,39,1],[14,0,14,1]]}
["NOM DE L'ETABLISSEMENT",null,"IDENTIFICATION ET PARAMETRAGE"]
[]
["COMMUNE"]
[]
["SUPERFICIE ETABLISSEMENT"]
[]
["NOMBRE DE CPE"]
[]
["NOMBRE D'AED"]
[]
["NOMBRE DE CONTRATS AUTRES"]
[]
["NOMBRE DE DIVISIONS"]
[]
["DENOMINATION DES NIVEAUX"]
["NIVEAU 1 "]
["NIVEAU 2"]
["NIVEAU 3"]
["NIVEAU 4"]
["NIVEAU 5"]
["NIVEAU 6"]
["NIVEAU 7"]
["NIVEAU 8"]
["NIVEAU 9"]
["NIVEAU 10"]
[]
["CALENDRIER"]
["ANNEE SCOLAIRE"]
[{"$f":"DATE(LEFT($B$29,4),8,1)","v":"2015-08-01"},"2015-2016"]
[{"$f":"DATE(LEFT($B$29,4),9,1)","v":"2015-09-01"}]
[{"$f":"DATE(LEFT($B$29,4),10,1)","v":"2015-10-01"}]
[{"$f":"DATE(LEFT($B$29,4),11,1)","v":"2015-11-01"}]
[{"$f":"DATE(LEFT($B$29,4),12,1)","v":"2015-12-01"}]
[{"$f":"DATE(RIGHT($B$29,4),1,1)","v":"2016-01-01"}]
[{"$f":"DATE(RIGHT($B$29,4),2,1)","v":"2016-02-01"}]
[{"$f":"DATE(RIGHT($B$29,4),3,1)","v":"2016-03-01"}]
[{"$f":"DATE(RIGHT($B$29,4),4,1)","v":"2016-04-01"}]
[{"$f":"DATE(RIGHT($B$29,4),5,1)","v":"2016-05-01"}]
[{"$f":"DATE(RIGHT($B$29,4),6,1)","v":"2016-06-01"}]
[{"$f":"DATE(RIGHT($B$29,4),7,1)","v":"2016-07-01"}]

{"sheet":"Population","index":2,"n_rows":22,"n_cols":5,"rows_kept":22,"cut":false,"hidden":false,"merged":[[3,2,3,4],[3,1,22,1],[3,5,22,5],[0,0,0,15],[1,0,1,15],[21,2,21,3],[4,2,4,3],[5,2,5,3],[6,2,6,3],[7,2,7,3],[8,2,8,3],[19,2,19,3],[20,2,20,3]]}
["Tableau de bord du service de la Vie Scolaire de l'établissement"]
[" Population accueillie"]
[]
[null,null,{"$f":"Identification!B29","v":"2015-2016"}]
[null,null,"Nombre de garçons"]
[null,null,"Nombre de filles"]
[null,null,"PCS défavorisées"]
[null,null,"PCS favorisées"]
[null,null,"Nombre de divisions"]
[null,null,"Nombre d'élèves de ",{"$f":"IF(Identification!B16=\"\",\"\",Identification!B16)","v":""}]
[null,null,"Nombre d'élèves de ",{"$f":"IF(Identification!B17=\"\",\"\",Identification!B17)","v":""}]
[null,null,"Nombre d'élèves de ",{"$f":"IF(Identification!B18=\"\",\"\",Identification!B18)","v":""}]
[null,null,"Nombre d'élèves de ",{"$f":"IF(Identification!B19=\"\",\"\",Identification!B19)","v":""}]
[null,null,"Nombre d'élèves de ",{"$f":"IF(Identification!B20=\"\",\"\",Identification!B20)","v":""}]
[null,null,"Nombre d'élèves de ",{"$f":"IF(Identification!B21=\"\",\"\",Identification!B21)","v":""}]
[null,null,"Nombre d'élèves de ",{"$f":"IF(Identification!B22=\"\",\"\",Identification!B22)","v":""}]
[null,null,"Nombre d'élèves de ",{"$f":"IF(Identification!B23=\"\",\"\",Identification!B23)","v":""}]
[null,null,"Nombre d'élèves de ",{"$f":"IF(Identification!B24=\"\",\"\",Identification!B24)","v":""}]
[null,null,"Nombre d'élèves de ",{"$f":"IF(Identification!B25=\"\",\"\",Identification!B25)","v":""}]
[null,null,"Total élèves",null,{"$f":"IF(SUM(E10:E19)=0,\"\",SUM(E10:E19))","v":""}]
[null,null,"Taux de réussite aux examens"]
[null,null,"Sorties sans diplôme"]

{"sheet":"Accueil","index":3,"n_rows":24,"n_cols":29,"rows_kept":24,"cut":false,"hidden":false,"merged":[[4,1,4,3],[19,1,19,3],[0,0,0,25],[23,2,23,4],[22,2,22,4],[20,2,21,4],[5,2,6,4],[7,2,7,4],[8,2,8,4],[9,2,9,4],[10,2,10,4],[5,17,5,18],[5,19,5,20],[11,2,11,4],[12,2,14,3],[20,11,20,12],[20,13,20,14],[5,5,5,6],[5,7,5,8],[5,9,5,10],[20,5,20,6],[20,7,20,8],[20,9,20,10],[3,1,3,28],[18,1,18,28],[20,21,20,22],[20,23,20,24],[20,25,20,26],[20,27,20,28],[5,23,5,24],[5,25,5,26],[5,27,5,28],[5,21,5,22],[20,15,20,16],[20,17,20,18],[20,19,20,20],[5,11,5,12],[5,13,5,14],[5,15,5,16]]}
["Etre accueilli"]
[]
[]
[null,"Transport scolaire et restauration"]
[null,"Effectif établissement",null,null,{"$f":"Population!$E$20","v":""}]
[null,null,"Tableau Mensuel",null,null,{"$f":"Identification!$A$29","v":"2015-08-01"},null,{"$f":"Identification!$A$30","v":"2015-09-01"},null,{"$f":"Identification!$A$31","v":"2015-10-01"},null,{"$f":"Identification!$A$32","v":"2015-11-01"},null,{"$f":"Identification!$A$33","v":"2015-12-01"},null,{"$f":"Identification!$A$34","v":"2016-01-01"},null,{"$f":"Identification!$A$35","v":"2016-02-01"},null,{"$f":"Identification!$A$36","v":"2016-03-01"},null,{"$f":"Identification!$A$37","v":"2016-04-01"},null,{"$f":"Identification!$A$38","v":"2016-05-01"},null,{"$f":"Identification!$A$39","v":"2016-06-01"},null,{"$f":"Identification!$A$40","v":"2016-07-01"}]
[null,null,null,null,null,"Effectif","%","Effectif","%","Effectif","%","Effectif","%","Effectif","%","Effectif","%","Effectif","%","Effectif","%","Effectif","%","Effectif","%","Effectif","%","Effectif","%"]
[null,null,"Nb d'élèves transportés",null,null,null,{"$f":"IF($E$5=\"\",\"\",F8/$E$5*100)","v":""},null,{"$f":"IF($E$5=\"\",\"\",H8/$E$5*100)","v":""},null,{"$f":"IF($E$5=\"\",\"\",J8/$E$5*100)","v":""},null,{"$f":"IF($E$5=\"\",\"\",L8/$E$5*100)","v":""},null,{"$f":"IF($E$5=\"\",\"\",N8/$E$5*100)","v":""},null,{"$f":"IF($E$5=\"\",\"\",P8/$E$5*100)","v":""},null,{"$f":"IF($E$5=\"\",\"\",R8/$E$5*100)","v":""},null,{"$f":"IF($E$5=\"\",\"\",T8/$E$5*100)","v":""},null,{"$f":"IF($E$5=\"\",\"\",V8/$E$5*100)","v":""},null,{"$f":"IF($E$5=\"\",\"\",X8/$E$5*100)","v":""},null,{"$f":"IF($E$5=\"\",\"\",Z8/$E$5*100)","v":""},null,{"$f":"IF($E$5=\"\",\"\",AB8/$E$5*100)","v":""}]
[null,null,"Elèves demi-pensionnaires",null,null,null,{"$f":"IF($E$5=\"\",\"\",F9/$E$5*100)","v":""},null,"",null,{"$f":"IF($E$5=\"\",\"\",J9/$E$5*100)","v":""},null,{"$f":"IF($E$5=\"\",\"\",L9/$E$5*100)","v":""},null,{"$f":"IF($E$5=\"\",\"\",N9/$E$5*100)","v":""},null,{"$f":"IF($E$5=\"\",\"\",P9/$E$5*100)","v":""},null,{"$f":"IF($E$5=\"\",\"\",R9/$E$5*100)","v":""},null,{"$f":"IF($E$5=\"\",\"\",T9/$E$5*100)","v":""},null,{"$f":"IF($E$5=\"\",\"\",V9/$E$5*100)","v":""},null,{"$f":"IF($E$5=\"\",\"\",X9/$E$5*100)","v":""},null,{"$f":"IF($E$5=\"\",\"\",Z9/$E$5*100)","v":""},null,{"$f":"IF($E$5=\"\",\"\",AB9/$E$5*100)","v":""}]
[null,null,"Nb d'élèves externes",null,null,null,"",null,"",null,{"$f":"IF($E$5=\"\",\"\",J10/$E$5*100)","v":""},null,{"$f":"IF($E$5=\"\",\"\",L10/$E$5*100)","v":""},null,{"$f":"IF($E$5=\"\",\"\",N10/$E$5*100)","v":""},null,{"$f":"IF($E$5=\"\",\"\",P10/$E$5*100)","v":""},null,{"$f":"IF($E$5=\"\",\"\",R10/$E$5*100)","v":""},null,{"$f":"IF($E$5=\"\",\"\",T10/$E$5*100)","v":""},null,{"$f":"IF($E$5=\"\",\"\",V10/$E$5*100)","v":""},null,{"$f":"IF($E$5=\"\",\"\",X10/$E$5*100)","v":""},null,{"$f":"IF($E$5=\"\",\"\",Z10/$E$5*100)","v":""},null,{"$f":"IF($E$5=\"\",\"\",AB10/$E$5*100)","v":""}]
[null,null,"Elèves normalement transportés qui quittent l'établissement s'ils n'ont pas cours",null,null,null,"/effectif transporté",null,"/effectif transporté",null,"/effectif transporté",null,"/effectif transporté",null,"/effectif transporté",null,"/effectif transporté",null,"/effectif transporté",null,"/effectif transporté",null,"/effectif transporté",null,"/effectif transporté",null,"/effectif transporté",null,"/effectif transporté"]
[null,null,"Nb d'élèves internes"]
[null,null,"Changement de régime",null,"DP \"  Externe",null,"/nb de DP",null,"/nb de DP",null,"/nb de DP",null,"/nb de DP",null,"/nb de DP",null,"/nb de DP",null,"/nb de DP",null,"/nb de DP",null,"/nb de DP",null,"/nb de DP",null,"/nb de DP",null,"/nb de DP"]
[null,null,null,null,"Interne \" DP",null,"/nb d'internes",null,"/nb d'internes",null,"/nb d'internes",null,"/nb d'internes",null,"/nb d'internes",null,"/nb d'internes",null,"/nb d'internes",null,"/nb d'internes",null,"/nb d'internes",null,"/nb d'internes",null,"/nb d'internes",null,"/nb d'internes"]
[null,null,null,null,"Autre "]
[]
[]
[]
[null,"Permanences"]
[null,"Effectif établissement",null,null,{"$f":"Population!$E$20","v":""}]
[null,null,"Tableau Mensuel ",null,null,{"$f":"Identification!$A$29","v":"2015-08-01"},null,{"$f":"H6","v":"2015-09-01"},null,"2015-10-01",null,"2015-11-01",null,"2015-12-01",null,"2016-01-01",null,"2016-02-01",null,"2016-03-01",null,"2016-04-01",null,"2016-05-01",null,"2016-06-01",null,"2016-07-01"]
[null,null,null,null,null,"Effectif","Pourcentage","Effectif","Pourcentage","Effectif","Pourcentage","Effectif","Pourcentage","Effectif","Pourcentage","Effectif","Pourcentage","Effectif","Pourcentage","Effectif","Pourcentage","Effectif","Pourcentage","Effectif","Pourcentage","Effectif","Pourcentage","Effectif","Pourcentage"]
[null,null,"Nombre d'élèves normalement en permanence",null,null,null,{"$f":"IF($E$20=\"\",\"\",F23/$E$20*100)","v":""},null,{"$f":"IF($E$20=\"\",\"\",H23/$E$20*100)","v":""},null,{"$f":"IF($E$20=\"\",\"\",J23/$E$20*100)","v":""},null,{"$f":"IF($E$20=\"\",\"\",L23/$E$20*100)","v":""},null,{"$f":"IF($E$20=\"\",\"\",N23/$E$20*100)","v":""},null,{"$f":"IF($E$20=\"\",\"\",P23/$E$20*100)","v":""},null,{"$f":"IF($E$20=\"\",\"\",R23/$E$20*100)","v":""},null,{"$f":"IF($E$20=\"\",\"\",T23/$E$20*100)","v":""},null,{"$f":"IF($E$20=\"\",\"\",V23/$E$20*100)","v":""},null,{"$f":"IF($E$20=\"\",\"\",X23/$E$20*100)","v":""},null,{"$f":"IF($E$20=\"\",\"\",Z23/$E$20*100)","v":""},null,{"$f":"IF($E$20=\"\",\"\",AB23/$E$20*100)","v":""}]
[null,null,"Nombre d'élèves effectivement accueillis en permanence",null,null,null,{"$f":"IF($E$20=\"\",\"\",F24/$E$20*100)","v":""},null,{"$f":"IF($E$20=\"\",\"\",H24/$E$20*100)","v":""},null,{"$f":"IF($E$20=\"\",\"\",J24/$E$20*100)","v":""},null,{"$f":"IF($E$20=\"\",\"\",L24/$E$20*100)","v":""},null,{"$f":"IF($E$20=\"\",\"\",N24/$E$20*100)","v":""},null,{"$f":"IF($E$20=\"\",\"\",P24/$E$20*100)","v":""},null,{"$f":"IF($E$20=\"\",\"\",R24/$E$20*100)","v":""},null,{"$f":"IF($E$20=\"\",\"\",T24/$E$20*100)","v":""},null,{"$f":"IF($E$20=\"\",\"\",V24/$E$20*100)","v":""},null,{"$f":"IF($E$20=\"\",\"\",X24/$E$20*100)","v":""},null,{"$f":"IF($E$20=\"\",\"\",Z24/$E$20*100)","v":""},null,{"$f":"IF($E$20=\"\",\"\",AB24/$E$20*100)","v":""}]

{"sheet":"Sécurité","index":4,"n_rows":95,"n_cols":268,"rows_kept":95,"cut":false,"hidden":false,"merged":[[51,244,51,267],[52,244,54,244],[52,245,53,247],[52,248,52,257],[52,258,52,267],[5,233,5,242],[5,143,5,152],[5,153,5,162],[5,163,5,172],[5,173,5,182],[5,183,5,192],[5,193,5,202],[16,203,16,222],[17,203,17,212],[17,213,17,222],[16,223,16,242],[17,223,17,232],[17,233,17,242],[16,143,16,162],[17,143,17,152],[17,153,17,162],[16,163,16,182],[16,183,16,202],[17,163,17,172],[4,43,4,62],[4,63,4,82],[4,83,4,102],[5,73,5,82],[5,223,5,232],[4,103,4,122],[4,123,4,142],[5,83,5,92],[5,93,5,102],[5,103,5,112],[5,113,5,122],[5,123,5,132],[5,133,5,142],[4,143,4,162],[4,203,4,222],[4,223,4,242],[4,163,4,182],[4,183,4,202],[5,203,5,212],[5,213,5,222],[5,43,5,52],[5,53,5,62],[5,63,5,72],[17,173,17,182],[17,183,17,192],[17,193,17,202],[16,83,16,102],[17,83,17,92],[17,93,17,102],[16,103,16,122],[16,123,16,142],[17,103,17,112],[17,113,17,122],[17,123,17,132],[17,133,17,142],[1,0,33,0],[4,3,4,22],[5,3,5,12],[28,1,31,1],[2,1,2,31],[14,1,14,31],[25,1,25,31],[16,3,16,22],[5,13,5,22],[16,23,16,42],[5,23,5,32],[5,33,5,42],[28,13,28,22],[28,23,28,32],[28,33,28,42],[4,23,4,42],[27,83,27,102],[52,90,52,99],[52,100,54,100],[52,101,53,103],[90,3,90,12],[34,0,80,0],[37,2,37,3],[38,2,40,2],[71,2,73,2],[35,1,35,31],[38,3,40,3],[38,4,40,4],[52,66,52,75],[52,8,52,17],[52,18,52,27],[52,28,54,28],[52,29,53,31],[84,0,95,0],[68,1,68,31],[87,1,87,31],[70,1,79,1],[89,3,89,22],[70,2,70,3],[70,4,70,27],[16,43,16,62],[52,2,54,2],[52,3,54,3],[52,4,54,4],[52,5,53,7],[52,56,52,65],[28,3,28,12],[38,5,39,7],[17,23,17,32],[17,33,17,42],[17,43,17,52],[27,23,27,42],[27,43,27,62],[27,63,27,82],[17,53,17,62],[16,63,16,82],[17,63,17,72],[17,73,17,82],[17,13,17,22],[27,3,27,22],[17,3,17,12],[51,2,51,3],[51,4,51,27],[51,28,51,51],[38,8,38,17],[37,76,37,99],[38,77,39,79],[38,80,38,89],[38,90,38,99],[37,100,37,123],[37,124,37,147],[52,76,54,76],[52,77,53,79],[52,80,52,89],[37,4,37,27],[37,28,37,51],[37,52,37,75],[52,114,52,123],[52,124,54,124],[52,125,53,127],[52,128,52,137],[52,138,52,147],[90,13,90,22],[70,28,70,51],[70,52,70,75],[38,114,38,123],[38,124,40,124],[38,125,39,127],[38,128,38,137],[38,138,38,147],[38,28,40,28],[38,29,39,31],[38,32,38,41],[38,42,38,51],[38,52,40,52],[38,76,40,76],[52,32,52,41],[52,42,52,51],[52,52,54,52],[52,53,53,55],[38,18,38,27],[38,53,39,55],[38,104,38,113],[38,56,38,65],[38,66,38,75],[52,104,52,113],[27,123,27,142],[27,143,27,162],[27,163,27,182],[27,183,27,202],[27,203,27,222],[38,176,38,185],[38,186,38,195],[51,148,51,171],[51,172,51,195],[51,196,51,219],[38,148,40,148],[38,149,39,151],[38,152,38,161],[38,162,38,171],[51,220,51,243],[38,172,40,172],[38,173,39,175],[27,223,27,242],[28,133,28,142],[28,143,28,152],[28,153,28,162],[28,163,28,172],[28,173,28,182],[28,183,28,192],[28,43,28,52],[28,53,28,62],[28,63,28,72],[28,73,28,82],[28,83,28,92],[28,93,28,102],[28,103,28,112],[28,113,28,122],[28,123,28,132],[28,193,28,202],[28,203,28,212],[28,213,28,222],[28,223,28,232],[28,233,28,242],[27,103,27,122],[51,52,51,75],[51,76,51,99],[51,100,51,123],[51,124,51,147],[37,196,37,219],[37,220,37,243],[38,196,40,196],[38,197,39,199],[38,200,38,209],[38,210,38,219],[38,220,40,220],[38,221,39,223],[38,224,38,233],[38,234,38,243],[37,148,37,171],[37,172,37,195],[38,100,40,100],[38,101,39,103],[52,221,53,223],[52,224,52,233],[70,76,70,99],[70,100,70,123],[70,124,70,147],[70,148,70,171],[70,172,70,195],[70,196,70,219],[70,220,70,243],[52,148,54,148],[52,149,53,151],[52,152,52,161],[52,162,52,171],[52,172,54,172],[52,173,53,175],[52,176,52,185],[52,186,52,195],[52,196,54,196],[71,3,73,3],[71,4,73,4],[71,5,72,7],[71,8,71,17],[71,18,71,27],[71,28,73,28],[71,29,72,31],[71,32,71,41],[71,42,71,51],[71,52,73,52],[71,53,72,55],[71,56,71,65],[71,66,71,75],[71,76,73,76],[71,77,72,79],[71,80,71,89],[71,90,71,99],[71,100,73,100],[71,101,72,103],[71,104,71,113],[71,114,71,123],[71,124,73,124],[71,125,72,127],[71,128,71,137],[71,138,71,147],[71,148,73,148],[71,149,72,151],[37,244,37,267],[38,244,40,244],[38,245,39,247],[38,248,38,257],[38,258,38,267],[71,152,71,161],[71,162,71,171],[71,172,73,172],[71,173,72,175],[71,176,71,185],[71,221,72,223],[71,224,71,233],[71,234,71,243],[71,186,71,195],[71,196,73,196],[71,197,72,199],[71,200,71,209],[71,210,71,219],[71,220,73,220],[52,234,52,243],[52,197,53,199],[52,200,52,209],[52,210,52,219],[52,220,54,220]]}
[]
["Etre élève"]
[null,"Présence"]
[]
[null,null,null,{"$f":"D17","v":"2015-08-01"},null,null,null,null,null,null,null,null,null,null,null,null,null,null,null,null,null,null,null,{"$f":"X17","v":"2015-09-01"},null,null,null,null,null,null,null,null,null,null,null,null,null,null,null,null,null,null,null,{"$f":"AR17","v":"2015-10-01"},null,null,null,null,null,null,null,null,null,null,null,null,null,null,null,null,null,null,null,{"$f":"BL17","v":"2015-11-01"},null,null,null,null,null,null,null,null,null,null,null,null,null,null,null,null,null,null,null,{"$f":"CF17","v":"2015-12-01"},null,null,null,null,null,null,null,null,null,null,null,null,null,null,null,null,null,null,null,{"$f":"CZ17","v":"2016-01-01"},null,null,null,null,null,null,null,null,null,null,null,null,null,null,null,null,null,null,null,{"$f":"DT17","v":"2016-02-01"},null,null,null,null,null,null,null,null,null,null,null,null,null,null,null,null,null,null,null,{"$f":"EN17","v":"2016-03-01"},null,null,null,null,null,null,null,null,null,null,null,null,null,null,null,null,null,null,null,{"$f":"FH17","v":"2016-04-01"},null,null,null,null,null,null,null,null,null,null,null,null,null,null,null,null,null,null,null,{"$f":"GB17","v":"2016-05-01"},null,null,null,null,null,null,null,null,null,null,null,null,null,null,null,null,null,null,null,{"$f":"GV17","v":"2016-06-01"},null,null,null,null,null,null,null,null,null,null,null,null,null,null,null,null,null,null,null,{"$f":"HP17","v":"2016-07-01"}]
[null,null,"tableau mensuel","nb de 1/2 journées d'absence",null,null,null,null,null,null,null,null,null,"%  1/2j absences établt",null,null,null,null,null,null,null,null,null,"nb de 1/2 journées d'absence",null,null,null,null,null,null,null,null,null,"%  1/2j absences établt",null,null,null,null,null,null,null,null,null,"nb de 1/2 journées d'absence",null,null,null,null,null,null,null,null,null,"%  1/2j absences établt",null,null,null,null,null,null,null,null,null,"nb de 1/2 journées d'absence",null,null,null,null,null,null,null,null,null,"%  1/2j absences établt",null,null,null,null,null,null,null,null,null,"nb de 1/2 journées d'absence",null,null,null,null,null,null,null,null,null,"%  1/2j absences établt",null,null,null,null,null,null,null,null,null,"nb de 1/2 journées d'absence",null,null,null,null,null,null,null,null,null,"%  1/2j absences établt",null,null,null,null,null,null,null,null,null,"nb de 1/2 journées d'absence",null,null,null,null,null,null,null,null,null,"%  1/2j absences établt",null,null,null,null,null,null,null,null,null,"nb de 1/2 journées d'absence",null,null,null,null,null,null,null,null,null,"%  1/2j absences établt",null,null,null,null,null,null,null,null,null,"nb de 1/2 journées d'absence",null,null,null,null,null,null,null,null,null,"%  1/2j absences établt",null,null,null,null,null,null,null,null,null,"nb de 1/2 journées d'absence",null,null,null,null,null,null,null,null,null,"%  1/2j absences établt",null,null,null,null,null,null,null,null,null,"nb de 1/2 journées d'absence",null,null,null,null,null,null,null,null,null,"%  1/2j absences établt",null,null,null,null,null,null,null,null,null,"nb de 1/2 journées d'absence",null,null,null,null,null,null,null,null,null,"%  1/2j absences établt"]
[null,null,null,{"$f":"Identification!$B$16","v":0},{"$f":"Identification!$B$17","v":0},{"$f":"Identification!$B$18","v":0},{"$f":"Identification!$B$19","v":0},{"$f":"Identification!$B$20","v":0},{"$f":"Identification!$B$21","v":0},{"$f":"Identification!$B$22","v":0},{"$f":"Identification!$B$23","v":0},{"$f":"Identification!$B$24","v":0},{"$f":"Identification!$B$25","v":0},{"$f":"Identification!$B$16","v":0},{"$f":"Identification!$B$17","v":0},{"$f":"Identification!$B$18","v":0},{"$f":"Identification!$B$19","v":0},{"$f":"Identification!$B$20","v":0},{"$f":"Identification!$B$21","v":0},{"$f":"Identification!$B$22","v":0},{"$f":"Identification!$B$23","v":0},{"$f":"$L$7","v":0},{"$f":"Identification!$B$25","v":0},{"$f":"Identification!$B$16","v":0},{"$f":"Identification!$B$17","v":0},{"$f":"Identification!$B$18","v":0},{"$f":"Identification!$B$19","v":0},{"$f":"Identification!$B$20","v":0},{"$f":"Identification!$B$21","v":0},{"$f":"Identification!$B$22","v":0},{"$f":"Identification!$B$23","v":0},{"$f":"Identification!$B$24","v":0},{"$f":"Identification!$B$25","v":0},{"$f":"Identification!$B$16","v":0},{"$f":"Identification!$B$17","v":0},{"$f":"Identification!$B$18","v":0},{"$f":"Identification!$B$19","v":0},{"$f":"Identification!$B$20","v":0},{"$f":"Identification!$B$21","v":0},{"$f":"Identification!$B$22","v":0},{"$f":"Identification!$B$23","v":0},{"$f":"$L$7","v":0},{"$f":"Identification!$B$25","v":0},{"$f":"Identification!$B$16","v":0},{"$f":"Identification!$B$17","v":0},{"$f":"Identification!$B$18","v":0},{"$f":"Identification!$B$19","v":0},{"$f":"Identification!$B$20","v":0},{"$f":"Identification!$B$21","v":0},{"$f":"Identification!$B$22","v":0},{"$f":"Identification!$B$23","v":0},{"$f":"Identification!$B$24","v":0},{"$f":"Identification!$B$25","v":0},{"$f":"Identification!$B$16","v":0},{"$f":"Identification!$B$17","v":0},{"$f":"Identification!$B$18","v":0},{"$f":"Identification!$B$19","v":0},{"$f":"Identification!$B$20","v":0},{"$f":"Identification!$B$21","v":0},{"$f":"Identification!$B$22","v":0},{"$f":"Identification!$B$23","v":0},{"$f":"$L$7","v":0},{"$f":"Identification!$B$25","v":0},{"$f":"Identification!$B$16","v":0},{"$f":"Identification!$B$17","v":0},{"$f":"Identification!$B$18","v":0},{"$f":"Identification!$B$19","v":0},{"$f":"Identification!$B$20","v":0},{"$f":"Identification!$B$21","v":0},{"$f":"Identification!$B$22","v":0},{"$f":"Identification!$B$23","v":0},{"$f":"Identification!$B$24","v":0},{"$f":"Identification!$B$25","v":0},{"$f":"Identification!$B$16","v":0},{"$f":"Identification!$B$17","v":0},{"$f":"Identification!$B$18","v":0},{"$f":"Identification!$B$19","v":0},{"$f":"Identification!$B$20","v":0},{"$f":"Identification!$B$21","v":0},{"$f":"Identification!$B$22","v":0},{"$f":"Identification!$B$23","v":0},{"$f":"$L$7","v":0},{"$f":"Identification!$B$25","v":0},{"$f":"Identification!$B$16","v":0},{"$f":"Identification!$B$17","v":0},{"$f":"Identification!$B$18","v":0},{"$f":"Identification!$B$19","v":0},{"$f":"Identification!$B$20","v":0},{"$f":"Identification!$B$21","v":0},{"$f":"Identification!$B$22","v":0},{"$f":"Identification!$B$23","v":0},{"$f":"Identification!$B$24","v":0},{"$f":"Identification!$B$25","v":0},{"$f":"Identification!$B$16","v":0},{"$f":"Identification!$B$17","v":0},{"$f":"Identification!$B$18","v":0},{"$f":"Identification!$B$19","v":0},{"$f":"Identification!$B$20","v":0},{"$f":"Identification!$B$21","v":0},{"$f":"Identification!$B$22","v":0},{"$f":"Identification!$B$23","v":0},{"$f":"$L$7","v":0},{"$f":"Identification!$B$25","v":0},{"$f":"Identification!$B$16","v":0},{"$f":"Identification!$B$17","v":0},{"$f":"Identification!$B$18","v":0},{"$f":"Identification!$B$19","v":0},{"$f":"Identification!$B$20","v":0},{"$f":"Identification!$B$21","v":0},{"$f":"Identification!$B$22","v":0},{"$f":"Identification!$B$23","v":0},{"$f":"Identification!$B$24","v":0},{"$f":"Identification!$B$25","v":0},{"$f":"Identification!$B$16","v":0},{"$f":"Identification!$B$17","v":0},{"$f":"Identification!$B$18","v":0},{"$f":"Identification!$B$19","v":0},{"$f":"Identification!$B$20","v":0},{"$f":"Identification!$B$21","v":0},{"$f":"Identification!$B$22","v":0},{"$f":"Identification!$B$23","v":0},{"$f":"$L$7","v":0},{"$f":"Identification!$B$25","v":0},{"$f":"Identification!$B$16","v":0},{"$f":"Identification!$B$17","v":0},{"$f":"Identification!$B$18","v":0},{"$f":"Identification!$B$19","v":0},{"$f":"Identification!$B$20","v":0},{"$f":"Identification!$B$21","v":0},{"$f":"Identification!$B$22","v":0},{"$f":"Identification!$B$23","v":0},{"$f":"Identification!$B$24","v":0},{"$f":"Identification!$B$25","v":0},{"$f":"Identification!$B$16","v":0},{"$f":"Identification!$B$17","v":0},{"$f":"Identification!$B$18","v":0},{"$f":"Identification!$B$19","v":0},{"$f":"Identification!$B$20","v":0},{"$f":"Identification!$B$21","v":0},{"$f":"Identification!$B$22","v":0},{"$f":"Identification!$B$23","v":0},{"$f":"$L$7","v":0},{"$f":"Identification!$B$25","v":0},{"$f":"Identification!$B$16","v":0},{"$f":"Identification!$B$17","v":0},{"$f":"Identification!$B$18","v":0},{"$f":"Identification!$B$19","v":0},{"$f":"Identification!$B$20","v":0},{"$f":"Identification!$B$21","v":0},{"$f":"Identification!$B$22","v":0},{"$f":"Identification!$B$23","v":0},{"$f":"Identification!$B$24","v":0},{"$f":"Identification!$B$25","v":0},{"$f":"Identification!$B$16","v":0},{"$f":"Identification!$B$17","v":0},{"$f":"Identification!$B$18","v":0},{"$f":"Identification!$B$19","v":0},{"$f":"Identification!$B$20","v":0},{"$f":"Identification!$B$21","v":0},{"$f":"Identification!$B$22","v":0},{"$f":"Identification!$B$23","v":0},{"$f":"$L$7","v":0},{"$f":"Identification!$B$25","v":0},{"$f":"Identification!$B$16","v":0},{"$f":"Identification!$B$17","v":0},{"$f":"Identification!$B$18","v":0},{"$f":"Identification!$B$19","v":0},{"$f":"Identification!$B$20","v":0},{"$f":"Identification!$B$21","v":0},{"$f":"Identification!$B$22","v":0},{"$f":"Identification!$B$23","v":0},{"$f":"Identification!$B$24","v":0},{"$f":"Identification!$B$25","v":0},{"$f":"Identification!$B$16","v":0},{"$f":"Identification!$B$17","v":0},{"$f":"Identification!$B$18","v":0},{"$f":"Identification!$B$19","v":0},{"$f":"Identification!$B$20","v":0},{"$f":"Identification!$B$21","v":0},{"$f":"Identification!$B$22","v":0},{"$f":"Identification!$B$23","v":0},{"$f":"$L$7","v":0},{"$f":"Identification!$B$25","v":0},{"$f":"Identification!$B$16","v":0},{"$f":"Identification!$B$17","v":0},{"$f":"Identification!$B$18","v":0},{"$f":"Identification!$B$19","v":0},{"$f":"Identification!$B$20","v":0},{"$f":"Identification!$B$21","v":0},{"$f":"Identification!$B$22","v":0},{"$f":"Identification!$B$23","v":0},{"$f":"Identification!$B$24","v":0},{"$f":"Identification!$B$25","v":0},{"$f":"Identification!$B$16","v":0},{"$f":"Identification!$B$17","v":0},{"$f":"Identification!$B$18","v":0},{"$f":"Identification!$B$19","v":0},{"$f":"Identification!$B$20","v":0},{"$f":"Identification!$B$21","v":0},{"$f":"Identification!$B$22","v":0},{"$f":"Identification!$B$23","v":0},{"$f":"$L$7","v":0},{"$f":"Identification!$B$25","v":0},{"$f":"Identification!$B$16","v":0},{"$f":"Identification!$B$17","v":0},{"$f":"Identification!$B$18","v":0},{"$f":"Identification!$B$19","v":0},{"$f":"Identification!$B$20","v":0},{"$f":"Identification!$B$21","v":0},{"$f":"Identification!$B$22","v":0},{"$f":"Identification!$B$23","v":0},{"$f":"Identification!$B$24","v":0},{"$f":"Identification!$B$25","v":0},{"$f":"Identification!$B$16","v":0},{"$f":"Identification!$B$17","v":0},{"$f":"Identification!$B$18","v":0},{"$f":"Identification!$B$19","v":0},{"$f":"Identification!$B$20","v":0},{"$f":"Identification!$B$21","v":0},{"$f":"Identification!$B$22","v":0},{"$f":"Identification!$B$23","v":0},{"$f":"$L$7","v":0},{"$f":"Identification!$B$25","v":0},{"$f":"Identification!$B$16","v":0},{"$f":"Identification!$B$17","v":0},{"$f":"Identification!$B$18","v":0},{"$f":"Identification!$B$19","v":0},{"$f":"Identification!$B$20","v":0},{"$f":"Identification!$B$21","v":0},{"$f":"Identification!$B$22","v":0},{"$f":"Identification!$B$23","v":0},{"$f":"Identification!$B$24","v":0},{"$f":"Identification!$B$25","v":0},{"$f":"Identification!$B$16","v":0},{"$f":"Identification!$B$17","v":0},{"$f":"Identification!$B$18","v":0},{"$f":"Identification!$B$19","v":0},{"$f":"Identification!$B$20","v":0},{"$f":"Identification!$B$21","v":0},{"$f":"Identification!$B$22","v":0},{"$f":"Identification!$B$23","v":0},{"$f":"$L$7","v":0},{"$f":"Identification!$B$25","v":0}]
[null,null,"Absences totales"]
[null,null,"Absences justifiées recevables"]
[null,null,"Absences justifiées non recevables"]
[null,null,"Absences non justifiées"]
[null,null,"Signalement inspection académique"]
[]
[]
[null,"Ponctualité"]
[]
[null,null,null,{"$f":"Identification!$A$29","v":"2015-08-01"},null,null,null,null,null,null,null,null,null,null,null,null,null,null,null,null,null,null,null,{"$f":"Identification!$A$30","v":"2015-09-01"},null,null,null,null,null,null,null,null,null,null,null,null,null,null,null,null,null,null,null,{"$f":"Identification!$A$31","v":"2015-10-01"},null,null,null,null,null,null,null,null,null,null,null,null,null,null,null,null,null,null,null,{"$f":"Identification!$A$32","v":"2015-11-01"},null,null,null,null,null,null,null,null,null,null,null,null,null,null,null,null,null,null,null,{"$f":"Identification!$A$33","v":"2015-12-01"},null,null,null,null,null,null,null,null,null,null,null,null,null,null,null,null,null,null,null,{"$f":"Identification!$A$34","v":"2016-01-01"},null,null,null,null,null,null,null,null,null,null,null,null,null,null,null,null,null,null,null,{"$f":"Identification!$A$35","v":"2016-02-01"},null,null,null,null,null,null,null,null,null,null,null,null,null,null,null,null,null,null,null,{"$f":"Identification!$A$36","v":"2016-03-01"},null,null,null,null,null,null,null,null,null,null,null,null,null,null,null,null,null,null,null,{"$f":"Identification!$A$37","v":"2016-04-01"},null,null,null,null,null,null,null,null,null,null,null,null,null,null,null,null,null,null,null,{"$f":"Identification!$A$38","v":"2016-05-01"},null,null,null,null,null,null,null,null,null,null,null,null,null,null,null,null,null,null,null,{"$f":"Identification!$A$39","v":"2016-06-01"},null,null,null,null,null,null,null,null,null,null,null,null,null,null,null,null,null,null,null,{"$f":"Identification!$A$40","v":"2016-07-01"}]
[null,null,"tableau mensuel","nb de retards",null,null,null,null,null,null,null,null,null,"%  retards établissement",null,null,null,null,null,null,null,null,null,"nb de retards",null,null,null,null,null,null,null,null,null,"%  retards établissement",null,null,null,null,null,null,null,null,null,"nb de retards",null,null,null,null,null,null,null,null,null,"%  retards établissement",null,null,null,null,null,null,null,null,null,"nb de retards",null,null,null,null,null,null,null,null,null,"%  retards établissement",null,null,null,null,null,null,null,null,null,"nb de retards",null,null,null,null,null,null,null,null,null,"%  retards établissement",null,null,null,null,null,null,null,null,null,"nb de retards",null,null,null,null,null,null,null,null,null,"%  retards établissement",null,null,null,null,null,null,null,null,null,"nb de retards",null,null,null,null,null,null,null,null,null,"%  retards établissement",null,null,null,null,null,null,null,null,null,"nb de retards",null,null,null,null,null,null,null,null,null,"%  retards établissement",null,null,null,null,null,null,null,null,null,"nb de retards",null,null,null,null,null,null,null,null,null,"%  retards établissement",null,null,null,null,null,null,null,null,null,"nb de retards",null,null,null,null,null,null,null,null,null,"%  retards établissement",null,null,null,null,null,null,null,null,null,"nb de retards",null,null,null,null,null,null,null,null,null,"%  retards établissement",null,null,null,null,null,null,null,null,null,"nb de retards",null,null,null,null,null,null,null,null,null,"%  retards établissement"]
[null,null,null,{"$f":"D7","v":0},0,0,0,0,0,0,0,0,0,{"$f":"N7","v":0},0,0,0,0,0,0,0,0,0,{"$f":"N19","v":0},0,0,0,0,0,0,0,0,0,{"$f":"N19","v":0},0,0,0,0,0,0,0,0,0,{"$f":"N19","v":0},0,0,0,0,0,0,0,0,0,{"$f":"N19","v":0},0,0,0,0,0,0,0,0,0,{"$f":"N19","v":0},0,0,0,0,0,0,0,0,0,{"$f":"N19","v":0},0,0,0,0,0,0,0,0,0,{"$f":"AH19","v":0},0,0,0,0,0,0,0,0,0,{"$f":"AH19","v":0},0,0,0,0,0,0,0,0,0,{"$f":"BB19","v":0},0,0,0,0,0,0,0,0,0,{"$f":"BB19","v":0},0,0,0,0,0,0,0,0,0,{"$f":"BV19","v":0},0,0,0,0,0,0,0,0,0,{"$f":"BV19","v":0},0,0,0,0,0,0,0,0,0,{"$f":"CP19","v":0},0,0,0,0,0,0,0,0,0,{"$f":"CP19","v":0},0,0,0,0,0,0,0,0,0,{"$f":"DJ19","v":0},0,0,0,0,0,0,0,0,0,{"$f":"DJ19","v":0},0,0,0,0,0,0,0,0,0,{"$f":"ED19","v":0},0,0,0,0,0,0,0,0,0,{"$f":"ED19","v":0},0,0,0,0,0,0,0,0,0,{"$f":"EX19","v":0},0,0,0,0,0,0,0,0,0,{"$f":"EX19","v":0},0,0,0,0,0,0,0,0,0,{"$f":"FR19","v":0},0,0,0,0,0,0,0,0,0,{"$f":"FR19","v":0},0,0,0,0,0,0,0,0,0]
[null,null,"Retards total"]
[null,null,"Retards justifiés recevables"]
[null,null,"Retards justifiés non recevables"]
[null,null,"Retards non justifiés"]
[]
[]
[null,"Assiduité"]
[]
[null,null,null,{"$f":"D5","v":"2015-08-01"},null,null,null,null,null,null,null,null,null,null,null,null,null,null,null,null,null,null,null,{"$f":"$X$17","v":"2015-09-01"},null,null,null,null,null,null,null,null,null,null,null,null,null,null,null,null,null,null,null,{"$f":"$AR$17","v":"2015-10-01"},null,null,null,null,null,null,null,null,null,null,null,null,null,null,null,null,null,null,null,{"$f":"$BL$17","v":"2015-11-01"},null,null,null,null,null,null,null,null,null,null,null,null,null,null,null,null,null,null,null,{"$f":"$CF$17","v":"2015-12-01"},null,null,null,null,null,null,null,null,null,null,null,null,null,null,null,null,null,null,null,{"$f":"$CZ$17","v":"2016-01-01"},null,null,null,null,null,null,null,null,null,null,null,null,null,null,null,null,null,null,null,{"$f":"$DT$17","v":"2016-02-01"},null,null,null,null,null,null,null,null,null,null,null,null,null,null,null,null,null,null,null,{"$f":"$EN$17","v":"2016-03-01"},null,null,null,null,null,null,null,null,null,null,null,null,null,null,null,null,null,null,null,{"$f":"$FH$17","v":"2016-04-01"},null,null,null,null,null,null,null,null,null,null,null,null,null,null,null,null,null,null,null,{"$f":"$GB$17","v":"2016-05-01"},null,null,null,null,null,null,null,null,null,null,null,null,null,null,null,null,null,null,null,{"$f":"$GV$17","v":"2016-06-01"},null,null,null,null,null,null,null,null,null,null,null,null,null,null,null,null,null,null,null,{"$f":"$HP$17","v":"2016-07-01"}]
[null,null,"tableau mensuel","Nombre de punitions",null,null,null,null,null,null,null,null,null,"% établissement",null,null,null,null,null,null,null,null,null,{"$f":"D19","v":0},null,null,null,null,null,null,null,null,null,"% établissement",null,null,null,null,null,null,null,null,null,"Nombre de punitions",null,null,null,null,null,null,null,null,null,"% établissement",null,null,null,null,null,null,null,null,null,"Nombre de punitions",null,null,null,null,null,null,null,null,null,"% établissement",null,null,null,null,null,null,null,null,null,"Nombre de punitions",null,null,null,null,null,null,null,null,null,"% établissement",null,null,null,null,null,null,null,null,null,"Nombre de punitions",null,null,null,null,null,null,null,null,null,"% établissement",null,null,null,null,null,null,null,null,null,"Nombre de punitions",null,null,null,null,null,null,null,null,null,"% établissement",null,null,null,null,null,null,null,null,null,"Nombre de punitions",null,null,null,null,null,null,null,null,null,"% établissement",null,null,null,null,null,null,null,null,null,"Nombre de punitions",null,null,null,null,null,null,null,null,null,"% établissement",null,null,null,null,null,null,null,null,null,"Nombre de punitions",null,null,null,null,null,null,null,null,null,"% établissement",null,null,null,null,null,null,null,null,null,"Nombre de punitions",null,null,null,null,null,null,null,null,null,"% établissement",null,null,null,null,null,null,null,null,null,"Nombre de punitions",null,null,null,null,null,null,null,null,null,"% établissement"]
[null,null,null,{"$f":"D19","v":0},0,0,0,0,0,0,0,0,0,{"$f":"D19","v":0},0,0,0,0,0,0,0,0,0,{"$f":"D19","v":0},0,0,0,0,0,0,0,0,0,{"$f":"D19","v":0},0,0,0,0,0,0,0,0,0,{"$f":"D19","v":0},0,0,0,0,0,0,0,0,0,{"$f":"AR30","v":0},0,0,0,0,0,0,0,0,0,{"$f":"D19","v":0},0,0,0,0,0,0,0,0,0,0,0,0,0,0,0,0,0,0,0,0,0,0,0,0,0,0,0,0,0,0,0,{"$f":"AJ19","v":0},0,0,0,0,0,0,0,0,0,0,0,0,0,0,0,0,0,0,0,0,0,0,0,0,0,0,0,0,0,0,0,{"$f":"BP19","v":0},0,0,0,0,0,0,0,0,0,0,0,0,0,0,0,0,0,0,0,0,0,0,0,0,0,0,0,0,0,0,0,{"$f":"CV19","v":0},0,0,0,0,0,0,0,0,0,0,0,0,0,0,0,0,0,0,0,0,0,0,0,0,0,0,0,0,0,0,0,{"$f":"EB19","v":0},0,0,0,0,0,0,0,0,0,0,0,0,0,0,0,0,0,0,0,0,0,0,0,0,0,0,0,0,0,0,0,{"$f":"FH19","v":0},0,0,0,0,0,0,0,0,0,0,0,0,0,0,0,0,0,0,0]
[null,null,"Oubli de matériel"]
[null,null,"Travail non fait"]
[]
[]
["Etre élève"]
[null,"Respect des biens"]
[]
[null,null,null,null,{"$f":"$D$28","v":"2015-08-01"},null,null,null,null,null,null,null,null,null,null,null,null,null,null,null,null,null,null,null,null,null,null,null,{"$f":"$X$28","v":"2015-09-01"},null,null,null,null,null,null,null,null,null,null,null,null,null,null,null,null,null,null,null,null,null,null,null,{"$f":"$AR$28","v":"2015-10-01"},null,null,null,null,null,null,null,null,null,null,null,null,null,null,null,null,null,null,null,null,null,null,null,{"$f":"$BL$28","v":"2015-11-01"},null,null,null,null,null,null,null,null,null,null,null,null,null,null,null,null,null,null,null,null,null,null,null,{"$f":"$CF$28","v":"2015-12-01"},null,null,null,null,null,null,null,null,null,null,null,null,null,null,null,null,null,null,null,null,null,null,null,{"$f":"$CZ$28","v":"2016-01-01"},null,null,null,null,null,null,null,null,null,null,null,null,null,null,null,null,null,null,null,null,null,null,null,{"$f":"$DT$28","v":"2016-02-01"},null,null,null,null,null,null,null,null,null,null,null,null,null,null,null,null,null,null,null,null,null,null,null,{"$f":"$EN$28","v":"2016-03-01"},null,null,null,null,null,null,null,null,null,null,null,null,null,null,null,null,null,null,null,null,null,null,null,{"$f":"$FH$28","v":"2016-04-01"},null,null,null,null,null,null,null,null,null,null,null,null,null,null,null,null,null,null,null,null,null,null,null,{"$f":"$GB$28","v":"2016-05-01"},null,null,null,null,null,null,null,null,null,null,null,null,null,null,null,null,null,null,null,null,null,null,null,{"$f":"$GV$28","v":"2016-06-01"}]
[null,null,"tableau mensuel","Nature des faits","Nb total d'incidents par nature","Type de punition",null,null,"Nb d'incidents par niveau",null,null,null,null,null,null,null,null,null,"Nb d'élèves concernés",null,null,null,null,null,null,null,null,null,"Nb total d'incidents par nature","Type de punition",null,null,"Nb d'incidents par niveau",null,null,null,null,null,null,null,null,null,"Nb d'élèves concernés",null,null,null,null,null,null,null,null,null,"Nb total d'incidents par nature","Type de punition",null,null,"Nb d'incidents par niveau",null,null,null,null,null,null,null,null,null,"Nb d'élèves concernés",null,null,null,null,null,null,null,null,null,"Nb total d'incidents par nature","Type de punition",null,null,"Nb d'incidents par niveau",null,null,null,null,null,null,null,null,null,"Nb d'élèves concernés",null,null,null,null,null,null,null,null,null,"Nb total d'incidents par nature","Type de punition",null,null,"Nb d'incidents par niveau",null,null,null,null,null,null,null,null,null,"Nb d'élèves concernés",null,null,null,null,null,null,null,null,null,"Nb total d'incidents par nature","Type de punition",null,null,"Nb d'incidents par niveau",null,null,null,null,null,null,null,null,null,"Nb d'élèves concernés",null,null,null,null,null,null,null,null,null,"Nb total d'incidents par nature","Type de punition",null,null,"Nb d'incidents par niveau",null,null,null,null,null,null,null,null,null,"Nb d'élèves concernés",null,null,null,null,null,null,null,null,null,"Nb total d'incidents par nature","Type de punition",null,null,"Nb d'incidents par niveau",null,null,null,null,null,null,null,null,null,"Nb d'élèves concernés",null,null,null,null,null,null,null,null,null,"Nb total d'incidents par nature","Type de punition",null,null,"Nb d'incidents par niveau",null,null,null,null,null,null,null,null,null,"Nb d'élèves concernés",null,null,null,null,null,null,null,null,null,"Nb total d'incidents par nature","Type de punition",null,null,"Nb d'incidents par niveau",null,null,null,null,null,null,null,null,null,"Nb d'élèves concernés",null,null,null,null,null,null,null,null,null,"Nb total d'incidents par nature","Type de punition",null,null,"Nb d'incidents par niveau",null,null,null,null,null,null,null,null,null,"Nb d'élèves concernés"]
[null,null,null,null,null,null,null,null,{"$f":"D30","v":0},0,0,0,0,0,0,0,0,0,{"$f":"D30","v":0},0,0,0,0,0,0,0,0,0,null,null,null,null,{"$f":"S40","v":0},0,0,0,0,0,0,0,0,0,{"$f":"S40","v":0},0,0,0,0,0,0,0,0,0,null,null,null,null,{"$f":"S40","v":0},0,0,0,0,0,0,0,0,0,{"$f":"S40","v":0},0,0,0,0,0,0,0,0,0,null,null,null,null,{"$f":"S40","v":0},0,0,0,0,0,0,0,0,0,{"$f":"S40","v":0},0,0,0,0,0,0,0,0,0,null,null,null,null,{"$f":"S40","v":0},0,0,0,0,0,0,0,0,0,{"$f":"S40","v":0},0,0,0,0,0,0,0,0,0,null,null,null,null,{"$f":"DT30","v":0},0,0,0,0,0,0,0,0,0,{"$f":"DT30","v":0},0,0,0,0,0,0,0,0,0,null,null,null,null,{"$f":"S40","v":0},0,0,0,0,0,0,0,0,0,{"$f":"S40","v":0},0,0,0,0,0,0,0,0,0,null,null,null,null,{"$f":"S40","v":0},0,0,0,0,0,0,0,0,0,{"$f":"S40","v":0},0,0,0,0,0,0,0,0,0,null,null,null,null,{"$f":"S40","v":0},0,0,0,0,0,0,0,0,0,{"$f":"S40","v":0},0,0,0,0,0,0,0,0,0,null,null,null,null,{"$f":"S40","v":0},0,0,0,0,0,0,0,0,0,{"$f":"S40","v":0},0,0,0,0,0,0,0,0,0,null,null,null,null,{"$f":"AQ40","v":0},{"$f":"AR40","v":0},{"$f":"AS40","v":0},{"$f":"AT40","v":0},{"$f":"AU40","v":0},{"$f":"AV40","v":0},{"$f":"AW40","v":0},{"$f":"AX40","v":0},{"$f":"AY40","v":0},{"$f":"AZ40","v":0},{"$f":"AQ40","v":0},{"$f":"AR40","v":0},{"$f":"AS40","v":0},{"$f":"AT40","v":0},{"$f":"AU40","v":0},{"$f":"AV40","v":0},{"$f":"AW40","v":0},{"$f":"AX40","v":0},{"$f":"AY40","v":0},{"$f":"AZ40","v":0}]
[]
[null,null,"Nature des incidents (punitions)\n(à décliner)"]
[]
[]
[]
[]
[]
[]
[]
[]
[]
[null,null,null,null,{"$f":"$D$28","v":"2015-08-01"},null,null,null,null,null,null,null,null,null,null,null,null,null,null,null,null,null,null,null,null,null,null,null,{"$f":"$X$28","v":"2015-09-01"},null,null,null,null,null,null,null,null,null,null,null,null,null,null,null,null,null,null,null,null,null,null,null,{"$f":"$AR$28","v":"2015-10-01"},null,null,null,null,null,null,null,null,null,null,null,null,null,null,null,null,null,null,null,null,null,null,null,{"$f":"$BL$28","v":"2015-11-01"},null,null,null,null,null,null,null,null,null,null,null,null,null,null,null,null,null,null,null,null,null,null,null,{"$f":"$CF$28","v":"2015-12-01"},null,null,null,null,null,null,null,null,null,null,null,null,null,null,null,null,null,null,null,null,null,null,null,{"$f":"$CZ$28","v":"2016-01-01"},null,null,null,null,null,null,null,null,null,null,null,null,null,null,null,null,null,null,null,null,null,null,null,{"$f":"$DT$28","v":"2016-02-01"},null,null,null,null,null,null,null,null,null,null,null,null,null,null,null,null,null,null,null,null,null,null,null,{"$f":"$EN$28","v":"2016-03-01"},null,null,null,null,null,null,null,null,null,null,null,null,null,null,null,null,null,null,null,null,null,null,null,{"$f":"$FH$28","v":"2016-04-01"},null,null,null,null,null,null,null,null,null,null,null,null,null,null,null,null,null,null,null,null,null,null,null,{"$f":"$GB$28","v":"2016-05-01"},null,null,null,null,null,null,null,null,null,null,null,null,null,null,null,null,null,null,null,null,null,null,null,{"$f":"$GV$28","v":"2016-06-01"}]
[null,null,"tableau mensuel","Nature des faits","Nb total d'incidents par nature","Type de punition",null,null,"Nb d'incidents par niveau",null,null,null,null,null,null,null,null,null,"Nb d'élèves concernés",null,null,null,null,null,null,null,null,null,"Nb total d'incidents par nature","Type de punition",null,null,"Nb d'incidents par niveau",null,null,null,null,null,null,null,null,null,"Nb d'élèves concernés",null,null,null,null,null,null,null,null,null,"Nb total d'incidents par nature","Type de punition",null,null,"Nb d'incidents par niveau",null,null,null,null,null,null,null,null,null,"Nb d'élèves concernés",null,null,null,null,null,null,null,null,null,"Nb total d'incidents par nature","Type de punition",null,null,"Nb d'incidents par niveau",null,null,null,null,null,null,null,null,null,"Nb d'élèves concernés",null,null,null,null,null,null,null,null,null,"Nb total d'incidents par nature","Type de punition",null,null,"Nb d'incidents par niveau",null,null,null,null,null,null,null,null,null,"Nb d'élèves concernés",null,null,null,null,null,null,null,null,null,"Nb total d'incidents par nature","Type de punition",null,null,"Nb d'incidents par niveau",null,null,null,null,null,null,null,null,null,"Nb d'élèves concernés",null,null,null,null,null,null,null,null,null,"Nb total d'incidents par nature","Type de punition",null,null,"Nb d'incidents par niveau",null,null,null,null,null,null,null,null,null,"Nb d'élèves concernés",null,null,null,null,null,null,null,null,null,"Nb total d'incidents par nature","Type de punition",null,null,"Nb d'incidents par niveau",null,null,null,null,null,null,null,null,null,"Nb d'élèves concernés",null,null,null,null,null,null,null,null,null,"Nb total d'incidents par nature","Type de punition",null,null,"Nb d'incidents par niveau",null,null,null,null,null,null,null,null,null,"Nb d'élèves concernés",null,null,null,null,null,null,null,null,null,"Nb total d'incidents par nature","Type de punition",null,null,"Nb d'incidents par niveau",null,null,null,null,null,null,null,null,null,"Nb d'élèves concernés",null,null,null,null,null,null,null,null,null,"Nb total d'incidents par nature","Type de punition",null,null,"Nb d'incidents par niveau",null,null,null,null,null,null,null,null,null,"Nb d'élèves concernés"]
[null,null,null,null,null,null,null,null,{"$f":"I40","v":0},0,0,0,0,0,0,0,0,0,{"$f":"I54","v":0},0,0,0,0,0,0,0,0,0,null,null,null,null,{"$f":"I54","v":0},0,0,0,0,0,0,0,0,0,{"$f":"I54","v":0},0,0,0,0,0,0,0,0,0,null,null,null,null,{"$f":"I54","v":0},0,0,0,0,0,0,0,0,0,{"$f":"I54","v":0},0,0,0,0,0,0,0,0,0,null,null,null,null,{"$f":"I54","v":0},0,0,0,0,0,0,0,0,0,{"$f":"I54","v":0},0,0,0,0,0,0,0,0,0,null,null,null,null,{"$f":"I54","v":0},0,0,0,0,0,0,0,0,0,{"$f":"I54","v":0},0,0,0,0,0,0,0,0,0,null,null,null,null,{"$f":"I54","v":0},0,0,0,0,0,0,0,0,0,{"$f":"I54","v":0},0,0,0,0,0,0,0,0,0,null,null,null,null,{"$f":"I54","v":0},0,0,0,0,0,0,0,0,0,{"$f":"I54","v":0},0,0,0,0,0,0,0,0,0,null,null,null,null,{"$f":"I54","v":0},0,0,0,0,0,0,0,0,0,{"$f":"I54","v":0},0,0,0,0,0,0,0,0,0,null,null,null,null,{"$f":"I54","v":0},0,0,0,0,0,0,0,0,0,{"$f":"I54","v":0},0,0,0,0,0,0,0,0,0,null,null,null,null,{"$f":"I54","v":0},0,0,0,0,0,0,0,0,0,{"$f":"I54","v":0},0,0,0,0,0,0,0,0,0,null,null,null,null,{"$f":"I54","v":0},{"$f":"J54","v":0},{"$f":"K54","v":0},0,0,0,0,0,0,0,0,0,0,0,0,0,0,0,0,0]
[]
[null,null,"Nature des incidents (sanctions registre)\n(à décliner)"]
[]
[]
[]
[]
[]
[]
[]
[]
[]
[]
[]
[]
[null,"Respect des personnes"]
[]
[null,null,null,null,{"$f":"$E$52","v":"2015-08-01"},null,null,null,null,null,null,null,null,null,null,null,null,null,null,null,null,null,null,null,null,null,null,null,{"$f":"$X$28","v":"2015-09-01"},null,null,null,null,null,null,null,null,null,null,null,null,null,null,null,null,null,null,null,null,null,null,null,{"$f":"$AR$28","v":"2015-10-01"},null,null,null,null,null,null,null,null,null,null,null,null,null,null,null,null,null,null,null,null,null,null,null,{"$f":"$BL$28","v":"2015-11-01"},null,null,null,null,null,null,null,null,null,null,null,null,null,null,null,null,null,null,null,null,null,null,null,{"$f":"$CF$28","v":"2015-12-01"},null,null,null,null,null,null,null,null,null,null,null,null,null,null,null,null,null,null,null,null,null,null,null,{"$f":"$CZ$28","v":"2016-01-01"},null,null,null,null,null,null,null,null,null,null,null,null,null,null,null,null,null,null,null,null,null,null,null,{"$f":"$DT$28","v":"2016-02-01"},null,null,null,null,null,null,null,null,null,null,null,null,null,null,null,null,null,null,null,null,null,null,null,{"$f":"$EN$28","v":"2016-03-01"},null,null,null,null,null,null,null,null,null,null,null,null,null,null,null,null,null,null,null,null,null,null,null,{"$f":"$FH$28","v":"2016-04-01"},null,null,null,null,null,null,null,null,null,null,null,null,null,null,null,null,null,null,null,null,null,null,null,{"$f":"$GB$28","v":"2016-05-01"}]
[null,null,"tableau mensuel","Nature des faits","Nb total d'incidents par nature","Type de punition",null,null,"Nb d'incidents par niveau",null,null,null,null,null,null,null,null,null,"Nb d'élèves concernés",null,null,null,null,null,null,null,null,null,"Nb total d'incidents par nature","Type de punition",null,null,"Nb d'incidents par niveau",null,null,null,null,null,null,null,null,null,"Nb d'élèves concernés",null,null,null,null,null,null,null,null,null,"Nb total d'incidents par nature","Type de punition",null,null,"Nb d'incidents par niveau",null,null,null,null,null,null,null,null,null,"Nb d'élèves concernés",null,null,null,null,null,null,null,null,null,"Nb total d'incidents par nature","Type de punition",null,null,"Nb d'incidents par niveau",null,null,null,null,null,null,null,null,null,"Nb d'élèves concernés",null,null,null,null,null,null,null,null,null,"Nb total d'incidents par nature","Type de punition",null,null,"Nb d'incidents par niveau",null,null,null,null,null,null,null,null,null,"Nb d'élèves concernés",null,null,null,null,null,null,null,null,null,"Nb total d'incidents par nature","Type de punition",null,null,"Nb d'incidents par niveau",null,null,null,null,null,null,null,null,null,"Nb d'élèves concernés",null,null,null,null,null,null,null,null,null,"Nb total d'incidents par nature","Type de punition",null,null,"Nb d'incidents par niveau",null,null,null,null,null,null,null,null,null,"Nb d'élèves concernés",null,null,null,null,null,null,null,null,null,"Nb total d'incidents par nature","Type de punition",null,null,"Nb d'incidents par niveau",null,null,null,null,null,null,null,null,null,"Nb d'élèves concernés",null,null,null,null,null,null,null,null,null,"Nb total d'incidents par nature","Type de punition",null,null,"Nb d'incidents par niveau",null,null,null,null,null,null,null,null,null,"Nb d'élèves concernés",null,null,null,null,null,null,null,null,null,"Nb total d'incidents par nature","Type de punition",null,null,"Nb d'incidents par niveau",null,null,null,null,null,null,null,null,null,"Nb d'élèves concernés"]
[null,null,null,null,null,null,null,null,{"$f":"I54","v":0},0,0,0,0,0,0,0,0,0,{"$f":"I54","v":0},0,0,0,0,0,0,0,0,0,null,null,null,null,{"$f":"I54","v":0},0,0,0,0,0,0,0,0,0,{"$f":"I54","v":0},0,0,0,0,0,0,0,0,0,null,null,null,null,{"$f":"I73","v":0},0,0,0,0,0,0,0,0,0,{"$f":"I73","v":0},0,0,0,0,0,0,0,0,0,null,null,null,null,{"$f":"I73","v":0},0,0,0,0,0,0,0,0,0,{"$f":"I73","v":0},0,0,0,0,0,0,0,0,0,null,null,null,null,{"$f":"I73","v":0},0,0,0,0,0,0,0,0,0,{"$f":"I73","v":0},0,0,0,0,0,0,0,0,0,null,null,null,null,{"$f":"I73","v":0},0,0,0,0,0,0,0,0,0,{"$f":"I73","v":0},0,0,0,0,0,0,0,0,0,null,null,null,null,{"$f":"I73","v":0},0,0,0,0,0,0,0,0,0,{"$f":"I73","v":0},0,0,0,0,0,0,0,0,0,null,null,null,null,{"$f":"I73","v":0},0,0,0,0,0,0,0,0,0,{"$f":"I73","v":0},0,0,0,0,0,0,0,0,0,null,null,null,null,{"$f":"I73","v":0},0,0,0,0,0,0,0,0,0,{"$f":"I73","v":0},0,0,0,0,0,0,0,0,0,null,null,null,null,{"$f":"I73","v":0},0,0,0,0,0,0,0,0,0,{"$f":"I73","v":0},0,0,0,0,0,0,0,0,0]
[]
[null,null,"Nature des incidents (sanctions registre)(à décliner)"]
[]
[]
[]
[]
[]
[]
[]
[]
[]
[]
[]
[]
[null,"Conseils de discipline"]
[]
[]
[null,null,null,"Nb par niveau",null,null,null,null,null,null,null,null,null,"Nb d'élèves concernés"]
[null,null,"tableau mensuel",{"$f":"I73","v":0},0,0,0,0,0,0,0,0,0,{"$f":"S73","v":0},0,0,0,0,0,0,0,0,0]
[null,null,"Conseil de discipline"]
[null,null,"Commission alternative au conseil de discipline"]
[null,null,"Nb d'exclusions définitives"]

{"sheet":"Education","index":5,"n_rows":57,"n_cols":36,"rows_kept":57,"cut":false,"hidden":false,"merged":[[44,25,44,28],[35,5,35,10],[37,9,37,10],[38,9,38,10],[39,9,39,10],[43,9,43,10],[36,9,36,10],[49,2,49,3],[44,5,44,8],[9,1,12,3],[17,4,17,5],[18,3,18,5],[12,4,12,5],[13,1,13,5],[19,2,19,5],[9,4,9,5],[23,4,23,23],[24,4,24,13],[44,9,44,10],[38,5,38,6],[38,7,38,8],[39,5,39,6],[39,7,39,8],[1,0,19,0],[2,1,2,36],[4,1,4,36],[6,2,6,4],[6,6,6,35],[7,2,7,4],[7,26,7,35],[8,2,8,4],[10,4,10,5],[11,4,11,5],[7,6,7,15],[7,16,7,25],[14,4,14,5],[15,4,15,5],[16,4,16,5],[14,1,18,2],[21,1,21,36],[24,2,24,3],[23,25,23,36],[24,25,24,27],[24,28,24,36],[37,2,37,4],[37,5,37,6],[37,7,37,8],[36,5,36,6],[36,7,36,8],[50,28,51,28],[51,2,51,4],[50,5,51,5],[50,6,50,15],[50,16,51,16],[50,17,51,18],[50,19,51,19],[50,20,51,21],[52,23,52,24],[52,26,52,27],[53,2,53,4],[53,23,53,24],[53,26,53,27],[52,17,52,18],[53,17,53,18],[52,20,52,21],[53,20,53,21],[56,26,56,27],[54,2,54,4],[54,23,54,24],[54,26,54,27],[55,2,55,4],[55,23,55,24],[55,26,55,27],[54,17,54,18],[55,17,55,18],[56,17,56,18],[54,20,54,21],[55,20,55,21],[56,20,56,21],[20,0,28,0],[34,0,57,0],[26,1,27,2],[38,2,38,4],[36,2,36,4],[56,2,56,4],[52,2,52,4],[44,2,44,4],[43,2,43,4],[39,2,39,4],[47,1,47,36],[43,5,43,8],[43,11,43,14],[44,11,44,14],[24,14,24,23],[56,23,56,24]]}
[]
["Etre éduqué"]
[null,"Développement de la responsabilité de soi et des autres"]
[]
[null,"(un tableau à développer par année scolaire : il s'agit de l'observation des phénomènes et pas des actions conduites au bénéfice des élèves)"]
[]
[]
[null,null,"Tableau annuel",null,null,null,"Effectifs concernés",null,null,null,null,null,null,null,null,null,"Punitions ",null,null,null,null,null,null,null,null,null,"Sanctions"]
[null,null,null,null,null,null,{"$f":"Sécurité!I73","v":0},{"$f":"Sécurité!J73","v":0},{"$f":"Sécurité!K73","v":0},{"$f":"Sécurité!L73","v":0},{"$f":"Sécurité!M73","v":0},{"$f":"Sécurité!N73","v":0},{"$f":"Sécurité!O73","v":0},{"$f":"Sécurité!P73","v":0},{"$f":"Sécurité!Q73","v":0},{"$f":"Sécurité!R73","v":0},{"$f":"G9","v":0},0,0,0,0,0,0,0,0,0,{"$f":"G9","v":0},0,0,0,0,0,0,0,0,0]
[null,"Prévention des conduites addictives",null,null,"Tabac"]
[null,null,null,null,"Alcool"]
[null,null,null,null,"Stupéfiant"]
[null,null,null,null,"Cyberdépendance"]
[null,"Prévention sécurité routière"]
[null,"Prévention santé",null,null,"Grossesse"]
[null,null,null,null,"Hygiène"]
[null,null,null,null,"Alimentation"]
[null,null,null,null,"Jeux dangereux"]
[null,null,null,"Passage à l'infirmerie \nhors pathologie"]
[]
["Etre éduqué"]
[null,"Développement de la citoyenneté et apprentissage de la démocratie"]
[null,"(un tableau par année scolaire)"]
[]
[null,null,"Tableau annuel",null,"Nombre de candidats",null,null,null,null,null,null,null,null,null,"Nombre de votants"]
[null,null,null,null,{"$f":"G9","v":0},0,0,0,0,0,0,0,0,0,{"$f":"E26","v":0},0,0,0,0,0,0,0,0,0]
[null,"Elections",null,"Nb candidats"]
[null,null,null,"%"]
[]
[]
[]
[]
[]
[]
["Etre éduqué"]
[]
[null,null,"Implication des délégués",null,null,"Nb de réunions (en 1/2 j)",null,"Effectif",null,"%"]
[null,null,"Formation des délégués"]
[null,null,"Conférence des délégués"]
[null,null,"CVL"]
[]
[]
[]
[null,null,"Actions",null,null,"Nb d'actions délégués/ CVL",null,null,null,"Nb d'actions en Hvie classe ",null,"Autre"]
[null,null,"Education à la démocratie"]
[]
[]
[null,"Développement de l'autonomie, de la responsabilité, de l'engagement, et de l'ouverture culturelle"]
[]
[null,null,"Tableau annuel"]
[null,null,null,null,null,"Nb total","Nb d'élèves inscrits par niveau",null,null,null,null,null,null,null,null,null,"%","Nombre d'enseignants impliqués",null,"%","Autre"]
[null,null,"Elèves inscrits",null,null,null,{"$f":"E26","v":0},0,0,0,0,0,0,0,0,0]
[null,null,"MDL, FSE"]
[null,null,"Clubs"]
[null,null,"UNSS"]
[null,null,"Sorties scolaires"]
[null,null,"Ateliers"]

{"sheet":"Formation","index":6,"n_rows":44,"n_cols":37,"rows_kept":44,"cut":false,"hidden":false,"merged":[[10,20,10,21],[5,4,6,5],[7,4,7,5],[9,2,9,3],[7,16,7,17],[8,16,8,17],[9,16,9,17],[7,2,7,3],[9,4,9,5],[16,20,16,21],[10,2,10,3],[8,2,8,3],[1,0,17,0],[2,1,2,22],[4,4,4,21],[5,1,6,3],[5,18,6,19],[10,4,10,5],[8,4,8,5],[5,16,6,17],[11,16,11,17],[7,18,7,19],[9,18,9,19],[9,20,9,21],[10,18,10,19],[39,2,39,4],[30,0,44,0],[4,1,4,3],[40,2,40,4],[41,2,41,4],[14,4,14,15],[11,2,11,3],[11,4,11,5],[42,2,42,4],[43,2,43,4],[38,2,38,4],[31,1,31,22],[5,20,6,21],[7,20,7,21],[11,18,11,19],[11,20,11,21],[33,16,33,26],[33,27,33,37],[5,6,5,15],[35,2,35,4],[36,2,36,4],[33,2,33,4],[33,5,33,15],[14,1,14,3],[15,16,15,17],[14,16,14,21],[8,18,8,19],[8,20,8,21],[10,16,10,17],[15,20,15,21],[16,2,16,3],[16,16,16,17]]}
[]
["Etre formé"]
[null,"Accompagnement de la scolarité par l'établissement"]
[null,null,null,null,null,null,null,null,null,null,null,null,null,null,"(un tableau à développer par année scolaire)"]
[null,"Tableau annuel",null,null,{"$f":"Identification!$B$29","v":"2015-2016"}]
[null,"Accompagnement éducatif ",null,null,"Nb d'activités ou d'actions",null,"Nombre d'élèves concernés",null,null,null,null,null,null,null,null,null,"Nb d'enseignants impliqués",null,"Nb d'AED impliqués",null,"Autres intervenants"]
[null,null,null,null,null,null,{"$f":"Identification!$B$16","v":0},{"$f":"Identification!$B$17","v":0},{"$f":"Identification!$B$18","v":0},{"$f":"Identification!$B$19","v":0},{"$f":"Identification!$B$20","v":0},{"$f":"Identification!$B$21","v":0},{"$f":"Identification!$B$22","v":0},{"$f":"Identification!$B$23","v":0},{"$f":"Identification!$B$24","v":0},{"$f":"Identification!$B$25","v":0}]
[null,null,"Soutien"]
[null,null,"ATPE"]
[null,null,"Tutorat"]
[null,null,"PPRE"]
[null,null,"Autres ateliers (à décliner)"]
[]
[]
[null,"Commission de suivi \nou GAIN",null,null,{"$f":"$E$5","v":"2015-2016"}]
[null,null,null,null,null,null,{"$f":"G7","v":0},0,0,0,0,0,0,0,0,0,"Total"]
[null,null,"Nb d'élèves suivis"]
[]
[]
[]
[]
[]
[]
[]
[]
[]
[]
[]
[]
[]
["Etre formé"]
[null,"Accompagnement de la scolarité par les parents"]
[]
[null,null,"Tableau trimestriel",null,null,"PREMIER TRIMESTRE",null,null,null,null,null,null,null,null,null,null,"SECOND TRIMESTRE",null,null,null,null,null,null,null,null,null,null,"TROISIEME TRIMESTRE"]
[null,null,"Nb de familles représentées",null,null,{"$f":"G7","v":0},0,0,0,0,0,0,0,0,0,null,{"$f":"F35","v":0},0,0,0,0,0,0,0,0,0,null,{"$f":"F35","v":0},0,0,0,0,0,0,0,0,0]
[null,null,"Réunion de rentrée"]
[null,null,"Réunions parents / professeurs"]
[]
[]
[null,null,"Rencontres parents",null,null,{"$f":"G7","v":0},0,0,0,0,0,0,0,0,0,null,{"$f":"F35","v":0},0,0,0,0,0,0,0,0,0,null,{"$f":"F35","v":0},0,0,0,0,0,0,0,0,0]
[null,null,"Sur demande des parents"]
[null,null,"Sur convocation des enseignants"]
[null,null,"Sur convocation des personnels de direction"]
[null,null,"Sur convocation du CPE"]

{"sheet":"Synthèse","index":7,"n_rows":944,"n_cols":29,"rows_kept":944,"cut":false,"hidden":false,"merged":[[942,2,942,4],[943,2,943,4],[919,0,943,0],[868,0,901,0],[854,0,867,0],[933,2,933,4],[935,2,935,4],[936,2,936,4],[938,2,938,4],[939,2,939,4],[940,2,940,4],[941,2,941,4],[885,2,885,4],[886,2,886,4],[877,2,877,4],[932,2,932,4],[920,1,920,22],[922,2,922,4],[922,5,922,15],[922,16,922,26],[924,2,924,4],[925,2,925,4],[927,2,927,4],[928,2,928,4],[846,4,846,5],[847,4,847,5],[848,4,848,5],[849,4,849,5],[850,3,850,5],[823,1,823,25],[821,1,821,25],[855,1,855,23],[881,1,881,21],[838,2,838,4],[839,2,839,4],[840,2,840,4],[841,1,844,3],[841,4,841,5],[842,4,842,5],[843,4,843,5],[844,4,844,5],[845,1,845,5],[878,5,878,8],[878,9,878,10],[878,11,878,14],[878,25,878,28],[873,5,873,6],[873,7,873,8],[662,2,662,3],[650,2,650,3],[651,2,653,2],[651,3,653,3],[638,2,638,3],[639,2,641,2],[639,3,641,3],[627,3,629,3],[662,4,662,27],[651,4,653,4],[651,5,652,7],[651,8,651,17],[627,4,629,4],[627,5,628,7],[627,8,627,17],[627,18,627,27],[639,4,641,4],[639,5,640,7],[639,8,639,17],[639,18,639,27],[570,3,572,3],[581,2,581,3],[582,2,584,2],[582,3,584,3],[593,2,593,3],[594,2,596,2],[594,3,596,3],[614,2,614,3],[615,2,617,2],[615,3,617,3],[35,0,53,0],[36,2,36,3],[37,2,37,3],[38,2,38,3],[39,2,39,3],[54,0,76,0],[72,27,72,28],[57,23,57,24],[663,2,665,2],[663,3,665,3],[626,2,626,3],[627,2,629,2],[381,0,529,0],[468,1,468,27],[531,1,531,27],[495,2,497,2],[495,3,497,3],[506,2,506,3],[507,2,509,2],[507,3,509,3],[518,4,518,27],[519,4,521,4],[519,5,520,7],[519,8,519,17],[35,2,35,4],[55,1,55,28],[172,3,172,22],[164,3,164,22],[156,3,156,22],[128,3,128,22],[64,2,66,3],[59,2,59,4],[60,2,60,4],[61,2,61,4],[72,23,72,24],[72,25,72,26],[40,2,40,3],[62,2,62,4],[63,2,63,4],[52,2,52,3],[53,2,53,3],[57,2,58,4],[57,15,57,16],[72,19,72,20],[80,3,80,22],[57,21,57,22],[72,21,72,22],[72,2,73,4],[886,23,886,24],[886,26,886,27],[884,5,885,5],[884,6,884,15],[884,16,885,16],[884,17,885,18],[884,19,885,19],[884,20,885,21],[77,0,196,0],[78,1,78,22],[154,1,154,22],[519,18,519,27],[445,2,447,2],[445,3,447,3],[470,2,470,3],[471,2,473,2],[471,3,473,3],[482,2,482,3],[483,2,485,2],[663,4,665,4],[663,5,664,7],[663,8,663,17],[663,18,663,27],[531,0,674,0],[884,28,885,28],[883,2,883,4],[890,2,890,4],[890,17,890,18],[890,20,890,21],[890,23,890,24],[890,26,890,27],[887,2,887,4],[887,17,887,18],[887,20,887,21],[887,23,887,24],[887,26,887,27],[888,2,888,4],[888,17,888,18],[888,20,888,21],[888,23,888,24],[888,26,888,27],[889,2,889,4],[889,17,889,18],[889,20,889,21],[889,23,889,24],[889,26,889,27],[886,17,886,18],[886,20,886,21],[873,9,873,10],[870,2,870,4],[870,5,870,6],[870,7,870,8],[870,9,870,10],[871,2,871,4],[871,5,871,6],[871,7,871,8],[871,9,871,10],[877,5,877,8],[877,9,877,10],[877,11,877,14],[878,2,878,4],[679,8,679,17],[853,2,853,5],[857,4,857,23],[858,2,858,3],[858,4,858,13],[858,14,858,23],[860,1,861,2],[691,4,693,4],[679,5,680,7],[833,4,833,5],[834,4,834,5],[835,4,835,5],[836,4,836,5],[690,4,690,27],[774,4,774,27],[691,18,691,27],[703,4,705,4],[726,4,726,27],[786,4,786,27],[798,4,798,27],[820,0,853,0],[872,2,872,4],[872,5,872,6],[872,7,872,8],[872,9,872,10],[873,2,873,4],[295,13,295,22],[349,3,349,22],[354,3,354,22],[837,3,837,5],[518,2,518,3],[519,2,521,2],[519,3,521,3],[533,2,533,3],[534,2,536,2],[534,3,536,3],[826,6,826,15],[826,16,826,25],[827,2,827,4],[533,4,533,27],[545,4,545,27],[738,4,738,27],[762,4,762,27],[679,18,679,27],[832,1,832,5],[278,1,278,22],[396,2,396,3],[397,2,399,2],[397,3,399,3],[408,2,408,3],[409,2,411,2],[409,3,411,3],[420,2,420,3],[421,2,423,2],[421,3,423,3],[432,2,432,3],[433,2,435,2],[433,3,435,3],[382,1,382,27],[444,2,444,3],[545,2,545,3],[546,2,548,2],[546,3,548,3],[557,2,557,3],[558,2,560,2],[558,3,560,3],[569,2,569,3],[570,2,572,2],[121,13,121,22],[129,13,129,22],[129,3,129,12],[494,2,494,3],[397,8,397,17],[72,5,72,6],[112,3,112,22],[120,3,120,22],[214,3,214,12],[200,13,200,22],[207,3,207,12],[207,13,207,22],[165,3,165,12],[181,3,181,12],[181,13,181,22],[189,3,189,12],[189,13,189,22],[121,3,121,12],[165,13,165,22],[173,3,173,12],[173,13,173,22],[197,1,197,22],[157,3,157,12],[157,13,157,22],[57,17,57,18],[57,11,57,12],[57,13,57,14],[57,5,57,6],[57,7,57,8],[57,9,57,10],[75,2,75,4],[72,11,72,12],[72,13,72,14],[72,15,72,16],[72,17,72,18],[70,1,70,28],[72,7,72,8],[72,9,72,10],[57,19,57,20],[295,3,295,12],[301,3,301,22],[308,3,308,22],[302,3,302,12],[302,13,302,22],[241,3,241,22],[280,3,280,22],[199,3,199,22],[206,3,206,22],[287,3,287,22],[294,3,294,22],[242,3,242,12],[242,13,242,22],[281,3,281,12],[281,13,281,22],[288,3,288,12],[288,13,288,22],[200,3,200,12],[309,3,309,12],[309,13,309,22],[319,3,319,22],[324,3,324,22],[197,0,314,0],[317,0,378,0],[320,1,323,1],[320,3,320,12],[320,13,320,22],[325,3,325,12],[235,3,235,12],[235,13,235,22],[329,3,329,22],[334,3,334,22],[339,3,339,22],[213,3,213,22],[220,3,220,22],[227,3,227,22],[234,3,234,22],[214,13,214,22],[221,3,221,12],[221,13,221,22],[228,3,228,12],[228,13,228,22],[483,3,485,3],[421,8,421,17],[421,18,421,27],[433,4,435,4],[471,18,471,27],[344,3,344,22],[369,3,369,22],[325,13,325,22],[330,3,330,12],[330,13,330,22],[335,3,335,12],[335,13,335,22],[340,3,340,12],[340,13,340,22],[345,3,345,12],[345,13,345,22],[396,4,396,27],[408,4,408,27],[420,4,420,27],[432,4,432,27],[444,4,444,27],[470,4,470,27],[482,4,482,27],[421,4,423,4],[384,2,384,3],[384,4,384,27],[433,8,433,17],[433,18,433,27],[445,4,447,4],[385,2,387,2],[385,3,387,3],[385,4,387,4],[385,5,386,7],[385,8,385,17],[397,18,397,27],[385,18,385,27],[409,5,410,7],[409,8,409,17],[397,4,399,4],[397,5,398,7],[350,13,350,22],[355,3,355,12],[355,13,355,22],[360,3,360,12],[360,13,360,22],[350,3,350,12],[374,3,374,22],[365,3,365,12],[365,13,365,22],[370,3,370,12],[370,13,370,22],[359,3,359,22],[364,3,364,22],[494,4,494,27],[506,4,506,27],[715,4,717,4],[715,5,716,7],[715,8,715,17],[715,18,715,27],[421,5,422,7],[557,4,557,27],[471,4,473,4],[471,5,472,7],[471,8,471,17],[483,4,485,4],[615,4,617,4],[615,5,616,7],[615,8,615,17],[615,18,615,27],[727,4,729,4],[727,5,728,7],[727,8,727,17],[727,18,727,27],[569,4,569,27],[581,4,581,27],[593,4,593,27],[614,4,614,27],[626,4,626,27],[638,4,638,27],[650,4,650,27],[570,4,572,4],[570,5,571,7],[570,8,570,17],[612,1,612,27],[570,18,570,27],[582,18,582,27],[594,4,596,4],[594,5,595,7],[594,8,594,17],[678,1,687,1],[678,2,678,3],[678,4,678,27],[679,2,681,2],[760,1,760,27],[799,18,799,27],[828,1,831,3],[828,4,828,5],[829,4,829,5],[830,4,830,5],[831,4,831,5],[787,18,787,27],[787,4,789,4],[813,3,813,22],[814,3,814,12],[814,13,814,22],[787,8,787,17],[787,5,788,7],[825,2,825,4],[826,2,826,4],[786,2,786,3],[787,2,789,2],[787,3,789,3],[811,1,811,27],[763,4,765,4],[763,5,764,7],[763,8,763,17],[763,18,763,27],[839,6,839,15],[902,0,918,0],[903,1,903,22],[905,1,905,3],[905,4,905,21],[906,1,907,3],[906,4,907,5],[906,6,906,15],[906,16,907,17],[906,18,907,19],[906,20,907,21],[908,2,908,3],[908,4,908,5],[908,16,908,17],[908,18,908,19],[908,20,908,21],[909,2,909,3],[909,4,909,5],[909,18,909,19],[909,20,909,21],[910,2,910,3],[910,4,910,5],[910,16,910,17],[910,18,910,19],[929,2,929,4],[930,2,930,4],[931,2,931,4],[57,25,57,26],[57,27,57,28],[74,2,74,4],[933,5,933,15],[916,16,916,17],[916,20,916,21],[917,2,917,3],[917,16,917,17],[917,20,917,21],[909,16,909,17],[911,2,911,3],[911,4,911,5],[911,16,911,17],[911,18,911,19],[911,20,911,21],[912,2,912,3],[912,4,912,5],[912,16,912,17],[912,18,912,19],[912,20,912,21],[915,1,915,3],[915,4,915,15],[915,16,915,21],[910,20,910,21],[582,4,584,4],[582,5,583,7],[582,8,582,17],[0,0,2,20],[27,1,27,28],[28,1,28,28],[29,1,29,2],[31,1,31,2],[32,1,32,2],[33,1,33,2],[30,0,30,4],[113,13,113,22],[81,3,81,12],[81,13,81,22],[89,3,89,12],[89,13,89,22],[97,3,97,12],[97,13,97,22],[105,3,105,12],[105,13,105,22],[113,3,113,12],[88,3,88,22],[96,3,96,22],[104,3,104,22],[702,4,702,27],[714,4,714,27],[691,5,692,7],[691,8,691,17],[180,3,180,22],[188,3,188,22],[703,5,704,7],[703,8,703,17],[703,18,703,27],[534,4,536,4],[534,5,535,7],[534,8,534,17],[534,18,534,27],[546,4,548,4],[546,5,547,7],[546,8,546,17],[546,18,546,27],[558,4,560,4],[558,5,559,7],[558,8,558,17],[558,18,558,27],[679,3,681,3],[679,4,681,4],[317,1,317,22],[483,5,484,7],[483,8,483,17],[483,18,483,27],[495,4,497,4],[495,5,496,7],[495,8,495,17],[495,18,495,27],[507,4,509,4],[507,5,508,7],[507,8,507,17],[651,18,651,27],[594,18,594,27],[409,18,409,27],[507,18,507,27],[375,3,375,12],[375,13,375,22],[433,5,434,7],[445,5,446,7],[445,8,445,17],[445,18,445,27],[409,4,411,4],[775,18,775,27],[774,2,774,3],[775,2,777,2],[775,3,777,3],[738,2,738,3],[739,2,741,2],[739,3,741,3],[676,1,676,27],[690,2,690,3],[691,2,693,2],[691,3,693,3],[702,2,702,3],[703,2,705,2],[703,3,705,3],[714,2,714,3],[715,2,717,2],[715,3,717,3],[726,2,726,3],[727,2,729,2],[727,3,729,3],[739,5,740,7],[739,4,741,4],[739,8,739,17],[739,18,739,27],[798,2,798,3],[799,2,801,2],[799,3,801,3],[799,4,801,4],[799,5,800,7],[799,8,799,17],[762,2,762,3],[763,2,765,2],[763,3,765,3],[775,4,777,4],[775,5,776,7],[775,8,775,17]]}
["SYNTHESE DU TABLEAU DE BORD"]
[]
[]
[]
[]
[]
[]
[]
[]
[]
[]
[]
[]
[]
[]
[]
[]
[]
[]
[]
[]
[]
[]
[]
[]
[]
[]
["NOM DE L'ETABLISSEMENT",{"$f":"Identification!$B$1","v":0}]
["COMMUNE",{"$f":"Identification!$B$3","v":0}]
["SUPERFICIE ETABLISSEMENT",{"$f":"Identification!$B$5","v":0}]
["Descriptif du service de vie scolaire"]
["Nombre de CPE",{"$f":"Identification!$B$7","v":0}]
["NOMBRE D'AED",{"$f":"Identification!$B$9","v":0}]
["NOMBRE DE CONTRATS AUTRES",{"$f":"Identification!$B$11","v":0}]
[]
[" Population accueillie",null,{"$f":"Population!C4","v":"2015-2016"}]
[null,null,"Nombre d'élèves",null,{"$f":"Population!E5","v":0}]
[null,null,"Nombre de filles",null,{"$f":"Population!E6","v":0}]
[null,null,"PCS défavorisées",null,{"$f":"Population!E7","v":0}]
[null,null,"PCS favorisées",null,{"$f":"Population!E8","v":0}]
[null,null,"Nombre de divisions",null,{"$f":"Population!E9","v":0}]
[null,null,"Nombre d'élèves de ",{"$f":"Identification!B16","v":0},{"$f":"Population!E10","v":0}]
[null,null,"Nombre d'élèves de ",{"$f":"Identification!B17","v":0},{"$f":"Population!E11","v":0}]
[null,null,"Nombre délèves de",{"$f":"Identification!B18","v":0},{"$f":"Population!E12","v":0}]
[null,null,"Nombre d'élèves de ",{"$f":"Identification!B19","v":0},{"$f":"Population!E13","v":0}]
[null,null,"Nombre d'élèves de ",{"$f":"Identification!B20","v":0},{"$f":"Population!E14","v":0}]
[null,null,"Nombre délèves de",{"$f":"Identification!B21","v":0},{"$f":"Population!E15","v":0}]
[null,null,"Nombre d'élèves de ",{"$f":"Identification!B22","v":0},{"$f":"Population!E16","v":0}]
[null,null,"Nombre d'élèves de ",{"$f":"Identification!B23","v":0},{"$f":"Population!E17","v":0}]
[null,null,"Nombre délèves de",{"$f":"Identification!B24","v":0},{"$f":"Population!E18","v":0}]
[null,null,"Nombre d'élèves de ",{"$f":"Identification!B25","v":0},{"$f":"Population!E19","v":0}]
[null,null,{"$f":"Population!C20","v":"Total élèves"},null,{"$f":"Population!E20","v":""}]
[null,null,"Taux de réussite aux examens",null,{"$f":"Population!E21","v":0}]
[null,null,"Sorties dans diplôme",null,{"$f":"Population!E22","v":0}]
["Etre accueilli"]
[null,"Transport scolaire et restauration"]
[]
[null,null,"Tableau Mensuel",null,null,{"$f":"Identification!$A$29","v":"2015-08-01"},null,{"$f":"Identification!$A$30","v":"2015-09-01"},null,{"$f":"Identification!$A$31","v":"2015-10-01"},null,{"$f":"Identification!$A$32","v":"2015-11-01"},null,{"$f":"Identification!$A$33","v":"2015-12-01"},null,{"$f":"Identification!$A$34","v":"2016-01-01"},null,{"$f":"Identification!$A$35","v":"2016-02-01"},null,{"$f":"Identification!$A$36","v":"2016-03-01"},null,{"$f":"Identification!$A$37","v":"2016-04-01"},null,{"$f":"Identification!$A$38","v":"2016-05-01"},null,{"$f":"Identification!$A$39","v":"2016-06-01"},null,{"$f":"Identification!$A$40","v":"2016-07-01"}]
[null,null,null,null,null,"Effectif","%","Effectif","%","Effectif","%","Effectif","%","Effectif","%","Effectif","%","Effectif","%","Effectif","%","Effectif","%","Effectif","%","Effectif","%","Effectif","%"]
[null,null,"Nb d'élèves transportés",null,null,{"$f":"Accueil!F8","v":0},{"$f":"Accueil!G8","v":""},{"$f":"Accueil!H8","v":0},{"$f":"Accueil!I8","v":""},{"$f":"Accueil!J8","v":0},{"$f":"Accueil!K8","v":""},{"$f":"Accueil!L8","v":0},{"$f":"Accueil!M8","v":""},{"$f":"Accueil!N8","v":0},{"$f":"Accueil!O8","v":""},{"$f":"Accueil!P8","v":0},{"$f":"Accueil!Q8","v":""},{"$f":"Accueil!R8","v":0},{"$f":"Accueil!S8","v":""},{"$f":"Accueil!T8","v":0},{"$f":"Accueil!U8","v":""},{"$f":"Accueil!V8","v":0},{"$f":"Accueil!W8","v":""},{"$f":"Accueil!X8","v":0},{"$f":"Accueil!Y8","v":""},{"$f":"Accueil!Z8","v":0},{"$f":"Accueil!AA8","v":""},{"$f":"Accueil!AB8","v":0},{"$f":"Accueil!AC8","v":""}]
[null,null,"Elèves demi-pensionnaires",null,null,{"$f":"Accueil!F9","v":0},{"$f":"Accueil!G9","v":""},{"$f":"Accueil!H9","v":0},{"$f":"Accueil!I9","v":""},{"$f":"Accueil!J9","v":0},{"$f":"Accueil!K9","v":""},{"$f":"Accueil!L9","v":0},{"$f":"Accueil!M9","v":""},{"$f":"Accueil!N9","v":0},{"$f":"Accueil!O9","v":""},{"$f":"Accueil!P9","v":0},{"$f":"Accueil!Q9","v":""},{"$f":"Accueil!R9","v":0},{"$f":"Accueil!S9","v":""},{"$f":"Accueil!T9","v":0},{"$f":"Accueil!U9","v":""},{"$f":"Accueil!V9","v":0},{"$f":"Accueil!W9","v":""},{"$f":"Accueil!X9","v":0},{"$f":"Accueil!Y9","v":""},{"$f":"Accueil!Z9","v":0},{"$f":"Accueil!AA9","v":""},{"$f":"Accueil!AB9","v":0},{"$f":"Accueil!AC9","v":""}]
[null,null,"Nb d'élèves externes",null,null,{"$f":"Accueil!F10","v":0},{"$f":"Accueil!G10","v":""},{"$f":"Accueil!H10","v":0},{"$f":"Accueil!I10","v":""},{"$f":"Accueil!J10","v":0},{"$f":"Accueil!K10","v":""},{"$f":"Accueil!L10","v":0},{"$f":"Accueil!M10","v":""},{"$f":"Accueil!N10","v":0},{"$f":"Accueil!O10","v":""},{"$f":"Accueil!P10","v":0},{"$f":"Accueil!Q10","v":""},{"$f":"Accueil!R10","v":0},{"$f":"Accueil!S10","v":""},{"$f":"Accueil!T10","v":0},{"$f":"Accueil!U10","v":""},{"$f":"Accueil!V10","v":0},{"$f":"Accueil!W10","v":""},{"$f":"Accueil!X10","v":0},{"$f":"Accueil!Y10","v":""},{"$f":"Accueil!Z10","v":0},{"$f":"Accueil!AA10","v":""},{"$f":"Accueil!AB10","v":0},{"$f":"Accueil!AC10","v":""}]
[null,null,"Elèves normalement transportés qui quittent l'établissement s'ils n'ont pas cours",null,null,{"$f":"Accueil!F11","v":0},{"$f":"Accueil!G11","v":"/effectif transporté"},{"$f":"Accueil!H11","v":0},{"$f":"Accueil!I11","v":"/effectif transporté"},{"$f":"Accueil!J11","v":0},{"$f":"Accueil!K11","v":"/effectif transporté"},{"$f":"Accueil!L11","v":0},{"$f":"Accueil!M11","v":"/effectif transporté"},{"$f":"Accueil!N11","v":0},{"$f":"Accueil!O11","v":"/effectif transporté"},{"$f":"Accueil!P11","v":0},{"$f":"Accueil!Q11","v":"/effectif transporté"},{"$f":"Accueil!R11","v":0},{"$f":"Accueil!S11","v":"/effectif transporté"},{"$f":"Accueil!T11","v":0},{"$f":"Accueil!U11","v":"/effectif transporté"},{"$f":"Accueil!V11","v":0},{"$f":"Accueil!W11","v":"/effectif transporté"},{"$f":"Accueil!X11","v":0},{"$f":"Accueil!Y11","v":"/effectif transporté"},{"$f":"Accueil!Z11","v":0},{"$f":"Accueil!AA11","v":"/effectif transporté"},{"$f":"Accueil!AB11","v":0},{"$f":"Accueil!AC11","v":"/effectif transporté"}]
[null,null,"Nb d'élèves internes",null,null,{"$f":"Accueil!F12","v":0},{"$f":"Accueil!G12","v":0},{"$f":"Accueil!H12","v":0},{"$f":"Accueil!I12","v":0},{"$f":"Accueil!J12","v":0},{"$f":"Accueil!K12","v":0},{"$f":"Accueil!L12","v":0},{"$f":"Accueil!M12","v":0},{"$f":"Accueil!N12","v":0},{"$f":"Accueil!O12","v":0},{"$f":"Accueil!P12","v":0},{"$f":"Accueil!Q12","v":0},{"$f":"Accueil!R12","v":0},{"$f":"Accueil!S12","v":0},{"$f":"Accueil!T12","v":0},{"$f":"Accueil!U12","v":0},{"$f":"Accueil!V12","v":0},{"$f":"Accueil!W12","v":0},{"$f":"Accueil!X12","v":0},{"$f":"Accueil!Y12","v":0},{"$f":"Accueil!Z12","v":0},{"$f":"Accueil!AA12","v":0},{"$f":"Accueil!AB12","v":0},{"$f":"Accueil!AC12","v":0}]
[null,null,"Changement de régime",null,"DP \"  Externe",{"$f":"Accueil!F13","v":0},{"$f":"Accueil!G13","v":"/nb de DP"},{"$f":"Accueil!H13","v":0},{"$f":"Accueil!I13","v":"/nb de DP"},{"$f":"Accueil!J13","v":0},{"$f":"Accueil!K13","v":"/nb de DP"},{"$f":"Accueil!L13","v":0},{"$f":"Accueil!M13","v":"/nb de DP"},{"$f":"Accueil!N13","v":0},{"$f":"Accueil!O13","v":"/nb de DP"},{"$f":"Accueil!P13","v":0},{"$f":"Accueil!Q13","v":"/nb de DP"},{"$f":"Accueil!R13","v":0},{"$f":"Accueil!S13","v":"/nb de DP"},{"$f":"Accueil!T13","v":0},{"$f":"Accueil!U13","v":"/nb de DP"},{"$f":"Accueil!V13","v":0},{"$f":"Accueil!W13","v":"/nb de DP"},{"$f":"Accueil!X13","v":0},{"$f":"Accueil!Y13","v":"/nb de DP"},{"$f":"Accueil!Z13","v":0},{"$f":"Accueil!AA13","v":"/nb de DP"},{"$f":"Accueil!AB13","v":0},{"$f":"Accueil!AC13","v":"/nb de DP"}]
[null,null,null,null,"Interne \" DP",{"$f":"Accueil!F14","v":0},{"$f":"Accueil!G14","v":"/nb d'internes"},{"$f":"Accueil!H14","v":0},{"$f":"Accueil!I14","v":"/nb d'internes"},{"$f":"Accueil!J14","v":0},{"$f":"Accueil!K14","v":"/nb d'internes"},{"$f":"Accueil!L14","v":0},{"$f":"Accueil!M14","v":"/nb d'internes"},{"$f":"Accueil!N14","v":0},{"$f":"Accueil!O14","v":"/nb d'internes"},{"$f":"Accueil!P14","v":0},{"$f":"Accueil!Q14","v":"/nb d'internes"},{"$f":"Accueil!R14","v":0},{"$f":"Accueil!S14","v":"/nb d'internes"},{"$f":"Accueil!T14","v":0},{"$f":"Accueil!U14","v":"/nb d'internes"},{"$f":"Accueil!V14","v":0},{"$f":"Accueil!W14","v":"/nb d'internes"},{"$f":"Accueil!X14","v":0},{"$f":"Accueil!Y14","v":"/nb d'internes"},{"$f":"Accueil!Z14","v":0},{"$f":"Accueil!AA14","v":"/nb d'internes"},{"$f":"Accueil!AB14","v":0},{"$f":"Accueil!AC14","v":"/nb d'internes"}]
[null,null,null,null,"Autre ",{"$f":"Accueil!F15","v":0},{"$f":"Accueil!G15","v":0},{"$f":"Accueil!H15","v":0},{"$f":"Accueil!I15","v":0},{"$f":"Accueil!J15","v":0},{"$f":"Accueil!K15","v":0},{"$f":"Accueil!L15","v":0},{"$f":"Accueil!M15","v":0},{"$f":"Accueil!N15","v":0},{"$f":"Accueil!O15","v":0},{"$f":"Accueil!P15","v":0},{"$f":"Accueil!Q15","v":0},{"$f":"Accueil!R15","v":0},{"$f":"Accueil!S15","v":0},{"$f":"Accueil!T15","v":0},{"$f":"Accueil!U15","v":0},{"$f":"Accueil!V15","v":0},{"$f":"Accueil!W15","v":0},{"$f":"Accueil!X15","v":0},{"$f":"Accueil!Y15","v":0},{"$f":"Accueil!Z15","v":0},{"$f":"Accueil!AA15","v":0},{"$f":"Accueil!AB15","v":0},{"$f":"Accueil!AC15","v":0}]
[]
[]
[]
[null,"Permanences"]
[]
[null,null,"Tableau Mensuel ",null,null,{"$f":"Identification!$A$29","v":"2015-08-01"},null,{"$f":"H58","v":"2015-09-01"},null,"2015-10-01",null,"2015-11-01",null,"2015-12-01",null,"2016-01-01",null,"2016-02-01",null,"2016-03-01",null,"2016-04-01",null,"2016-05-01",null,"2016-06-01",null,"2016-07-01"]
[null,null,null,null,null,"Effectif","%","Effectif","%","Effectif","%","Effectif","%","Effectif","%","Effectif","%","Effectif","%","Effectif","%","Effectif","%","Effectif","%","Effectif","%","Effectif","%"]
[null,null,"Nombre d'élèves normalement en permanence",null,null,{"$f":"Accueil!F23","v":0},{"$f":"Accueil!G23","v":""},{"$f":"Accueil!H23","v":0},{"$f":"Accueil!I23","v":""},{"$f":"Accueil!J23","v":0},{"$f":"Accueil!K23","v":""},{"$f":"Accueil!L23","v":0},{"$f":"Accueil!M23","v":""},{"$f":"Accueil!N23","v":0},{"$f":"Accueil!O23","v":""},{"$f":"Accueil!P23","v":0},{"$f":"Accueil!Q23","v":""},{"$f":"Accueil!R23","v":0},{"$f":"Accueil!S23","v":""},{"$f":"Accueil!T23","v":0},{"$f":"Accueil!U23","v":""},{"$f":"Accueil!V23","v":0},{"$f":"Accueil!W23","v":""},{"$f":"Accueil!X23","v":0},{"$f":"Accueil!Y23","v":""},{"$f":"Accueil!Z23","v":0},{"$f":"Accueil!AA23","v":""},{"$f":"Accueil!AB23","v":0},{"$f":"Accueil!AC23","v":""}]
[null,null,"Nombre d'élèves effectivement accueillis en permanence",null,null,{"$f":"Accueil!F24","v":0},{"$f":"Accueil!G24","v":""},{"$f":"Accueil!H24","v":0},{"$f":"Accueil!I24","v":""},{"$f":"Accueil!J24","v":0},{"$f":"Accueil!K24","v":""},{"$f":"Accueil!L24","v":0},{"$f":"Accueil!M24","v":""},{"$f":"Accueil!N24","v":0},{"$f":"Accueil!O24","v":""},{"$f":"Accueil!P24","v":0},{"$f":"Accueil!Q24","v":""},{"$f":"Accueil!R24","v":0},{"$f":"Accueil!S24","v":""},{"$f":"Accueil!T24","v":0},{"$f":"Accueil!U24","v":""},{"$f":"Accueil!V24","v":0},{"$f":"Accueil!W24","v":""},{"$f":"Accueil!X24","v":0},{"$f":"Accueil!Y24","v":""},{"$f":"Accueil!Z24","v":0},{"$f":"Accueil!AA24","v":""},{"$f":"Accueil!AB24","v":0},{"$f":"Accueil!AC24","v":""}]
[]
["Etre élève"]
[null,"Présence"]
[]
[null,null,null,{"$f":"D200","v":"2015-08-01"}]
[null,null,"tableau mensuel","nb de 1/2 journées d'absence",null,null,null,null,null,null,null,null,null,"%  1/2j absences établt"]
[null,null,null,{"$f":"Sécurité!D7","v":0},{"$f":"Sécurité!E7","v":0},{"$f":"Sécurité!F7","v":0},{"$f":"Sécurité!G7","v":0},{"$f":"Sécurité!H7","v":0},{"$f":"Sécurité!I7","v":0},{"$f":"Sécurité!J7","v":0},{"$f":"Sécurité!K7","v":0},{"$f":"Sécurité!L7","v":0},{"$f":"Sécurité!M7","v":0},{"$f":"Sécurité!N7","v":0},{"$f":"Sécurité!O7","v":0},{"$f":"Sécurité!P7","v":0},{"$f":"Sécurité!Q7","v":0},{"$f":"Sécurité!R7","v":0},{"$f":"Sécurité!S7","v":0},{"$f":"Sécurité!T7","v":0},{"$f":"Sécurité!U7","v":0},{"$f":"Sécurité!V7","v":0},{"$f":"Sécurité!W7","v":0}]
[null,null,"Absences totales",{"$f":"Sécurité!D8","v":0},{"$f":"Sécurité!E8","v":0},{"$f":"Sécurité!F8","v":0},{"$f":"Sécurité!G8","v":0},{"$f":"Sécurité!H8","v":0},{"$f":"Sécurité!I8","v":0},{"$f":"Sécurité!J8","v":0},{"$f":"Sécurité!K8","v":0},{"$f":"Sécurité!L8","v":0},{"$f":"Sécurité!M8","v":0},{"$f":"Sécurité!N8","v":0},{"$f":"Sécurité!O8","v":0},{"$f":"Sécurité!P8","v":0},{"$f":"Sécurité!Q8","v":0},{"$f":"Sécurité!R8","v":0},{"$f":"Sécurité!S8","v":0},{"$f":"Sécurité!T8","v":0},{"$f":"Sécurité!U8","v":0},{"$f":"Sécurité!V8","v":0},{"$f":"Sécurité!W8","v":0}]
[null,null,"Absences justifiées recevables",{"$f":"Sécurité!D9","v":0},{"$f":"Sécurité!E9","v":0},{"$f":"Sécurité!F9","v":0},{"$f":"Sécurité!G9","v":0},{"$f":"Sécurité!H9","v":0},{"$f":"Sécurité!I9","v":0},{"$f":"Sécurité!J9","v":0},{"$f":"Sécurité!K9","v":0},{"$f":"Sécurité!L9","v":0},{"$f":"Sécurité!M9","v":0},{"$f":"Sécurité!N9","v":0},{"$f":"Sécurité!O9","v":0},{"$f":"Sécurité!P9","v":0},{"$f":"Sécurité!Q9","v":0},{"$f":"Sécurité!R9","v":0},{"$f":"Sécurité!S9","v":0},{"$f":"Sécurité!T9","v":0},{"$f":"Sécurité!U9","v":0},{"$f":"Sécurité!V9","v":0},{"$f":"Sécurité!W9","v":0}]
[null,null,"Absences justifiées non recevables",{"$f":"Sécurité!D10","v":0},{"$f":"Sécurité!E10","v":0},{"$f":"Sécurité!F10","v":0},{"$f":"Sécurité!G10","v":0},{"$f":"Sécurité!H10","v":0},{"$f":"Sécurité!I10","v":0},{"$f":"Sécurité!J10","v":0},{"$f":"Sécurité!K10","v":0},{"$f":"Sécurité!L10","v":0},{"$f":"Sécurité!M10","v":0},{"$f":"Sécurité!N10","v":0},{"$f":"Sécurité!O10","v":0},{"$f":"Sécurité!P10","v":0},{"$f":"Sécurité!Q10","v":0},{"$f":"Sécurité!R10","v":0},{"$f":"Sécurité!S10","v":0},{"$f":"Sécurité!T10","v":0},{"$f":"Sécurité!U10","v":0},{"$f":"Sécurité!V10","v":0},{"$f":"Sécurité!W10","v":0}]
[null,null,"Absences non justifiées",{"$f":"Sécurité!D11","v":0},{"$f":"Sécurité!E11","v":0},{"$f":"Sécurité!F11","v":0},{"$f":"Sécurité!G11","v":0},{"$f":"Sécurité!H11","v":0},{"$f":"Sécurité!I11","v":0},{"$f":"Sécurité!J11","v":0},{"$f":"Sécurité!K11","v":0},{"$f":"Sécurité!L11","v":0},{"$f":"Sécurité!M11","v":0},{"$f":"Sécurité!N11","v":0},{"$f":"Sécurité!O11","v":0},{"$f":"Sécurité!P11","v":0},{"$f":"Sécurité!Q11","v":0},{"$f":"Sécurité!R11","v":0},{"$f":"Sécurité!S11","v":0},{"$f":"Sécurité!T11","v":0},{"$f":"Sécurité!U11","v":0},{"$f":"Sécurité!V11","v":0},{"$f":"Sécurité!W11","v":0}]
[null,null,"Signalement inspection académique",{"$f":"Sécurité!D12","v":0},{"$f":"Sécurité!E12","v":0},{"$f":"Sécurité!F12","v":0},{"$f":"Sécurité!G12","v":0},{"$f":"Sécurité!H12","v":0},{"$f":"Sécurité!I12","v":0},{"$f":"Sécurité!J12","v":0},{"$f":"Sécurité!K12","v":0},{"$f":"Sécurité!L12","v":0},{"$f":"Sécurité!M12","v":0},{"$f":"Sécurité!N12","v":0},{"$f":"Sécurité!O12","v":0},{"$f":"Sécurité!P12","v":0},{"$f":"Sécurité!Q12","v":0},{"$f":"Sécurité!R12","v":0},{"$f":"Sécurité!S12","v":0},{"$f":"Sécurité!T12","v":0},{"$f":"Sécurité!U12","v":0},{"$f":"Sécurité!V12","v":0},{"$f":"Sécurité!W12","v":0}]
[null,null,null,{"$f":"D207","v":"2015-09-01"}]
[null,null,"tableau mensuel","nb de 1/2 journées d'absence",null,null,null,null,null,null,null,null,null,"%  1/2j absences établt"]
[null,null,null,{"$f":"Sécurité!X7","v":0},{"$f":"Sécurité!Y7","v":0},{"$f":"Sécurité!Z7","v":0},{"$f":"Sécurité!AA7","v":0},{"$f":"Sécurité!AB7","v":0},{"$f":"Sécurité!AC7","v":0},{"$f":"Sécurité!AD7","v":0},{"$f":"Sécurité!AE7","v":0},{"$f":"Sécurité!AF7","v":0},{"$f":"Sécurité!AG7","v":0},{"$f":"Sécurité!AH7","v":0},{"$f":"Sécurité!AI7","v":0},{"$f":"Sécurité!AJ7","v":0},{"$f":"Sécurité!AK7","v":0},{"$f":"Sécurité!AL7","v":0},{"$f":"Sécurité!AM7","v":0},{"$f":"Sécurité!AN7","v":0},{"$f":"Sécurité!AO7","v":0},{"$f":"Sécurité!AP7","v":0},{"$f":"Sécurité!AQ7","v":0}]
[null,null,"Absences totales",{"$f":"Sécurité!X8","v":0},{"$f":"Sécurité!Y8","v":0},{"$f":"Sécurité!Z8","v":0},{"$f":"Sécurité!AA8","v":0},{"$f":"Sécurité!AB8","v":0},{"$f":"Sécurité!AC8","v":0},{"$f":"Sécurité!AD8","v":0},{"$f":"Sécurité!AE8","v":0},{"$f":"Sécurité!AF8","v":0},{"$f":"Sécurité!AG8","v":0},{"$f":"Sécurité!AH8","v":0},{"$f":"Sécurité!AI8","v":0},{"$f":"Sécurité!AJ8","v":0},{"$f":"Sécurité!AK8","v":0},{"$f":"Sécurité!AL8","v":0},{"$f":"Sécurité!AM8","v":0},{"$f":"Sécurité!AN8","v":0},{"$f":"Sécurité!AO8","v":0},{"$f":"Sécurité!AP8","v":0},{"$f":"Sécurité!AQ8","v":0}]
[null,null,"Absences justifiées recevables",{"$f":"Sécurité!X9","v":0},{"$f":"Sécurité!Y9","v":0},{"$f":"Sécurité!Z9","v":0},{"$f":"Sécurité!AA9","v":0},{"$f":"Sécurité!AB9","v":0},{"$f":"Sécurité!AC9","v":0},{"$f":"Sécurité!AD9","v":0},{"$f":"Sécurité!AE9","v":0},{"$f":"Sécurité!AF9","v":0},{"$f":"Sécurité!AG9","v":0},{"$f":"Sécurité!AH9","v":0},{"$f":"Sécurité!AI9","v":0},{"$f":"Sécurité!AJ9","v":0},{"$f":"Sécurité!AK9","v":0},{"$f":"Sécurité!AL9","v":0},{"$f":"Sécurité!AM9","v":0},{"$f":"Sécurité!AN9","v":0},{"$f":"Sécurité!AO9","v":0},{"$f":"Sécurité!AP9","v":0},{"$f":"Sécurité!AQ9","v":0}]
[null,null,"Absences justifiées non recevables",{"$f":"Sécurité!X10","v":0},{"$f":"Sécurité!Y10","v":0},{"$f":"Sécurité!Z10","v":0},{"$f":"Sécurité!AA10","v":0},{"$f":"Sécurité!AB10","v":0},{"$f":"Sécurité!AC10","v":0},{"$f":"Sécurité!AD10","v":0},{"$f":"Sécurité!AE10","v":0},{"$f":"Sécurité!AF10","v":0},{"$f":"Sécurité!AG10","v":0},{"$f":"Sécurité!AH10","v":0},{"$f":"Sécurité!AI10","v":0},{"$f":"Sécurité!AJ10","v":0},{"$f":"Sécurité!AK10","v":0},{"$f":"Sécurité!AL10","v":0},{"$f":"Sécurité!AM10","v":0},{"$f":"Sécurité!AN10","v":0},{"$f":"Sécurité!AO10","v":0},{"$f":"Sécurité!AP10","v":0},{"$f":"Sécurité!AQ10","v":0}]
[null,null,"Absences non justifiées",{"$f":"Sécurité!X11","v":0},{"$f":"Sécurité!Y11","v":0},{"$f":"Sécurité!Z11","v":0},{"$f":"Sécurité!AA11","v":0},{"$f":"Sécurité!AB11","v":0},{"$f":"Sécurité!AC11","v":0},{"$f":"Sécurité!AD11","v":0},{"$f":"Sécurité!AE11","v":0},{"$f":"Sécurité!AF11","v":0},{"$f":"Sécurité!AG11","v":0},{"$f":"Sécurité!AH11","v":0},{"$f":"Sécurité!AI11","v":0},{"$f":"Sécurité!AJ11","v":0},{"$f":"Sécurité!AK11","v":0},{"$f":"Sécurité!AL11","v":0},{"$f":"Sécurité!AM11","v":0},{"$f":"Sécurité!AN11","v":0},{"$f":"Sécurité!AO11","v":0},{"$f":"Sécurité!AP11","v":0},{"$f":"Sécurité!AQ11","v":0}]
[null,null,"Signalement inspection académique",{"$f":"Sécurité!X12","v":0},{"$f":"Sécurité!Y12","v":0},{"$f":"Sécurité!Z12","v":0},{"$f":"Sécurité!AA12","v":0},{"$f":"Sécurité!AB12","v":0},{"$f":"Sécurité!AC12","v":0},{"$f":"Sécurité!AD12","v":0},{"$f":"Sécurité!AE12","v":0},{"$f":"Sécurité!AF12","v":0},{"$f":"Sécurité!AG12","v":0},{"$f":"Sécurité!AH12","v":0},{"$f":"Sécurité!AI12","v":0},{"$f":"Sécurité!AJ12","v":0},{"$f":"Sécurité!AK12","v":0},{"$f":"Sécurité!AL12","v":0},{"$f":"Sécurité!AM12","v":0},{"$f":"Sécurité!AN12","v":0},{"$f":"Sécurité!AO12","v":0},{"$f":"Sécurité!AP12","v":0},{"$f":"Sécurité!AQ12","v":0}]
[null,null,null,{"$f":"D214","v":"2015-10-01"}]
[null,null,"tableau mensuel","nb de 1/2 journées d'absence",null,null,null,null,null,null,null,null,null,"%  1/2j absences établt"]
[null,null,null,{"$f":"Sécurité!AR7","v":0},{"$f":"Sécurité!AS7","v":0},{"$f":"Sécurité!AT7","v":0},{"$f":"Sécurité!AU7","v":0},{"$f":"Sécurité!AV7","v":0},{"$f":"Sécurité!AW7","v":0},{"$f":"Sécurité!AX7","v":0},{"$f":"Sécurité!AY7","v":0},{"$f":"Sécurité!AZ7","v":0},{"$f":"Sécurité!BA7","v":0},{"$f":"Sécurité!BB7","v":0},{"$f":"Sécurité!BC7","v":0},{"$f":"Sécurité!BD7","v":0},{"$f":"Sécurité!BE7","v":0},{"$f":"Sécurité!BF7","v":0},{"$f":"Sécurité!BG7","v":0},{"$f":"Sécurité!BH7","v":0},{"$f":"Sécurité!BI7","v":0},{"$f":"Sécurité!BJ7","v":0},{"$f":"Sécurité!BK7","v":0}]
[null,null,"Absences totales",{"$f":"Sécurité!AR8","v":0},{"$f":"Sécurité!AS8","v":0},{"$f":"Sécurité!AT8","v":0},{"$f":"Sécurité!AU8","v":0},{"$f":"Sécurité!AV8","v":0},{"$f":"Sécurité!AW8","v":0},{"$f":"Sécurité!AX8","v":0},{"$f":"Sécurité!AY8","v":0},{"$f":"Sécurité!AZ8","v":0},{"$f":"Sécurité!BA8","v":0},{"$f":"Sécurité!BB8","v":0},{"$f":"Sécurité!BC8","v":0},{"$f":"Sécurité!BD8","v":0},{"$f":"Sécurité!BE8","v":0},{"$f":"Sécurité!BF8","v":0},{"$f":"Sécurité!BG8","v":0},{"$f":"Sécurité!BH8","v":0},{"$f":"Sécurité!BI8","v":0},{"$f":"Sécurité!BJ8","v":0},{"$f":"Sécurité!BK8","v":0}]
[null,null,"Absences justifiées recevables",{"$f":"Sécurité!AR9","v":0},{"$f":"Sécurité!AS9","v":0},{"$f":"Sécurité!AT9","v":0},{"$f":"Sécurité!AU9","v":0},{"$f":"Sécurité!AV9","v":0},{"$f":"Sécurité!AW9","v":0},{"$f":"Sécurité!AX9","v":0},{"$f":"Sécurité!AY9","v":0},{"$f":"Sécurité!AZ9","v":0},{"$f":"Sécurité!BA9","v":0},{"$f":"Sécurité!BB9","v":0},{"$f":"Sécurité!BC9","v":0},{"$f":"Sécurité!BD9","v":0},{"$f":"Sécurité!BE9","v":0},{"$f":"Sécurité!BF9","v":0},{"$f":"Sécurité!BG9","v":0},{"$f":"Sécurité!BH9","v":0},{"$f":"Sécurité!BI9","v":0},{"$f":"Sécurité!BJ9","v":0},{"$f":"Sécurité!BK9","v":0}]
[null,null,"Absences justifiées non recevables",{"$f":"Sécurité!AR10","v":0},{"$f":"Sécurité!AS10","v":0},{"$f":"Sécurité!AT10","v":0},{"$f":"Sécurité!AU10","v":0},{"$f":"Sécurité!AV10","v":0},{"$f":"Sécurité!AW10","v":0},{"$f":"Sécurité!AX10","v":0},{"$f":"Sécurité!AY10","v":0},{"$f":"Sécurité!AZ10","v":0},{"$f":"Sécurité!BA10","v":0},{"$f":"Sécurité!BB10","v":0},{"$f":"Sécurité!BC10","v":0},{"$f":"Sécurité!BD10","v":0},{"$f":"Sécurité!BE10","v":0},{"$f":"Sécurité!BF10","v":0},{"$f":"Sécurité!BG10","v":0},{"$f":"Sécurité!BH10","v":0},{"$f":"Sécurité!BI10","v":0},{"$f":"Sécurité!BJ10","v":0},{"$f":"Sécurité!BK10","v":0}]
[null,null,"Absences non justifiées",{"$f":"Sécurité!AR11","v":0},{"$f":"Sécurité!AS11","v":0},{"$f":"Sécurité!AT11","v":0},{"$f":"Sécurité!AU11","v":0},{"$f":"Sécurité!AV11","v":0},{"$f":"Sécurité!AW11","v":0},{"$f":"Sécurité!AX11","v":0},{"$f":"Sécurité!AY11","v":0},{"$f":"Sécurité!AZ11","v":0},{"$f":"Sécurité!BA11","v":0},{"$f":"Sécurité!BB11","v":0},{"$f":"Sécurité!BC11","v":0},{"$f":"Sécurité!BD11","v":0},{"$f":"Sécurité!BE11","v":0},{"$f":"Sécurité!BF11","v":0},{"$f":"Sécurité!BG11","v":0},{"$f":"Sécurité!BH11","v":0},{"$f":"Sécurité!BI11","v":0},{"$f":"Sécurité!BJ11","v":0},{"$f":"Sécurité!BK11","v":0}]
[null,null,"Signalement inspection académique",{"$f":"Sécurité!AR12","v":0},{"$f":"Sécurité!AS12","v":0},{"$f":"Sécurité!AT12","v":0},{"$f":"Sécurité!AU12","v":0},{"$f":"Sécurité!AV12","v":0},{"$f":"Sécurité!AW12","v":0},{"$f":"Sécurité!AX12","v":0},{"$f":"Sécurité!AY12","v":0},{"$f":"Sécurité!AZ12","v":0},{"$f":"Sécurité!BA12","v":0},{"$f":"Sécurité!BB12","v":0},{"$f":"Sécurité!BC12","v":0},{"$f":"Sécurité!BD12","v":0},{"$f":"Sécurité!BE12","v":0},{"$f":"Sécurité!BF12","v":0},{"$f":"Sécurité!BG12","v":0},{"$f":"Sécurité!BH12","v":0},{"$f":"Sécurité!BI12","v":0},{"$f":"Sécurité!BJ12","v":0},{"$f":"Sécurité!BK12","v":0}]
[null,null,null,{"$f":"D221","v":"2015-11-01"}]
[null,null,"tableau mensuel","nb de 1/2 journées d'absence",null,null,null,null,null,null,null,null,null,"%  1/2j absences établt"]
[null,null,null,{"$f":"Sécurité!BL7","v":0},{"$f":"Sécurité!BM7","v":0},{"$f":"Sécurité!BN7","v":0},{"$f":"Sécurité!BO7","v":0},{"$f":"Sécurité!BP7","v":0},{"$f":"Sécurité!BQ7","v":0},{"$f":"Sécurité!BR7","v":0},{"$f":"Sécurité!BS7","v":0},{"$f":"Sécurité!BT7","v":0},{"$f":"Sécurité!BU7","v":0},{"$f":"Sécurité!BV7","v":0},{"$f":"Sécurité!BW7","v":0},{"$f":"Sécurité!BX7","v":0},{"$f":"Sécurité!BY7","v":0},{"$f":"Sécurité!BZ7","v":0},{"$f":"Sécurité!CA7","v":0},{"$f":"Sécurité!CB7","v":0},{"$f":"Sécurité!CC7","v":0},{"$f":"Sécurité!CD7","v":0},{"$f":"Sécurité!CE7","v":0}]
[null,null,"Absences totales",{"$f":"Sécurité!BL8","v":0},{"$f":"Sécurité!BM8","v":0},{"$f":"Sécurité!BN8","v":0},{"$f":"Sécurité!BO8","v":0},{"$f":"Sécurité!BP8","v":0},{"$f":"Sécurité!BQ8","v":0},{"$f":"Sécurité!BR8","v":0},{"$f":"Sécurité!BS8","v":0},{"$f":"Sécurité!BT8","v":0},{"$f":"Sécurité!BU8","v":0},{"$f":"Sécurité!BV8","v":0},{"$f":"Sécurité!BW8","v":0},{"$f":"Sécurité!BX8","v":0},{"$f":"Sécurité!BY8","v":0},{"$f":"Sécurité!BZ8","v":0},{"$f":"Sécurité!CA8","v":0},{"$f":"Sécurité!CB8","v":0},{"$f":"Sécurité!CC8","v":0},{"$f":"Sécurité!CD8","v":0},{"$f":"Sécurité!CE8","v":0}]
[null,null,"Absences justifiées recevables",{"$f":"Sécurité!BL9","v":0},{"$f":"Sécurité!BM9","v":0},{"$f":"Sécurité!BN9","v":0},{"$f":"Sécurité!BO9","v":0},{"$f":"Sécurité!BP9","v":0},{"$f":"Sécurité!BQ9","v":0},{"$f":"Sécurité!BR9","v":0},{"$f":"Sécurité!BS9","v":0},{"$f":"Sécurité!BT9","v":0},{"$f":"Sécurité!BU9","v":0},{"$f":"Sécurité!BV9","v":0},{"$f":"Sécurité!BW9","v":0},{"$f":"Sécurité!BX9","v":0},{"$f":"Sécurité!BY9","v":0},{"$f":"Sécurité!BZ9","v":0},{"$f":"Sécurité!CA9","v":0},{"$f":"Sécurité!CB9","v":0},{"$f":"Sécurité!CC9","v":0},{"$f":"Sécurité!CD9","v":0},{"$f":"Sécurité!CE9","v":0}]
[null,null,"Absences justifiées non recevables",{"$f":"Sécurité!BL10","v":0},{"$f":"Sécurité!BM10","v":0},{"$f":"Sécurité!BN10","v":0},{"$f":"Sécurité!BO10","v":0},{"$f":"Sécurité!BP10","v":0},{"$f":"Sécurité!BQ10","v":0},{"$f":"Sécurité!BR10","v":0},{"$f":"Sécurité!BS10","v":0},{"$f":"Sécurité!BT10","v":0},{"$f":"Sécurité!BU10","v":0},{"$f":"Sécurité!BV10","v":0},{"$f":"Sécurité!BW10","v":0},{"$f":"Sécurité!BX10","v":0},{"$f":"Sécurité!BY10","v":0},{"$f":"Sécurité!BZ10","v":0},{"$f":"Sécurité!CA10","v":0},{"$f":"Sécurité!CB10","v":0},{"$f":"Sécurité!CC10","v":0},{"$f":"Sécurité!CD10","v":0},{"$f":"Sécurité!CE10","v":0}]
[null,null,"Absences non justifiées",{"$f":"Sécurité!BL11","v":0},{"$f":"Sécurité!BM11","v":0},{"$f":"Sécurité!BN11","v":0},{"$f":"Sécurité!BO11","v":0},{"$f":"Sécurité!BP11","v":0},{"$f":"Sécurité!BQ11","v":0},{"$f":"Sécurité!BR11","v":0},{"$f":"Sécurité!BS11","v":0},{"$f":"Sécurité!BT11","v":0},{"$f":"Sécurité!BU11","v":0},{"$f":"Sécurité!BV11","v":0},{"$f":"Sécurité!BW11","v":0},{"$f":"Sécurité!BX11","v":0},{"$f":"Sécurité!BY11","v":0},{"$f":"Sécurité!BZ11","v":0},{"$f":"Sécurité!CA11","v":0},{"$f":"Sécurité!CB11","v":0},{"$f":"Sécurité!CC11","v":0},{"$f":"Sécurité!CD11","v":0},{"$f":"Sécurité!CE11","v":0}]
[null,null,"Signalement inspection académique",{"$f":"Sécurité!BL12","v":0},{"$f":"Sécurité!BM12","v":0},{"$f":"Sécurité!BN12","v":0},{"$f":"Sécurité!BO12","v":0},{"$f":"Sécurité!BP12","v":0},{"$f":"Sécurité!BQ12","v":0},{"$f":"Sécurité!BR12","v":0},{"$f":"Sécurité!BS12","v":0},{"$f":"Sécurité!BT12","v":0},{"$f":"Sécurité!BU12","v":0},{"$f":"Sécurité!BV12","v":0},{"$f":"Sécurité!BW12","v":0},{"$f":"Sécurité!BX12","v":0},{"$f":"Sécurité!BY12","v":0},{"$f":"Sécurité!BZ12","v":0},{"$f":"Sécurité!CA12","v":0},{"$f":"Sécurité!CB12","v":0},{"$f":"Sécurité!CC12","v":0},{"$f":"Sécurité!CD12","v":0},{"$f":"Sécurité!CE12","v":0}]
[null,null,null,{"$f":"D228","v":"2015-12-01"}]
[null,null,"tableau mensuel","nb de 1/2 journées d'absence",null,null,null,null,null,null,null,null,null,"%  1/2j absences établt"]
[null,null,null,{"$f":"Sécurité!CF7","v":0},{"$f":"Sécurité!CG7","v":0},{"$f":"Sécurité!CH7","v":0},{"$f":"Sécurité!CI7","v":0},{"$f":"Sécurité!CJ7","v":0},{"$f":"Sécurité!CK7","v":0},{"$f":"Sécurité!CL7","v":0},{"$f":"Sécurité!CM7","v":0},{"$f":"Sécurité!CN7","v":0},{"$f":"Sécurité!CO7","v":0},{"$f":"Sécurité!CP7","v":0},{"$f":"Sécurité!CQ7","v":0},{"$f":"Sécurité!CR7","v":0},{"$f":"Sécurité!CS7","v":0},{"$f":"Sécurité!CT7","v":0},{"$f":"Sécurité!CU7","v":0},{"$f":"Sécurité!CV7","v":0},{"$f":"Sécurité!CW7","v":0},{"$f":"Sécurité!CX7","v":0},{"$f":"Sécurité!CY7","v":0}]
[null,null,"Absences totales",{"$f":"Sécurité!CF8","v":0},{"$f":"Sécurité!CG8","v":0},{"$f":"Sécurité!CH8","v":0},{"$f":"Sécurité!CI8","v":0},{"$f":"Sécurité!CJ8","v":0},{"$f":"Sécurité!CK8","v":0},{"$f":"Sécurité!CL8","v":0},{"$f":"Sécurité!CM8","v":0},{"$f":"Sécurité!CN8","v":0},{"$f":"Sécurité!CO8","v":0},{"$f":"Sécurité!CP8","v":0},{"$f":"Sécurité!CQ8","v":0},{"$f":"Sécurité!CR8","v":0},{"$f":"Sécurité!CS8","v":0},{"$f":"Sécurité!CT8","v":0},{"$f":"Sécurité!CU8","v":0},{"$f":"Sécurité!CV8","v":0},{"$f":"Sécurité!CW8","v":0},{"$f":"Sécurité!CX8","v":0},{"$f":"Sécurité!CY8","v":0}]
[null,null,"Absences justifiées recevables",{"$f":"Sécurité!CF9","v":0},{"$f":"Sécurité!CG9","v":0},{"$f":"Sécurité!CH9","v":0},{"$f":"Sécurité!CI9","v":0},{"$f":"Sécurité!CJ9","v":0},{"$f":"Sécurité!CK9","v":0},{"$f":"Sécurité!CL9","v":0},{"$f":"Sécurité!CM9","v":0},{"$f":"Sécurité!CN9","v":0},{"$f":"Sécurité!CO9","v":0},{"$f":"Sécurité!CP9","v":0},{"$f":"Sécurité!CQ9","v":0},{"$f":"Sécurité!CR9","v":0},{"$f":"Sécurité!CS9","v":0},{"$f":"Sécurité!CT9","v":0},{"$f":"Sécurité!CU9","v":0},{"$f":"Sécurité!CV9","v":0},{"$f":"Sécurité!CW9","v":0},{"$f":"Sécurité!CX9","v":0},{"$f":"Sécurité!CY9","v":0}]
[null,null,"Absences justifiées non recevables",{"$f":"Sécurité!CF10","v":0},{"$f":"Sécurité!CG10","v":0},{"$f":"Sécurité!CH10","v":0},{"$f":"Sécurité!CI10","v":0},{"$f":"Sécurité!CJ10","v":0},{"$f":"Sécurité!CK10","v":0},{"$f":"Sécurité!CL10","v":0},{"$f":"Sécurité!CM10","v":0},{"$f":"Sécurité!CN10","v":0},{"$f":"Sécurité!CO10","v":0},{"$f":"Sécurité!CP10","v":0},{"$f":"Sécurité!CQ10","v":0},{"$f":"Sécurité!CR10","v":0},{"$f":"Sécurité!CS10","v":0},{"$f":"Sécurité!CT10","v":0},{"$f":"Sécurité!CU10","v":0},{"$f":"Sécurité!CV10","v":0},{"$f":"Sécurité!CW10","v":0},{"$f":"Sécurité!CX10","v":0},{"$f":"Sécurité!CY10","v":0}]
[null,null,"Absences non justifiées",{"$f":"Sécurité!CF11","v":0},{"$f":"Sécurité!CG11","v":0},{"$f":"Sécurité!CH11","v":0},{"$f":"Sécurité!CI11","v":0},{"$f":"Sécurité!CJ11","v":0},{"$f":"Sécurité!CK11","v":0},{"$f":"Sécurité!CL11","v":0},{"$f":"Sécurité!CM11","v":0},{"$f":"Sécurité!CN11","v":0},{"$f":"Sécurité!CO11","v":0},{"$f":"Sécurité!CP11","v":0},{"$f":"Sécurité!CQ11","v":0},{"$f":"Sécurité!CR11","v":0},{"$f":"Sécurité!CS11","v":0},{"$f":"Sécurité!CT11","v":0},{"$f":"Sécurité!CU11","v":0},{"$f":"Sécurité!CV11","v":0},{"$f":"Sécurité!CW11","v":0},{"$f":"Sécurité!CX11","v":0},{"$f":"Sécurité!CY11","v":0}]
[null,null,"Signalement inspection académique",{"$f":"Sécurité!CF12","v":0},{"$f":"Sécurité!CG12","v":0},{"$f":"Sécurité!CH12","v":0},{"$f":"Sécurité!CI12","v":0},{"$f":"Sécurité!CJ12","v":0},{"$f":"Sécurité!CK12","v":0},{"$f":"Sécurité!CL12","v":0},{"$f":"Sécurité!CM12","v":0},{"$f":"Sécurité!CN12","v":0},{"$f":"Sécurité!CO12","v":0},{"$f":"Sécurité!CP12","v":0},{"$f":"Sécurité!CQ12","v":0},{"$f":"Sécurité!CR12","v":0},{"$f":"Sécurité!CS12","v":0},{"$f":"Sécurité!CT12","v":0},{"$f":"Sécurité!CU12","v":0},{"$f":"Sécurité!CV12","v":0},{"$f":"Sécurité!CW12","v":0},{"$f":"Sécurité!CX12","v":0},{"$f":"Sécurité!CY12","v":0}]
[null,null,null,{"$f":"D235","v":"2016-01-01"}]
[null,null,"tableau mensuel","nb de 1/2 journées d'absence",null,null,null,null,null,null,null,null,null,"%  1/2j absences établt"]
[null,null,null,{"$f":"Sécurité!CZ7","v":0},{"$f":"Sécurité!DA7","v":0},{"$f":"Sécurité!DB7","v":0},{"$f":"Sécurité!DC7","v":0},{"$f":"Sécurité!DD7","v":0},{"$f":"Sécurité!DE7","v":0},{"$f":"Sécurité!DF7","v":0},{"$f":"Sécurité!DG7","v":0},{"$f":"Sécurité!DH7","v":0},{"$f":"Sécurité!DI7","v":0},{"$f":"Sécurité!DJ7","v":0},{"$f":"Sécurité!DK7","v":0},{"$f":"Sécurité!DL7","v":0},{"$f":"Sécurité!DM7","v":0},{"$f":"Sécurité!DN7","v":0},{"$f":"Sécurité!DO7","v":0},{"$f":"Sécurité!DP7","v":0},{"$f":"Sécurité!DQ7","v":0},{"$f":"Sécurité!DR7","v":0},{"$f":"Sécurité!DS7","v":0}]
[null,null,"Absences totales",{"$f":"Sécurité!CZ8","v":0},{"$f":"Sécurité!DA8","v":0},{"$f":"Sécurité!DB8","v":0},{"$f":"Sécurité!DC8","v":0},{"$f":"Sécurité!DD8","v":0},{"$f":"Sécurité!DE8","v":0},{"$f":"Sécurité!DF8","v":0},{"$f":"Sécurité!DG8","v":0},{"$f":"Sécurité!DH8","v":0},{"$f":"Sécurité!DI8","v":0},{"$f":"Sécurité!DJ8","v":0},{"$f":"Sécurité!DK8","v":0},{"$f":"Sécurité!DL8","v":0},{"$f":"Sécurité!DM8","v":0},{"$f":"Sécurité!DN8","v":0},{"$f":"Sécurité!DO8","v":0},{"$f":"Sécurité!DP8","v":0},{"$f":"Sécurité!DQ8","v":0},{"$f":"Sécurité!DR8","v":0},{"$f":"Sécurité!DS8","v":0}]
[null,null,"Absences justifiées recevables",{"$f":"Sécurité!CZ9","v":0},{"$f":"Sécurité!DA9","v":0},{"$f":"Sécurité!DB9","v":0},{"$f":"Sécurité!DC9","v":0},{"$f":"Sécurité!DD9","v":0},{"$f":"Sécurité!DE9","v":0},{"$f":"Sécurité!DF9","v":0},{"$f":"Sécurité!DG9","v":0},{"$f":"Sécurité!DH9","v":0},{"$f":"Sécurité!DI9","v":0},{"$f":"Sécurité!DJ9","v":0},{"$f":"Sécurité!DK9","v":0},{"$f":"Sécurité!DL9","v":0},{"$f":"Sécurité!DM9","v":0},{"$f":"Sécurité!DN9","v":0},{"$f":"Sécurité!DO9","v":0},{"$f":"Sécurité!DP9","v":0},{"$f":"Sécurité!DQ9","v":0},{"$f":"Sécurité!DR9","v":0},{"$f":"Sécurité!DS9","v":0}]
[null,null,"Absences justifiées non recevables",{"$f":"Sécurité!CZ10","v":0},{"$f":"Sécurité!DA10","v":0},{"$f":"Sécurité!DB10","v":0},{"$f":"Sécurité!DC10","v":0},{"$f":"Sécurité!DD10","v":0},{"$f":"Sécurité!DE10","v":0},{"$f":"Sécurité!DF10","v":0},{"$f":"Sécurité!DG10","v":0},{"$f":"Sécurité!DH10","v":0},{"$f":"Sécurité!DI10","v":0},{"$f":"Sécurité!DJ10","v":0},{"$f":"Sécurité!DK10","v":0},{"$f":"Sécurité!DL10","v":0},{"$f":"Sécurité!DM10","v":0},{"$f":"Sécurité!DN10","v":0},{"$f":"Sécurité!DO10","v":0},{"$f":"Sécurité!DP10","v":0},{"$f":"Sécurité!DQ10","v":0},{"$f":"Sécurité!DR10","v":0},{"$f":"Sécurité!DS10","v":0}]
[null,null,"Absences non justifiées",{"$f":"Sécurité!CZ11","v":0},{"$f":"Sécurité!DA11","v":0},{"$f":"Sécurité!DB11","v":0},{"$f":"Sécurité!DC11","v":0},{"$f":"Sécurité!DD11","v":0},{"$f":"Sécurité!DE11","v":0},{"$f":"Sécurité!DF11","v":0},{"$f":"Sécurité!DG11","v":0},{"$f":"Sécurité!DH11","v":0},{"$f":"Sécurité!DI11","v":0},{"$f":"Sécurité!DJ11","v":0},{"$f":"Sécurité!DK11","v":0},{"$f":"Sécurité!DL11","v":0},{"$f":"Sécurité!DM11","v":0},{"$f":"Sécurité!DN11","v":0},{"$f":"Sécurité!DO11","v":0},{"$f":"Sécurité!DP11","v":0},{"$f":"Sécurité!DQ11","v":0},{"$f":"Sécurité!DR11","v":0},{"$f":"Sécurité!DS11","v":0}]
[null,null,"Signalement inspection académique",{"$f":"Sécurité!CZ12","v":0},{"$f":"Sécurité!DA12","v":0},{"$f":"Sécurité!DB12","v":0},{"$f":"Sécurité!DC12","v":0},{"$f":"Sécurité!DD12","v":0},{"$f":"Sécurité!DE12","v":0},{"$f":"Sécurité!DF12","v":0},{"$f":"Sécurité!DG12","v":0},{"$f":"Sécurité!DH12","v":0},{"$f":"Sécurité!DI12","v":0},{"$f":"Sécurité!DJ12","v":0},{"$f":"Sécurité!DK12","v":0},{"$f":"Sécurité!DL12","v":0},{"$f":"Sécurité!DM12","v":0},{"$f":"Sécurité!DN12","v":0},{"$f":"Sécurité!DO12","v":0},{"$f":"Sécurité!DP12","v":0},{"$f":"Sécurité!DQ12","v":0},{"$f":"Sécurité!DR12","v":0},{"$f":"Sécurité!DS12","v":0}]
[null,null,null,{"$f":"D242","v":"2016-02-01"}]
[null,null,"tableau mensuel","nb de 1/2 journées d'absence",null,null,null,null,null,null,null,null,null,"%  1/2j absences établt"]
[null,null,null,{"$f":"Sécurité!DT7","v":0},{"$f":"Sécurité!DU7","v":0},{"$f":"Sécurité!DV7","v":0},{"$f":"Sécurité!DW7","v":0},{"$f":"Sécurité!DX7","v":0},{"$f":"Sécurité!DY7","v":0},{"$f":"Sécurité!DZ7","v":0},{"$f":"Sécurité!EA7","v":0},{"$f":"Sécurité!EB7","v":0},{"$f":"Sécurité!EC7","v":0},{"$f":"Sécurité!ED7","v":0},{"$f":"Sécurité!EE7","v":0},{"$f":"Sécurité!EF7","v":0},{"$f":"Sécurité!EG7","v":0},{"$f":"Sécurité!EH7","v":0},{"$f":"Sécurité!EI7","v":0},{"$f":"Sécurité!EJ7","v":0},{"$f":"Sécurité!EK7","v":0},{"$f":"Sécurité!EL7","v":0},{"$f":"Sécurité!EM7","v":0}]
[null,null,"Absences totales",{"$f":"Sécurité!DT8","v":0},{"$f":"Sécurité!DU8","v":0},{"$f":"Sécurité!DV8","v":0},{"$f":"Sécurité!DW8","v":0},{"$f":"Sécurité!DX8","v":0},{"$f":"Sécurité!DY8","v":0},{"$f":"Sécurité!DZ8","v":0},{"$f":"Sécurité!EA8","v":0},{"$f":"Sécurité!EB8","v":0},{"$f":"Sécurité!EC8","v":0},{"$f":"Sécurité!ED8","v":0},{"$f":"Sécurité!EE8","v":0},{"$f":"Sécurité!EF8","v":0},{"$f":"Sécurité!EG8","v":0},{"$f":"Sécurité!EH8","v":0},{"$f":"Sécurité!EI8","v":0},{"$f":"Sécurité!EJ8","v":0},{"$f":"Sécurité!EK8","v":0},{"$f":"Sécurité!EL8","v":0},{"$f":"Sécurité!EM8","v":0}]
[null,null,"Absences justifiées recevables",{"$f":"Sécurité!DT9","v":0},{"$f":"Sécurité!DU9","v":0},{"$f":"Sécurité!DV9","v":0},{"$f":"Sécurité!DW9","v":0},{"$f":"Sécurité!DX9","v":0},{"$f":"Sécurité!DY9","v":0},{"$f":"Sécurité!DZ9","v":0},{"$f":"Sécurité!EA9","v":0},{"$f":"Sécurité!EB9","v":0},{"$f":"Sécurité!EC9","v":0},{"$f":"Sécurité!ED9","v":0},{"$f":"Sécurité!EE9","v":0},{"$f":"Sécurité!EF9","v":0},{"$f":"Sécurité!EG9","v":0},{"$f":"Sécurité!EH9","v":0},{"$f":"Sécurité!EI9","v":0},{"$f":"Sécurité!EJ9","v":0},{"$f":"Sécurité!EK9","v":0},{"$f":"Sécurité!EL9","v":0},{"$f":"Sécurité!EM9","v":0}]
[null,null,"Absences justifiées non recevables",{"$f":"Sécurité!DT10","v":0},{"$f":"Sécurité!DU10","v":0},{"$f":"Sécurité!DV10","v":0},{"$f":"Sécurité!DW10","v":0},{"$f":"Sécurité!DX10","v":0},{"$f":"Sécurité!DY10","v":0},{"$f":"Sécurité!DZ10","v":0},{"$f":"Sécurité!EA10","v":0},{"$f":"Sécurité!EB10","v":0},{"$f":"Sécurité!EC10","v":0},{"$f":"Sécurité!ED10","v":0},{"$f":"Sécurité!EE10","v":0},{"$f":"Sécurité!EF10","v":0},{"$f":"Sécurité!EG10","v":0},{"$f":"Sécurité!EH10","v":0},{"$f":"Sécurité!EI10","v":0},{"$f":"Sécurité!EJ10","v":0},{"$f":"Sécurité!EK10","v":0},{"$f":"Sécurité!EL10","v":0},{"$f":"Sécurité!EM10","v":0}]
[null,null,"Absences non justifiées",{"$f":"Sécurité!DT11","v":0},{"$f":"Sécurité!DU11","v":0},{"$f":"Sécurité!DV11","v":0},{"$f":"Sécurité!DW11","v":0},{"$f":"Sécurité!DX11","v":0},{"$f":"Sécurité!DY11","v":0},{"$f":"Sécurité!DZ11","v":0},{"$f":"Sécurité!EA11","v":0},{"$f":"Sécurité!EB11","v":0},{"$f":"Sécurité!EC11","v":0},{"$f":"Sécurité!ED11","v":0},{"$f":"Sécurité!EE11","v":0},{"$f":"Sécurité!EF11","v":0},{"$f":"Sécurité!EG11","v":0},{"$f":"Sécurité!EH11","v":0},{"$f":"Sécurité!EI11","v":0},{"$f":"Sécurité!EJ11","v":0},{"$f":"Sécurité!EK11","v":0},{"$f":"Sécurité!EL11","v":0},{"$f":"Sécurité!EM11","v":0}]
[null,null,"Signalement inspection académique",{"$f":"Sécurité!DT12","v":0},{"$f":"Sécurité!DU12","v":0},{"$f":"Sécurité!DV12","v":0},{"$f":"Sécurité!DW12","v":0},{"$f":"Sécurité!DX12","v":0},{"$f":"Sécurité!DY12","v":0},{"$f":"Sécurité!DZ12","v":0},{"$f":"Sécurité!EA12","v":0},{"$f":"Sécurité!EB12","v":0},{"$f":"Sécurité!EC12","v":0},{"$f":"Sécurité!ED12","v":0},{"$f":"Sécurité!EE12","v":0},{"$f":"Sécurité!EF12","v":0},{"$f":"Sécurité!EG12","v":0},{"$f":"Sécurité!EH12","v":0},{"$f":"Sécurité!EI12","v":0},{"$f":"Sécurité!EJ12","v":0},{"$f":"Sécurité!EK12","v":0},{"$f":"Sécurité!EL12","v":0},{"$f":"Sécurité!EM12","v":0}]
[]
[]
[]
[]
[]
[]
[]
[]
[]
[]
[]
[]
[]
[]
[]
[]
[]
[]
[null,"Présence"]
[]
[null,null,null,{"$f":"D281","v":"2016-03-01"}]
[null,null,"tableau mensuel","nb de 1/2 journées d'absence",null,null,null,null,null,null,null,null,null,"%  1/2j absences établt"]
[null,null,null,{"$f":"Sécurité!EN7","v":0},{"$f":"Sécurité!EO7","v":0},{"$f":"Sécurité!EP7","v":0},{"$f":"Sécurité!EQ7","v":0},{"$f":"Sécurité!ER7","v":0},{"$f":"Sécurité!ES7","v":0},{"$f":"Sécurité!ET7","v":0},{"$f":"Sécurité!EU7","v":0},{"$f":"Sécurité!EV7","v":0},{"$f":"Sécurité!EW7","v":0},{"$f":"Sécurité!EX7","v":0},{"$f":"Sécurité!EY7","v":0},{"$f":"Sécurité!EZ7","v":0},{"$f":"Sécurité!FA7","v":0},{"$f":"Sécurité!FB7","v":0},{"$f":"Sécurité!FC7","v":0},{"$f":"Sécurité!FD7","v":0},{"$f":"Sécurité!FE7","v":0},{"$f":"Sécurité!FF7","v":0},{"$f":"Sécurité!FG7","v":0}]
[null,null,"Absences totales",{"$f":"Sécurité!EN8","v":0},{"$f":"Sécurité!EO8","v":0},{"$f":"Sécurité!EP8","v":0},{"$f":"Sécurité!EQ8","v":0},{"$f":"Sécurité!ER8","v":0},{"$f":"Sécurité!ES8","v":0},{"$f":"Sécurité!ET8","v":0},{"$f":"Sécurité!EU8","v":0},{"$f":"Sécurité!EV8","v":0},{"$f":"Sécurité!EW8","v":0},{"$f":"Sécurité!EX8","v":0},{"$f":"Sécurité!EY8","v":0},{"$f":"Sécurité!EZ8","v":0},{"$f":"Sécurité!FA8","v":0},{"$f":"Sécurité!FB8","v":0},{"$f":"Sécurité!FC8","v":0},{"$f":"Sécurité!FD8","v":0},{"$f":"Sécurité!FE8","v":0},{"$f":"Sécurité!FF8","v":0},{"$f":"Sécurité!FG8","v":0}]
[null,null,"Absences justifiées recevables",{"$f":"Sécurité!EN9","v":0},{"$f":"Sécurité!EO9","v":0},{"$f":"Sécurité!EP9","v":0},{"$f":"Sécurité!EQ9","v":0},{"$f":"Sécurité!ER9","v":0},{"$f":"Sécurité!ES9","v":0},{"$f":"Sécurité!ET9","v":0},{"$f":"Sécurité!EU9","v":0},{"$f":"Sécurité!EV9","v":0},{"$f":"Sécurité!EW9","v":0},{"$f":"Sécurité!EX9","v":0},{"$f":"Sécurité!EY9","v":0},{"$f":"Sécurité!EZ9","v":0},{"$f":"Sécurité!FA9","v":0},{"$f":"Sécurité!FB9","v":0},{"$f":"Sécurité!FC9","v":0},{"$f":"Sécurité!FD9","v":0},{"$f":"Sécurité!FE9","v":0},{"$f":"Sécurité!FF9","v":0},{"$f":"Sécurité!FG9","v":0}]
[null,null,"Absences justifiées non recevables",{"$f":"Sécurité!EN10","v":0},{"$f":"Sécurité!EO10","v":0},{"$f":"Sécurité!EP10","v":0},{"$f":"Sécurité!EQ10","v":0},{"$f":"Sécurité!ER10","v":0},{"$f":"Sécurité!ES10","v":0},{"$f":"Sécurité!ET10","v":0},{"$f":"Sécurité!EU10","v":0},{"$f":"Sécurité!EV10","v":0},{"$f":"Sécurité!EW10","v":0},{"$f":"Sécurité!EX10","v":0},{"$f":"Sécurité!EY10","v":0},{"$f":"Sécurité!EZ10","v":0},{"$f":"Sécurité!FA10","v":0},{"$f":"Sécurité!FB10","v":0},{"$f":"Sécurité!FC10","v":0},{"$f":"Sécurité!FD10","v":0},{"$f":"Sécurité!FE10","v":0},{"$f":"Sécurité!FF10","v":0},{"$f":"Sécurité!FG10","v":0}]
[null,null,"Absences non justifiées",{"$f":"Sécurité!EN11","v":0},{"$f":"Sécurité!EO11","v":0},{"$f":"Sécurité!EP11","v":0},{"$f":"Sécurité!EQ11","v":0},{"$f":"Sécurité!ER11","v":0},{"$f":"Sécurité!ES11","v":0},{"$f":"Sécurité!ET11","v":0},{"$f":"Sécurité!EU11","v":0},{"$f":"Sécurité!EV11","v":0},{"$f":"Sécurité!EW11","v":0},{"$f":"Sécurité!EX11","v":0},{"$f":"Sécurité!EY11","v":0},{"$f":"Sécurité!EZ11","v":0},{"$f":"Sécurité!FA11","v":0},{"$f":"Sécurité!FB11","v":0},{"$f":"Sécurité!FC11","v":0},{"$f":"Sécurité!FD11","v":0},{"$f":"Sécurité!FE11","v":0},{"$f":"Sécurité!FF11","v":0},{"$f":"Sécurité!FG11","v":0}]
[null,null,"Signalement inspection académique",{"$f":"Sécurité!EN12","v":0},{"$f":"Sécurité!EO12","v":0},{"$f":"Sécurité!EP12","v":0},{"$f":"Sécurité!EQ12","v":0},{"$f":"Sécurité!ER12","v":0},{"$f":"Sécurité!ES12","v":0},{"$f":"Sécurité!ET12","v":0},{"$f":"Sécurité!EU12","v":0},{"$f":"Sécurité!EV12","v":0},{"$f":"Sécurité!EW12","v":0},{"$f":"Sécurité!EX12","v":0},{"$f":"Sécurité!EY12","v":0},{"$f":"Sécurité!EZ12","v":0},{"$f":"Sécurité!FA12","v":0},{"$f":"Sécurité!FB12","v":0},{"$f":"Sécurité!FC12","v":0},{"$f":"Sécurité!FD12","v":0},{"$f":"Sécurité!FE12","v":0},{"$f":"Sécurité!FF12","v":0},{"$f":"Sécurité!FG12","v":0}]
[null,null,null,{"$f":"D288","v":"2016-04-01"}]
[null,null,"tableau mensuel","nb de 1/2 journées d'absence",null,null,null,null,null,null,null,null,null,"%  1/2j absences établt"]
[null,null,null,{"$f":"Sécurité!FH7","v":0},{"$f":"Sécurité!FI7","v":0},{"$f":"Sécurité!FJ7","v":0},{"$f":"Sécurité!FK7","v":0},{"$f":"Sécurité!FL7","v":0},{"$f":"Sécurité!FM7","v":0},{"$f":"Sécurité!FN7","v":0},{"$f":"Sécurité!FO7","v":0},{"$f":"Sécurité!FP7","v":0},{"$f":"Sécurité!FQ7","v":0},{"$f":"Sécurité!FR7","v":0},{"$f":"Sécurité!FS7","v":0},{"$f":"Sécurité!FT7","v":0},{"$f":"Sécurité!FU7","v":0},{"$f":"Sécurité!FV7","v":0},{"$f":"Sécurité!FW7","v":0},{"$f":"Sécurité!FX7","v":0},{"$f":"Sécurité!FY7","v":0},{"$f":"Sécurité!FZ7","v":0},{"$f":"Sécurité!GA7","v":0}]
[null,null,"Absences totales",{"$f":"Sécurité!FH8","v":0},{"$f":"Sécurité!FI8","v":0},{"$f":"Sécurité!FJ8","v":0},{"$f":"Sécurité!FK8","v":0},{"$f":"Sécurité!FL8","v":0},{"$f":"Sécurité!FM8","v":0},{"$f":"Sécurité!FN8","v":0},{"$f":"Sécurité!FO8","v":0},{"$f":"Sécurité!FP8","v":0},{"$f":"Sécurité!FQ8","v":0},{"$f":"Sécurité!FR8","v":0},{"$f":"Sécurité!FS8","v":0},{"$f":"Sécurité!FT8","v":0},{"$f":"Sécurité!FU8","v":0},{"$f":"Sécurité!FV8","v":0},{"$f":"Sécurité!FW8","v":0},{"$f":"Sécurité!FX8","v":0},{"$f":"Sécurité!FY8","v":0},{"$f":"Sécurité!FZ8","v":0},{"$f":"Sécurité!GA8","v":0}]
[null,null,"Absences justifiées recevables",{"$f":"Sécurité!FH9","v":0},{"$f":"Sécurité!FI9","v":0},{"$f":"Sécurité!FJ9","v":0},{"$f":"Sécurité!FK9","v":0},{"$f":"Sécurité!FL9","v":0},{"$f":"Sécurité!FM9","v":0},{"$f":"Sécurité!FN9","v":0},{"$f":"Sécurité!FO9","v":0},{"$f":"Sécurité!FP9","v":0},{"$f":"Sécurité!FQ9","v":0},{"$f":"Sécurité!FR9","v":0},{"$f":"Sécurité!FS9","v":0},{"$f":"Sécurité!FT9","v":0},{"$f":"Sécurité!FU9","v":0},{"$f":"Sécurité!FV9","v":0},{"$f":"Sécurité!FW9","v":0},{"$f":"Sécurité!FX9","v":0},{"$f":"Sécurité!FY9","v":0},{"$f":"Sécurité!FZ9","v":0},{"$f":"Sécurité!GA9","v":0}]
[null,null,"Absences justifiées non recevables",{"$f":"Sécurité!FH10","v":0},{"$f":"Sécurité!FI10","v":0},{"$f":"Sécurité!FJ10","v":0},{"$f":"Sécurité!FK10","v":0},{"$f":"Sécurité!FL10","v":0},{"$f":"Sécurité!FM10","v":0},{"$f":"Sécurité!FN10","v":0},{"$f":"Sécurité!FO10","v":0},{"$f":"Sécurité!FP10","v":0},{"$f":"Sécurité!FQ10","v":0},{"$f":"Sécurité!FR10","v":0},{"$f":"Sécurité!FS10","v":0},{"$f":"Sécurité!FT10","v":0},{"$f":"Sécurité!FU10","v":0},{"$f":"Sécurité!FV10","v":0},{"$f":"Sécurité!FW10","v":0},{"$f":"Sécurité!FX10","v":0},{"$f":"Sécurité!FY10","v":0},{"$f":"Sécurité!FZ10","v":0},{"$f":"Sécurité!GA10","v":0}]
[null,null,"Absences non justifiées",{"$f":"Sécurité!FH11","v":0},{"$f":"Sécurité!FI11","v":0},{"$f":"Sécurité!FJ11","v":0},{"$f":"Sécurité!FK11","v":0},{"$f":"Sécurité!FL11","v":0},{"$f":"Sécurité!FM11","v":0},{"$f":"Sécurité!FN11","v":0},{"$f":"Sécurité!FO11","v":0},{"$f":"Sécurité!FP11","v":0},{"$f":"Sécurité!FQ11","v":0},{"$f":"Sécurité!FR11","v":0},{"$f":"Sécurité!FS11","v":0},{"$f":"Sécurité!FT11","v":0},{"$f":"Sécurité!FU11","v":0},{"$f":"Sécurité!FV11","v":0},{"$f":"Sécurité!FW11","v":0},{"$f":"Sécurité!FX11","v":0},{"$f":"Sécurité!FY11","v":0},{"$f":"Sécurité!FZ11","v":0},{"$f":"Sécurité!GA11","v":0}]
[null,null,"Signalement inspection académique",{"$f":"Sécurité!FH12","v":0},{"$f":"Sécurité!FI12","v":0},{"$f":"Sécurité!FJ12","v":0},{"$f":"Sécurité!FK12","v":0},{"$f":"Sécurité!FL12","v":0},{"$f":"Sécurité!FM12","v":0},{"$f":"Sécurité!FN12","v":0},{"$f":"Sécurité!FO12","v":0},{"$f":"Sécurité!FP12","v":0},{"$f":"Sécurité!FQ12","v":0},{"$f":"Sécurité!FR12","v":0},{"$f":"Sécurité!FS12","v":0},{"$f":"Sécurité!FT12","v":0},{"$f":"Sécurité!FU12","v":0},{"$f":"Sécurité!FV12","v":0},{"$f":"Sécurité!FW12","v":0},{"$f":"Sécurité!FX12","v":0},{"$f":"Sécurité!FY12","v":0},{"$f":"Sécurité!FZ12","v":0},{"$f":"Sécurité!GA12","v":0}]
[null,null,null,{"$f":"D295","v":"2016-05-01"}]
[null,null,"tableau mensuel","nb de 1/2 journées d'absence",null,null,null,null,null,null,null,null,null,"%  1/2j absences établt"]
[null,null,null,{"$f":"Sécurité!GB7","v":0},{"$f":"Sécurité!GC7","v":0},{"$f":"Sécurité!GD7","v":0},{"$f":"Sécurité!GE7","v":0},{"$f":"Sécurité!GF7","v":0},{"$f":"Sécurité!GG7","v":0},{"$f":"Sécurité!GH7","v":0},{"$f":"Sécurité!GI7","v":0},{"$f":"Sécurité!GJ7","v":0},{"$f":"Sécurité!GK7","v":0},{"$f":"Sécurité!GL7","v":0},{"$f":"Sécurité!GM7","v":0},{"$f":"Sécurité!GN7","v":0},{"$f":"Sécurité!GO7","v":0},{"$f":"Sécurité!GP7","v":0},{"$f":"Sécurité!GQ7","v":0},{"$f":"Sécurité!GR7","v":0},{"$f":"Sécurité!GS7","v":0},{"$f":"Sécurité!GT7","v":0},{"$f":"Sécurité!GU7","v":0}]
[null,null,"Absences totales",{"$f":"Sécurité!GB8","v":0},{"$f":"Sécurité!GC8","v":0},{"$f":"Sécurité!GD8","v":0},{"$f":"Sécurité!GE8","v":0},{"$f":"Sécurité!GF8","v":0},{"$f":"Sécurité!GG8","v":0},{"$f":"Sécurité!GH8","v":0},{"$f":"Sécurité!GI8","v":0},{"$f":"Sécurité!GJ8","v":0},{"$f":"Sécurité!GK8","v":0},{"$f":"Sécurité!GL8","v":0},{"$f":"Sécurité!GM8","v":0},{"$f":"Sécurité!GN8","v":0},{"$f":"Sécurité!GO8","v":0},{"$f":"Sécurité!GP8","v":0},{"$f":"Sécurité!GQ8","v":0},{"$f":"Sécurité!GR8","v":0},{"$f":"Sécurité!GS8","v":0},{"$f":"Sécurité!GT8","v":0},{"$f":"Sécurité!GU8","v":0}]
[null,null,"Absences justifiées recevables",{"$f":"Sécurité!GB9","v":0},{"$f":"Sécurité!GC9","v":0},{"$f":"Sécurité!GD9","v":0},{"$f":"Sécurité!GE9","v":0},{"$f":"Sécurité!GF9","v":0},{"$f":"Sécurité!GG9","v":0},{"$f":"Sécurité!GH9","v":0},{"$f":"Sécurité!GI9","v":0},{"$f":"Sécurité!GJ9","v":0},{"$f":"Sécurité!GK9","v":0},{"$f":"Sécurité!GL9","v":0},{"$f":"Sécurité!GM9","v":0},{"$f":"Sécurité!GN9","v":0},{"$f":"Sécurité!GO9","v":0},{"$f":"Sécurité!GP9","v":0},{"$f":"Sécurité!GQ9","v":0},{"$f":"Sécurité!GR9","v":0},{"$f":"Sécurité!GS9","v":0},{"$f":"Sécurité!GT9","v":0},{"$f":"Sécurité!GU9","v":0}]
[null,null,"Absences justifiées non recevables",{"$f":"Sécurité!GB10","v":0},{"$f":"Sécurité!GC10","v":0},{"$f":"Sécurité!GD10","v":0},{"$f":"Sécurité!GE10","v":0},{"$f":"Sécurité!GF10","v":0},{"$f":"Sécurité!GG10","v":0},{"$f":"Sécurité!GH10","v":0},{"$f":"Sécurité!GI10","v":0},{"$f":"Sécurité!GJ10","v":0},{"$f":"Sécurité!GK10","v":0},{"$f":"Sécurité!GL10","v":0},{"$f":"Sécurité!GM10","v":0},{"$f":"Sécurité!GN10","v":0},{"$f":"Sécurité!GO10","v":0},{"$f":"Sécurité!GP10","v":0},{"$f":"Sécurité!GQ10","v":0},{"$f":"Sécurité!GR10","v":0},{"$f":"Sécurité!GS10","v":0},{"$f":"Sécurité!GT10","v":0},{"$f":"Sécurité!GU10","v":0}]
[null,null,"Absences non justifiées",{"$f":"Sécurité!GB11","v":0},{"$f":"Sécurité!GC11","v":0},{"$f":"Sécurité!GD11","v":0},{"$f":"Sécurité!GE11","v":0},{"$f":"Sécurité!GF11","v":0},{"$f":"Sécurité!GG11","v":0},{"$f":"Sécurité!GH11","v":0},{"$f":"Sécurité!GI11","v":0},{"$f":"Sécurité!GJ11","v":0},{"$f":"Sécurité!GK11","v":0},{"$f":"Sécurité!GL11","v":0},{"$f":"Sécurité!GM11","v":0},{"$f":"Sécurité!GN11","v":0},{"$f":"Sécurité!GO11","v":0},{"$f":"Sécurité!GP11","v":0},{"$f":"Sécurité!GQ11","v":0},{"$f":"Sécurité!GR11","v":0},{"$f":"Sécurité!GS11","v":0},{"$f":"Sécurité!GT11","v":0},{"$f":"Sécurité!GU11","v":0}]
[null,null,"Signalement inspection académique",{"$f":"Sécurité!GB12","v":0},{"$f":"Sécurité!GC12","v":0},{"$f":"Sécurité!GD12","v":0},{"$f":"Sécurité!GE12","v":0},{"$f":"Sécurité!GF12","v":0},{"$f":"Sécurité!GG12","v":0},{"$f":"Sécurité!GH12","v":0},{"$f":"Sécurité!GI12","v":0},{"$f":"Sécurité!GJ12","v":0},{"$f":"Sécurité!GK12","v":0},{"$f":"Sécurité!GL12","v":0},{"$f":"Sécurité!GM12","v":0},{"$f":"Sécurité!GN12","v":0},{"$f":"Sécurité!GO12","v":0},{"$f":"Sécurité!GP12","v":0},{"$f":"Sécurité!GQ12","v":0},{"$f":"Sécurité!GR12","v":0},{"$f":"Sécurité!GS12","v":0},{"$f":"Sécurité!GT12","v":0},{"$f":"Sécurité!GU12","v":0}]
[null,null,null,{"$f":"D302","v":"2016-06-01"}]
[null,null,"tableau mensuel","nb de 1/2 journées d'absence",null,null,null,null,null,null,null,null,null,"%  1/2j absences établt"]
[null,null,null,{"$f":"Sécurité!GV7","v":0},{"$f":"Sécurité!GW7","v":0},{"$f":"Sécurité!GX7","v":0},{"$f":"Sécurité!GY7","v":0},{"$f":"Sécurité!GZ7","v":0},{"$f":"Sécurité!HA7","v":0},{"$f":"Sécurité!HB7","v":0},{"$f":"Sécurité!HC7","v":0},{"$f":"Sécurité!HD7","v":0},{"$f":"Sécurité!HE7","v":0},{"$f":"Sécurité!HF7","v":0},{"$f":"Sécurité!HG7","v":0},{"$f":"Sécurité!HH7","v":0},{"$f":"Sécurité!HI7","v":0},{"$f":"Sécurité!HJ7","v":0},{"$f":"Sécurité!HK7","v":0},{"$f":"Sécurité!HL7","v":0},{"$f":"Sécurité!HM7","v":0},{"$f":"Sécurité!HN7","v":0},{"$f":"Sécurité!HO7","v":0}]
[null,null,"Absences totales",{"$f":"Sécurité!GV8","v":0},{"$f":"Sécurité!GW8","v":0},{"$f":"Sécurité!GX8","v":0},{"$f":"Sécurité!GY8","v":0},{"$f":"Sécurité!GZ8","v":0},{"$f":"Sécurité!HA8","v":0},{"$f":"Sécurité!HB8","v":0},{"$f":"Sécurité!HC8","v":0},{"$f":"Sécurité!HD8","v":0},{"$f":"Sécurité!HE8","v":0},{"$f":"Sécurité!HF8","v":0},{"$f":"Sécurité!HG8","v":0},{"$f":"Sécurité!HH8","v":0},{"$f":"Sécurité!HI8","v":0},{"$f":"Sécurité!HJ8","v":0},{"$f":"Sécurité!HK8","v":0},{"$f":"Sécurité!HL8","v":0},{"$f":"Sécurité!HM8","v":0},{"$f":"Sécurité!HN8","v":0},{"$f":"Sécurité!HO8","v":0}]
[null,null,"Absences justifiées recevables",{"$f":"Sécurité!GV9","v":0},{"$f":"Sécurité!GW9","v":0},{"$f":"Sécurité!GX9","v":0},{"$f":"Sécurité!GY9","v":0},{"$f":"Sécurité!GZ9","v":0},{"$f":"Sécurité!HA9","v":0},{"$f":"Sécurité!HB9","v":0},{"$f":"Sécurité!HC9","v":0},{"$f":"Sécurité!HD9","v":0},{"$f":"Sécurité!HE9","v":0},{"$f":"Sécurité!HF9","v":0},{"$f":"Sécurité!HG9","v":0},{"$f":"Sécurité!HH9","v":0},{"$f":"Sécurité!HI9","v":0},{"$f":"Sécurité!HJ9","v":0},{"$f":"Sécurité!HK9","v":0},{"$f":"Sécurité!HL9","v":0},{"$f":"Sécurité!HM9","v":0},{"$f":"Sécurité!HN9","v":0},{"$f":"Sécurité!HO9","v":0}]
[null,null,"Absences justifiées non recevables",{"$f":"Sécurité!GV10","v":0},{"$f":"Sécurité!GW10","v":0},{"$f":"Sécurité!GX10","v":0},{"$f":"Sécurité!GY10","v":0},{"$f":"Sécurité!GZ10","v":0},{"$f":"Sécurité!HA10","v":0},{"$f":"Sécurité!HB10","v":0},{"$f":"Sécurité!HC10","v":0},{"$f":"Sécurité!HD10","v":0},{"$f":"Sécurité!HE10","v":0},{"$f":"Sécurité!HF10","v":0},{"$f":"Sécurité!HG10","v":0},{"$f":"Sécurité!HH10","v":0},{"$f":"Sécurité!HI10","v":0},{"$f":"Sécurité!HJ10","v":0},{"$f":"Sécurité!HK10","v":0},{"$f":"Sécurité!HL10","v":0},{"$f":"Sécurité!HM10","v":0},{"$f":"Sécurité!HN10","v":0},{"$f":"Sécurité!HO10","v":0}]
[null,null,"Absences non justifiées",{"$f":"Sécurité!GV11","v":0},{"$f":"Sécurité!GW11","v":0},{"$f":"Sécurité!GX11","v":0},{"$f":"Sécurité!GY11","v":0},{"$f":"Sécurité!GZ11","v":0},{"$f":"Sécurité!HA11","v":0},{"$f":"Sécurité!HB11","v":0},{"$f":"Sécurité!HC11","v":0},{"$f":"Sécurité!HD11","v":0},{"$f":"Sécurité!HE11","v":0},{"$f":"Sécurité!HF11","v":0},{"$f":"Sécurité!HG11","v":0},{"$f":"Sécurité!HH11","v":0},{"$f":"Sécurité!HI11","v":0},{"$f":"Sécurité!HJ11","v":0},{"$f":"Sécurité!HK11","v":0},{"$f":"Sécurité!HL11","v":0},{"$f":"Sécurité!HM11","v":0},{"$f":"Sécurité!HN11","v":0},{"$f":"Sécurité!HO11","v":0}]
[null,null,"Signalement inspection académique",{"$f":"Sécurité!GV12","v":0},{"$f":"Sécurité!GW12","v":0},{"$f":"Sécurité!GX12","v":0},{"$f":"Sécurité!GY12","v":0},{"$f":"Sécurité!GZ12","v":0},{"$f":"Sécurité!HA12","v":0},{"$f":"Sécurité!HB12","v":0},{"$f":"Sécurité!HC12","v":0},{"$f":"Sécurité!HD12","v":0},{"$f":"Sécurité!HE12","v":0},{"$f":"Sécurité!HF12","v":0},{"$f":"Sécurité!HG12","v":0},{"$f":"Sécurité!HH12","v":0},{"$f":"Sécurité!HI12","v":0},{"$f":"Sécurité!HJ12","v":0},{"$f":"Sécurité!HK12","v":0},{"$f":"Sécurité!HL12","v":0},{"$f":"Sécurité!HM12","v":0},{"$f":"Sécurité!HN12","v":0},{"$f":"Sécurité!HO12","v":0}]
[null,null,null,{"$f":"D309","v":"2016-07-01"}]
[null,null,"tableau mensuel","nb de 1/2 journées d'absence",null,null,null,null,null,null,null,null,null,"%  1/2j absences établt"]
[null,null,null,{"$f":"Sécurité!HP7","v":0},{"$f":"Sécurité!HQ7","v":0},{"$f":"Sécurité!HR7","v":0},{"$f":"Sécurité!HS7","v":0},{"$f":"Sécurité!HT7","v":0},{"$f":"Sécurité!HU7","v":0},{"$f":"Sécurité!HV7","v":0},{"$f":"Sécurité!HW7","v":0},{"$f":"Sécurité!HX7","v":0},{"$f":"Sécurité!HY7","v":0},{"$f":"Sécurité!HZ7","v":0},{"$f":"Sécurité!IA7","v":0},{"$f":"Sécurité!IB7","v":0},{"$f":"Sécurité!IC7","v":0},{"$f":"Sécurité!ID7","v":0},{"$f":"Sécurité!IE7","v":0},{"$f":"Sécurité!IF7","v":0},{"$f":"Sécurité!IG7","v":0},{"$f":"Sécurité!IH7","v":0},{"$f":"Sécurité!II7","v":0}]
[null,null,"Absences totales",{"$f":"Sécurité!HP8","v":0},{"$f":"Sécurité!HQ8","v":0},{"$f":"Sécurité!HR8","v":0},{"$f":"Sécurité!HS8","v":0},{"$f":"Sécurité!HT8","v":0},{"$f":"Sécurité!HU8","v":0},{"$f":"Sécurité!HV8","v":0},{"$f":"Sécurité!HW8","v":0},{"$f":"Sécurité!HX8","v":0},{"$f":"Sécurité!HY8","v":0},{"$f":"Sécurité!HZ8","v":0},{"$f":"Sécurité!IA8","v":0},{"$f":"Sécurité!IB8","v":0},{"$f":"Sécurité!IC8","v":0},{"$f":"Sécurité!ID8","v":0},{"$f":"Sécurité!IE8","v":0},{"$f":"Sécurité!IF8","v":0},{"$f":"Sécurité!IG8","v":0},{"$f":"Sécurité!IH8","v":0},{"$f":"Sécurité!II8","v":0}]
[null,null,"Absences justifiées recevables",{"$f":"Sécurité!HP9","v":0},{"$f":"Sécurité!HQ9","v":0},{"$f":"Sécurité!HR9","v":0},{"$f":"Sécurité!HS9","v":0},{"$f":"Sécurité!HT9","v":0},{"$f":"Sécurité!HU9","v":0},{"$f":"Sécurité!HV9","v":0},{"$f":"Sécurité!HW9","v":0},{"$f":"Sécurité!HX9","v":0},{"$f":"Sécurité!HY9","v":0},{"$f":"Sécurité!HZ9","v":0},{"$f":"Sécurité!IA9","v":0},{"$f":"Sécurité!IB9","v":0},{"$f":"Sécurité!IC9","v":0},{"$f":"Sécurité!ID9","v":0},{"$f":"Sécurité!IE9","v":0},{"$f":"Sécurité!IF9","v":0},{"$f":"Sécurité!IG9","v":0},{"$f":"Sécurité!IH9","v":0},{"$f":"Sécurité!II9","v":0}]
[null,null,"Absences justifiées non recevables",{"$f":"Sécurité!HP10","v":0},{"$f":"Sécurité!HQ10","v":0},{"$f":"Sécurité!HR10","v":0},{"$f":"Sécurité!HS10","v":0},{"$f":"Sécurité!HT10","v":0},{"$f":"Sécurité!HU10","v":0},{"$f":"Sécurité!HV10","v":0},{"$f":"Sécurité!HW10","v":0},{"$f":"Sécurité!HX10","v":0},{"$f":"Sécurité!HY10","v":0},{"$f":"Sécurité!HZ10","v":0},{"$f":"Sécurité!IA10","v":0},{"$f":"Sécurité!IB10","v":0},{"$f":"Sécurité!IC10","v":0},{"$f":"Sécurité!ID10","v":0},{"$f":"Sécurité!IE10","v":0},{"$f":"Sécurité!IF10","v":0},{"$f":"Sécurité!IG10","v":0},{"$f":"Sécurité!IH10","v":0},{"$f":"Sécurité!II10","v":0}]
[null,null,"Absences non justifiées",{"$f":"Sécurité!HP11","v":0},{"$f":"Sécurité!HQ11","v":0},{"$f":"Sécurité!HR11","v":0},{"$f":"Sécurité!HS11","v":0},{"$f":"Sécurité!HT11","v":0},{"$f":"Sécurité!HU11","v":0},{"$f":"Sécurité!HV11","v":0},{"$f":"Sécurité!HW11","v":0},{"$f":"Sécurité!HX11","v":0},{"$f":"Sécurité!HY11","v":0},{"$f":"Sécurité!HZ11","v":0},{"$f":"Sécurité!IA11","v":0},{"$f":"Sécurité!IB11","v":0},{"$f":"Sécurité!IC11","v":0},{"$f":"Sécurité!ID11","v":0},{"$f":"Sécurité!IE11","v":0},{"$f":"Sécurité!IF11","v":0},{"$f":"Sécurité!IG11","v":0},{"$f":"Sécurité!IH11","v":0},{"$f":"Sécurité!II11","v":0}]
[null,null,"Signalement inspection académique",{"$f":"Sécurité!HP12","v":0},{"$f":"Sécurité!HQ12","v":0},{"$f":"Sécurité!HR12","v":0},{"$f":"Sécurité!HS12","v":0},{"$f":"Sécurité!HT12","v":0},{"$f":"Sécurité!HU12","v":0},{"$f":"Sécurité!HV12","v":0},{"$f":"Sécurité!HW12","v":0},{"$f":"Sécurité!HX12","v":0},{"$f":"Sécurité!HY12","v":0},{"$f":"Sécurité!HZ12","v":0},{"$f":"Sécurité!IA12","v":0},{"$f":"Sécurité!IB12","v":0},{"$f":"Sécurité!IC12","v":0},{"$f":"Sécurité!ID12","v":0},{"$f":"Sécurité!IE12","v":0},{"$f":"Sécurité!IF12","v":0},{"$f":"Sécurité!IG12","v":0},{"$f":"Sécurité!IH12","v":0},{"$f":"Sécurité!II12","v":0}]
[]
["Etre élève","Ponctualité"]
[]
[null,null,null,{"$f":"Identification!$A$29","v":"2015-08-01"}]
[null,null,"tableau mensuel","nb de retards",null,null,null,null,null,null,null,null,null,"%  retards établissement"]
[null,null,null,{"$f":"Sécurité!D19","v":0},{"$f":"Sécurité!E19","v":0},{"$f":"Sécurité!F19","v":0},{"$f":"Sécurité!G19","v":0},{"$f":"Sécurité!H19","v":0},{"$f":"Sécurité!I19","v":0},{"$f":"Sécurité!J19","v":0},{"$f":"Sécurité!K19","v":0},{"$f":"Sécurité!L19","v":0},{"$f":"Sécurité!M19","v":0},{"$f":"Sécurité!N19","v":0},{"$f":"Sécurité!O19","v":0},{"$f":"Sécurité!P19","v":0},{"$f":"Sécurité!Q19","v":0},{"$f":"Sécurité!R19","v":0},{"$f":"Sécurité!S19","v":0},{"$f":"Sécurité!T19","v":0},{"$f":"Sécurité!U19","v":0},{"$f":"Sécurité!V19","v":0},{"$f":"Sécurité!W19","v":0}]
[null,null,"Retards total",{"$f":"Sécurité!D20","v":0},{"$f":"Sécurité!E20","v":0},{"$f":"Sécurité!F20","v":0},{"$f":"Sécurité!G20","v":0},{"$f":"Sécurité!H20","v":0},{"$f":"Sécurité!I20","v":0},{"$f":"Sécurité!J20","v":0},{"$f":"Sécurité!K20","v":0},{"$f":"Sécurité!L20","v":0},{"$f":"Sécurité!M20","v":0},{"$f":"Sécurité!N20","v":0},{"$f":"Sécurité!O20","v":0},{"$f":"Sécurité!P20","v":0},{"$f":"Sécurité!Q20","v":0},{"$f":"Sécurité!R20","v":0},{"$f":"Sécurité!S20","v":0},{"$f":"Sécurité!T20","v":0},{"$f":"Sécurité!U20","v":0},{"$f":"Sécurité!V20","v":0},{"$f":"Sécurité!W20","v":0}]
[null,null,"Retards justifiés recevables",{"$f":"Sécurité!D21","v":0},{"$f":"Sécurité!E21","v":0},{"$f":"Sécurité!F21","v":0},{"$f":"Sécurité!G21","v":0},{"$f":"Sécurité!H21","v":0},{"$f":"Sécurité!I21","v":0},{"$f":"Sécurité!J21","v":0},{"$f":"Sécurité!K21","v":0},{"$f":"Sécurité!L21","v":0},{"$f":"Sécurité!M21","v":0},{"$f":"Sécurité!N21","v":0},{"$f":"Sécurité!O21","v":0},{"$f":"Sécurité!P21","v":0},{"$f":"Sécurité!Q21","v":0},{"$f":"Sécurité!R21","v":0},{"$f":"Sécurité!S21","v":0},{"$f":"Sécurité!T21","v":0},{"$f":"Sécurité!U21","v":0},{"$f":"Sécurité!V21","v":0},{"$f":"Sécurité!W21","v":0}]
[null,null,"Retards justifiés non recevables",{"$f":"Sécurité!D22","v":0},{"$f":"Sécurité!E22","v":0},{"$f":"Sécurité!F22","v":0},{"$f":"Sécurité!G22","v":0},{"$f":"Sécurité!H22","v":0},{"$f":"Sécurité!I22","v":0},{"$f":"Sécurité!J22","v":0},{"$f":"Sécurité!K22","v":0},{"$f":"Sécurité!L22","v":0},{"$f":"Sécurité!M22","v":0},{"$f":"Sécurité!N22","v":0},{"$f":"Sécurité!O22","v":0},{"$f":"Sécurité!P22","v":0},{"$f":"Sécurité!Q22","v":0},{"$f":"Sécurité!R22","v":0},{"$f":"Sécurité!S22","v":0},{"$f":"Sécurité!T22","v":0},{"$f":"Sécurité!U22","v":0},{"$f":"Sécurité!V22","v":0},{"$f":"Sécurité!W22","v":0}]
[null,null,"Retards non justifiés",{"$f":"Sécurité!D23","v":0},{"$f":"Sécurité!E23","v":0},{"$f":"Sécurité!F23","v":0},{"$f":"Sécurité!G23","v":0},{"$f":"Sécurité!H23","v":0},{"$f":"Sécurité!I23","v":0},{"$f":"Sécurité!J23","v":0},{"$f":"Sécurité!K23","v":0},{"$f":"Sécurité!L23","v":0},{"$f":"Sécurité!M23","v":0},{"$f":"Sécurité!N23","v":0},{"$f":"Sécurité!O23","v":0},{"$f":"Sécurité!P23","v":0},{"$f":"Sécurité!Q23","v":0},{"$f":"Sécurité!R23","v":0},{"$f":"Sécurité!S23","v":0},{"$f":"Sécurité!T23","v":0},{"$f":"Sécurité!U23","v":0},{"$f":"Sécurité!V23","v":0},{"$f":"Sécurité!W23","v":0}]
[null,null,null,{"$f":"Identification!$A$30","v":"2015-09-01"}]
[null,null,"tableau mensuel","nb de retards",null,null,null,null,null,null,null,null,null,"%  retards établissement"]
[null,null,null,{"$f":"Sécurité!X19","v":0},{"$f":"Sécurité!Y19","v":0},{"$f":"Sécurité!Z19","v":0},{"$f":"Sécurité!AA19","v":0},{"$f":"Sécurité!AB19","v":0},{"$f":"Sécurité!AC19","v":0},{"$f":"Sécurité!AD19","v":0},{"$f":"Sécurité!AE19","v":0},{"$f":"Sécurité!AF19","v":0},{"$f":"Sécurité!AG19","v":0},{"$f":"Sécurité!AH19","v":0},{"$f":"Sécurité!AI19","v":0},{"$f":"Sécurité!AJ19","v":0},{"$f":"Sécurité!AK19","v":0},{"$f":"Sécurité!AL19","v":0},{"$f":"Sécurité!AM19","v":0},{"$f":"Sécurité!AN19","v":0},{"$f":"Sécurité!AO19","v":0},{"$f":"Sécurité!AP19","v":0},{"$f":"Sécurité!AQ19","v":0}]
[null,null,"Retards total",{"$f":"Sécurité!X20","v":0},{"$f":"Sécurité!Y20","v":0},{"$f":"Sécurité!Z20","v":0},{"$f":"Sécurité!AA20","v":0},{"$f":"Sécurité!AB20","v":0},{"$f":"Sécurité!AC20","v":0},{"$f":"Sécurité!AD20","v":0},{"$f":"Sécurité!AE20","v":0},{"$f":"Sécurité!AF20","v":0},{"$f":"Sécurité!AG20","v":0},{"$f":"Sécurité!AH20","v":0},{"$f":"Sécurité!AI20","v":0},{"$f":"Sécurité!AJ20","v":0},{"$f":"Sécurité!AK20","v":0},{"$f":"Sécurité!AL20","v":0},{"$f":"Sécurité!AM20","v":0},{"$f":"Sécurité!AN20","v":0},{"$f":"Sécurité!AO20","v":0},{"$f":"Sécurité!AP20","v":0},{"$f":"Sécurité!AQ20","v":0}]
[null,null,"Retards justifiés recevables",{"$f":"Sécurité!X21","v":0},{"$f":"Sécurité!Y21","v":0},{"$f":"Sécurité!Z21","v":0},{"$f":"Sécurité!AA21","v":0},{"$f":"Sécurité!AB21","v":0},{"$f":"Sécurité!AC21","v":0},{"$f":"Sécurité!AD21","v":0},{"$f":"Sécurité!AE21","v":0},{"$f":"Sécurité!AF21","v":0},{"$f":"Sécurité!AG21","v":0},{"$f":"Sécurité!AH21","v":0},{"$f":"Sécurité!AI21","v":0},{"$f":"Sécurité!AJ21","v":0},{"$f":"Sécurité!AK21","v":0},{"$f":"Sécurité!AL21","v":0},{"$f":"Sécurité!AM21","v":0},{"$f":"Sécurité!AN21","v":0},{"$f":"Sécurité!AO21","v":0},{"$f":"Sécurité!AP21","v":0},{"$f":"Sécurité!AQ21","v":0}]
[null,null,"Retards justifiés non recevables",{"$f":"Sécurité!X22","v":0},{"$f":"Sécurité!Y22","v":0},{"$f":"Sécurité!Z22","v":0},{"$f":"Sécurité!AA22","v":0},{"$f":"Sécurité!AB22","v":0},{"$f":"Sécurité!AC22","v":0},{"$f":"Sécurité!AD22","v":0},{"$f":"Sécurité!AE22","v":0},{"$f":"Sécurité!AF22","v":0},{"$f":"Sécurité!AG22","v":0},{"$f":"Sécurité!AH22","v":0},{"$f":"Sécurité!AI22","v":0},{"$f":"Sécurité!AJ22","v":0},{"$f":"Sécurité!AK22","v":0},{"$f":"Sécurité!AL22","v":0},{"$f":"Sécurité!AM22","v":0},{"$f":"Sécurité!AN22","v":0},{"$f":"Sécurité!AO22","v":0},{"$f":"Sécurité!AP22","v":0},{"$f":"Sécurité!AQ22","v":0}]
[null,null,"Retards non justifiés",{"$f":"Sécurité!X23","v":0},{"$f":"Sécurité!Y23","v":0},{"$f":"Sécurité!Z23","v":0},{"$f":"Sécurité!AA23","v":0},{"$f":"Sécurité!AB23","v":0},{"$f":"Sécurité!AC23","v":0},{"$f":"Sécurité!AD23","v":0},{"$f":"Sécurité!AE23","v":0},{"$f":"Sécurité!AF23","v":0},{"$f":"Sécurité!AG23","v":0},{"$f":"Sécurité!AH23","v":0},{"$f":"Sécurité!AI23","v":0},{"$f":"Sécurité!AJ23","v":0},{"$f":"Sécurité!AK23","v":0},{"$f":"Sécurité!AL23","v":0},{"$f":"Sécurité!AM23","v":0},{"$f":"Sécurité!AN23","v":0},{"$f":"Sécurité!AO23","v":0},{"$f":"Sécurité!AP23","v":0},{"$f":"Sécurité!AQ23","v":0}]
[null,null,null,{"$f":"Identification!$A$31","v":"2015-10-01"}]
[null,null,"tableau mensuel","nb de retards",null,null,null,null,null,null,null,null,null,"%  retards établissement"]
[null,null,null,{"$f":"Sécurité!AR19","v":0},{"$f":"Sécurité!AS19","v":0},{"$f":"Sécurité!AT19","v":0},{"$f":"Sécurité!AU19","v":0},{"$f":"Sécurité!AV19","v":0},{"$f":"Sécurité!AW19","v":0},{"$f":"Sécurité!AX19","v":0},{"$f":"Sécurité!AY19","v":0},{"$f":"Sécurité!AZ19","v":0},{"$f":"Sécurité!BA19","v":0},{"$f":"Sécurité!BB19","v":0},{"$f":"Sécurité!BC19","v":0},{"$f":"Sécurité!BD19","v":0},{"$f":"Sécurité!BE19","v":0},{"$f":"Sécurité!BF19","v":0},{"$f":"Sécurité!BG19","v":0},{"$f":"Sécurité!BH19","v":0},{"$f":"Sécurité!BI19","v":0},{"$f":"Sécurité!BJ19","v":0},{"$f":"Sécurité!BK19","v":0}]
[null,null,"Retards total",{"$f":"Sécurité!AR20","v":0},{"$f":"Sécurité!AS20","v":0},{"$f":"Sécurité!AT20","v":0},{"$f":"Sécurité!AU20","v":0},{"$f":"Sécurité!AV20","v":0},{"$f":"Sécurité!AW20","v":0},{"$f":"Sécurité!AX20","v":0},{"$f":"Sécurité!AY20","v":0},{"$f":"Sécurité!AZ20","v":0},{"$f":"Sécurité!BA20","v":0},{"$f":"Sécurité!BB20","v":0},{"$f":"Sécurité!BC20","v":0},{"$f":"Sécurité!BD20","v":0},{"$f":"Sécurité!BE20","v":0},{"$f":"Sécurité!BF20","v":0},{"$f":"Sécurité!BG20","v":0},{"$f":"Sécurité!BH20","v":0},{"$f":"Sécurité!BI20","v":0},{"$f":"Sécurité!BJ20","v":0},{"$f":"Sécurité!BK20","v":0}]
[null,null,"Retards justifiés recevables",{"$f":"Sécurité!AR21","v":0},{"$f":"Sécurité!AS21","v":0},{"$f":"Sécurité!AT21","v":0},{"$f":"Sécurité!AU21","v":0},{"$f":"Sécurité!AV21","v":0},{"$f":"Sécurité!AW21","v":0},{"$f":"Sécurité!AX21","v":0},{"$f":"Sécurité!AY21","v":0},{"$f":"Sécurité!AZ21","v":0},{"$f":"Sécurité!BA21","v":0},{"$f":"Sécurité!BB21","v":0},{"$f":"Sécurité!BC21","v":0},{"$f":"Sécurité!BD21","v":0},{"$f":"Sécurité!BE21","v":0},{"$f":"Sécurité!BF21","v":0},{"$f":"Sécurité!BG21","v":0},{"$f":"Sécurité!BH21","v":0},{"$f":"Sécurité!BI21","v":0},{"$f":"Sécurité!BJ21","v":0},{"$f":"Sécurité!BK21","v":0}]
[null,null,"Retards justifiés non recevables",{"$f":"Sécurité!AR22","v":0},{"$f":"Sécurité!AS22","v":0},{"$f":"Sécurité!AT22","v":0},{"$f":"Sécurité!AU22","v":0},{"$f":"Sécurité!AV22","v":0},{"$f":"Sécurité!AW22","v":0},{"$f":"Sécurité!AX22","v":0},{"$f":"Sécurité!AY22","v":0},{"$f":"Sécurité!AZ22","v":0},{"$f":"Sécurité!BA22","v":0},{"$f":"Sécurité!BB22","v":0},{"$f":"Sécurité!BC22","v":0},{"$f":"Sécurité!BD22","v":0},{"$f":"Sécurité!BE22","v":0},{"$f":"Sécurité!BF22","v":0},{"$f":"Sécurité!BG22","v":0},{"$f":"Sécurité!BH22","v":0},{"$f":"Sécurité!BI22","v":0},{"$f":"Sécurité!BJ22","v":0},{"$f":"Sécurité!BK22","v":0}]
[null,null,"Retards non justifiés",{"$f":"Sécurité!AR23","v":0},{"$f":"Sécurité!AS23","v":0},{"$f":"Sécurité!AT23","v":0},{"$f":"Sécurité!AU23","v":0},{"$f":"Sécurité!AV23","v":0},{"$f":"Sécurité!AW23","v":0},{"$f":"Sécurité!AX23","v":0},{"$f":"Sécurité!AY23","v":0},{"$f":"Sécurité!AZ23","v":0},{"$f":"Sécurité!BA23","v":0},{"$f":"Sécurité!BB23","v":0},{"$f":"Sécurité!BC23","v":0},{"$f":"Sécurité!BD23","v":0},{"$f":"Sécurité!BE23","v":0},{"$f":"Sécurité!BF23","v":0},{"$f":"Sécurité!BG23","v":0},{"$f":"Sécurité!BH23","v":0},{"$f":"Sécurité!BI23","v":0},{"$f":"Sécurité!BJ23","v":0},{"$f":"Sécurité!BK23","v":0}]
[null,null,null,{"$f":"Identification!$A$32","v":"2015-11-01"}]
[null,null,"tableau mensuel","nb de retards",null,null,null,null,null,null,null,null,null,"%  retards établissement"]
[null,null,null,{"$f":"Sécurité!BL19","v":0},{"$f":"Sécurité!BM19","v":0},{"$f":"Sécurité!BN19","v":0},{"$f":"Sécurité!BO19","v":0},{"$f":"Sécurité!BP19","v":0},{"$f":"Sécurité!BQ19","v":0},{"$f":"Sécurité!BR19","v":0},{"$f":"Sécurité!BS19","v":0},{"$f":"Sécurité!BT19","v":0},{"$f":"Sécurité!BU19","v":0},{"$f":"Sécurité!BV19","v":0},{"$f":"Sécurité!BW19","v":0},{"$f":"Sécurité!BX19","v":0},{"$f":"Sécurité!BY19","v":0},{"$f":"Sécurité!BZ19","v":0},{"$f":"Sécurité!CA19","v":0},{"$f":"Sécurité!CB19","v":0},{"$f":"Sécurité!CC19","v":0},{"$f":"Sécurité!CD19","v":0},{"$f":"Sécurité!CE19","v":0}]
[null,null,"Retards total",{"$f":"Sécurité!BL20","v":0},{"$f":"Sécurité!BM20","v":0},{"$f":"Sécurité!BN20","v":0},{"$f":"Sécurité!BO20","v":0},{"$f":"Sécurité!BP20","v":0},{"$f":"Sécurité!BQ20","v":0},{"$f":"Sécurité!BR20","v":0},{"$f":"Sécurité!BS20","v":0},{"$f":"Sécurité!BT20","v":0},{"$f":"Sécurité!BU20","v":0},{"$f":"Sécurité!BV20","v":0},{"$f":"Sécurité!BW20","v":0},{"$f":"Sécurité!BX20","v":0},{"$f":"Sécurité!BY20","v":0},{"$f":"Sécurité!BZ20","v":0},{"$f":"Sécurité!CA20","v":0},{"$f":"Sécurité!CB20","v":0},{"$f":"Sécurité!CC20","v":0},{"$f":"Sécurité!CD20","v":0},{"$f":"Sécurité!CE20","v":0}]
[null,null,"Retards justifiés recevables",{"$f":"Sécurité!BL21","v":0},{"$f":"Sécurité!BM21","v":0},{"$f":"Sécurité!BN21","v":0},{"$f":"Sécurité!BO21","v":0},{"$f":"Sécurité!BP21","v":0},{"$f":"Sécurité!BQ21","v":0},{"$f":"Sécurité!BR21","v":0},{"$f":"Sécurité!BS21","v":0},{"$f":"Sécurité!BT21","v":0},{"$f":"Sécurité!BU21","v":0},{"$f":"Sécurité!BV21","v":0},{"$f":"Sécurité!BW21","v":0},{"$f":"Sécurité!BX21","v":0},{"$f":"Sécurité!BY21","v":0},{"$f":"Sécurité!BZ21","v":0},{"$f":"Sécurité!CA21","v":0},{"$f":"Sécurité!CB21","v":0},{"$f":"Sécurité!CC21","v":0},{"$f":"Sécurité!CD21","v":0},{"$f":"Sécurité!CE21","v":0}]
[null,null,"Retards justifiés non recevables",{"$f":"Sécurité!BL22","v":0},{"$f":"Sécurité!BM22","v":0},{"$f":"Sécurité!BN22","v":0},{"$f":"Sécurité!BO22","v":0},{"$f":"Sécurité!BP22","v":0},{"$f":"Sécurité!BQ22","v":0},{"$f":"Sécurité!BR22","v":0},{"$f":"Sécurité!BS22","v":0},{"$f":"Sécurité!BT22","v":0},{"$f":"Sécurité!BU22","v":0},{"$f":"Sécurité!BV22","v":0},{"$f":"Sécurité!BW22","v":0},{"$f":"Sécurité!BX22","v":0},{"$f":"Sécurité!BY22","v":0},{"$f":"Sécurité!BZ22","v":0},{"$f":"Sécurité!CA22","v":0},{"$f":"Sécurité!CB22","v":0},{"$f":"Sécurité!CC22","v":0},{"$f":"Sécurité!CD22","v":0},{"$f":"Sécurité!CE22","v":0}]
[null,null,"Retards non justifiés",{"$f":"Sécurité!BL23","v":0},{"$f":"Sécurité!BM23","v":0},{"$f":"Sécurité!BN23","v":0},{"$f":"Sécurité!BO23","v":0},{"$f":"Sécurité!BP23","v":0},{"$f":"Sécurité!BQ23","v":0},{"$f":"Sécurité!BR23","v":0},{"$f":"Sécurité!BS23","v":0},{"$f":"Sécurité!BT23","v":0},{"$f":"Sécurité!BU23","v":0},{"$f":"Sécurité!BV23","v":0},{"$f":"Sécurité!BW23","v":0},{"$f":"Sécurité!BX23","v":0},{"$f":"Sécurité!BY23","v":0},{"$f":"Sécurité!BZ23","v":0},{"$f":"Sécurité!CA23","v":0},{"$f":"Sécurité!CB23","v":0},{"$f":"Sécurité!CC23","v":0},{"$f":"Sécurité!CD23","v":0},{"$f":"Sécurité!CE23","v":0}]
[null,null,null,{"$f":"Identification!$A$33","v":"2015-12-01"}]
[null,null,"tableau mensuel","nb de retards",null,null,null,null,null,null,null,null,null,"%  retards établissement"]
[null,null,null,{"$f":"Sécurité!CF19","v":0},{"$f":"Sécurité!CG19","v":0},{"$f":"Sécurité!CH19","v":0},{"$f":"Sécurité!CI19","v":0},{"$f":"Sécurité!CJ19","v":0},{"$f":"Sécurité!CK19","v":0},{"$f":"Sécurité!CL19","v":0},{"$f":"Sécurité!CM19","v":0},{"$f":"Sécurité!CN19","v":0},{"$f":"Sécurité!CO19","v":0},{"$f":"Sécurité!CP19","v":0},{"$f":"Sécurité!CQ19","v":0},{"$f":"Sécurité!CR19","v":0},{"$f":"Sécurité!CS19","v":0},{"$f":"Sécurité!CT19","v":0},{"$f":"Sécurité!CU19","v":0},{"$f":"Sécurité!CV19","v":0},{"$f":"Sécurité!CW19","v":0},{"$f":"Sécurité!CX19","v":0},{"$f":"Sécurité!CY19","v":0}]
[null,null,"Retards total",{"$f":"Sécurité!CF20","v":0},{"$f":"Sécurité!CG20","v":0},{"$f":"Sécurité!CH20","v":0},{"$f":"Sécurité!CI20","v":0},{"$f":"Sécurité!CJ20","v":0},{"$f":"Sécurité!CK20","v":0},{"$f":"Sécurité!CL20","v":0},{"$f":"Sécurité!CM20","v":0},{"$f":"Sécurité!CN20","v":0},{"$f":"Sécurité!CO20","v":0},{"$f":"Sécurité!CP20","v":0},{"$f":"Sécurité!CQ20","v":0},{"$f":"Sécurité!CR20","v":0},{"$f":"Sécurité!CS20","v":0},{"$f":"Sécurité!CT20","v":0},{"$f":"Sécurité!CU20","v":0},{"$f":"Sécurité!CV20","v":0},{"$f":"Sécurité!CW20","v":0},{"$f":"Sécurité!CX20","v":0},{"$f":"Sécurité!CY20","v":0}]
[null,null,"Retards justifiés recevables",{"$f":"Sécurité!CF21","v":0},{"$f":"Sécurité!CG21","v":0},{"$f":"Sécurité!CH21","v":0},{"$f":"Sécurité!CI21","v":0},{"$f":"Sécurité!CJ21","v":0},{"$f":"Sécurité!CK21","v":0},{"$f":"Sécurité!CL21","v":0},{"$f":"Sécurité!CM21","v":0},{"$f":"Sécurité!CN21","v":0},{"$f":"Sécurité!CO21","v":0},{"$f":"Sécurité!CP21","v":0},{"$f":"Sécurité!CQ21","v":0},{"$f":"Sécurité!CR21","v":0},{"$f":"Sécurité!CS21","v":0},{"$f":"Sécurité!CT21","v":0},{"$f":"Sécurité!CU21","v":0},{"$f":"Sécurité!CV21","v":0},{"$f":"Sécurité!CW21","v":0},{"$f":"Sécurité!CX21","v":0},{"$f":"Sécurité!CY21","v":0}]
[null,null,"Retards justifiés non recevables",{"$f":"Sécurité!CF22","v":0},{"$f":"Sécurité!CG22","v":0},{"$f":"Sécurité!CH22","v":0},{"$f":"Sécurité!CI22","v":0},{"$f":"Sécurité!CJ22","v":0},{"$f":"Sécurité!CK22","v":0},{"$f":"Sécurité!CL22","v":0},{"$f":"Sécurité!CM22","v":0},{"$f":"Sécurité!CN22","v":0},{"$f":"Sécurité!CO22","v":0},{"$f":"Sécurité!CP22","v":0},{"$f":"Sécurité!CQ22","v":0},{"$f":"Sécurité!CR22","v":0},{"$f":"Sécurité!CS22","v":0},{"$f":"Sécurité!CT22","v":0},{"$f":"Sécurité!CU22","v":0},{"$f":"Sécurité!CV22","v":0},{"$f":"Sécurité!CW22","v":0},{"$f":"Sécurité!CX22","v":0},{"$f":"Sécurité!CY22","v":0}]
[null,null,"Retards non justifiés",{"$f":"Sécurité!CF23","v":0},{"$f":"Sécurité!CG23","v":0},{"$f":"Sécurité!CH23","v":0},{"$f":"Sécurité!CI23","v":0},{"$f":"Sécurité!CJ23","v":0},{"$f":"Sécurité!CK23","v":0},{"$f":"Sécurité!CL23","v":0},{"$f":"Sécurité!CM23","v":0},{"$f":"Sécurité!CN23","v":0},{"$f":"Sécurité!CO23","v":0},{"$f":"Sécurité!CP23","v":0},{"$f":"Sécurité!CQ23","v":0},{"$f":"Sécurité!CR23","v":0},{"$f":"Sécurité!CS23","v":0},{"$f":"Sécurité!CT23","v":0},{"$f":"Sécurité!CU23","v":0},{"$f":"Sécurité!CV23","v":0},{"$f":"Sécurité!CW23","v":0},{"$f":"Sécurité!CX23","v":0},{"$f":"Sécurité!CY23","v":0}]
[null,null,null,{"$f":"Identification!$A$34","v":"2016-01-01"}]
[null,null,"tableau mensuel","nb de retards",null,null,null,null,null,null,null,null,null,"%  retards établissement"]
[null,null,null,{"$f":"Sécurité!CZ19","v":0},{"$f":"Sécurité!DA19","v":0},{"$f":"Sécurité!DB19","v":0},{"$f":"Sécurité!DC19","v":0},{"$f":"Sécurité!DD19","v":0},{"$f":"Sécurité!DE19","v":0},{"$f":"Sécurité!DF19","v":0},{"$f":"Sécurité!DG19","v":0},{"$f":"Sécurité!DH19","v":0},{"$f":"Sécurité!DI19","v":0},{"$f":"Sécurité!DJ19","v":0},{"$f":"Sécurité!DK19","v":0},{"$f":"Sécurité!DL19","v":0},{"$f":"Sécurité!DM19","v":0},{"$f":"Sécurité!DN19","v":0},{"$f":"Sécurité!DO19","v":0},{"$f":"Sécurité!DP19","v":0},{"$f":"Sécurité!DQ19","v":0},{"$f":"Sécurité!DR19","v":0},{"$f":"Sécurité!DS19","v":0}]
[null,null,"Retards total",{"$f":"Sécurité!CZ20","v":0},{"$f":"Sécurité!DA20","v":0},{"$f":"Sécurité!DB20","v":0},{"$f":"Sécurité!DC20","v":0},{"$f":"Sécurité!DD20","v":0},{"$f":"Sécurité!DE20","v":0},{"$f":"Sécurité!DF20","v":0},{"$f":"Sécurité!DG20","v":0},{"$f":"Sécurité!DH20","v":0},{"$f":"Sécurité!DI20","v":0},{"$f":"Sécurité!DJ20","v":0},{"$f":"Sécurité!DK20","v":0},{"$f":"Sécurité!DL20","v":0},{"$f":"Sécurité!DM20","v":0},{"$f":"Sécurité!DN20","v":0},{"$f":"Sécurité!DO20","v":0},{"$f":"Sécurité!DP20","v":0},{"$f":"Sécurité!DQ20","v":0},{"$f":"Sécurité!DR20","v":0},{"$f":"Sécurité!DS20","v":0}]
[null,null,"Retards justifiés recevables",{"$f":"Sécurité!CZ21","v":0},{"$f":"Sécurité!DA21","v":0},{"$f":"Sécurité!DB21","v":0},{"$f":"Sécurité!DC21","v":0},{"$f":"Sécurité!DD21","v":0},{"$f":"Sécurité!DE21","v":0},{"$f":"Sécurité!DF21","v":0},{"$f":"Sécurité!DG21","v":0},{"$f":"Sécurité!DH21","v":0},{"$f":"Sécurité!DI21","v":0},{"$f":"Sécurité!DJ21","v":0},{"$f":"Sécurité!DK21","v":0},{"$f":"Sécurité!DL21","v":0},{"$f":"Sécurité!DM21","v":0},{"$f":"Sécurité!DN21","v":0},{"$f":"Sécurité!DO21","v":0},{"$f":"Sécurité!DP21","v":0},{"$f":"Sécurité!DQ21","v":0},{"$f":"Sécurité!DR21","v":0},{"$f":"Sécurité!DS21","v":0}]
[null,null,"Retards justifiés non recevables",{"$f":"Sécurité!CZ22","v":0},{"$f":"Sécurité!DA22","v":0},{"$f":"Sécurité!DB22","v":0},{"$f":"Sécurité!DC22","v":0},{"$f":"Sécurité!DD22","v":0},{"$f":"Sécurité!DE22","v":0},{"$f":"Sécurité!DF22","v":0},{"$f":"Sécurité!DG22","v":0},{"$f":"Sécurité!DH22","v":0},{"$f":"Sécurité!DI22","v":0},{"$f":"Sécurité!DJ22","v":0},{"$f":"Sécurité!DK22","v":0},{"$f":"Sécurité!DL22","v":0},{"$f":"Sécurité!DM22","v":0},{"$f":"Sécurité!DN22","v":0},{"$f":"Sécurité!DO22","v":0},{"$f":"Sécurité!DP22","v":0},{"$f":"Sécurité!DQ22","v":0},{"$f":"Sécurité!DR22","v":0},{"$f":"Sécurité!DS22","v":0}]
[null,null,"Retards non justifiés",{"$f":"Sécurité!CZ23","v":0},{"$f":"Sécurité!DA23","v":0},{"$f":"Sécurité!DB23","v":0},{"$f":"Sécurité!DC23","v":0},{"$f":"Sécurité!DD23","v":0},{"$f":"Sécurité!DE23","v":0},{"$f":"Sécurité!DF23","v":0},{"$f":"Sécurité!DG23","v":0},{"$f":"Sécurité!DH23","v":0},{"$f":"Sécurité!DI23","v":0},{"$f":"Sécurité!DJ23","v":0},{"$f":"Sécurité!DK23","v":0},{"$f":"Sécurité!DL23","v":0},{"$f":"Sécurité!DM23","v":0},{"$f":"Sécurité!DN23","v":0},{"$f":"Sécurité!DO23","v":0},{"$f":"Sécurité!DP23","v":0},{"$f":"Sécurité!DQ23","v":0},{"$f":"Sécurité!DR23","v":0},{"$f":"Sécurité!DS23","v":0}]
[null,null,null,{"$f":"Identification!$A$35","v":"2016-02-01"}]
[null,null,"tableau mensuel","nb de retards",null,null,null,null,null,null,null,null,null,"%  retards établissement"]
[null,null,null,{"$f":"Sécurité!DT19","v":0},{"$f":"Sécurité!DU19","v":0},{"$f":"Sécurité!DV19","v":0},{"$f":"Sécurité!DW19","v":0},{"$f":"Sécurité!DX19","v":0},{"$f":"Sécurité!DY19","v":0},{"$f":"Sécurité!DZ19","v":0},{"$f":"Sécurité!EA19","v":0},{"$f":"Sécurité!EB19","v":0},{"$f":"Sécurité!EC19","v":0},{"$f":"Sécurité!ED19","v":0},{"$f":"Sécurité!EE19","v":0},{"$f":"Sécurité!EF19","v":0},{"$f":"Sécurité!EG19","v":0},{"$f":"Sécurité!EH19","v":0},{"$f":"Sécurité!EI19","v":0},{"$f":"Sécurité!EJ19","v":0},{"$f":"Sécurité!EK19","v":0},{"$f":"Sécurité!EL19","v":0},{"$f":"Sécurité!EM19","v":0}]
[null,null,"Retards total",{"$f":"Sécurité!DT20","v":0},{"$f":"Sécurité!DU20","v":0},{"$f":"Sécurité!DV20","v":0},{"$f":"Sécurité!DW20","v":0},{"$f":"Sécurité!DX20","v":0},{"$f":"Sécurité!DY20","v":0},{"$f":"Sécurité!DZ20","v":0},{"$f":"Sécurité!EA20","v":0},{"$f":"Sécurité!EB20","v":0},{"$f":"Sécurité!EC20","v":0},{"$f":"Sécurité!ED20","v":0},{"$f":"Sécurité!EE20","v":0},{"$f":"Sécurité!EF20","v":0},{"$f":"Sécurité!EG20","v":0},{"$f":"Sécurité!EH20","v":0},{"$f":"Sécurité!EI20","v":0},{"$f":"Sécurité!EJ20","v":0},{"$f":"Sécurité!EK20","v":0},{"$f":"Sécurité!EL20","v":0},{"$f":"Sécurité!EM20","v":0}]
[null,null,"Retards justifiés recevables",{"$f":"Sécurité!DT21","v":0},{"$f":"Sécurité!DU21","v":0},{"$f":"Sécurité!DV21","v":0},{"$f":"Sécurité!DW21","v":0},{"$f":"Sécurité!DX21","v":0},{"$f":"Sécurité!DY21","v":0},{"$f":"Sécurité!DZ21","v":0},{"$f":"Sécurité!EA21","v":0},{"$f":"Sécurité!EB21","v":0},{"$f":"Sécurité!EC21","v":0},{"$f":"Sécurité!ED21","v":0},{"$f":"Sécurité!EE21","v":0},{"$f":"Sécurité!EF21","v":0},{"$f":"Sécurité!EG21","v":0},{"$f":"Sécurité!EH21","v":0},{"$f":"Sécurité!EI21","v":0},{"$f":"Sécurité!EJ21","v":0},{"$f":"Sécurité!EK21","v":0},{"$f":"Sécurité!EL21","v":0},{"$f":"Sécurité!EM21","v":0}]
[null,null,"Retards justifiés non recevables",{"$f":"Sécurité!DT22","v":0},{"$f":"Sécurité!DU22","v":0},{"$f":"Sécurité!DV22","v":0},{"$f":"Sécurité!DW22","v":0},{"$f":"Sécurité!DX22","v":0},{"$f":"Sécurité!DY22","v":0},{"$f":"Sécurité!DZ22","v":0},{"$f":"Sécurité!EA22","v":0},{"$f":"Sécurité!EB22","v":0},{"$f":"Sécurité!EC22","v":0},{"$f":"Sécurité!ED22","v":0},{"$f":"Sécurité!EE22","v":0},{"$f":"Sécurité!EF22","v":0},{"$f":"Sécurité!EG22","v":0},{"$f":"Sécurité!EH22","v":0},{"$f":"Sécurité!EI22","v":0},{"$f":"Sécurité!EJ22","v":0},{"$f":"Sécurité!EK22","v":0},{"$f":"Sécurité!EL22","v":0},{"$f":"Sécurité!EM22","v":0}]
[null,null,"Retards non justifiés",{"$f":"Sécurité!DT23","v":0},{"$f":"Sécurité!DU23","v":0},{"$f":"Sécurité!DV23","v":0},{"$f":"Sécurité!DW23","v":0},{"$f":"Sécurité!DX23","v":0},{"$f":"Sécurité!DY23","v":0},{"$f":"Sécurité!DZ23","v":0},{"$f":"Sécurité!EA23","v":0},{"$f":"Sécurité!EB23","v":0},{"$f":"Sécurité!EC23","v":0},{"$f":"Sécurité!ED23","v":0},{"$f":"Sécurité!EE23","v":0},{"$f":"Sécurité!EF23","v":0},{"$f":"Sécurité!EG23","v":0},{"$f":"Sécurité!EH23","v":0},{"$f":"Sécurité!EI23","v":0},{"$f":"Sécurité!EJ23","v":0},{"$f":"Sécurité!EK23","v":0},{"$f":"Sécurité!EL23","v":0},{"$f":"Sécurité!EM23","v":0}]
[]
[]
[]
[]
[]
[]
[]
[]
[]
[]
[]
[]
[]
[]
[]
[]
[]
[]
[]
[]
[]
[]
[]
[]
[]
[]
[]
[]
[]
[]
[null,"Ponctualité"]
[]
[null,null,null,{"$f":"Identification!$A$36","v":"2016-03-01"}]
[null,null,"tableau mensuel","nb de retards",null,null,null,null,null,null,null,null,null,"%  retards établissement"]
[null,null,null,{"$f":"Sécurité!EN19","v":0},{"$f":"Sécurité!EO19","v":0},{"$f":"Sécurité!EP19","v":0},{"$f":"Sécurité!EQ19","v":0},{"$f":"Sécurité!ER19","v":0},{"$f":"Sécurité!ES19","v":0},{"$f":"Sécurité!ET19","v":0},{"$f":"Sécurité!EU19","v":0},{"$f":"Sécurité!EV19","v":0},{"$f":"Sécurité!EW19","v":0},{"$f":"Sécurité!EX19","v":0},{"$f":"Sécurité!EY19","v":0},{"$f":"Sécurité!EZ19","v":0},{"$f":"Sécurité!FA19","v":0},{"$f":"Sécurité!FB19","v":0},{"$f":"Sécurité!FC19","v":0},{"$f":"Sécurité!FD19","v":0},{"$f":"Sécurité!FE19","v":0},{"$f":"Sécurité!FF19","v":0},{"$f":"Sécurité!FG19","v":0}]
[null,null,"Retards total",{"$f":"Sécurité!EN20","v":0},{"$f":"Sécurité!EO20","v":0},{"$f":"Sécurité!EP20","v":0},{"$f":"Sécurité!EQ20","v":0},{"$f":"Sécurité!ER20","v":0},{"$f":"Sécurité!ES20","v":0},{"$f":"Sécurité!ET20","v":0},{"$f":"Sécurité!EU20","v":0},{"$f":"Sécurité!EV20","v":0},{"$f":"Sécurité!EW20","v":0},{"$f":"Sécurité!EX20","v":0},{"$f":"Sécurité!EY20","v":0},{"$f":"Sécurité!EZ20","v":0},{"$f":"Sécurité!FA20","v":0},{"$f":"Sécurité!FB20","v":0},{"$f":"Sécurité!FC20","v":0},{"$f":"Sécurité!FD20","v":0},{"$f":"Sécurité!FE20","v":0},{"$f":"Sécurité!FF20","v":0},{"$f":"Sécurité!FG20","v":0}]
[null,null,"Retards justifiés recevables",{"$f":"Sécurité!EN21","v":0},{"$f":"Sécurité!EO21","v":0},{"$f":"Sécurité!EP21","v":0},{"$f":"Sécurité!EQ21","v":0},{"$f":"Sécurité!ER21","v":0},{"$f":"Sécurité!ES21","v":0},{"$f":"Sécurité!ET21","v":0},{"$f":"Sécurité!EU21","v":0},{"$f":"Sécurité!EV21","v":0},{"$f":"Sécurité!EW21","v":0},{"$f":"Sécurité!EX21","v":0},{"$f":"Sécurité!EY21","v":0},{"$f":"Sécurité!EZ21","v":0},{"$f":"Sécurité!FA21","v":0},{"$f":"Sécurité!FB21","v":0},{"$f":"Sécurité!FC21","v":0},{"$f":"Sécurité!FD21","v":0},{"$f":"Sécurité!FE21","v":0},{"$f":"Sécurité!FF21","v":0},{"$f":"Sécurité!FG21","v":0}]
[null,null,"Retards justifiés non recevables",{"$f":"Sécurité!EN22","v":0},{"$f":"Sécurité!EO22","v":0},{"$f":"Sécurité!EP22","v":0},{"$f":"Sécurité!EQ22","v":0},{"$f":"Sécurité!ER22","v":0},{"$f":"Sécurité!ES22","v":0},{"$f":"Sécurité!ET22","v":0},{"$f":"Sécurité!EU22","v":0},{"$f":"Sécurité!EV22","v":0},{"$f":"Sécurité!EW22","v":0},{"$f":"Sécurité!EX22","v":0},{"$f":"Sécurité!EY22","v":0},{"$f":"Sécurité!EZ22","v":0},{"$f":"Sécurité!FA22","v":0},{"$f":"Sécurité!FB22","v":0},{"$f":"Sécurité!FC22","v":0},{"$f":"Sécurité!FD22","v":0},{"$f":"Sécurité!FE22","v":0},{"$f":"Sécurité!FF22","v":0},{"$f":"Sécurité!FG22","v":0}]
[null,null,"Retards non justifiés",{"$f":"Sécurité!EN23","v":0},{"$f":"Sécurité!EO23","v":0},{"$f":"Sécurité!EP23","v":0},{"$f":"Sécurité!EQ23","v":0},{"$f":"Sécurité!ER23","v":0},{"$f":"Sécurité!ES23","v":0},{"$f":"Sécurité!ET23","v":0},{"$f":"Sécurité!EU23","v":0},{"$f":"Sécurité!EV23","v":0},{"$f":"Sécurité!EW23","v":0},{"$f":"Sécurité!EX23","v":0},{"$f":"Sécurité!EY23","v":0},{"$f":"Sécurité!EZ23","v":0},{"$f":"Sécurité!FA23","v":0},{"$f":"Sécurité!FB23","v":0},{"$f":"Sécurité!FC23","v":0},{"$f":"Sécurité!FD23","v":0},{"$f":"Sécurité!FE23","v":0},{"$f":"Sécurité!FF23","v":0},{"$f":"Sécurité!FG23","v":0}]
[null,null,null,{"$f":"Identification!$A$37","v":"2016-04-01"}]
[null,null,"tableau mensuel","nb de retards",null,null,null,null,null,null,null,null,null,"%  retards établissement"]
[null,null,null,{"$f":"Sécurité!FH19","v":0},{"$f":"Sécurité!FI19","v":0},{"$f":"Sécurité!FJ19","v":0},{"$f":"Sécurité!FK19","v":0},{"$f":"Sécurité!FL19","v":0},{"$f":"Sécurité!FM19","v":0},{"$f":"Sécurité!FN19","v":0},{"$f":"Sécurité!FO19","v":0},{"$f":"Sécurité!FP19","v":0},{"$f":"Sécurité!FQ19","v":0},{"$f":"Sécurité!FR19","v":0},{"$f":"Sécurité!FS19","v":0},{"$f":"Sécurité!FT19","v":0},{"$f":"Sécurité!FU19","v":0},{"$f":"Sécurité!FV19","v":0},{"$f":"Sécurité!FW19","v":0},{"$f":"Sécurité!FX19","v":0},{"$f":"Sécurité!FY19","v":0},{"$f":"Sécurité!FZ19","v":0},{"$f":"Sécurité!GA19","v":0}]
[null,null,"Retards total",{"$f":"Sécurité!FH20","v":0},{"$f":"Sécurité!FI20","v":0},{"$f":"Sécurité!FJ20","v":0},{"$f":"Sécurité!FK20","v":0},{"$f":"Sécurité!FL20","v":0},{"$f":"Sécurité!FM20","v":0},{"$f":"Sécurité!FN20","v":0},{"$f":"Sécurité!FO20","v":0},{"$f":"Sécurité!FP20","v":0},{"$f":"Sécurité!FQ20","v":0},{"$f":"Sécurité!FR20","v":0},{"$f":"Sécurité!FS20","v":0},{"$f":"Sécurité!FT20","v":0},{"$f":"Sécurité!FU20","v":0},{"$f":"Sécurité!FV20","v":0},{"$f":"Sécurité!FW20","v":0},{"$f":"Sécurité!FX20","v":0},{"$f":"Sécurité!FY20","v":0},{"$f":"Sécurité!FZ20","v":0},{"$f":"Sécurité!GA20","v":0}]
[null,null,"Retards justifiés recevables",{"$f":"Sécurité!FH21","v":0},{"$f":"Sécurité!FI21","v":0},{"$f":"Sécurité!FJ21","v":0},{"$f":"Sécurité!FK21","v":0},{"$f":"Sécurité!FL21","v":0},{"$f":"Sécurité!FM21","v":0},{"$f":"Sécurité!FN21","v":0},{"$f":"Sécurité!FO21","v":0},{"$f":"Sécurité!FP21","v":0},{"$f":"Sécurité!FQ21","v":0},{"$f":"Sécurité!FR21","v":0},{"$f":"Sécurité!FS21","v":0},{"$f":"Sécurité!FT21","v":0},{"$f":"Sécurité!FU21","v":0},{"$f":"Sécurité!FV21","v":0},{"$f":"Sécurité!FW21","v":0},{"$f":"Sécurité!FX21","v":0},{"$f":"Sécurité!FY21","v":0},{"$f":"Sécurité!FZ21","v":0},{"$f":"Sécurité!GA21","v":0}]
[null,null,"Retards justifiés non recevables",{"$f":"Sécurité!FH22","v":0},{"$f":"Sécurité!FI22","v":0},{"$f":"Sécurité!FJ22","v":0},{"$f":"Sécurité!FK22","v":0},{"$f":"Sécurité!FL22","v":0},{"$f":"Sécurité!FM22","v":0},{"$f":"Sécurité!FN22","v":0},{"$f":"Sécurité!FO22","v":0},{"$f":"Sécurité!FP22","v":0},{"$f":"Sécurité!FQ22","v":0},{"$f":"Sécurité!FR22","v":0},{"$f":"Sécurité!FS22","v":0},{"$f":"Sécurité!FT22","v":0},{"$f":"Sécurité!FU22","v":0},{"$f":"Sécurité!FV22","v":0},{"$f":"Sécurité!FW22","v":0},{"$f":"Sécurité!FX22","v":0},{"$f":"Sécurité!FY22","v":0},{"$f":"Sécurité!FZ22","v":0},{"$f":"Sécurité!GA22","v":0}]
[null,null,"Retards non justifiés",{"$f":"Sécurité!FH23","v":0},{"$f":"Sécurité!FI23","v":0},{"$f":"Sécurité!FJ23","v":0},{"$f":"Sécurité!FK23","v":0},{"$f":"Sécurité!FL23","v":0},{"$f":"Sécurité!FM23","v":0},{"$f":"Sécurité!FN23","v":0},{"$f":"Sécurité!FO23","v":0},{"$f":"Sécurité!FP23","v":0},{"$f":"Sécurité!FQ23","v":0},{"$f":"Sécurité!FR23","v":0},{"$f":"Sécurité!FS23","v":0},{"$f":"Sécurité!FT23","v":0},{"$f":"Sécurité!FU23","v":0},{"$f":"Sécurité!FV23","v":0},{"$f":"Sécurité!FW23","v":0},{"$f":"Sécurité!FX23","v":0},{"$f":"Sécurité!FY23","v":0},{"$f":"Sécurité!FZ23","v":0},{"$f":"Sécurité!GA23","v":0}]
[null,null,null,{"$f":"Identification!$A$38","v":"2016-05-01"}]
[null,null,"tableau mensuel","nb de retards",null,null,null,null,null,null,null,null,null,"%  retards établissement"]
[null,null,null,{"$f":"Sécurité!GB19","v":0},{"$f":"Sécurité!GC19","v":0},{"$f":"Sécurité!GD19","v":0},{"$f":"Sécurité!GE19","v":0},{"$f":"Sécurité!GF19","v":0},{"$f":"Sécurité!GG19","v":0},{"$f":"Sécurité!GH19","v":0},{"$f":"Sécurité!GI19","v":0},{"$f":"Sécurité!GJ19","v":0},{"$f":"Sécurité!GK19","v":0},{"$f":"Sécurité!GL19","v":0},{"$f":"Sécurité!GM19","v":0},{"$f":"Sécurité!GN19","v":0},{"$f":"Sécurité!GO19","v":0},{"$f":"Sécurité!GP19","v":0},{"$f":"Sécurité!GQ19","v":0},{"$f":"Sécurité!GR19","v":0},{"$f":"Sécurité!GS19","v":0},{"$f":"Sécurité!GT19","v":0},{"$f":"Sécurité!GU19","v":0}]
[null,null,"Retards total",{"$f":"Sécurité!GB20","v":0},{"$f":"Sécurité!GC20","v":0},{"$f":"Sécurité!GD20","v":0},{"$f":"Sécurité!GE20","v":0},{"$f":"Sécurité!GF20","v":0},{"$f":"Sécurité!GG20","v":0},{"$f":"Sécurité!GH20","v":0},{"$f":"Sécurité!GI20","v":0},{"$f":"Sécurité!GJ20","v":0},{"$f":"Sécurité!GK20","v":0},{"$f":"Sécurité!GL20","v":0},{"$f":"Sécurité!GM20","v":0},{"$f":"Sécurité!GN20","v":0},{"$f":"Sécurité!GO20","v":0},{"$f":"Sécurité!GP20","v":0},{"$f":"Sécurité!GQ20","v":0},{"$f":"Sécurité!GR20","v":0},{"$f":"Sécurité!GS20","v":0},{"$f":"Sécurité!GT20","v":0},{"$f":"Sécurité!GU20","v":0}]
[null,null,"Retards justifiés recevables",{"$f":"Sécurité!GB21","v":0},{"$f":"Sécurité!GC21","v":0},{"$f":"Sécurité!GD21","v":0},{"$f":"Sécurité!GE21","v":0},{"$f":"Sécurité!GF21","v":0},{"$f":"Sécurité!GG21","v":0},{"$f":"Sécurité!GH21","v":0},{"$f":"Sécurité!GI21","v":0},{"$f":"Sécurité!GJ21","v":0},{"$f":"Sécurité!GK21","v":0},{"$f":"Sécurité!GL21","v":0},{"$f":"Sécurité!GM21","v":0},{"$f":"Sécurité!GN21","v":0},{"$f":"Sécurité!GO21","v":0},{"$f":"Sécurité!GP21","v":0},{"$f":"Sécurité!GQ21","v":0},{"$f":"Sécurité!GR21","v":0},{"$f":"Sécurité!GS21","v":0},{"$f":"Sécurité!GT21","v":0},{"$f":"Sécurité!GU21","v":0}]
[null,null,"Retards justifiés non recevables",{"$f":"Sécurité!GB22","v":0},{"$f":"Sécurité!GC22","v":0},{"$f":"Sécurité!GD22","v":0},{"$f":"Sécurité!GE22","v":0},{"$f":"Sécurité!GF22","v":0},{"$f":"Sécurité!GG22","v":0},{"$f":"Sécurité!GH22","v":0},{"$f":"Sécurité!GI22","v":0},{"$f":"Sécurité!GJ22","v":0},{"$f":"Sécurité!GK22","v":0},{"$f":"Sécurité!GL22","v":0},{"$f":"Sécurité!GM22","v":0},{"$f":"Sécurité!GN22","v":0},{"$f":"Sécurité!GO22","v":0},{"$f":"Sécurité!GP22","v":0},{"$f":"Sécurité!GQ22","v":0},{"$f":"Sécurité!GR22","v":0},{"$f":"Sécurité!GS22","v":0},{"$f":"Sécurité!GT22","v":0},{"$f":"Sécurité!GU22","v":0}]
[null,null,"Retards non justifiés",{"$f":"Sécurité!GB23","v":0},{"$f":"Sécurité!GC23","v":0},{"$f":"Sécurité!GD23","v":0},{"$f":"Sécurité!GE23","v":0},{"$f":"Sécurité!GF23","v":0},{"$f":"Sécurité!GG23","v":0},{"$f":"Sécurité!GH23","v":0},{"$f":"Sécurité!GI23","v":0},{"$f":"Sécurité!GJ23","v":0},{"$f":"Sécurité!GK23","v":0},{"$f":"Sécurité!GL23","v":0},{"$f":"Sécurité!GM23","v":0},{"$f":"Sécurité!GN23","v":0},{"$f":"Sécurité!GO23","v":0},{"$f":"Sécurité!GP23","v":0},{"$f":"Sécurité!GQ23","v":0},{"$f":"Sécurité!GR23","v":0},{"$f":"Sécurité!GS23","v":0},{"$f":"Sécurité!GT23","v":0},{"$f":"Sécurité!GU23","v":0}]
[null,null,null,{"$f":"Identification!$A$39","v":"2016-06-01"}]
[null,null,"tableau mensuel","nb de retards",null,null,null,null,null,null,null,null,null,"%  retards établissement"]
[null,null,null,{"$f":"Sécurité!GV19","v":0},{"$f":"Sécurité!GW19","v":0},{"$f":"Sécurité!GX19","v":0},{"$f":"Sécurité!GY19","v":0},{"$f":"Sécurité!GZ19","v":0},{"$f":"Sécurité!HA19","v":0},{"$f":"Sécurité!HB19","v":0},{"$f":"Sécurité!HC19","v":0},{"$f":"Sécurité!HD19","v":0},{"$f":"Sécurité!HE19","v":0},{"$f":"Sécurité!HF19","v":0},{"$f":"Sécurité!HG19","v":0},{"$f":"Sécurité!HH19","v":0},{"$f":"Sécurité!HI19","v":0},{"$f":"Sécurité!HJ19","v":0},{"$f":"Sécurité!HK19","v":0},{"$f":"Sécurité!HL19","v":0},{"$f":"Sécurité!HM19","v":0},{"$f":"Sécurité!HN19","v":0},{"$f":"Sécurité!HO19","v":0}]
[null,null,"Retards total",{"$f":"Sécurité!GV20","v":0},{"$f":"Sécurité!GW20","v":0},{"$f":"Sécurité!GX20","v":0},{"$f":"Sécurité!GY20","v":0},{"$f":"Sécurité!GZ20","v":0},{"$f":"Sécurité!HA20","v":0},{"$f":"Sécurité!HB20","v":0},{"$f":"Sécurité!HC20","v":0},{"$f":"Sécurité!HD20","v":0},{"$f":"Sécurité!HE20","v":0},{"$f":"Sécurité!HF20","v":0},{"$f":"Sécurité!HG20","v":0},{"$f":"Sécurité!HH20","v":0},{"$f":"Sécurité!HI20","v":0},{"$f":"Sécurité!HJ20","v":0},{"$f":"Sécurité!HK20","v":0},{"$f":"Sécurité!HL20","v":0},{"$f":"Sécurité!HM20","v":0},{"$f":"Sécurité!HN20","v":0},{"$f":"Sécurité!HO20","v":0}]
[null,null,"Retards justifiés recevables",{"$f":"Sécurité!GV21","v":0},{"$f":"Sécurité!GW21","v":0},{"$f":"Sécurité!GX21","v":0},{"$f":"Sécurité!GY21","v":0},{"$f":"Sécurité!GZ21","v":0},{"$f":"Sécurité!HA21","v":0},{"$f":"Sécurité!HB21","v":0},{"$f":"Sécurité!HC21","v":0},{"$f":"Sécurité!HD21","v":0},{"$f":"Sécurité!HE21","v":0},{"$f":"Sécurité!HF21","v":0},{"$f":"Sécurité!HG21","v":0},{"$f":"Sécurité!HH21","v":0},{"$f":"Sécurité!HI21","v":0},{"$f":"Sécurité!HJ21","v":0},{"$f":"Sécurité!HK21","v":0},{"$f":"Sécurité!HL21","v":0},{"$f":"Sécurité!HM21","v":0},{"$f":"Sécurité!HN21","v":0},{"$f":"Sécurité!HO21","v":0}]
[null,null,"Retards justifiés non recevables",{"$f":"Sécurité!GV22","v":0},{"$f":"Sécurité!GW22","v":0},{"$f":"Sécurité!GX22","v":0},{"$f":"Sécurité!GY22","v":0},{"$f":"Sécurité!GZ22","v":0},{"$f":"Sécurité!HA22","v":0},{"$f":"Sécurité!HB22","v":0},{"$f":"Sécurité!HC22","v":0},{"$f":"Sécurité!HD22","v":0},{"$f":"Sécurité!HE22","v":0},{"$f":"Sécurité!HF22","v":0},{"$f":"Sécurité!HG22","v":0},{"$f":"Sécurité!HH22","v":0},{"$f":"Sécurité!HI22","v":0},{"$f":"Sécurité!HJ22","v":0},{"$f":"Sécurité!HK22","v":0},{"$f":"Sécurité!HL22","v":0},{"$f":"Sécurité!HM22","v":0},{"$f":"Sécurité!HN22","v":0},{"$f":"Sécurité!HO22","v":0}]
[null,null,"Retards non justifiés",{"$f":"Sécurité!GV23","v":0},{"$f":"Sécurité!GW23","v":0},{"$f":"Sécurité!GX23","v":0},{"$f":"Sécurité!GY23","v":0},{"$f":"Sécurité!GZ23","v":0},{"$f":"Sécurité!HA23","v":0},{"$f":"Sécurité!HB23","v":0},{"$f":"Sécurité!HC23","v":0},{"$f":"Sécurité!HD23","v":0},{"$f":"Sécurité!HE23","v":0},{"$f":"Sécurité!HF23","v":0},{"$f":"Sécurité!HG23","v":0},{"$f":"Sécurité!HH23","v":0},{"$f":"Sécurité!HI23","v":0},{"$f":"Sécurité!HJ23","v":0},{"$f":"Sécurité!HK23","v":0},{"$f":"Sécurité!HL23","v":0},{"$f":"Sécurité!HM23","v":0},{"$f":"Sécurité!HN23","v":0},{"$f":"Sécurité!HO23","v":0}]
[null,null,null,{"$f":"Identification!$A$40","v":"2016-07-01"}]
[null,null,"tableau mensuel","nb de retards",null,null,null,null,null,null,null,null,null,"%  retards établissement"]
[null,null,null,{"$f":"Sécurité!HP19","v":0},{"$f":"Sécurité!HQ19","v":0},{"$f":"Sécurité!HR19","v":0},{"$f":"Sécurité!HS19","v":0},{"$f":"Sécurité!HT19","v":0},{"$f":"Sécurité!HU19","v":0},{"$f":"Sécurité!HV19","v":0},{"$f":"Sécurité!HW19","v":0},{"$f":"Sécurité!HX19","v":0},{"$f":"Sécurité!HY19","v":0},{"$f":"Sécurité!HZ19","v":0},{"$f":"Sécurité!IA19","v":0},{"$f":"Sécurité!IB19","v":0},{"$f":"Sécurité!IC19","v":0},{"$f":"Sécurité!ID19","v":0},{"$f":"Sécurité!IE19","v":0},{"$f":"Sécurité!IF19","v":0},{"$f":"Sécurité!IG19","v":0},{"$f":"Sécurité!IH19","v":0},{"$f":"Sécurité!II19","v":0}]
[null,null,"Retards total",{"$f":"Sécurité!HP20","v":0},{"$f":"Sécurité!HQ20","v":0},{"$f":"Sécurité!HR20","v":0},{"$f":"Sécurité!HS20","v":0},{"$f":"Sécurité!HT20","v":0},{"$f":"Sécurité!HU20","v":0},{"$f":"Sécurité!HV20","v":0},{"$f":"Sécurité!HW20","v":0},{"$f":"Sécurité!HX20","v":0},{"$f":"Sécurité!HY20","v":0},{"$f":"Sécurité!HZ20","v":0},{"$f":"Sécurité!IA20","v":0},{"$f":"Sécurité!IB20","v":0},{"$f":"Sécurité!IC20","v":0},{"$f":"Sécurité!ID20","v":0},{"$f":"Sécurité!IE20","v":0},{"$f":"Sécurité!IF20","v":0},{"$f":"Sécurité!IG20","v":0},{"$f":"Sécurité!IH20","v":0},{"$f":"Sécurité!II20","v":0}]
[null,null,"Retards justifiés recevables",{"$f":"Sécurité!HP21","v":0},{"$f":"Sécurité!HQ21","v":0},{"$f":"Sécurité!HR21","v":0},{"$f":"Sécurité!HS21","v":0},{"$f":"Sécurité!HT21","v":0},{"$f":"Sécurité!HU21","v":0},{"$f":"Sécurité!HV21","v":0},{"$f":"Sécurité!HW21","v":0},{"$f":"Sécurité!HX21","v":0},{"$f":"Sécurité!HY21","v":0},{"$f":"Sécurité!HZ21","v":0},{"$f":"Sécurité!IA21","v":0},{"$f":"Sécurité!IB21","v":0},{"$f":"Sécurité!IC21","v":0},{"$f":"Sécurité!ID21","v":0},{"$f":"Sécurité!IE21","v":0},{"$f":"Sécurité!IF21","v":0},{"$f":"Sécurité!IG21","v":0},{"$f":"Sécurité!IH21","v":0},{"$f":"Sécurité!II21","v":0}]
[null,null,"Retards justifiés non recevables",{"$f":"Sécurité!HP22","v":0},{"$f":"Sécurité!HQ22","v":0},{"$f":"Sécurité!HR22","v":0},{"$f":"Sécurité!HS22","v":0},{"$f":"Sécurité!HT22","v":0},{"$f":"Sécurité!HU22","v":0},{"$f":"Sécurité!HV22","v":0},{"$f":"Sécurité!HW22","v":0},{"$f":"Sécurité!HX22","v":0},{"$f":"Sécurité!HY22","v":0},{"$f":"Sécurité!HZ22","v":0},{"$f":"Sécurité!IA22","v":0},{"$f":"Sécurité!IB22","v":0},{"$f":"Sécurité!IC22","v":0},{"$f":"Sécurité!ID22","v":0},{"$f":"Sécurité!IE22","v":0},{"$f":"Sécurité!IF22","v":0},{"$f":"Sécurité!IG22","v":0},{"$f":"Sécurité!IH22","v":0},{"$f":"Sécurité!II22","v":0}]
[null,null,"Retards non justifiés",{"$f":"Sécurité!HP23","v":0},{"$f":"Sécurité!HQ23","v":0},{"$f":"Sécurité!HR23","v":0},{"$f":"Sécurité!HS23","v":0},{"$f":"Sécurité!HT23","v":0},{"$f":"Sécurité!HU23","v":0},{"$f":"Sécurité!HV23","v":0},{"$f":"Sécurité!HW23","v":0},{"$f":"Sécurité!HX23","v":0},{"$f":"Sécurité!HY23","v":0},{"$f":"Sécurité!HZ23","v":0},{"$f":"Sécurité!IA23","v":0},{"$f":"Sécurité!IB23","v":0},{"$f":"Sécurité!IC23","v":0},{"$f":"Sécurité!ID23","v":0},{"$f":"Sécurité!IE23","v":0},{"$f":"Sécurité!IF23","v":0},{"$f":"Sécurité!IG23","v":0},{"$f":"Sécurité!IH23","v":0},{"$f":"Sécurité!II23","v":0}]
[]
[]
["Etre élève","Assiduité"]
[]
[null,null,null,{"$f":"D81","v":"2015-08-01"}]
[null,null,"tableau mensuel","Nombre de punitions",null,null,null,null,null,null,null,null,null,"% établissement"]
[null,null,null,{"$f":"Sécurité!D30","v":0},{"$f":"Sécurité!E30","v":0},{"$f":"Sécurité!F30","v":0},{"$f":"Sécurité!G30","v":0},{"$f":"Sécurité!H30","v":0},{"$f":"Sécurité!I30","v":0},{"$f":"Sécurité!J30","v":0},{"$f":"Sécurité!K30","v":0},{"$f":"Sécurité!L30","v":0},{"$f":"Sécurité!M30","v":0},{"$f":"Sécurité!N30","v":0},{"$f":"Sécurité!O30","v":0},{"$f":"Sécurité!P30","v":0},{"$f":"Sécurité!Q30","v":0},{"$f":"Sécurité!R30","v":0},{"$f":"Sécurité!S30","v":0},{"$f":"Sécurité!T30","v":0},{"$f":"Sécurité!U30","v":0},{"$f":"Sécurité!V30","v":0},{"$f":"Sécurité!W30","v":0}]
[null,null,"Oubli de matériel",{"$f":"Sécurité!D31","v":0},{"$f":"Sécurité!E31","v":0},{"$f":"Sécurité!F31","v":0},{"$f":"Sécurité!G31","v":0},{"$f":"Sécurité!H31","v":0},{"$f":"Sécurité!I31","v":0},{"$f":"Sécurité!J31","v":0},{"$f":"Sécurité!K31","v":0},{"$f":"Sécurité!L31","v":0},{"$f":"Sécurité!M31","v":0},{"$f":"Sécurité!N31","v":0},{"$f":"Sécurité!O31","v":0},{"$f":"Sécurité!P31","v":0},{"$f":"Sécurité!Q31","v":0},{"$f":"Sécurité!R31","v":0},{"$f":"Sécurité!S31","v":0},{"$f":"Sécurité!T31","v":0},{"$f":"Sécurité!U31","v":0},{"$f":"Sécurité!V31","v":0},{"$f":"Sécurité!W31","v":0}]
[null,null,"Travail non fait",{"$f":"Sécurité!D32","v":0},{"$f":"Sécurité!E32","v":0},{"$f":"Sécurité!F32","v":0},{"$f":"Sécurité!G32","v":0},{"$f":"Sécurité!H32","v":0},{"$f":"Sécurité!I32","v":0},{"$f":"Sécurité!J32","v":0},{"$f":"Sécurité!K32","v":0},{"$f":"Sécurité!L32","v":0},{"$f":"Sécurité!M32","v":0},{"$f":"Sécurité!N32","v":0},{"$f":"Sécurité!O32","v":0},{"$f":"Sécurité!P32","v":0},{"$f":"Sécurité!Q32","v":0},{"$f":"Sécurité!R32","v":0},{"$f":"Sécurité!S32","v":0},{"$f":"Sécurité!T32","v":0},{"$f":"Sécurité!U32","v":0},{"$f":"Sécurité!V32","v":0},{"$f":"Sécurité!W32","v":0}]
[null,null,null,{"$f":"Identification!$A$30","v":"2015-09-01"}]
[null,null,"tableau mensuel",{"$f":"D202","v":0},null,null,null,null,null,null,null,null,null,"% établissement"]
[null,null,null,{"$f":"Sécurité!X30","v":0},{"$f":"Sécurité!Y30","v":0},{"$f":"Sécurité!Z30","v":0},{"$f":"Sécurité!AA30","v":0},{"$f":"Sécurité!AB30","v":0},{"$f":"Sécurité!AC30","v":0},{"$f":"Sécurité!AD30","v":0},{"$f":"Sécurité!AE30","v":0},{"$f":"Sécurité!AF30","v":0},{"$f":"Sécurité!AG30","v":0},{"$f":"Sécurité!AH30","v":0},{"$f":"Sécurité!AI30","v":0},{"$f":"Sécurité!AJ30","v":0},{"$f":"Sécurité!AK30","v":0},{"$f":"Sécurité!AL30","v":0},{"$f":"Sécurité!AM30","v":0},{"$f":"Sécurité!AN30","v":0},{"$f":"Sécurité!AO30","v":0},{"$f":"Sécurité!AP30","v":0},{"$f":"Sécurité!AQ30","v":0}]
[null,null,"Oubli de matériel",{"$f":"Sécurité!X31","v":0},{"$f":"Sécurité!Y31","v":0},{"$f":"Sécurité!Z31","v":0},{"$f":"Sécurité!AA31","v":0},{"$f":"Sécurité!AB31","v":0},{"$f":"Sécurité!AC31","v":0},{"$f":"Sécurité!AD31","v":0},{"$f":"Sécurité!AE31","v":0},{"$f":"Sécurité!AF31","v":0},{"$f":"Sécurité!AG31","v":0},{"$f":"Sécurité!AH31","v":0},{"$f":"Sécurité!AI31","v":0},{"$f":"Sécurité!AJ31","v":0},{"$f":"Sécurité!AK31","v":0},{"$f":"Sécurité!AL31","v":0},{"$f":"Sécurité!AM31","v":0},{"$f":"Sécurité!AN31","v":0},{"$f":"Sécurité!AO31","v":0},{"$f":"Sécurité!AP31","v":0},{"$f":"Sécurité!AQ31","v":0}]
[null,null,"Travail non fait",{"$f":"Sécurité!X32","v":0},{"$f":"Sécurité!Y32","v":0},{"$f":"Sécurité!Z32","v":0},{"$f":"Sécurité!AA32","v":0},{"$f":"Sécurité!AB32","v":0},{"$f":"Sécurité!AC32","v":0},{"$f":"Sécurité!AD32","v":0},{"$f":"Sécurité!AE32","v":0},{"$f":"Sécurité!AF32","v":0},{"$f":"Sécurité!AG32","v":0},{"$f":"Sécurité!AH32","v":0},{"$f":"Sécurité!AI32","v":0},{"$f":"Sécurité!AJ32","v":0},{"$f":"Sécurité!AK32","v":0},{"$f":"Sécurité!AL32","v":0},{"$f":"Sécurité!AM32","v":0},{"$f":"Sécurité!AN32","v":0},{"$f":"Sécurité!AO32","v":0},{"$f":"Sécurité!AP32","v":0},{"$f":"Sécurité!AQ32","v":0}]
[null,null,null,{"$f":"Identification!$A$31","v":"2015-10-01"}]
[null,null,"tableau mensuel","Nombre de punitions",null,null,null,null,null,null,null,null,null,"% établissement"]
[null,null,null,{"$f":"Sécurité!AR30","v":0},{"$f":"Sécurité!AS30","v":0},{"$f":"Sécurité!AT30","v":0},{"$f":"Sécurité!AU30","v":0},{"$f":"Sécurité!AV30","v":0},{"$f":"Sécurité!AW30","v":0},{"$f":"Sécurité!AX30","v":0},{"$f":"Sécurité!AY30","v":0},{"$f":"Sécurité!AZ30","v":0},{"$f":"Sécurité!BA30","v":0},{"$f":"Sécurité!BB30","v":0},{"$f":"Sécurité!BC30","v":0},{"$f":"Sécurité!BD30","v":0},{"$f":"Sécurité!BE30","v":0},{"$f":"Sécurité!BF30","v":0},{"$f":"Sécurité!BG30","v":0},{"$f":"Sécurité!BH30","v":0},{"$f":"Sécurité!BI30","v":0},{"$f":"Sécurité!BJ30","v":0},{"$f":"Sécurité!BK30","v":0}]
[null,null,"Oubli de matériel",{"$f":"Sécurité!AR31","v":0},{"$f":"Sécurité!AS31","v":0},{"$f":"Sécurité!AT31","v":0},{"$f":"Sécurité!AU31","v":0},{"$f":"Sécurité!AV31","v":0},{"$f":"Sécurité!AW31","v":0},{"$f":"Sécurité!AX31","v":0},{"$f":"Sécurité!AY31","v":0},{"$f":"Sécurité!AZ31","v":0},{"$f":"Sécurité!BA31","v":0},{"$f":"Sécurité!BB31","v":0},{"$f":"Sécurité!BC31","v":0},{"$f":"Sécurité!BD31","v":0},{"$f":"Sécurité!BE31","v":0},{"$f":"Sécurité!BF31","v":0},{"$f":"Sécurité!BG31","v":0},{"$f":"Sécurité!BH31","v":0},{"$f":"Sécurité!BI31","v":0},{"$f":"Sécurité!BJ31","v":0},{"$f":"Sécurité!BK31","v":0}]
[null,null,"Travail non fait",{"$f":"Sécurité!AR32","v":0},{"$f":"Sécurité!AS32","v":0},{"$f":"Sécurité!AT32","v":0},{"$f":"Sécurité!AU32","v":0},{"$f":"Sécurité!AV32","v":0},{"$f":"Sécurité!AW32","v":0},{"$f":"Sécurité!AX32","v":0},{"$f":"Sécurité!AY32","v":0},{"$f":"Sécurité!AZ32","v":0},{"$f":"Sécurité!BA32","v":0},{"$f":"Sécurité!BB32","v":0},{"$f":"Sécurité!BC32","v":0},{"$f":"Sécurité!BD32","v":0},{"$f":"Sécurité!BE32","v":0},{"$f":"Sécurité!BF32","v":0},{"$f":"Sécurité!BG32","v":0},{"$f":"Sécurité!BH32","v":0},{"$f":"Sécurité!BI32","v":0},{"$f":"Sécurité!BJ32","v":0},{"$f":"Sécurité!BK32","v":0}]
[null,null,null,{"$f":"Identification!$A$32","v":"2015-11-01"}]
[null,null,"tableau mensuel","Nombre de punitions",null,null,null,null,null,null,null,null,null,"% établissement"]
[null,null,null,{"$f":"Sécurité!BL30","v":0},{"$f":"Sécurité!BM30","v":0},{"$f":"Sécurité!BN30","v":0},{"$f":"Sécurité!BO30","v":0},{"$f":"Sécurité!BP30","v":0},{"$f":"Sécurité!BQ30","v":0},{"$f":"Sécurité!BR30","v":0},{"$f":"Sécurité!BS30","v":0},{"$f":"Sécurité!BT30","v":0},{"$f":"Sécurité!BU30","v":0},{"$f":"Sécurité!BV30","v":0},{"$f":"Sécurité!BW30","v":0},{"$f":"Sécurité!BX30","v":0},{"$f":"Sécurité!BY30","v":0},{"$f":"Sécurité!BZ30","v":0},{"$f":"Sécurité!CA30","v":0},{"$f":"Sécurité!CB30","v":0},{"$f":"Sécurité!CC30","v":0},{"$f":"Sécurité!CD30","v":0},{"$f":"Sécurité!CE30","v":0}]
[null,null,"Oubli de matériel",{"$f":"Sécurité!BL31","v":0},{"$f":"Sécurité!BM31","v":0},{"$f":"Sécurité!BN31","v":0},{"$f":"Sécurité!BO31","v":0},{"$f":"Sécurité!BP31","v":0},{"$f":"Sécurité!BQ31","v":0},{"$f":"Sécurité!BR31","v":0},{"$f":"Sécurité!BS31","v":0},{"$f":"Sécurité!BT31","v":0},{"$f":"Sécurité!BU31","v":0},{"$f":"Sécurité!BV31","v":0},{"$f":"Sécurité!BW31","v":0},{"$f":"Sécurité!BX31","v":0},{"$f":"Sécurité!BY31","v":0},{"$f":"Sécurité!BZ31","v":0},{"$f":"Sécurité!CA31","v":0},{"$f":"Sécurité!CB31","v":0},{"$f":"Sécurité!CC31","v":0},{"$f":"Sécurité!CD31","v":0},{"$f":"Sécurité!CE31","v":0}]
[null,null,"Travail non fait",{"$f":"Sécurité!BL32","v":0},{"$f":"Sécurité!BM32","v":0},{"$f":"Sécurité!BN32","v":0},{"$f":"Sécurité!BO32","v":0},{"$f":"Sécurité!BP32","v":0},{"$f":"Sécurité!BQ32","v":0},{"$f":"Sécurité!BR32","v":0},{"$f":"Sécurité!BS32","v":0},{"$f":"Sécurité!BT32","v":0},{"$f":"Sécurité!BU32","v":0},{"$f":"Sécurité!BV32","v":0},{"$f":"Sécurité!BW32","v":0},{"$f":"Sécurité!BX32","v":0},{"$f":"Sécurité!BY32","v":0},{"$f":"Sécurité!BZ32","v":0},{"$f":"Sécurité!CA32","v":0},{"$f":"Sécurité!CB32","v":0},{"$f":"Sécurité!CC32","v":0},{"$f":"Sécurité!CD32","v":0},{"$f":"Sécurité!CE32","v":0}]
[null,null,null,{"$f":"Identification!$A$33","v":"2015-12-01"}]
[null,null,"tableau mensuel","Nombre de punitions",null,null,null,null,null,null,null,null,null,"% établissement"]
[null,null,null,{"$f":"Sécurité!CF30","v":0},{"$f":"Sécurité!CG30","v":0},{"$f":"Sécurité!CH30","v":0},{"$f":"Sécurité!CI30","v":0},{"$f":"Sécurité!CJ30","v":0},{"$f":"Sécurité!CK30","v":0},{"$f":"Sécurité!CL30","v":0},{"$f":"Sécurité!CM30","v":0},{"$f":"Sécurité!CN30","v":0},{"$f":"Sécurité!CO30","v":0},{"$f":"Sécurité!CP30","v":0},{"$f":"Sécurité!CQ30","v":0},{"$f":"Sécurité!CR30","v":0},{"$f":"Sécurité!CS30","v":0},{"$f":"Sécurité!CT30","v":0},{"$f":"Sécurité!CU30","v":0},{"$f":"Sécurité!CV30","v":0},{"$f":"Sécurité!CW30","v":0},{"$f":"Sécurité!CX30","v":0},{"$f":"Sécurité!CY30","v":0}]
[null,null,"Oubli de matériel",{"$f":"Sécurité!CF31","v":0},{"$f":"Sécurité!CG31","v":0},{"$f":"Sécurité!CH31","v":0},{"$f":"Sécurité!CI31","v":0},{"$f":"Sécurité!CJ31","v":0},{"$f":"Sécurité!CK31","v":0},{"$f":"Sécurité!CL31","v":0},{"$f":"Sécurité!CM31","v":0},{"$f":"Sécurité!CN31","v":0},{"$f":"Sécurité!CO31","v":0},{"$f":"Sécurité!CP31","v":0},{"$f":"Sécurité!CQ31","v":0},{"$f":"Sécurité!CR31","v":0},{"$f":"Sécurité!CS31","v":0},{"$f":"Sécurité!CT31","v":0},{"$f":"Sécurité!CU31","v":0},{"$f":"Sécurité!CV31","v":0},{"$f":"Sécurité!CW31","v":0},{"$f":"Sécurité!CX31","v":0},{"$f":"Sécurité!CY31","v":0}]
[null,null,"Travail non fait",{"$f":"Sécurité!CF32","v":0},{"$f":"Sécurité!CG32","v":0},{"$f":"Sécurité!CH32","v":0},{"$f":"Sécurité!CI32","v":0},{"$f":"Sécurité!CJ32","v":0},{"$f":"Sécurité!CK32","v":0},{"$f":"Sécurité!CL32","v":0},{"$f":"Sécurité!CM32","v":0},{"$f":"Sécurité!CN32","v":0},{"$f":"Sécurité!CO32","v":0},{"$f":"Sécurité!CP32","v":0},{"$f":"Sécurité!CQ32","v":0},{"$f":"Sécurité!CR32","v":0},{"$f":"Sécurité!CS32","v":0},{"$f":"Sécurité!CT32","v":0},{"$f":"Sécurité!CU32","v":0},{"$f":"Sécurité!CV32","v":0},{"$f":"Sécurité!CW32","v":0},{"$f":"Sécurité!CX32","v":0},{"$f":"Sécurité!CY32","v":0}]
[null,null,null,{"$f":"Identification!$A$34","v":"2016-01-01"}]
[null,null,"tableau mensuel","Nombre de punitions",null,null,null,null,null,null,null,null,null,"% établissement"]
[null,null,null,{"$f":"Sécurité!CZ30","v":0},{"$f":"Sécurité!DA30","v":0},{"$f":"Sécurité!DB30","v":0},{"$f":"Sécurité!DC30","v":0},{"$f":"Sécurité!DD30","v":0},{"$f":"Sécurité!DE30","v":0},{"$f":"Sécurité!DF30","v":0},{"$f":"Sécurité!DG30","v":0},{"$f":"Sécurité!DH30","v":0},{"$f":"Sécurité!DI30","v":0},{"$f":"Sécurité!DJ30","v":0},{"$f":"Sécurité!DK30","v":0},{"$f":"Sécurité!DL30","v":0},{"$f":"Sécurité!DM30","v":0},{"$f":"Sécurité!DN30","v":0},{"$f":"Sécurité!DO30","v":0},{"$f":"Sécurité!DP30","v":0},{"$f":"Sécurité!DQ30","v":0},{"$f":"Sécurité!DR30","v":0},{"$f":"Sécurité!DS30","v":0}]
[null,null,"Oubli de matériel",{"$f":"Sécurité!CZ31","v":0},{"$f":"Sécurité!DA31","v":0},{"$f":"Sécurité!DB31","v":0},{"$f":"Sécurité!DC31","v":0},{"$f":"Sécurité!DD31","v":0},{"$f":"Sécurité!DE31","v":0},{"$f":"Sécurité!DF31","v":0},{"$f":"Sécurité!DG31","v":0},{"$f":"Sécurité!DH31","v":0},{"$f":"Sécurité!DI31","v":0},{"$f":"Sécurité!DJ31","v":0},{"$f":"Sécurité!DK31","v":0},{"$f":"Sécurité!DL31","v":0},{"$f":"Sécurité!DM31","v":0},{"$f":"Sécurité!DN31","v":0},{"$f":"Sécurité!DO31","v":0},{"$f":"Sécurité!DP31","v":0},{"$f":"Sécurité!DQ31","v":0},{"$f":"Sécurité!DR31","v":0},{"$f":"Sécurité!DS31","v":0}]
[null,null,"Travail non fait",{"$f":"Sécurité!CZ32","v":0},{"$f":"Sécurité!DA32","v":0},{"$f":"Sécurité!DB32","v":0},{"$f":"Sécurité!DC32","v":0},{"$f":"Sécurité!DD32","v":0},{"$f":"Sécurité!DE32","v":0},{"$f":"Sécurité!DF32","v":0},{"$f":"Sécurité!DG32","v":0},{"$f":"Sécurité!DH32","v":0},{"$f":"Sécurité!DI32","v":0},{"$f":"Sécurité!DJ32","v":0},{"$f":"Sécurité!DK32","v":0},{"$f":"Sécurité!DL32","v":0},{"$f":"Sécurité!DM32","v":0},{"$f":"Sécurité!DN32","v":0},{"$f":"Sécurité!DO32","v":0},{"$f":"Sécurité!DP32","v":0},{"$f":"Sécurité!DQ32","v":0},{"$f":"Sécurité!DR32","v":0},{"$f":"Sécurité!DS32","v":0}]
[null,null,null,{"$f":"Identification!$A$35","v":"2016-02-01"}]
[null,null,"tableau mensuel","Nombre de punitions",null,null,null,null,null,null,null,null,null,"% établissement"]
[null,null,null,{"$f":"Sécurité!DT30","v":0},{"$f":"Sécurité!DU30","v":0},{"$f":"Sécurité!DV30","v":0},{"$f":"Sécurité!DW30","v":0},{"$f":"Sécurité!DX30","v":0},{"$f":"Sécurité!DY30","v":0},{"$f":"Sécurité!DZ30","v":0},{"$f":"Sécurité!EA30","v":0},{"$f":"Sécurité!EB30","v":0},{"$f":"Sécurité!EC30","v":0},{"$f":"Sécurité!ED30","v":0},{"$f":"Sécurité!EE30","v":0},{"$f":"Sécurité!EF30","v":0},{"$f":"Sécurité!EG30","v":0},{"$f":"Sécurité!EH30","v":0},{"$f":"Sécurité!EI30","v":0},{"$f":"Sécurité!EJ30","v":0},{"$f":"Sécurité!EK30","v":0},{"$f":"Sécurité!EL30","v":0},{"$f":"Sécurité!EM30","v":0}]
[null,null,"Oubli de matériel",{"$f":"Sécurité!DT31","v":0},{"$f":"Sécurité!DU31","v":0},{"$f":"Sécurité!DV31","v":0},{"$f":"Sécurité!DW31","v":0},{"$f":"Sécurité!DX31","v":0},{"$f":"Sécurité!DY31","v":0},{"$f":"Sécurité!DZ31","v":0},{"$f":"Sécurité!EA31","v":0},{"$f":"Sécurité!EB31","v":0},{"$f":"Sécurité!EC31","v":0},{"$f":"Sécurité!ED31","v":0},{"$f":"Sécurité!EE31","v":0},{"$f":"Sécurité!EF31","v":0},{"$f":"Sécurité!EG31","v":0},{"$f":"Sécurité!EH31","v":0},{"$f":"Sécurité!EI31","v":0},{"$f":"Sécurité!EJ31","v":0},{"$f":"Sécurité!EK31","v":0},{"$f":"Sécurité!EL31","v":0},{"$f":"Sécurité!EM31","v":0}]
[null,null,"Travail non fait",{"$f":"Sécurité!DT32","v":0},{"$f":"Sécurité!DU32","v":0},{"$f":"Sécurité!DV32","v":0},{"$f":"Sécurité!DW32","v":0},{"$f":"Sécurité!DX32","v":0},{"$f":"Sécurité!DY32","v":0},{"$f":"Sécurité!DZ32","v":0},{"$f":"Sécurité!EA32","v":0},{"$f":"Sécurité!EB32","v":0},{"$f":"Sécurité!EC32","v":0},{"$f":"Sécurité!ED32","v":0},{"$f":"Sécurité!EE32","v":0},{"$f":"Sécurité!EF32","v":0},{"$f":"Sécurité!EG32","v":0},{"$f":"Sécurité!EH32","v":0},{"$f":"Sécurité!EI32","v":0},{"$f":"Sécurité!EJ32","v":0},{"$f":"Sécurité!EK32","v":0},{"$f":"Sécurité!EL32","v":0},{"$f":"Sécurité!EM32","v":0}]
[null,null,null,{"$f":"Identification!$A$36","v":"2016-03-01"}]
[null,null,"tableau mensuel","Nombre de punitions",null,null,null,null,null,null,null,null,null,"% établissement"]
[null,null,null,{"$f":"Sécurité!EN30","v":0},{"$f":"Sécurité!EO30","v":0},{"$f":"Sécurité!EP30","v":0},{"$f":"Sécurité!EQ30","v":0},{"$f":"Sécurité!ER30","v":0},{"$f":"Sécurité!ES30","v":0},{"$f":"Sécurité!ET30","v":0},{"$f":"Sécurité!EU30","v":0},{"$f":"Sécurité!EV30","v":0},{"$f":"Sécurité!EW30","v":0},{"$f":"Sécurité!EX30","v":0},{"$f":"Sécurité!EY30","v":0},{"$f":"Sécurité!EZ30","v":0},{"$f":"Sécurité!FA30","v":0},{"$f":"Sécurité!FB30","v":0},{"$f":"Sécurité!FC30","v":0},{"$f":"Sécurité!FD30","v":0},{"$f":"Sécurité!FE30","v":0},{"$f":"Sécurité!FF30","v":0},{"$f":"Sécurité!FG30","v":0}]
[null,null,"Oubli de matériel",{"$f":"Sécurité!EN31","v":0},{"$f":"Sécurité!EO31","v":0},{"$f":"Sécurité!EP31","v":0},{"$f":"Sécurité!EQ31","v":0},{"$f":"Sécurité!ER31","v":0},{"$f":"Sécurité!ES31","v":0},{"$f":"Sécurité!ET31","v":0},{"$f":"Sécurité!EU31","v":0},{"$f":"Sécurité!EV31","v":0},{"$f":"Sécurité!EW31","v":0},{"$f":"Sécurité!EX31","v":0},{"$f":"Sécurité!EY31","v":0},{"$f":"Sécurité!EZ31","v":0},{"$f":"Sécurité!FA31","v":0},{"$f":"Sécurité!FB31","v":0},{"$f":"Sécurité!FC31","v":0},{"$f":"Sécurité!FD31","v":0},{"$f":"Sécurité!FE31","v":0},{"$f":"Sécurité!FF31","v":0},{"$f":"Sécurité!FG31","v":0}]
[null,null,"Travail non fait",{"$f":"Sécurité!EN32","v":0},{"$f":"Sécurité!EO32","v":0},{"$f":"Sécurité!EP32","v":0},{"$f":"Sécurité!EQ32","v":0},{"$f":"Sécurité!ER32","v":0},{"$f":"Sécurité!ES32","v":0},{"$f":"Sécurité!ET32","v":0},{"$f":"Sécurité!EU32","v":0},{"$f":"Sécurité!EV32","v":0},{"$f":"Sécurité!EW32","v":0},{"$f":"Sécurité!EX32","v":0},{"$f":"Sécurité!EY32","v":0},{"$f":"Sécurité!EZ32","v":0},{"$f":"Sécurité!FA32","v":0},{"$f":"Sécurité!FB32","v":0},{"$f":"Sécurité!FC32","v":0},{"$f":"Sécurité!FD32","v":0},{"$f":"Sécurité!FE32","v":0},{"$f":"Sécurité!FF32","v":0},{"$f":"Sécurité!FG32","v":0}]
[null,null,null,{"$f":"Identification!$A$37","v":"2016-04-01"}]
[null,null,"tableau mensuel","Nombre de punitions",null,null,null,null,null,null,null,null,null,"% établissement"]
[null,null,null,{"$f":"Sécurité!FH30","v":0},{"$f":"Sécurité!FI30","v":0},{"$f":"Sécurité!FJ30","v":0},{"$f":"Sécurité!FK30","v":0},{"$f":"Sécurité!FL30","v":0},{"$f":"Sécurité!FM30","v":0},{"$f":"Sécurité!FN30","v":0},{"$f":"Sécurité!FO30","v":0},{"$f":"Sécurité!FP30","v":0},{"$f":"Sécurité!FQ30","v":0},{"$f":"Sécurité!FR30","v":0},{"$f":"Sécurité!FS30","v":0},{"$f":"Sécurité!FT30","v":0},{"$f":"Sécurité!FU30","v":0},{"$f":"Sécurité!FV30","v":0},{"$f":"Sécurité!FW30","v":0},{"$f":"Sécurité!FX30","v":0},{"$f":"Sécurité!FY30","v":0},{"$f":"Sécurité!FZ30","v":0},{"$f":"Sécurité!GA30","v":0}]
[null,null,"Oubli de matériel",{"$f":"Sécurité!FH31","v":0},{"$f":"Sécurité!FI31","v":0},{"$f":"Sécurité!FJ31","v":0},{"$f":"Sécurité!FK31","v":0},{"$f":"Sécurité!FL31","v":0},{"$f":"Sécurité!FM31","v":0},{"$f":"Sécurité!FN31","v":0},{"$f":"Sécurité!FO31","v":0},{"$f":"Sécurité!FP31","v":0},{"$f":"Sécurité!FQ31","v":0},{"$f":"Sécurité!FR31","v":0},{"$f":"Sécurité!FS31","v":0},{"$f":"Sécurité!FT31","v":0},{"$f":"Sécurité!FU31","v":0},{"$f":"Sécurité!FV31","v":0},{"$f":"Sécurité!FW31","v":0},{"$f":"Sécurité!FX31","v":0},{"$f":"Sécurité!FY31","v":0},{"$f":"Sécurité!FZ31","v":0},{"$f":"Sécurité!GA31","v":0}]
[null,null,"Travail non fait",{"$f":"Sécurité!FH32","v":0},{"$f":"Sécurité!FI32","v":0},{"$f":"Sécurité!FJ32","v":0},{"$f":"Sécurité!FK32","v":0},{"$f":"Sécurité!FL32","v":0},{"$f":"Sécurité!FM32","v":0},{"$f":"Sécurité!FN32","v":0},{"$f":"Sécurité!FO32","v":0},{"$f":"Sécurité!FP32","v":0},{"$f":"Sécurité!FQ32","v":0},{"$f":"Sécurité!FR32","v":0},{"$f":"Sécurité!FS32","v":0},{"$f":"Sécurité!FT32","v":0},{"$f":"Sécurité!FU32","v":0},{"$f":"Sécurité!FV32","v":0},{"$f":"Sécurité!FW32","v":0},{"$f":"Sécurité!FX32","v":0},{"$f":"Sécurité!FY32","v":0},{"$f":"Sécurité!FZ32","v":0},{"$f":"Sécurité!GA32","v":0}]
[null,null,null,{"$f":"Identification!$A$38","v":"2016-05-01"}]
[null,null,"tableau mensuel","Nombre de punitions",null,null,null,null,null,null,null,null,null,"% établissement"]
[null,null,null,{"$f":"Sécurité!GB30","v":0},{"$f":"Sécurité!GC30","v":0},{"$f":"Sécurité!GD30","v":0},{"$f":"Sécurité!GE30","v":0},{"$f":"Sécurité!GF30","v":0},{"$f":"Sécurité!GG30","v":0},{"$f":"Sécurité!GH30","v":0},{"$f":"Sécurité!GI30","v":0},{"$f":"Sécurité!GJ30","v":0},{"$f":"Sécurité!GK30","v":0},{"$f":"Sécurité!GL30","v":0},{"$f":"Sécurité!GM30","v":0},{"$f":"Sécurité!GN30","v":0},{"$f":"Sécurité!GO30","v":0},{"$f":"Sécurité!GP30","v":0},{"$f":"Sécurité!GQ30","v":0},{"$f":"Sécurité!GR30","v":0},{"$f":"Sécurité!GS30","v":0},{"$f":"Sécurité!GT30","v":0},{"$f":"Sécurité!GU30","v":0}]
[null,null,"Oubli de matériel",{"$f":"Sécurité!GB31","v":0},{"$f":"Sécurité!GC31","v":0},{"$f":"Sécurité!GD31","v":0},{"$f":"Sécurité!GE31","v":0},{"$f":"Sécurité!GF31","v":0},{"$f":"Sécurité!GG31","v":0},{"$f":"Sécurité!GH31","v":0},{"$f":"Sécurité!GI31","v":0},{"$f":"Sécurité!GJ31","v":0},{"$f":"Sécurité!GK31","v":0},{"$f":"Sécurité!GL31","v":0},{"$f":"Sécurité!GM31","v":0},{"$f":"Sécurité!GN31","v":0},{"$f":"Sécurité!GO31","v":0},{"$f":"Sécurité!GP31","v":0},{"$f":"Sécurité!GQ31","v":0},{"$f":"Sécurité!GR31","v":0},{"$f":"Sécurité!GS31","v":0},{"$f":"Sécurité!GT31","v":0},{"$f":"Sécurité!GU31","v":0}]
[null,null,"Travail non fait",{"$f":"Sécurité!GB32","v":0},{"$f":"Sécurité!GC32","v":0},{"$f":"Sécurité!GD32","v":0},{"$f":"Sécurité!GE32","v":0},{"$f":"Sécurité!GF32","v":0},{"$f":"Sécurité!GG32","v":0},{"$f":"Sécurité!GH32","v":0},{"$f":"Sécurité!GI32","v":0},{"$f":"Sécurité!GJ32","v":0},{"$f":"Sécurité!GK32","v":0},{"$f":"Sécurité!GL32","v":0},{"$f":"Sécurité!GM32","v":0},{"$f":"Sécurité!GN32","v":0},{"$f":"Sécurité!GO32","v":0},{"$f":"Sécurité!GP32","v":0},{"$f":"Sécurité!GQ32","v":0},{"$f":"Sécurité!GR32","v":0},{"$f":"Sécurité!GS32","v":0},{"$f":"Sécurité!GT32","v":0},{"$f":"Sécurité!GU32","v":0}]
[null,null,null,{"$f":"Identification!$A$39","v":"2016-06-01"}]
[null,null,"tableau mensuel","Nombre de punitions",null,null,null,null,null,null,null,null,null,"% établissement"]
[null,null,null,{"$f":"Sécurité!GV30","v":0},{"$f":"Sécurité!GW30","v":0},{"$f":"Sécurité!GX30","v":0},{"$f":"Sécurité!GY30","v":0},{"$f":"Sécurité!GZ30","v":0},{"$f":"Sécurité!HA30","v":0},{"$f":"Sécurité!HB30","v":0},{"$f":"Sécurité!HC30","v":0},{"$f":"Sécurité!HD30","v":0},{"$f":"Sécurité!HE30","v":0},{"$f":"Sécurité!HF30","v":0},{"$f":"Sécurité!HG30","v":0},{"$f":"Sécurité!HH30","v":0},{"$f":"Sécurité!HI30","v":0},{"$f":"Sécurité!HJ30","v":0},{"$f":"Sécurité!HK30","v":0},{"$f":"Sécurité!HL30","v":0},{"$f":"Sécurité!HM30","v":0},{"$f":"Sécurité!HN30","v":0},{"$f":"Sécurité!HO30","v":0}]
[null,null,"Oubli de matériel",{"$f":"Sécurité!GV31","v":0},{"$f":"Sécurité!GW31","v":0},{"$f":"Sécurité!GX31","v":0},{"$f":"Sécurité!GY31","v":0},{"$f":"Sécurité!GZ31","v":0},{"$f":"Sécurité!HA31","v":0},{"$f":"Sécurité!HB31","v":0},{"$f":"Sécurité!HC31","v":0},{"$f":"Sécurité!HD31","v":0},{"$f":"Sécurité!HE31","v":0},{"$f":"Sécurité!HF31","v":0},{"$f":"Sécurité!HG31","v":0},{"$f":"Sécurité!HH31","v":0},{"$f":"Sécurité!HI31","v":0},{"$f":"Sécurité!HJ31","v":0},{"$f":"Sécurité!HK31","v":0},{"$f":"Sécurité!HL31","v":0},{"$f":"Sécurité!HM31","v":0},{"$f":"Sécurité!HN31","v":0},{"$f":"Sécurité!HO31","v":0}]
[null,null,"Travail non fait",{"$f":"Sécurité!GV32","v":0},{"$f":"Sécurité!GW32","v":0},{"$f":"Sécurité!GX32","v":0},{"$f":"Sécurité!GY32","v":0},{"$f":"Sécurité!GZ32","v":0},{"$f":"Sécurité!HA32","v":0},{"$f":"Sécurité!HB32","v":0},{"$f":"Sécurité!HC32","v":0},{"$f":"Sécurité!HD32","v":0},{"$f":"Sécurité!HE32","v":0},{"$f":"Sécurité!HF32","v":0},{"$f":"Sécurité!HG32","v":0},{"$f":"Sécurité!HH32","v":0},{"$f":"Sécurité!HI32","v":0},{"$f":"Sécurité!HJ32","v":0},{"$f":"Sécurité!HK32","v":0},{"$f":"Sécurité!HL32","v":0},{"$f":"Sécurité!HM32","v":0},{"$f":"Sécurité!HN32","v":0},{"$f":"Sécurité!HO32","v":0}]
[null,null,null,{"$f":"Identification!$A$40","v":"2016-07-01"}]
[null,null,"tableau mensuel","Nombre de punitions",null,null,null,null,null,null,null,null,null,"% établissement"]
[null,null,null,{"$f":"Sécurité!HP30","v":0},{"$f":"Sécurité!HQ30","v":0},{"$f":"Sécurité!HR30","v":0},{"$f":"Sécurité!HS30","v":0},{"$f":"Sécurité!HT30","v":0},{"$f":"Sécurité!HU30","v":0},{"$f":"Sécurité!HV30","v":0},{"$f":"Sécurité!HW30","v":0},{"$f":"Sécurité!HX30","v":0},{"$f":"Sécurité!HY30","v":0},{"$f":"Sécurité!HZ30","v":0},{"$f":"Sécurité!IA30","v":0},{"$f":"Sécurité!IB30","v":0},{"$f":"Sécurité!IC30","v":0},{"$f":"Sécurité!ID30","v":0},{"$f":"Sécurité!IE30","v":0},{"$f":"Sécurité!IF30","v":0},{"$f":"Sécurité!IG30","v":0},{"$f":"Sécurité!IH30","v":0},{"$f":"Sécurité!II30","v":0}]
[null,null,"Oubli de matériel",{"$f":"Sécurité!HP31","v":0},{"$f":"Sécurité!HQ31","v":0},{"$f":"Sécurité!HR31","v":0},{"$f":"Sécurité!HS31","v":0},{"$f":"Sécurité!HT31","v":0},{"$f":"Sécurité!HU31","v":0},{"$f":"Sécurité!HV31","v":0},{"$f":"Sécurité!HW31","v":0},{"$f":"Sécurité!HX31","v":0},{"$f":"Sécurité!HY31","v":0},{"$f":"Sécurité!HZ31","v":0},{"$f":"Sécurité!IA31","v":0},{"$f":"Sécurité!IB31","v":0},{"$f":"Sécurité!IC31","v":0},{"$f":"Sécurité!ID31","v":0},{"$f":"Sécurité!IE31","v":0},{"$f":"Sécurité!IF31","v":0},{"$f":"Sécurité!IG31","v":0},{"$f":"Sécurité!IH31","v":0},{"$f":"Sécurité!II31","v":0}]
[null,null,"Travail non fait",{"$f":"Sécurité!HP32","v":0},{"$f":"Sécurité!HQ32","v":0},{"$f":"Sécurité!HR32","v":0},{"$f":"Sécurité!HS32","v":0},{"$f":"Sécurité!HT32","v":0},{"$f":"Sécurité!HU32","v":0},{"$f":"Sécurité!HV32","v":0},{"$f":"Sécurité!HW32","v":0},{"$f":"Sécurité!HX32","v":0},{"$f":"Sécurité!HY32","v":0},{"$f":"Sécurité!HZ32","v":0},{"$f":"Sécurité!IA32","v":0},{"$f":"Sécurité!IB32","v":0},{"$f":"Sécurité!IC32","v":0},{"$f":"Sécurité!ID32","v":0},{"$f":"Sécurité!IE32","v":0},{"$f":"Sécurité!IF32","v":0},{"$f":"Sécurité!IG32","v":0},{"$f":"Sécurité!IH32","v":0},{"$f":"Sécurité!II32","v":0}]
[]
[]
["Etre élève"]
[null,"Respect des biens        (Punitions)"]
[]
[null,null,null,null,{"$f":"Identification!$A$29","v":"2015-08-01"}]
[null,null,{"$f":"Sécurité!$C$39","v":"tableau mensuel"},{"$f":"Sécurité!$D$39","v":"Nature des faits"},{"$f":"Sécurité!E39","v":"Nb total d'incidents par nature"},{"$f":"Sécurité!F39","v":"Type de punition"},null,null,{"$f":"Sécurité!I39","v":"Nb d'incidents par niveau"},null,null,null,null,null,null,null,null,null,{"$f":"Sécurité!S39","v":"Nb d'élèves concernés"}]
[null,null,null,null,null,null,null,null,{"$f":"Sécurité!I40","v":0},{"$f":"Sécurité!J40","v":0},{"$f":"Sécurité!K40","v":0},{"$f":"Sécurité!L40","v":0},{"$f":"Sécurité!M40","v":0},{"$f":"Sécurité!N40","v":0},{"$f":"Sécurité!O40","v":0},{"$f":"Sécurité!P40","v":0},{"$f":"Sécurité!Q40","v":0},{"$f":"Sécurité!R40","v":0},{"$f":"Sécurité!S40","v":0},{"$f":"Sécurité!T40","v":0},{"$f":"Sécurité!U40","v":0},{"$f":"Sécurité!V40","v":0},{"$f":"Sécurité!W40","v":0},{"$f":"Sécurité!X40","v":0},{"$f":"Sécurité!Y40","v":0},{"$f":"Sécurité!Z40","v":0},{"$f":"Sécurité!AA40","v":0},{"$f":"Sécurité!AB40","v":0}]
[null,null,null,null,null,{"$f":"Sécurité!F41","v":0},{"$f":"Sécurité!G41","v":0},{"$f":"Sécurité!H41","v":0},{"$f":"Sécurité!I41","v":0},{"$f":"Sécurité!J41","v":0},{"$f":"Sécurité!K41","v":0},{"$f":"Sécurité!L41","v":0},{"$f":"Sécurité!M41","v":0},{"$f":"Sécurité!N41","v":0},{"$f":"Sécurité!O41","v":0},{"$f":"Sécurité!P41","v":0},{"$f":"Sécurité!Q41","v":0},{"$f":"Sécurité!R41","v":0},{"$f":"Sécurité!S41","v":0},{"$f":"Sécurité!T41","v":0},{"$f":"Sécurité!U41","v":0},{"$f":"Sécurité!V41","v":0},{"$f":"Sécurité!W41","v":0},{"$f":"Sécurité!X41","v":0},{"$f":"Sécurité!Y41","v":0},{"$f":"Sécurité!Z41","v":0},{"$f":"Sécurité!AA41","v":0},{"$f":"Sécurité!AB41","v":0}]
[null,null,{"$f":"Sécurité!C42","v":"Nature des incidents (punitions)\n(à décliner)"},{"$f":"Sécurité!D42","v":0},{"$f":"Sécurité!E42","v":0},{"$f":"Sécurité!F42","v":0},{"$f":"Sécurité!G42","v":0},{"$f":"Sécurité!H42","v":0},{"$f":"Sécurité!I42","v":0},{"$f":"Sécurité!J42","v":0},{"$f":"Sécurité!K42","v":0},{"$f":"Sécurité!L42","v":0},{"$f":"Sécurité!M42","v":0},{"$f":"Sécurité!N42","v":0},{"$f":"Sécurité!O42","v":0},{"$f":"Sécurité!P42","v":0},{"$f":"Sécurité!Q42","v":0},{"$f":"Sécurité!R42","v":0},{"$f":"Sécurité!S42","v":0},{"$f":"Sécurité!T42","v":0},{"$f":"Sécurité!U42","v":0},{"$f":"Sécurité!V42","v":0},{"$f":"Sécurité!W42","v":0},{"$f":"Sécurité!X42","v":0},{"$f":"Sécurité!Y42","v":0},{"$f":"Sécurité!Z42","v":0},{"$f":"Sécurité!AA42","v":0},{"$f":"Sécurité!AB42","v":0}]
[null,null,{"$f":"Sécurité!C43","v":0},{"$f":"Sécurité!D43","v":0},{"$f":"Sécurité!E43","v":0},{"$f":"Sécurité!F43","v":0},{"$f":"Sécurité!G43","v":0},{"$f":"Sécurité!H43","v":0},{"$f":"Sécurité!I43","v":0},{"$f":"Sécurité!J43","v":0},{"$f":"Sécurité!K43","v":0},{"$f":"Sécurité!L43","v":0},{"$f":"Sécurité!M43","v":0},{"$f":"Sécurité!N43","v":0},{"$f":"Sécurité!O43","v":0},{"$f":"Sécurité!P43","v":0},{"$f":"Sécurité!Q43","v":0},{"$f":"Sécurité!R43","v":0},{"$f":"Sécurité!S43","v":0},{"$f":"Sécurité!T43","v":0},{"$f":"Sécurité!U43","v":0},{"$f":"Sécurité!V43","v":0},{"$f":"Sécurité!W43","v":0},{"$f":"Sécurité!X43","v":0},{"$f":"Sécurité!Y43","v":0},{"$f":"Sécurité!Z43","v":0},{"$f":"Sécurité!AA43","v":0},{"$f":"Sécurité!AB43","v":0}]
[null,null,{"$f":"Sécurité!C44","v":0},{"$f":"Sécurité!D44","v":0},{"$f":"Sécurité!E44","v":0},{"$f":"Sécurité!F44","v":0},{"$f":"Sécurité!G44","v":0},{"$f":"Sécurité!H44","v":0},{"$f":"Sécurité!I44","v":0},{"$f":"Sécurité!J44","v":0},{"$f":"Sécurité!K44","v":0},{"$f":"Sécurité!L44","v":0},{"$f":"Sécurité!M44","v":0},{"$f":"Sécurité!N44","v":0},{"$f":"Sécurité!O44","v":0},{"$f":"Sécurité!P44","v":0},{"$f":"Sécurité!Q44","v":0},{"$f":"Sécurité!R44","v":0},{"$f":"Sécurité!S44","v":0},{"$f":"Sécurité!T44","v":0},{"$f":"Sécurité!U44","v":0},{"$f":"Sécurité!V44","v":0},{"$f":"Sécurité!W44","v":0},{"$f":"Sécurité!X44","v":0},{"$f":"Sécurité!Y44","v":0},{"$f":"Sécurité!Z44","v":0},{"$f":"Sécurité!AA44","v":0},{"$f":"Sécurité!AB44","v":0}]
[null,null,{"$f":"Sécurité!C45","v":0},{"$f":"Sécurité!D45","v":0},{"$f":"Sécurité!E45","v":0},{"$f":"Sécurité!F45","v":0},{"$f":"Sécurité!G45","v":0},{"$f":"Sécurité!H45","v":0},{"$f":"Sécurité!I45","v":0},{"$f":"Sécurité!J45","v":0},{"$f":"Sécurité!K45","v":0},{"$f":"Sécurité!L45","v":0},{"$f":"Sécurité!M45","v":0},{"$f":"Sécurité!N45","v":0},{"$f":"Sécurité!O45","v":0},{"$f":"Sécurité!P45","v":0},{"$f":"Sécurité!Q45","v":0},{"$f":"Sécurité!R45","v":0},{"$f":"Sécurité!S45","v":0},{"$f":"Sécurité!T45","v":0},{"$f":"Sécurité!U45","v":0},{"$f":"Sécurité!V45","v":0},{"$f":"Sécurité!W45","v":0},{"$f":"Sécurité!X45","v":0},{"$f":"Sécurité!Y45","v":0},{"$f":"Sécurité!Z45","v":0},{"$f":"Sécurité!AA45","v":0},{"$f":"Sécurité!AB45","v":0}]
[null,null,{"$f":"Sécurité!C46","v":0},{"$f":"Sécurité!D46","v":0},{"$f":"Sécurité!E46","v":0},{"$f":"Sécurité!F46","v":0},{"$f":"Sécurité!G46","v":0},{"$f":"Sécurité!H46","v":0},{"$f":"Sécurité!I46","v":0},{"$f":"Sécurité!J46","v":0},{"$f":"Sécurité!K46","v":0},{"$f":"Sécurité!L46","v":0},{"$f":"Sécurité!M46","v":0},{"$f":"Sécurité!N46","v":0},{"$f":"Sécurité!O46","v":0},{"$f":"Sécurité!P46","v":0},{"$f":"Sécurité!Q46","v":0},{"$f":"Sécurité!R46","v":0},{"$f":"Sécurité!S46","v":0},{"$f":"Sécurité!T46","v":0},{"$f":"Sécurité!U46","v":0},{"$f":"Sécurité!V46","v":0},{"$f":"Sécurité!W46","v":0},{"$f":"Sécurité!X46","v":0},{"$f":"Sécurité!Y46","v":0},{"$f":"Sécurité!Z46","v":0},{"$f":"Sécurité!AA46","v":0},{"$f":"Sécurité!AB46","v":0}]
[null,null,{"$f":"Sécurité!C47","v":0},{"$f":"Sécurité!D47","v":0},{"$f":"Sécurité!E47","v":0},{"$f":"Sécurité!F47","v":0},{"$f":"Sécurité!G47","v":0},{"$f":"Sécurité!H47","v":0},{"$f":"Sécurité!I47","v":0},{"$f":"Sécurité!J47","v":0},{"$f":"Sécurité!K47","v":0},{"$f":"Sécurité!L47","v":0},{"$f":"Sécurité!M47","v":0},{"$f":"Sécurité!N47","v":0},{"$f":"Sécurité!O47","v":0},{"$f":"Sécurité!P47","v":0},{"$f":"Sécurité!Q47","v":0},{"$f":"Sécurité!R47","v":0},{"$f":"Sécurité!S47","v":0},{"$f":"Sécurité!T47","v":0},{"$f":"Sécurité!U47","v":0},{"$f":"Sécurité!V47","v":0},{"$f":"Sécurité!W47","v":0},{"$f":"Sécurité!X47","v":0},{"$f":"Sécurité!Y47","v":0},{"$f":"Sécurité!Z47","v":0},{"$f":"Sécurité!AA47","v":0},{"$f":"Sécurité!AB47","v":0}]
[null,null,{"$f":"Sécurité!C48","v":0},{"$f":"Sécurité!D48","v":0},{"$f":"Sécurité!E48","v":0},{"$f":"Sécurité!F48","v":0},{"$f":"Sécurité!G48","v":0},{"$f":"Sécurité!H48","v":0},{"$f":"Sécurité!I48","v":0},{"$f":"Sécurité!J48","v":0},{"$f":"Sécurité!K48","v":0},{"$f":"Sécurité!L48","v":0},{"$f":"Sécurité!M48","v":0},{"$f":"Sécurité!N48","v":0},{"$f":"Sécurité!O48","v":0},{"$f":"Sécurité!P48","v":0},{"$f":"Sécurité!Q48","v":0},{"$f":"Sécurité!R48","v":0},{"$f":"Sécurité!S48","v":0},{"$f":"Sécurité!T48","v":0},{"$f":"Sécurité!U48","v":0},{"$f":"Sécurité!V48","v":0},{"$f":"Sécurité!W48","v":0},{"$f":"Sécurité!X48","v":0},{"$f":"Sécurité!Y48","v":0},{"$f":"Sécurité!Z48","v":0},{"$f":"Sécurité!AA48","v":0},{"$f":"Sécurité!AB48","v":0}]
[null,null,{"$f":"Sécurité!C49","v":0},{"$f":"Sécurité!D49","v":0},{"$f":"Sécurité!E49","v":0},{"$f":"Sécurité!F49","v":0},{"$f":"Sécurité!G49","v":0},{"$f":"Sécurité!H49","v":0},{"$f":"Sécurité!I49","v":0},{"$f":"Sécurité!J49","v":0},{"$f":"Sécurité!K49","v":0},{"$f":"Sécurité!L49","v":0},{"$f":"Sécurité!M49","v":0},{"$f":"Sécurité!N49","v":0},{"$f":"Sécurité!O49","v":0},{"$f":"Sécurité!P49","v":0},{"$f":"Sécurité!Q49","v":0},{"$f":"Sécurité!R49","v":0},{"$f":"Sécurité!S49","v":0},{"$f":"Sécurité!T49","v":0},{"$f":"Sécurité!U49","v":0},{"$f":"Sécurité!V49","v":0},{"$f":"Sécurité!W49","v":0},{"$f":"Sécurité!X49","v":0},{"$f":"Sécurité!Y49","v":0},{"$f":"Sécurité!Z49","v":0},{"$f":"Sécurité!AA49","v":0},{"$f":"Sécurité!AB49","v":0}]
[null,null,null,null,{"$f":"Identification!$A$30","v":"2015-09-01"}]
[null,null,{"$f":"Sécurité!$C$39","v":"tableau mensuel"},{"$f":"Sécurité!$D$39","v":"Nature des faits"},{"$f":"Sécurité!AC39","v":"Nb total d'incidents par nature"},{"$f":"Sécurité!AD39","v":"Type de punition"},null,null,{"$f":"Sécurité!AG39","v":"Nb d'incidents par niveau"},null,null,null,null,null,null,null,null,null,{"$f":"Sécurité!AQ39","v":"Nb d'élèves concernés"}]
[null,null,null,null,null,null,null,null,{"$f":"Sécurité!AG40","v":0},{"$f":"Sécurité!AH40","v":0},{"$f":"Sécurité!AI40","v":0},{"$f":"Sécurité!AJ40","v":0},{"$f":"Sécurité!AK40","v":0},{"$f":"Sécurité!AL40","v":0},{"$f":"Sécurité!AM40","v":0},{"$f":"Sécurité!AN40","v":0},{"$f":"Sécurité!AO40","v":0},{"$f":"Sécurité!AP40","v":0},{"$f":"Sécurité!AQ40","v":0},{"$f":"Sécurité!AR40","v":0},{"$f":"Sécurité!AS40","v":0},{"$f":"Sécurité!AT40","v":0},{"$f":"Sécurité!AU40","v":0},{"$f":"Sécurité!AV40","v":0},{"$f":"Sécurité!AW40","v":0},{"$f":"Sécurité!AX40","v":0},{"$f":"Sécurité!AY40","v":0},{"$f":"Sécurité!AZ40","v":0}]
[null,null,null,null,null,{"$f":"Sécurité!AD41","v":0},{"$f":"Sécurité!AE41","v":0},{"$f":"Sécurité!AF41","v":0},{"$f":"Sécurité!AG41","v":0},{"$f":"Sécurité!AH41","v":0},{"$f":"Sécurité!AI41","v":0},{"$f":"Sécurité!AJ41","v":0},{"$f":"Sécurité!AK41","v":0},{"$f":"Sécurité!AL41","v":0},{"$f":"Sécurité!AM41","v":0},{"$f":"Sécurité!AN41","v":0},{"$f":"Sécurité!AO41","v":0},{"$f":"Sécurité!AP41","v":0},{"$f":"Sécurité!AQ41","v":0},{"$f":"Sécurité!AR41","v":0},{"$f":"Sécurité!AS41","v":0},{"$f":"Sécurité!AT41","v":0},{"$f":"Sécurité!AU41","v":0},{"$f":"Sécurité!AV41","v":0},{"$f":"Sécurité!AW41","v":0},{"$f":"Sécurité!AX41","v":0},{"$f":"Sécurité!AY41","v":0},{"$f":"Sécurité!AZ41","v":0}]
[null,null,{"$f":"Sécurité!$C$42","v":"Nature des incidents (punitions)\n(à décliner)"},{"$f":"Sécurité!$D$42","v":0},{"$f":"Sécurité!AC42","v":0},{"$f":"Sécurité!AD42","v":0},{"$f":"Sécurité!AE42","v":0},{"$f":"Sécurité!AF42","v":0},{"$f":"Sécurité!AG42","v":0},{"$f":"Sécurité!AH42","v":0},{"$f":"Sécurité!AI42","v":0},{"$f":"Sécurité!AJ42","v":0},{"$f":"Sécurité!AK42","v":0},{"$f":"Sécurité!AL42","v":0},{"$f":"Sécurité!AM42","v":0},{"$f":"Sécurité!AN42","v":0},{"$f":"Sécurité!AO42","v":0},{"$f":"Sécurité!AP42","v":0},{"$f":"Sécurité!AQ42","v":0},{"$f":"Sécurité!AR42","v":0},{"$f":"Sécurité!AS42","v":0},{"$f":"Sécurité!AT42","v":0},{"$f":"Sécurité!AU42","v":0},{"$f":"Sécurité!AV42","v":0},{"$f":"Sécurité!AW42","v":0},{"$f":"Sécurité!AX42","v":0},{"$f":"Sécurité!AY42","v":0},{"$f":"Sécurité!AZ42","v":0}]
[null,null,{"$f":"Sécurité!$C$43","v":0},{"$f":"Sécurité!$D$43","v":0},{"$f":"Sécurité!AC43","v":0},{"$f":"Sécurité!AD43","v":0},{"$f":"Sécurité!AE43","v":0},{"$f":"Sécurité!AF43","v":0},{"$f":"Sécurité!AG43","v":0},{"$f":"Sécurité!AH43","v":0},{"$f":"Sécurité!AI43","v":0},{"$f":"Sécurité!AJ43","v":0},{"$f":"Sécurité!AK43","v":0},{"$f":"Sécurité!AL43","v":0},{"$f":"Sécurité!AM43","v":0},{"$f":"Sécurité!AN43","v":0},{"$f":"Sécurité!AO43","v":0},{"$f":"Sécurité!AP43","v":0},{"$f":"Sécurité!AQ43","v":0},{"$f":"Sécurité!AR43","v":0},{"$f":"Sécurité!AS43","v":0},{"$f":"Sécurité!AT43","v":0},{"$f":"Sécurité!AU43","v":0},{"$f":"Sécurité!AV43","v":0},{"$f":"Sécurité!AW43","v":0},{"$f":"Sécurité!AX43","v":0},{"$f":"Sécurité!AY43","v":0},{"$f":"Sécurité!AZ43","v":0}]
[null,null,{"$f":"Sécurité!$C$44","v":0},{"$f":"Sécurité!$D$44","v":0},{"$f":"Sécurité!AC44","v":0},{"$f":"Sécurité!AD44","v":0},{"$f":"Sécurité!AE44","v":0},{"$f":"Sécurité!AF44","v":0},{"$f":"Sécurité!AG44","v":0},{"$f":"Sécurité!AH44","v":0},{"$f":"Sécurité!AI44","v":0},{"$f":"Sécurité!AJ44","v":0},{"$f":"Sécurité!AK44","v":0},{"$f":"Sécurité!AL44","v":0},{"$f":"Sécurité!AM44","v":0},{"$f":"Sécurité!AN44","v":0},{"$f":"Sécurité!AO44","v":0},{"$f":"Sécurité!AP44","v":0},{"$f":"Sécurité!AQ44","v":0},{"$f":"Sécurité!AR44","v":0},{"$f":"Sécurité!AS44","v":0},{"$f":"Sécurité!AT44","v":0},{"$f":"Sécurité!AU44","v":0},{"$f":"Sécurité!AV44","v":0},{"$f":"Sécurité!AW44","v":0},{"$f":"Sécurité!AX44","v":0},{"$f":"Sécurité!AY44","v":0},{"$f":"Sécurité!AZ44","v":0}]
[null,null,{"$f":"Sécurité!$C$45","v":0},{"$f":"Sécurité!$D$45","v":0},{"$f":"Sécurité!AC45","v":0},{"$f":"Sécurité!AD45","v":0},{"$f":"Sécurité!AE45","v":0},{"$f":"Sécurité!AF45","v":0},{"$f":"Sécurité!AG45","v":0},{"$f":"Sécurité!AH45","v":0},{"$f":"Sécurité!AI45","v":0},{"$f":"Sécurité!AJ45","v":0},{"$f":"Sécurité!AK45","v":0},{"$f":"Sécurité!AL45","v":0},{"$f":"Sécurité!AM45","v":0},{"$f":"Sécurité!AN45","v":0},{"$f":"Sécurité!AO45","v":0},{"$f":"Sécurité!AP45","v":0},{"$f":"Sécurité!AQ45","v":0},{"$f":"Sécurité!AR45","v":0},{"$f":"Sécurité!AS45","v":0},{"$f":"Sécurité!AT45","v":0},{"$f":"Sécurité!AU45","v":0},{"$f":"Sécurité!AV45","v":0},{"$f":"Sécurité!AW45","v":0},{"$f":"Sécurité!AX45","v":0},{"$f":"Sécurité!AY45","v":0},{"$f":"Sécurité!AZ45","v":0}]
[null,null,{"$f":"Sécurité!$C$46","v":0},{"$f":"Sécurité!$D$46","v":0},{"$f":"Sécurité!AC46","v":0},{"$f":"Sécurité!AD46","v":0},{"$f":"Sécurité!AE46","v":0},{"$f":"Sécurité!AF46","v":0},{"$f":"Sécurité!AG46","v":0},{"$f":"Sécurité!AH46","v":0},{"$f":"Sécurité!AI46","v":0},{"$f":"Sécurité!AJ46","v":0},{"$f":"Sécurité!AK46","v":0},{"$f":"Sécurité!AL46","v":0},{"$f":"Sécurité!AM46","v":0},{"$f":"Sécurité!AN46","v":0},{"$f":"Sécurité!AO46","v":0},{"$f":"Sécurité!AP46","v":0},{"$f":"Sécurité!AQ46","v":0},{"$f":"Sécurité!AR46","v":0},{"$f":"Sécurité!AS46","v":0},{"$f":"Sécurité!AT46","v":0},{"$f":"Sécurité!AU46","v":0},{"$f":"Sécurité!AV46","v":0},{"$f":"Sécurité!AW46","v":0},{"$f":"Sécurité!AX46","v":0},{"$f":"Sécurité!AY46","v":0},{"$f":"Sécurité!AZ46","v":0}]
[null,null,{"$f":"Sécurité!$C$47","v":0},{"$f":"Sécurité!$D$47","v":0},{"$f":"Sécurité!AC47","v":0},{"$f":"Sécurité!AD47","v":0},{"$f":"Sécurité!AE47","v":0},{"$f":"Sécurité!AF47","v":0},{"$f":"Sécurité!AG47","v":0},{"$f":"Sécurité!AH47","v":0},{"$f":"Sécurité!AI47","v":0},{"$f":"Sécurité!AJ47","v":0},{"$f":"Sécurité!AK47","v":0},{"$f":"Sécurité!AL47","v":0},{"$f":"Sécurité!AM47","v":0},{"$f":"Sécurité!AN47","v":0},{"$f":"Sécurité!AO47","v":0},{"$f":"Sécurité!AP47","v":0},{"$f":"Sécurité!AQ47","v":0},{"$f":"Sécurité!AR47","v":0},{"$f":"Sécurité!AS47","v":0},{"$f":"Sécurité!AT47","v":0},{"$f":"Sécurité!AU47","v":0},{"$f":"Sécurité!AV47","v":0},{"$f":"Sécurité!AW47","v":0},{"$f":"Sécurité!AX47","v":0},{"$f":"Sécurité!AY47","v":0},{"$f":"Sécurité!AZ47","v":0}]
[null,null,{"$f":"Sécurité!$C$48","v":0},{"$f":"Sécurité!$D$48","v":0},{"$f":"Sécurité!AC48","v":0},{"$f":"Sécurité!AD48","v":0},{"$f":"Sécurité!AE48","v":0},{"$f":"Sécurité!AF48","v":0},{"$f":"Sécurité!AG48","v":0},{"$f":"Sécurité!AH48","v":0},{"$f":"Sécurité!AI48","v":0},{"$f":"Sécurité!AJ48","v":0},{"$f":"Sécurité!AK48","v":0},{"$f":"Sécurité!AL48","v":0},{"$f":"Sécurité!AM48","v":0},{"$f":"Sécurité!AN48","v":0},{"$f":"Sécurité!AO48","v":0},{"$f":"Sécurité!AP48","v":0},{"$f":"Sécurité!AQ48","v":0},{"$f":"Sécurité!AR48","v":0},{"$f":"Sécurité!AS48","v":0},{"$f":"Sécurité!AT48","v":0},{"$f":"Sécurité!AU48","v":0},{"$f":"Sécurité!AV48","v":0},{"$f":"Sécurité!AW48","v":0},{"$f":"Sécurité!AX48","v":0},{"$f":"Sécurité!AY48","v":0},{"$f":"Sécurité!AZ48","v":0}]
[null,null,{"$f":"Sécurité!$C$49","v":0},{"$f":"Sécurité!$D$49","v":0},{"$f":"Sécurité!AC49","v":0},{"$f":"Sécurité!AD49","v":0},{"$f":"Sécurité!AE49","v":0},{"$f":"Sécurité!AF49","v":0},{"$f":"Sécurité!AG49","v":0},{"$f":"Sécurité!AH49","v":0},{"$f":"Sécurité!AI49","v":0},{"$f":"Sécurité!AJ49","v":0},{"$f":"Sécurité!AK49","v":0},{"$f":"Sécurité!AL49","v":0},{"$f":"Sécurité!AM49","v":0},{"$f":"Sécurité!AN49","v":0},{"$f":"Sécurité!AO49","v":0},{"$f":"Sécurité!AP49","v":0},{"$f":"Sécurité!AQ49","v":0},{"$f":"Sécurité!AR49","v":0},{"$f":"Sécurité!AS49","v":0},{"$f":"Sécurité!AT49","v":0},{"$f":"Sécurité!AU49","v":0},{"$f":"Sécurité!AV49","v":0},{"$f":"Sécurité!AW49","v":0},{"$f":"Sécurité!AX49","v":0},{"$f":"Sécurité!AY49","v":0},{"$f":"Sécurité!AZ49","v":0}]
[null,null,null,null,{"$f":"Identification!$A$31","v":"2015-10-01"}]
[null,null,{"$f":"Sécurité!$C$39","v":"tableau mensuel"},{"$f":"Sécurité!$D$39","v":"Nature des faits"},{"$f":"Sécurité!BA39","v":"Nb total d'incidents par nature"},{"$f":"Sécurité!BB39","v":"Type de punition"},null,null,{"$f":"Sécurité!BE39","v":"Nb d'incidents par niveau"},null,null,null,null,null,null,null,null,null,{"$f":"Sécurité!BO39","v":"Nb d'élèves concernés"}]
[null,null,null,null,null,null,null,null,{"$f":"Sécurité!BE40","v":0},{"$f":"Sécurité!BF40","v":0},{"$f":"Sécurité!BG40","v":0},{"$f":"Sécurité!BH40","v":0},{"$f":"Sécurité!BI40","v":0},{"$f":"Sécurité!BJ40","v":0},{"$f":"Sécurité!BK40","v":0},{"$f":"Sécurité!BL40","v":0},{"$f":"Sécurité!BM40","v":0},{"$f":"Sécurité!BN40","v":0},{"$f":"Sécurité!BO40","v":0},{"$f":"Sécurité!BP40","v":0},{"$f":"Sécurité!BQ40","v":0},{"$f":"Sécurité!BR40","v":0},{"$f":"Sécurité!BS40","v":0},{"$f":"Sécurité!BT40","v":0},{"$f":"Sécurité!BU40","v":0},{"$f":"Sécurité!BV40","v":0},{"$f":"Sécurité!BW40","v":0},{"$f":"Sécurité!BX40","v":0}]
[null,null,null,null,null,{"$f":"Sécurité!BB41","v":0},{"$f":"Sécurité!BC41","v":0},{"$f":"Sécurité!BD41","v":0},{"$f":"Sécurité!BE41","v":0},{"$f":"Sécurité!BF41","v":0},{"$f":"Sécurité!BG41","v":0},{"$f":"Sécurité!BH41","v":0},{"$f":"Sécurité!BI41","v":0},{"$f":"Sécurité!BJ41","v":0},{"$f":"Sécurité!BK41","v":0},{"$f":"Sécurité!BL41","v":0},{"$f":"Sécurité!BM41","v":0},{"$f":"Sécurité!BN41","v":0},{"$f":"Sécurité!BO41","v":0},{"$f":"Sécurité!BP41","v":0},{"$f":"Sécurité!BQ41","v":0},{"$f":"Sécurité!BR41","v":0},{"$f":"Sécurité!BS41","v":0},{"$f":"Sécurité!BT41","v":0},{"$f":"Sécurité!BU41","v":0},{"$f":"Sécurité!BV41","v":0},{"$f":"Sécurité!BW41","v":0},{"$f":"Sécurité!BX41","v":0}]
[null,null,{"$f":"Sécurité!$C$42","v":"Nature des incidents (punitions)\n(à décliner)"},{"$f":"Sécurité!$D$42","v":0},{"$f":"Sécurité!BA42","v":0},{"$f":"Sécurité!BB42","v":0},{"$f":"Sécurité!BC42","v":0},{"$f":"Sécurité!BD42","v":0},{"$f":"Sécurité!BE42","v":0},{"$f":"Sécurité!BF42","v":0},{"$f":"Sécurité!BG42","v":0},{"$f":"Sécurité!BH42","v":0},{"$f":"Sécurité!BI42","v":0},{"$f":"Sécurité!BJ42","v":0},{"$f":"Sécurité!BK42","v":0},{"$f":"Sécurité!BL42","v":0},{"$f":"Sécurité!BM42","v":0},{"$f":"Sécurité!BN42","v":0},{"$f":"Sécurité!BO42","v":0},{"$f":"Sécurité!BP42","v":0},{"$f":"Sécurité!BQ42","v":0},{"$f":"Sécurité!BR42","v":0},{"$f":"Sécurité!BS42","v":0},{"$f":"Sécurité!BT42","v":0},{"$f":"Sécurité!BU42","v":0},{"$f":"Sécurité!BV42","v":0},{"$f":"Sécurité!BW42","v":0},{"$f":"Sécurité!BX42","v":0}]
[null,null,{"$f":"Sécurité!$C$43","v":0},{"$f":"Sécurité!$D$43","v":0},{"$f":"Sécurité!BA43","v":0},{"$f":"Sécurité!BB43","v":0},{"$f":"Sécurité!BC43","v":0},{"$f":"Sécurité!BD43","v":0},{"$f":"Sécurité!BE43","v":0},{"$f":"Sécurité!BF43","v":0},{"$f":"Sécurité!BG43","v":0},{"$f":"Sécurité!BH43","v":0},{"$f":"Sécurité!BI43","v":0},{"$f":"Sécurité!BJ43","v":0},{"$f":"Sécurité!BK43","v":0},{"$f":"Sécurité!BL43","v":0},{"$f":"Sécurité!BM43","v":0},{"$f":"Sécurité!BN43","v":0},{"$f":"Sécurité!BO43","v":0},{"$f":"Sécurité!BP43","v":0},{"$f":"Sécurité!BQ43","v":0},{"$f":"Sécurité!BR43","v":0},{"$f":"Sécurité!BS43","v":0},{"$f":"Sécurité!BT43","v":0},{"$f":"Sécurité!BU43","v":0},{"$f":"Sécurité!BV43","v":0},{"$f":"Sécurité!BW43","v":0},{"$f":"Sécurité!BX43","v":0}]
[null,null,{"$f":"Sécurité!$C$44","v":0},{"$f":"Sécurité!$D$44","v":0},{"$f":"Sécurité!BA44","v":0},{"$f":"Sécurité!BB44","v":0},{"$f":"Sécurité!BC44","v":0},{"$f":"Sécurité!BD44","v":0},{"$f":"Sécurité!BE44","v":0},{"$f":"Sécurité!BF44","v":0},{"$f":"Sécurité!BG44","v":0},{"$f":"Sécurité!BH44","v":0},{"$f":"Sécurité!BI44","v":0},{"$f":"Sécurité!BJ44","v":0},{"$f":"Sécurité!BK44","v":0},{"$f":"Sécurité!BL44","v":0},{"$f":"Sécurité!BM44","v":0},{"$f":"Sécurité!BN44","v":0},{"$f":"Sécurité!BO44","v":0},{"$f":"Sécurité!BP44","v":0},{"$f":"Sécurité!BQ44","v":0},{"$f":"Sécurité!BR44","v":0},{"$f":"Sécurité!BS44","v":0},{"$f":"Sécurité!BT44","v":0},{"$f":"Sécurité!BU44","v":0},{"$f":"Sécurité!BV44","v":0},{"$f":"Sécurité!BW44","v":0},{"$f":"Sécurité!BX44","v":0}]
[null,null,{"$f":"Sécurité!$C$45","v":0},{"$f":"Sécurité!$D$45","v":0},{"$f":"Sécurité!BA45","v":0},{"$f":"Sécurité!BB45","v":0},{"$f":"Sécurité!BC45","v":0},{"$f":"Sécurité!BD45","v":0},{"$f":"Sécurité!BE45","v":0},{"$f":"Sécurité!BF45","v":0},{"$f":"Sécurité!BG45","v":0},{"$f":"Sécurité!BH45","v":0},{"$f":"Sécurité!BI45","v":0},{"$f":"Sécurité!BJ45","v":0},{"$f":"Sécurité!BK45","v":0},{"$f":"Sécurité!BL45","v":0},{"$f":"Sécurité!BM45","v":0},{"$f":"Sécurité!BN45","v":0},{"$f":"Sécurité!BO45","v":0},{"$f":"Sécurité!BP45","v":0},{"$f":"Sécurité!BQ45","v":0},{"$f":"Sécurité!BR45","v":0},{"$f":"Sécurité!BS45","v":0},{"$f":"Sécurité!BT45","v":0},{"$f":"Sécurité!BU45","v":0},{"$f":"Sécurité!BV45","v":0},{"$f":"Sécurité!BW45","v":0},{"$f":"Sécurité!BX45","v":0}]
[null,null,{"$f":"Sécurité!$C$46","v":0},{"$f":"Sécurité!$D$46","v":0},{"$f":"Sécurité!BA46","v":0},{"$f":"Sécurité!BB46","v":0},{"$f":"Sécurité!BC46","v":0},{"$f":"Sécurité!BD46","v":0},{"$f":"Sécurité!BE46","v":0},{"$f":"Sécurité!BF46","v":0},{"$f":"Sécurité!BG46","v":0},{"$f":"Sécurité!BH46","v":0},{"$f":"Sécurité!BI46","v":0},{"$f":"Sécurité!BJ46","v":0},{"$f":"Sécurité!BK46","v":0},{"$f":"Sécurité!BL46","v":0},{"$f":"Sécurité!BM46","v":0},{"$f":"Sécurité!BN46","v":0},{"$f":"Sécurité!BO46","v":0},{"$f":"Sécurité!BP46","v":0},{"$f":"Sécurité!BQ46","v":0},{"$f":"Sécurité!BR46","v":0},{"$f":"Sécurité!BS46","v":0},{"$f":"Sécurité!BT46","v":0},{"$f":"Sécurité!BU46","v":0},{"$f":"Sécurité!BV46","v":0},{"$f":"Sécurité!BW46","v":0},{"$f":"Sécurité!BX46","v":0}]
[null,null,{"$f":"Sécurité!$C$47","v":0},{"$f":"Sécurité!$D$47","v":0},{"$f":"Sécurité!BA47","v":0},{"$f":"Sécurité!BB47","v":0},{"$f":"Sécurité!BC47","v":0},{"$f":"Sécurité!BD47","v":0},{"$f":"Sécurité!BE47","v":0},{"$f":"Sécurité!BF47","v":0},{"$f":"Sécurité!BG47","v":0},{"$f":"Sécurité!BH47","v":0},{"$f":"Sécurité!BI47","v":0},{"$f":"Sécurité!BJ47","v":0},{"$f":"Sécurité!BK47","v":0},{"$f":"Sécurité!BL47","v":0},{"$f":"Sécurité!BM47","v":0},{"$f":"Sécurité!BN47","v":0},{"$f":"Sécurité!BO47","v":0},{"$f":"Sécurité!BP47","v":0},{"$f":"Sécurité!BQ47","v":0},{"$f":"Sécurité!BR47","v":0},{"$f":"Sécurité!BS47","v":0},{"$f":"Sécurité!BT47","v":0},{"$f":"Sécurité!BU47","v":0},{"$f":"Sécurité!BV47","v":0},{"$f":"Sécurité!BW47","v":0},{"$f":"Sécurité!BX47","v":0}]
[null,null,{"$f":"Sécurité!$C$48","v":0},{"$f":"Sécurité!$D$48","v":0},{"$f":"Sécurité!BA48","v":0},{"$f":"Sécurité!BB48","v":0},{"$f":"Sécurité!BC48","v":0},{"$f":"Sécurité!BD48","v":0},{"$f":"Sécurité!BE48","v":0},{"$f":"Sécurité!BF48","v":0},{"$f":"Sécurité!BG48","v":0},{"$f":"Sécurité!BH48","v":0},{"$f":"Sécurité!BI48","v":0},{"$f":"Sécurité!BJ48","v":0},{"$f":"Sécurité!BK48","v":0},{"$f":"Sécurité!BL48","v":0},{"$f":"Sécurité!BM48","v":0},{"$f":"Sécurité!BN48","v":0},{"$f":"Sécurité!BO48","v":0},{"$f":"Sécurité!BP48","v":0},{"$f":"Sécurité!BQ48","v":0},{"$f":"Sécurité!BR48","v":0},{"$f":"Sécurité!BS48","v":0},{"$f":"Sécurité!BT48","v":0},{"$f":"Sécurité!BU48","v":0},{"$f":"Sécurité!BV48","v":0},{"$f":"Sécurité!BW48","v":0},{"$f":"Sécurité!BX48","v":0}]
[null,null,{"$f":"Sécurité!$C$49","v":0},{"$f":"Sécurité!$D$49","v":0},{"$f":"Sécurité!BA49","v":0},{"$f":"Sécurité!BB49","v":0},{"$f":"Sécurité!BC49","v":0},{"$f":"Sécurité!BD49","v":0},{"$f":"Sécurité!BE49","v":0},{"$f":"Sécurité!BF49","v":0},{"$f":"Sécurité!BG49","v":0},{"$f":"Sécurité!BH49","v":0},{"$f":"Sécurité!BI49","v":0},{"$f":"Sécurité!BJ49","v":0},{"$f":"Sécurité!BK49","v":0},{"$f":"Sécurité!BL49","v":0},{"$f":"Sécurité!BM49","v":0},{"$f":"Sécurité!BN49","v":0},{"$f":"Sécurité!BO49","v":0},{"$f":"Sécurité!BP49","v":0},{"$f":"Sécurité!BQ49","v":0},{"$f":"Sécurité!BR49","v":0},{"$f":"Sécurité!BS49","v":0},{"$f":"Sécurité!BT49","v":0},{"$f":"Sécurité!BU49","v":0},{"$f":"Sécurité!BV49","v":0},{"$f":"Sécurité!BW49","v":0},{"$f":"Sécurité!BX49","v":0}]
[null,null,null,null,{"$f":"Identification!$A$32","v":"2015-11-01"}]
[null,null,{"$f":"Sécurité!$C$39","v":"tableau mensuel"},{"$f":"Sécurité!$D$39","v":"Nature des faits"},{"$f":"Sécurité!BY39","v":"Nb total d'incidents par nature"},{"$f":"Sécurité!BZ39","v":"Type de punition"},null,null,{"$f":"Sécurité!CC39","v":"Nb d'incidents par niveau"},null,null,null,null,null,null,null,null,null,{"$f":"Sécurité!CM39","v":"Nb d'élèves concernés"}]
[null,null,null,null,null,null,null,null,{"$f":"Sécurité!CC40","v":0},{"$f":"Sécurité!CD40","v":0},{"$f":"Sécurité!CE40","v":0},{"$f":"Sécurité!CF40","v":0},{"$f":"Sécurité!CG40","v":0},{"$f":"Sécurité!CH40","v":0},{"$f":"Sécurité!CI40","v":0},{"$f":"Sécurité!CJ40","v":0},{"$f":"Sécurité!CK40","v":0},{"$f":"Sécurité!CL40","v":0},{"$f":"Sécurité!CM40","v":0},{"$f":"Sécurité!CN40","v":0},{"$f":"Sécurité!CO40","v":0},{"$f":"Sécurité!CP40","v":0},{"$f":"Sécurité!CQ40","v":0},{"$f":"Sécurité!CR40","v":0},{"$f":"Sécurité!CS40","v":0},{"$f":"Sécurité!CT40","v":0},{"$f":"Sécurité!CU40","v":0},{"$f":"Sécurité!CV40","v":0}]
[null,null,null,null,null,{"$f":"Sécurité!BZ41","v":0},{"$f":"Sécurité!CA41","v":0},{"$f":"Sécurité!CB41","v":0},{"$f":"Sécurité!CC41","v":0},{"$f":"Sécurité!CD41","v":0},{"$f":"Sécurité!CE41","v":0},{"$f":"Sécurité!CF41","v":0},{"$f":"Sécurité!CG41","v":0},{"$f":"Sécurité!CH41","v":0},{"$f":"Sécurité!CI41","v":0},{"$f":"Sécurité!CJ41","v":0},{"$f":"Sécurité!CK41","v":0},{"$f":"Sécurité!CL41","v":0},{"$f":"Sécurité!CM41","v":0},{"$f":"Sécurité!CN41","v":0},{"$f":"Sécurité!CO41","v":0},{"$f":"Sécurité!CP41","v":0},{"$f":"Sécurité!CQ41","v":0},{"$f":"Sécurité!CR41","v":0},{"$f":"Sécurité!CS41","v":0},{"$f":"Sécurité!CT41","v":0},{"$f":"Sécurité!CU41","v":0},{"$f":"Sécurité!CV41","v":0}]
[null,null,{"$f":"Sécurité!$C$42","v":"Nature des incidents (punitions)\n(à décliner)"},{"$f":"Sécurité!$D$42","v":0},{"$f":"Sécurité!BY42","v":0},{"$f":"Sécurité!BZ42","v":0},{"$f":"Sécurité!CA42","v":0},{"$f":"Sécurité!CB42","v":0},{"$f":"Sécurité!CC42","v":0},{"$f":"Sécurité!CD42","v":0},{"$f":"Sécurité!CE42","v":0},{"$f":"Sécurité!CF42","v":0},{"$f":"Sécurité!CG42","v":0},{"$f":"Sécurité!CH42","v":0},{"$f":"Sécurité!CI42","v":0},{"$f":"Sécurité!CJ42","v":0},{"$f":"Sécurité!CK42","v":0},{"$f":"Sécurité!CL42","v":0},{"$f":"Sécurité!CM42","v":0},{"$f":"Sécurité!CN42","v":0},{"$f":"Sécurité!CO42","v":0},{"$f":"Sécurité!CP42","v":0},{"$f":"Sécurité!CQ42","v":0},{"$f":"Sécurité!CR42","v":0},{"$f":"Sécurité!CS42","v":0},{"$f":"Sécurité!CT42","v":0},{"$f":"Sécurité!CU42","v":0},{"$f":"Sécurité!CV42","v":0}]
[null,null,{"$f":"Sécurité!$C$43","v":0},{"$f":"Sécurité!$D$43","v":0},{"$f":"Sécurité!BY43","v":0},{"$f":"Sécurité!BZ43","v":0},{"$f":"Sécurité!CA43","v":0},{"$f":"Sécurité!CB43","v":0},{"$f":"Sécurité!CC43","v":0},{"$f":"Sécurité!CD43","v":0},{"$f":"Sécurité!CE43","v":0},{"$f":"Sécurité!CF43","v":0},{"$f":"Sécurité!CG43","v":0},{"$f":"Sécurité!CH43","v":0},{"$f":"Sécurité!CI43","v":0},{"$f":"Sécurité!CJ43","v":0},{"$f":"Sécurité!CK43","v":0},{"$f":"Sécurité!CL43","v":0},{"$f":"Sécurité!CM43","v":0},{"$f":"Sécurité!CN43","v":0},{"$f":"Sécurité!CO43","v":0},{"$f":"Sécurité!CP43","v":0},{"$f":"Sécurité!CQ43","v":0},{"$f":"Sécurité!CR43","v":0},{"$f":"Sécurité!CS43","v":0},{"$f":"Sécurité!CT43","v":0},{"$f":"Sécurité!CU43","v":0},{"$f":"Sécurité!CV43","v":0}]
[null,null,{"$f":"Sécurité!$C$44","v":0},{"$f":"Sécurité!$D$44","v":0},{"$f":"Sécurité!BY44","v":0},{"$f":"Sécurité!BZ44","v":0},{"$f":"Sécurité!CA44","v":0},{"$f":"Sécurité!CB44","v":0},{"$f":"Sécurité!CC44","v":0},{"$f":"Sécurité!CD44","v":0},{"$f":"Sécurité!CE44","v":0},{"$f":"Sécurité!CF44","v":0},{"$f":"Sécurité!CG44","v":0},{"$f":"Sécurité!CH44","v":0},{"$f":"Sécurité!CI44","v":0},{"$f":"Sécurité!CJ44","v":0},{"$f":"Sécurité!CK44","v":0},{"$f":"Sécurité!CL44","v":0},{"$f":"Sécurité!CM44","v":0},{"$f":"Sécurité!CN44","v":0},{"$f":"Sécurité!CO44","v":0},{"$f":"Sécurité!CP44","v":0},{"$f":"Sécurité!CQ44","v":0},{"$f":"Sécurité!CR44","v":0},{"$f":"Sécurité!CS44","v":0},{"$f":"Sécurité!CT44","v":0},{"$f":"Sécurité!CU44","v":0},{"$f":"Sécurité!CV44","v":0}]
[null,null,{"$f":"Sécurité!$C$45","v":0},{"$f":"Sécurité!$D$45","v":0},{"$f":"Sécurité!BY45","v":0},{"$f":"Sécurité!BZ45","v":0},{"$f":"Sécurité!CA45","v":0},{"$f":"Sécurité!CB45","v":0},{"$f":"Sécurité!CC45","v":0},{"$f":"Sécurité!CD45","v":0},{"$f":"Sécurité!CE45","v":0},{"$f":"Sécurité!CF45","v":0},{"$f":"Sécurité!CG45","v":0},{"$f":"Sécurité!CH45","v":0},{"$f":"Sécurité!CI45","v":0},{"$f":"Sécurité!CJ45","v":0},{"$f":"Sécurité!CK45","v":0},{"$f":"Sécurité!CL45","v":0},{"$f":"Sécurité!CM45","v":0},{"$f":"Sécurité!CN45","v":0},{"$f":"Sécurité!CO45","v":0},{"$f":"Sécurité!CP45","v":0},{"$f":"Sécurité!CQ45","v":0},{"$f":"Sécurité!CR45","v":0},{"$f":"Sécurité!CS45","v":0},{"$f":"Sécurité!CT45","v":0},{"$f":"Sécurité!CU45","v":0},{"$f":"Sécurité!CV45","v":0}]
[null,null,{"$f":"Sécurité!$C$46","v":0},{"$f":"Sécurité!$D$46","v":0},{"$f":"Sécurité!BY46","v":0},{"$f":"Sécurité!BZ46","v":0},{"$f":"Sécurité!CA46","v":0},{"$f":"Sécurité!CB46","v":0},{"$f":"Sécurité!CC46","v":0},{"$f":"Sécurité!CD46","v":0},{"$f":"Sécurité!CE46","v":0},{"$f":"Sécurité!CF46","v":0},{"$f":"Sécurité!CG46","v":0},{"$f":"Sécurité!CH46","v":0},{"$f":"Sécurité!CI46","v":0},{"$f":"Sécurité!CJ46","v":0},{"$f":"Sécurité!CK46","v":0},{"$f":"Sécurité!CL46","v":0},{"$f":"Sécurité!CM46","v":0},{"$f":"Sécurité!CN46","v":0},{"$f":"Sécurité!CO46","v":0},{"$f":"Sécurité!CP46","v":0},{"$f":"Sécurité!CQ46","v":0},{"$f":"Sécurité!CR46","v":0},{"$f":"Sécurité!CS46","v":0},{"$f":"Sécurité!CT46","v":0},{"$f":"Sécurité!CU46","v":0},{"$f":"Sécurité!CV46","v":0}]
[null,null,{"$f":"Sécurité!$C$47","v":0},{"$f":"Sécurité!$D$47","v":0},{"$f":"Sécurité!BY47","v":0},{"$f":"Sécurité!BZ47","v":0},{"$f":"Sécurité!CA47","v":0},{"$f":"Sécurité!CB47","v":0},{"$f":"Sécurité!CC47","v":0},{"$f":"Sécurité!CD47","v":0},{"$f":"Sécurité!CE47","v":0},{"$f":"Sécurité!CF47","v":0},{"$f":"Sécurité!CG47","v":0},{"$f":"Sécurité!CH47","v":0},{"$f":"Sécurité!CI47","v":0},{"$f":"Sécurité!CJ47","v":0},{"$f":"Sécurité!CK47","v":0},{"$f":"Sécurité!CL47","v":0},{"$f":"Sécurité!CM47","v":0},{"$f":"Sécurité!CN47","v":0},{"$f":"Sécurité!CO47","v":0},{"$f":"Sécurité!CP47","v":0},{"$f":"Sécurité!CQ47","v":0},{"$f":"Sécurité!CR47","v":0},{"$f":"Sécurité!CS47","v":0},{"$f":"Sécurité!CT47","v":0},{"$f":"Sécurité!CU47","v":0},{"$f":"Sécurité!CV47","v":0}]
[null,null,{"$f":"Sécurité!$C$48","v":0},{"$f":"Sécurité!$D$48","v":0},{"$f":"Sécurité!BY48","v":0},{"$f":"Sécurité!BZ48","v":0},{"$f":"Sécurité!CA48","v":0},{"$f":"Sécurité!CB48","v":0},{"$f":"Sécurité!CC48","v":0},{"$f":"Sécurité!CD48","v":0},{"$f":"Sécurité!CE48","v":0},{"$f":"Sécurité!CF48","v":0},{"$f":"Sécurité!CG48","v":0},{"$f":"Sécurité!CH48","v":0},{"$f":"Sécurité!CI48","v":0},{"$f":"Sécurité!CJ48","v":0},{"$f":"Sécurité!CK48","v":0},{"$f":"Sécurité!CL48","v":0},{"$f":"Sécurité!CM48","v":0},{"$f":"Sécurité!CN48","v":0},{"$f":"Sécurité!CO48","v":0},{"$f":"Sécurité!CP48","v":0},{"$f":"Sécurité!CQ48","v":0},{"$f":"Sécurité!CR48","v":0},{"$f":"Sécurité!CS48","v":0},{"$f":"Sécurité!CT48","v":0},{"$f":"Sécurité!CU48","v":0},{"$f":"Sécurité!CV48","v":0}]
[null,null,{"$f":"Sécurité!$C$49","v":0},{"$f":"Sécurité!$D$49","v":0},{"$f":"Sécurité!BY49","v":0},{"$f":"Sécurité!BZ49","v":0},{"$f":"Sécurité!CA49","v":0},{"$f":"Sécurité!CB49","v":0},{"$f":"Sécurité!CC49","v":0},{"$f":"Sécurité!CD49","v":0},{"$f":"Sécurité!CE49","v":0},{"$f":"Sécurité!CF49","v":0},{"$f":"Sécurité!CG49","v":0},{"$f":"Sécurité!CH49","v":0},{"$f":"Sécurité!CI49","v":0},{"$f":"Sécurité!CJ49","v":0},{"$f":"Sécurité!CK49","v":0},{"$f":"Sécurité!CL49","v":0},{"$f":"Sécurité!CM49","v":0},{"$f":"Sécurité!CN49","v":0},{"$f":"Sécurité!CO49","v":0},{"$f":"Sécurité!CP49","v":0},{"$f":"Sécurité!CQ49","v":0},{"$f":"Sécurité!CR49","v":0},{"$f":"Sécurité!CS49","v":0},{"$f":"Sécurité!CT49","v":0},{"$f":"Sécurité!CU49","v":0},{"$f":"Sécurité!CV49","v":0}]
[null,null,null,null,{"$f":"Identification!$A$33","v":"2015-12-01"}]
[null,null,{"$f":"Sécurité!$C$39","v":"tableau mensuel"},{"$f":"Sécurité!$D$39","v":"Nature des faits"},{"$f":"Sécurité!CW39","v":"Nb total d'incidents par nature"},{"$f":"Sécurité!CX39","v":"Type de punition"},null,null,{"$f":"Sécurité!DA39","v":"Nb d'incidents par niveau"},null,null,null,null,null,null,null,null,null,{"$f":"Sécurité!DK39","v":"Nb d'élèves concernés"}]
[null,null,null,null,null,null,null,null,{"$f":"Sécurité!DA40","v":0},{"$f":"Sécurité!DB40","v":0},{"$f":"Sécurité!DC40","v":0},{"$f":"Sécurité!DD40","v":0},{"$f":"Sécurité!DE40","v":0},{"$f":"Sécurité!DF40","v":0},{"$f":"Sécurité!DG40","v":0},{"$f":"Sécurité!DH40","v":0},{"$f":"Sécurité!DI40","v":0},{"$f":"Sécurité!DJ40","v":0},{"$f":"Sécurité!DK40","v":0},{"$f":"Sécurité!DL40","v":0},{"$f":"Sécurité!DM40","v":0},{"$f":"Sécurité!DN40","v":0},{"$f":"Sécurité!DO40","v":0},{"$f":"Sécurité!DP40","v":0},{"$f":"Sécurité!DQ40","v":0},{"$f":"Sécurité!DR40","v":0},{"$f":"Sécurité!DS40","v":0},{"$f":"Sécurité!DT40","v":0}]
[null,null,null,null,null,{"$f":"Sécurité!CX41","v":0},{"$f":"Sécurité!CY41","v":0},{"$f":"Sécurité!CZ41","v":0},{"$f":"Sécurité!DA41","v":0},{"$f":"Sécurité!DB41","v":0},{"$f":"Sécurité!DC41","v":0},{"$f":"Sécurité!DD41","v":0},{"$f":"Sécurité!DE41","v":0},{"$f":"Sécurité!DF41","v":0},{"$f":"Sécurité!DG41","v":0},{"$f":"Sécurité!DH41","v":0},{"$f":"Sécurité!DI41","v":0},{"$f":"Sécurité!DJ41","v":0},{"$f":"Sécurité!DK41","v":0},{"$f":"Sécurité!DL41","v":0},{"$f":"Sécurité!DM41","v":0},{"$f":"Sécurité!DN41","v":0},{"$f":"Sécurité!DO41","v":0},{"$f":"Sécurité!DP41","v":0},{"$f":"Sécurité!DQ41","v":0},{"$f":"Sécurité!DR41","v":0},{"$f":"Sécurité!DS41","v":0},{"$f":"Sécurité!DT41","v":0}]
[null,null,{"$f":"Sécurité!$C$42","v":"Nature des incidents (punitions)\n(à décliner)"},{"$f":"Sécurité!$D$42","v":0},{"$f":"Sécurité!CW42","v":0},{"$f":"Sécurité!CX42","v":0},{"$f":"Sécurité!CY42","v":0},{"$f":"Sécurité!CZ42","v":0},{"$f":"Sécurité!DA42","v":0},{"$f":"Sécurité!DB42","v":0},{"$f":"Sécurité!DC42","v":0},{"$f":"Sécurité!DD42","v":0},{"$f":"Sécurité!DE42","v":0},{"$f":"Sécurité!DF42","v":0},{"$f":"Sécurité!DG42","v":0},{"$f":"Sécurité!DH42","v":0},{"$f":"Sécurité!DI42","v":0},{"$f":"Sécurité!DJ42","v":0},{"$f":"Sécurité!DK42","v":0},{"$f":"Sécurité!DL42","v":0},{"$f":"Sécurité!DM42","v":0},{"$f":"Sécurité!DN42","v":0},{"$f":"Sécurité!DO42","v":0},{"$f":"Sécurité!DP42","v":0},{"$f":"Sécurité!DQ42","v":0},{"$f":"Sécurité!DR42","v":0},{"$f":"Sécurité!DS42","v":0},{"$f":"Sécurité!DT42","v":0}]
[null,null,{"$f":"Sécurité!$C$43","v":0},{"$f":"Sécurité!$D$43","v":0},{"$f":"Sécurité!CW43","v":0},{"$f":"Sécurité!CX43","v":0},{"$f":"Sécurité!CY43","v":0},{"$f":"Sécurité!CZ43","v":0},{"$f":"Sécurité!DA43","v":0},{"$f":"Sécurité!DB43","v":0},{"$f":"Sécurité!DC43","v":0},{"$f":"Sécurité!DD43","v":0},{"$f":"Sécurité!DE43","v":0},{"$f":"Sécurité!DF43","v":0},{"$f":"Sécurité!DG43","v":0},{"$f":"Sécurité!DH43","v":0},{"$f":"Sécurité!DI43","v":0},{"$f":"Sécurité!DJ43","v":0},{"$f":"Sécurité!DK43","v":0},{"$f":"Sécurité!DL43","v":0},{"$f":"Sécurité!DM43","v":0},{"$f":"Sécurité!DN43","v":0},{"$f":"Sécurité!DO43","v":0},{"$f":"Sécurité!DP43","v":0},{"$f":"Sécurité!DQ43","v":0},{"$f":"Sécurité!DR43","v":0},{"$f":"Sécurité!DS43","v":0},{"$f":"Sécurité!DT43","v":0}]
[null,null,{"$f":"Sécurité!$C$44","v":0},{"$f":"Sécurité!$D$44","v":0},{"$f":"Sécurité!CW44","v":0},{"$f":"Sécurité!CX44","v":0},{"$f":"Sécurité!CY44","v":0},{"$f":"Sécurité!CZ44","v":0},{"$f":"Sécurité!DA44","v":0},{"$f":"Sécurité!DB44","v":0},{"$f":"Sécurité!DC44","v":0},{"$f":"Sécurité!DD44","v":0},{"$f":"Sécurité!DE44","v":0},{"$f":"Sécurité!DF44","v":0},{"$f":"Sécurité!DG44","v":0},{"$f":"Sécurité!DH44","v":0},{"$f":"Sécurité!DI44","v":0},{"$f":"Sécurité!DJ44","v":0},{"$f":"Sécurité!DK44","v":0},{"$f":"Sécurité!DL44","v":0},{"$f":"Sécurité!DM44","v":0},{"$f":"Sécurité!DN44","v":0},{"$f":"Sécurité!DO44","v":0},{"$f":"Sécurité!DP44","v":0},{"$f":"Sécurité!DQ44","v":0},{"$f":"Sécurité!DR44","v":0},{"$f":"Sécurité!DS44","v":0},{"$f":"Sécurité!DT44","v":0}]
[null,null,{"$f":"Sécurité!$C$45","v":0},{"$f":"Sécurité!$D$45","v":0},{"$f":"Sécurité!CW45","v":0},{"$f":"Sécurité!CX45","v":0},{"$f":"Sécurité!CY45","v":0},{"$f":"Sécurité!CZ45","v":0},{"$f":"Sécurité!DA45","v":0},{"$f":"Sécurité!DB45","v":0},{"$f":"Sécurité!DC45","v":0},{"$f":"Sécurité!DD45","v":0},{"$f":"Sécurité!DE45","v":0},{"$f":"Sécurité!DF45","v":0},{"$f":"Sécurité!DG45","v":0},{"$f":"Sécurité!DH45","v":0},{"$f":"Sécurité!DI45","v":0},{"$f":"Sécurité!DJ45","v":0},{"$f":"Sécurité!DK45","v":0},{"$f":"Sécurité!DL45","v":0},{"$f":"Sécurité!DM45","v":0},{"$f":"Sécurité!DN45","v":0},{"$f":"Sécurité!DO45","v":0},{"$f":"Sécurité!DP45","v":0},{"$f":"Sécurité!DQ45","v":0},{"$f":"Sécurité!DR45","v":0},{"$f":"Sécurité!DS45","v":0},{"$f":"Sécurité!DT45","v":0}]
[null,null,{"$f":"Sécurité!$C$46","v":0},{"$f":"Sécurité!$D$46","v":0},{"$f":"Sécurité!CW46","v":0},{"$f":"Sécurité!CX46","v":0},{"$f":"Sécurité!CY46","v":0},{"$f":"Sécurité!CZ46","v":0},{"$f":"Sécurité!DA46","v":0},{"$f":"Sécurité!DB46","v":0},{"$f":"Sécurité!DC46","v":0},{"$f":"Sécurité!DD46","v":0},{"$f":"Sécurité!DE46","v":0},{"$f":"Sécurité!DF46","v":0},{"$f":"Sécurité!DG46","v":0},{"$f":"Sécurité!DH46","v":0},{"$f":"Sécurité!DI46","v":0},{"$f":"Sécurité!DJ46","v":0},{"$f":"Sécurité!DK46","v":0},{"$f":"Sécurité!DL46","v":0},{"$f":"Sécurité!DM46","v":0},{"$f":"Sécurité!DN46","v":0},{"$f":"Sécurité!DO46","v":0},{"$f":"Sécurité!DP46","v":0},{"$f":"Sécurité!DQ46","v":0},{"$f":"Sécurité!DR46","v":0},{"$f":"Sécurité!DS46","v":0},{"$f":"Sécurité!DT46","v":0}]
[null,null,{"$f":"Sécurité!$C$47","v":0},{"$f":"Sécurité!$D$47","v":0},{"$f":"Sécurité!CW47","v":0},{"$f":"Sécurité!CX47","v":0},{"$f":"Sécurité!CY47","v":0},{"$f":"Sécurité!CZ47","v":0},{"$f":"Sécurité!DA47","v":0},{"$f":"Sécurité!DB47","v":0},{"$f":"Sécurité!DC47","v":0},{"$f":"Sécurité!DD47","v":0},{"$f":"Sécurité!DE47","v":0},{"$f":"Sécurité!DF47","v":0},{"$f":"Sécurité!DG47","v":0},{"$f":"Sécurité!DH47","v":0},{"$f":"Sécurité!DI47","v":0},{"$f":"Sécurité!DJ47","v":0},{"$f":"Sécurité!DK47","v":0},{"$f":"Sécurité!DL47","v":0},{"$f":"Sécurité!DM47","v":0},{"$f":"Sécurité!DN47","v":0},{"$f":"Sécurité!DO47","v":0},{"$f":"Sécurité!DP47","v":0},{"$f":"Sécurité!DQ47","v":0},{"$f":"Sécurité!DR47","v":0},{"$f":"Sécurité!DS47","v":0},{"$f":"Sécurité!DT47","v":0}]
[null,null,{"$f":"Sécurité!$C$48","v":0},{"$f":"Sécurité!$D$48","v":0},{"$f":"Sécurité!CW48","v":0},{"$f":"Sécurité!CX48","v":0},{"$f":"Sécurité!CY48","v":0},{"$f":"Sécurité!CZ48","v":0},{"$f":"Sécurité!DA48","v":0},{"$f":"Sécurité!DB48","v":0},{"$f":"Sécurité!DC48","v":0},{"$f":"Sécurité!DD48","v":0},{"$f":"Sécurité!DE48","v":0},{"$f":"Sécurité!DF48","v":0},{"$f":"Sécurité!DG48","v":0},{"$f":"Sécurité!DH48","v":0},{"$f":"Sécurité!DI48","v":0},{"$f":"Sécurité!DJ48","v":0},{"$f":"Sécurité!DK48","v":0},{"$f":"Sécurité!DL48","v":0},{"$f":"Sécurité!DM48","v":0},{"$f":"Sécurité!DN48","v":0},{"$f":"Sécurité!DO48","v":0},{"$f":"Sécurité!DP48","v":0},{"$f":"Sécurité!DQ48","v":0},{"$f":"Sécurité!DR48","v":0},{"$f":"Sécurité!DS48","v":0},{"$f":"Sécurité!DT48","v":0}]
[null,null,{"$f":"Sécurité!$C$49","v":0},{"$f":"Sécurité!$D$49","v":0},{"$f":"Sécurité!CW49","v":0},{"$f":"Sécurité!CX49","v":0},{"$f":"Sécurité!CY49","v":0},{"$f":"Sécurité!CZ49","v":0},{"$f":"Sécurité!DA49","v":0},{"$f":"Sécurité!DB49","v":0},{"$f":"Sécurité!DC49","v":0},{"$f":"Sécurité!DD49","v":0},{"$f":"Sécurité!DE49","v":0},{"$f":"Sécurité!DF49","v":0},{"$f":"Sécurité!DG49","v":0},{"$f":"Sécurité!DH49","v":0},{"$f":"Sécurité!DI49","v":0},{"$f":"Sécurité!DJ49","v":0},{"$f":"Sécurité!DK49","v":0},{"$f":"Sécurité!DL49","v":0},{"$f":"Sécurité!DM49","v":0},{"$f":"Sécurité!DN49","v":0},{"$f":"Sécurité!DO49","v":0},{"$f":"Sécurité!DP49","v":0},{"$f":"Sécurité!DQ49","v":0},{"$f":"Sécurité!DR49","v":0},{"$f":"Sécurité!DS49","v":0},{"$f":"Sécurité!DT49","v":0}]
[null,null,null,null,{"$f":"Identification!$A$34","v":"2016-01-01"}]
[null,null,{"$f":"Sécurité!$C$39","v":"tableau mensuel"},{"$f":"Sécurité!$D$39","v":"Nature des faits"},{"$f":"Sécurité!DU39","v":"Nb total d'incidents par nature"},{"$f":"Sécurité!DV39","v":"Type de punition"},null,null,{"$f":"Sécurité!DY39","v":"Nb d'incidents par niveau"},null,null,null,null,null,null,null,null,null,{"$f":"Sécurité!EI39","v":"Nb d'élèves concernés"}]
[null,null,null,null,null,null,null,null,{"$f":"Sécurité!DY40","v":0},{"$f":"Sécurité!DZ40","v":0},{"$f":"Sécurité!EA40","v":0},{"$f":"Sécurité!EB40","v":0},{"$f":"Sécurité!EC40","v":0},{"$f":"Sécurité!ED40","v":0},{"$f":"Sécurité!EE40","v":0},{"$f":"Sécurité!EF40","v":0},{"$f":"Sécurité!EG40","v":0},{"$f":"Sécurité!EH40","v":0},{"$f":"Sécurité!EI40","v":0},{"$f":"Sécurité!EJ40","v":0},{"$f":"Sécurité!EK40","v":0},{"$f":"Sécurité!EL40","v":0},{"$f":"Sécurité!EM40","v":0},{"$f":"Sécurité!EN40","v":0},{"$f":"Sécurité!EO40","v":0},{"$f":"Sécurité!EP40","v":0},{"$f":"Sécurité!EQ40","v":0},{"$f":"Sécurité!ER40","v":0}]
[null,null,null,null,null,{"$f":"Sécurité!DV41","v":0},{"$f":"Sécurité!DW41","v":0},{"$f":"Sécurité!DX41","v":0},{"$f":"Sécurité!DY41","v":0},{"$f":"Sécurité!DZ41","v":0},{"$f":"Sécurité!EA41","v":0},{"$f":"Sécurité!EB41","v":0},{"$f":"Sécurité!EC41","v":0},{"$f":"Sécurité!ED41","v":0},{"$f":"Sécurité!EE41","v":0},{"$f":"Sécurité!EF41","v":0},{"$f":"Sécurité!EG41","v":0},{"$f":"Sécurité!EH41","v":0},{"$f":"Sécurité!EI41","v":0},{"$f":"Sécurité!EJ41","v":0},{"$f":"Sécurité!EK41","v":0},{"$f":"Sécurité!EL41","v":0},{"$f":"Sécurité!EM41","v":0},{"$f":"Sécurité!EN41","v":0},{"$f":"Sécurité!EO41","v":0},{"$f":"Sécurité!EP41","v":0},{"$f":"Sécurité!EQ41","v":0},{"$f":"Sécurité!ER41","v":0}]
[null,null,{"$f":"Sécurité!$C$42","v":"Nature des incidents (punitions)\n(à décliner)"},{"$f":"Sécurité!$D$42","v":0},{"$f":"Sécurité!DU42","v":0},{"$f":"Sécurité!DV42","v":0},{"$f":"Sécurité!DW42","v":0},{"$f":"Sécurité!DX42","v":0},{"$f":"Sécurité!DY42","v":0},{"$f":"Sécurité!DZ42","v":0},{"$f":"Sécurité!EA42","v":0},{"$f":"Sécurité!EB42","v":0},{"$f":"Sécurité!EC42","v":0},{"$f":"Sécurité!ED42","v":0},{"$f":"Sécurité!EE42","v":0},{"$f":"Sécurité!EF42","v":0},{"$f":"Sécurité!EG42","v":0},{"$f":"Sécurité!EH42","v":0},{"$f":"Sécurité!EI42","v":0},{"$f":"Sécurité!EJ42","v":0},{"$f":"Sécurité!EK42","v":0},{"$f":"Sécurité!EL42","v":0},{"$f":"Sécurité!EM42","v":0},{"$f":"Sécurité!EN42","v":0},{"$f":"Sécurité!EO42","v":0},{"$f":"Sécurité!EP42","v":0},{"$f":"Sécurité!EQ42","v":0},{"$f":"Sécurité!ER42","v":0}]
[null,null,{"$f":"Sécurité!$C$43","v":0},{"$f":"Sécurité!$D$43","v":0},{"$f":"Sécurité!DU43","v":0},{"$f":"Sécurité!DV43","v":0},{"$f":"Sécurité!DW43","v":0},{"$f":"Sécurité!DX43","v":0},{"$f":"Sécurité!DY43","v":0},{"$f":"Sécurité!DZ43","v":0},{"$f":"Sécurité!EA43","v":0},{"$f":"Sécurité!EB43","v":0},{"$f":"Sécurité!EC43","v":0},{"$f":"Sécurité!ED43","v":0},{"$f":"Sécurité!EE43","v":0},{"$f":"Sécurité!EF43","v":0},{"$f":"Sécurité!EG43","v":0},{"$f":"Sécurité!EH43","v":0},{"$f":"Sécurité!EI43","v":0},{"$f":"Sécurité!EJ43","v":0},{"$f":"Sécurité!EK43","v":0},{"$f":"Sécurité!EL43","v":0},{"$f":"Sécurité!EM43","v":0},{"$f":"Sécurité!EN43","v":0},{"$f":"Sécurité!EO43","v":0},{"$f":"Sécurité!EP43","v":0},{"$f":"Sécurité!EQ43","v":0},{"$f":"Sécurité!ER43","v":0}]
[null,null,{"$f":"Sécurité!$C$44","v":0},{"$f":"Sécurité!$D$44","v":0},{"$f":"Sécurité!DU44","v":0},{"$f":"Sécurité!DV44","v":0},{"$f":"Sécurité!DW44","v":0},{"$f":"Sécurité!DX44","v":0},{"$f":"Sécurité!DY44","v":0},{"$f":"Sécurité!DZ44","v":0},{"$f":"Sécurité!EA44","v":0},{"$f":"Sécurité!EB44","v":0},{"$f":"Sécurité!EC44","v":0},{"$f":"Sécurité!ED44","v":0},{"$f":"Sécurité!EE44","v":0},{"$f":"Sécurité!EF44","v":0},{"$f":"Sécurité!EG44","v":0},{"$f":"Sécurité!EH44","v":0},{"$f":"Sécurité!EI44","v":0},{"$f":"Sécurité!EJ44","v":0},{"$f":"Sécurité!EK44","v":0},{"$f":"Sécurité!EL44","v":0},{"$f":"Sécurité!EM44","v":0},{"$f":"Sécurité!EN44","v":0},{"$f":"Sécurité!EO44","v":0},{"$f":"Sécurité!EP44","v":0},{"$f":"Sécurité!EQ44","v":0},{"$f":"Sécurité!ER44","v":0}]
[null,null,{"$f":"Sécurité!$C$45","v":0},{"$f":"Sécurité!$D$45","v":0},{"$f":"Sécurité!DU45","v":0},{"$f":"Sécurité!DV45","v":0},{"$f":"Sécurité!DW45","v":0},{"$f":"Sécurité!DX45","v":0},{"$f":"Sécurité!DY45","v":0},{"$f":"Sécurité!DZ45","v":0},{"$f":"Sécurité!EA45","v":0},{"$f":"Sécurité!EB45","v":0},{"$f":"Sécurité!EC45","v":0},{"$f":"Sécurité!ED45","v":0},{"$f":"Sécurité!EE45","v":0},{"$f":"Sécurité!EF45","v":0},{"$f":"Sécurité!EG45","v":0},{"$f":"Sécurité!EH45","v":0},{"$f":"Sécurité!EI45","v":0},{"$f":"Sécurité!EJ45","v":0},{"$f":"Sécurité!EK45","v":0},{"$f":"Sécurité!EL45","v":0},{"$f":"Sécurité!EM45","v":0},{"$f":"Sécurité!EN45","v":0},{"$f":"Sécurité!EO45","v":0},{"$f":"Sécurité!EP45","v":0},{"$f":"Sécurité!EQ45","v":0},{"$f":"Sécurité!ER45","v":0}]
[null,null,{"$f":"Sécurité!$C$46","v":0},{"$f":"Sécurité!$D$46","v":0},{"$f":"Sécurité!DU46","v":0},{"$f":"Sécurité!DV46","v":0},{"$f":"Sécurité!DW46","v":0},{"$f":"Sécurité!DX46","v":0},{"$f":"Sécurité!DY46","v":0},{"$f":"Sécurité!DZ46","v":0},{"$f":"Sécurité!EA46","v":0},{"$f":"Sécurité!EB46","v":0},{"$f":"Sécurité!EC46","v":0},{"$f":"Sécurité!ED46","v":0},{"$f":"Sécurité!EE46","v":0},{"$f":"Sécurité!EF46","v":0},{"$f":"Sécurité!EG46","v":0},{"$f":"Sécurité!EH46","v":0},{"$f":"Sécurité!EI46","v":0},{"$f":"Sécurité!EJ46","v":0},{"$f":"Sécurité!EK46","v":0},{"$f":"Sécurité!EL46","v":0},{"$f":"Sécurité!EM46","v":0},{"$f":"Sécurité!EN46","v":0},{"$f":"Sécurité!EO46","v":0},{"$f":"Sécurité!EP46","v":0},{"$f":"Sécurité!EQ46","v":0},{"$f":"Sécurité!ER46","v":0}]
[null,null,{"$f":"Sécurité!$C$47","v":0},{"$f":"Sécurité!$D$47","v":0},{"$f":"Sécurité!DU47","v":0},{"$f":"Sécurité!DV47","v":0},{"$f":"Sécurité!DW47","v":0},{"$f":"Sécurité!DX47","v":0},{"$f":"Sécurité!DY47","v":0},{"$f":"Sécurité!DZ47","v":0},{"$f":"Sécurité!EA47","v":0},{"$f":"Sécurité!EB47","v":0},{"$f":"Sécurité!EC47","v":0},{"$f":"Sécurité!ED47","v":0},{"$f":"Sécurité!EE47","v":0},{"$f":"Sécurité!EF47","v":0},{"$f":"Sécurité!EG47","v":0},{"$f":"Sécurité!EH47","v":0},{"$f":"Sécurité!EI47","v":0},{"$f":"Sécurité!EJ47","v":0},{"$f":"Sécurité!EK47","v":0},{"$f":"Sécurité!EL47","v":0},{"$f":"Sécurité!EM47","v":0},{"$f":"Sécurité!EN47","v":0},{"$f":"Sécurité!EO47","v":0},{"$f":"Sécurité!EP47","v":0},{"$f":"Sécurité!EQ47","v":0},{"$f":"Sécurité!ER47","v":0}]
[null,null,{"$f":"Sécurité!$C$48","v":0},{"$f":"Sécurité!$D$48","v":0},{"$f":"Sécurité!DU48","v":0},{"$f":"Sécurité!DV48","v":0},{"$f":"Sécurité!DW48","v":0},{"$f":"Sécurité!DX48","v":0},{"$f":"Sécurité!DY48","v":0},{"$f":"Sécurité!DZ48","v":0},{"$f":"Sécurité!EA48","v":0},{"$f":"Sécurité!EB48","v":0},{"$f":"Sécurité!EC48","v":0},{"$f":"Sécurité!ED48","v":0},{"$f":"Sécurité!EE48","v":0},{"$f":"Sécurité!EF48","v":0},{"$f":"Sécurité!EG48","v":0},{"$f":"Sécurité!EH48","v":0},{"$f":"Sécurité!EI48","v":0},{"$f":"Sécurité!EJ48","v":0},{"$f":"Sécurité!EK48","v":0},{"$f":"Sécurité!EL48","v":0},{"$f":"Sécurité!EM48","v":0},{"$f":"Sécurité!EN48","v":0},{"$f":"Sécurité!EO48","v":0},{"$f":"Sécurité!EP48","v":0},{"$f":"Sécurité!EQ48","v":0},{"$f":"Sécurité!ER48","v":0}]
[null,null,{"$f":"Sécurité!$C$49","v":0},{"$f":"Sécurité!$D$49","v":0},{"$f":"Sécurité!DU49","v":0},{"$f":"Sécurité!DV49","v":0},{"$f":"Sécurité!DW49","v":0},{"$f":"Sécurité!DX49","v":0},{"$f":"Sécurité!DY49","v":0},{"$f":"Sécurité!DZ49","v":0},{"$f":"Sécurité!EA49","v":0},{"$f":"Sécurité!EB49","v":0},{"$f":"Sécurité!EC49","v":0},{"$f":"Sécurité!ED49","v":0},{"$f":"Sécurité!EE49","v":0},{"$f":"Sécurité!EF49","v":0},{"$f":"Sécurité!EG49","v":0},{"$f":"Sécurité!EH49","v":0},{"$f":"Sécurité!EI49","v":0},{"$f":"Sécurité!EJ49","v":0},{"$f":"Sécurité!EK49","v":0},{"$f":"Sécurité!EL49","v":0},{"$f":"Sécurité!EM49","v":0},{"$f":"Sécurité!EN49","v":0},{"$f":"Sécurité!EO49","v":0},{"$f":"Sécurité!EP49","v":0},{"$f":"Sécurité!EQ49","v":0},{"$f":"Sécurité!ER49","v":0}]
[]
[]
[]
[]
[]
[]
[]
[]
[]
[]
[]
[]
[null,"Respect des biens        (Punitions)"]
[]
[null,null,null,null,{"$f":"Identification!$A$35","v":"2016-02-01"}]
[null,null,{"$f":"Sécurité!$C$39","v":"tableau mensuel"},{"$f":"Sécurité!$D$39","v":"Nature des faits"},{"$f":"Sécurité!ES39","v":"Nb total d'incidents par nature"},{"$f":"Sécurité!ET39","v":"Type de punition"},null,null,{"$f":"Sécurité!EW39","v":"Nb d'incidents par niveau"},null,null,null,null,null,null,null,null,null,{"$f":"Sécurité!FG39","v":"Nb d'élèves concernés"}]
[null,null,null,null,null,null,null,null,{"$f":"Sécurité!EW40","v":0},{"$f":"Sécurité!EX40","v":0},{"$f":"Sécurité!EY40","v":0},{"$f":"Sécurité!EZ40","v":0},{"$f":"Sécurité!FA40","v":0},{"$f":"Sécurité!FB40","v":0},{"$f":"Sécurité!FC40","v":0},{"$f":"Sécurité!FD40","v":0},{"$f":"Sécurité!FE40","v":0},{"$f":"Sécurité!FF40","v":0},{"$f":"Sécurité!FG40","v":0},{"$f":"Sécurité!FH40","v":0},{"$f":"Sécurité!FI40","v":0},{"$f":"Sécurité!FJ40","v":0},{"$f":"Sécurité!FK40","v":0},{"$f":"Sécurité!FL40","v":0},{"$f":"Sécurité!FM40","v":0},{"$f":"Sécurité!FN40","v":0},{"$f":"Sécurité!FO40","v":0},{"$f":"Sécurité!FP40","v":0}]
[null,null,null,null,null,{"$f":"Sécurité!ET41","v":0},{"$f":"Sécurité!EU41","v":0},{"$f":"Sécurité!EV41","v":0},{"$f":"Sécurité!EW41","v":0},{"$f":"Sécurité!EX41","v":0},{"$f":"Sécurité!EY41","v":0},{"$f":"Sécurité!EZ41","v":0},{"$f":"Sécurité!FA41","v":0},{"$f":"Sécurité!FB41","v":0},{"$f":"Sécurité!FC41","v":0},{"$f":"Sécurité!FD41","v":0},{"$f":"Sécurité!FE41","v":0},{"$f":"Sécurité!FF41","v":0},{"$f":"Sécurité!FG41","v":0},{"$f":"Sécurité!FH41","v":0},{"$f":"Sécurité!FI41","v":0},{"$f":"Sécurité!FJ41","v":0},{"$f":"Sécurité!FK41","v":0},{"$f":"Sécurité!FL41","v":0},{"$f":"Sécurité!FM41","v":0},{"$f":"Sécurité!FN41","v":0},{"$f":"Sécurité!FO41","v":0},{"$f":"Sécurité!FP41","v":0}]
[null,null,{"$f":"Sécurité!$C$42","v":"Nature des incidents (punitions)\n(à décliner)"},{"$f":"Sécurité!$D$42","v":0},{"$f":"Sécurité!ES42","v":0},{"$f":"Sécurité!ET42","v":0},{"$f":"Sécurité!EU42","v":0},{"$f":"Sécurité!EV42","v":0},{"$f":"Sécurité!EW42","v":0},{"$f":"Sécurité!EX42","v":0},{"$f":"Sécurité!EY42","v":0},{"$f":"Sécurité!EZ42","v":0},{"$f":"Sécurité!FA42","v":0},{"$f":"Sécurité!FB42","v":0},{"$f":"Sécurité!FC42","v":0},{"$f":"Sécurité!FD42","v":0},{"$f":"Sécurité!FE42","v":0},{"$f":"Sécurité!FF42","v":0},{"$f":"Sécurité!FG42","v":0},{"$f":"Sécurité!FH42","v":0},{"$f":"Sécurité!FI42","v":0},{"$f":"Sécurité!FJ42","v":0},{"$f":"Sécurité!FK42","v":0},{"$f":"Sécurité!FL42","v":0},{"$f":"Sécurité!FM42","v":0},{"$f":"Sécurité!FN42","v":0},{"$f":"Sécurité!FO42","v":0},{"$f":"Sécurité!FP42","v":0}]
[null,null,{"$f":"Sécurité!$C$43","v":0},{"$f":"Sécurité!$D$43","v":0},{"$f":"Sécurité!ES43","v":0},{"$f":"Sécurité!ET43","v":0},{"$f":"Sécurité!EU43","v":0},{"$f":"Sécurité!EV43","v":0},{"$f":"Sécurité!EW43","v":0},{"$f":"Sécurité!EX43","v":0},{"$f":"Sécurité!EY43","v":0},{"$f":"Sécurité!EZ43","v":0},{"$f":"Sécurité!FA43","v":0},{"$f":"Sécurité!FB43","v":0},{"$f":"Sécurité!FC43","v":0},{"$f":"Sécurité!FD43","v":0},{"$f":"Sécurité!FE43","v":0},{"$f":"Sécurité!FF43","v":0},{"$f":"Sécurité!FG43","v":0},{"$f":"Sécurité!FH43","v":0},{"$f":"Sécurité!FI43","v":0},{"$f":"Sécurité!FJ43","v":0},{"$f":"Sécurité!FK43","v":0},{"$f":"Sécurité!FL43","v":0},{"$f":"Sécurité!FM43","v":0},{"$f":"Sécurité!FN43","v":0},{"$f":"Sécurité!FO43","v":0},{"$f":"Sécurité!FP43","v":0}]
[null,null,{"$f":"Sécurité!$C$44","v":0},{"$f":"Sécurité!$D$44","v":0},{"$f":"Sécurité!ES44","v":0},{"$f":"Sécurité!ET44","v":0},{"$f":"Sécurité!EU44","v":0},{"$f":"Sécurité!EV44","v":0},{"$f":"Sécurité!EW44","v":0},{"$f":"Sécurité!EX44","v":0},{"$f":"Sécurité!EY44","v":0},{"$f":"Sécurité!EZ44","v":0},{"$f":"Sécurité!FA44","v":0},{"$f":"Sécurité!FB44","v":0},{"$f":"Sécurité!FC44","v":0},{"$f":"Sécurité!FD44","v":0},{"$f":"Sécurité!FE44","v":0},{"$f":"Sécurité!FF44","v":0},{"$f":"Sécurité!FG44","v":0},{"$f":"Sécurité!FH44","v":0},{"$f":"Sécurité!FI44","v":0},{"$f":"Sécurité!FJ44","v":0},{"$f":"Sécurité!FK44","v":0},{"$f":"Sécurité!FL44","v":0},{"$f":"Sécurité!FM44","v":0},{"$f":"Sécurité!FN44","v":0},{"$f":"Sécurité!FO44","v":0},{"$f":"Sécurité!FP44","v":0}]
[null,null,{"$f":"Sécurité!$C$45","v":0},{"$f":"Sécurité!$D$45","v":0},{"$f":"Sécurité!ES45","v":0},{"$f":"Sécurité!ET45","v":0},{"$f":"Sécurité!EU45","v":0},{"$f":"Sécurité!EV45","v":0},{"$f":"Sécurité!EW45","v":0},{"$f":"Sécurité!EX45","v":0},{"$f":"Sécurité!EY45","v":0},{"$f":"Sécurité!EZ45","v":0},{"$f":"Sécurité!FA45","v":0},{"$f":"Sécurité!FB45","v":0},{"$f":"Sécurité!FC45","v":0},{"$f":"Sécurité!FD45","v":0},{"$f":"Sécurité!FE45","v":0},{"$f":"Sécurité!FF45","v":0},{"$f":"Sécurité!FG45","v":0},{"$f":"Sécurité!FH45","v":0},{"$f":"Sécurité!FI45","v":0},{"$f":"Sécurité!FJ45","v":0},{"$f":"Sécurité!FK45","v":0},{"$f":"Sécurité!FL45","v":0},{"$f":"Sécurité!FM45","v":0},{"$f":"Sécurité!FN45","v":0},{"$f":"Sécurité!FO45","v":0},{"$f":"Sécurité!FP45","v":0}]
[null,null,{"$f":"Sécurité!$C$46","v":0},{"$f":"Sécurité!$D$46","v":0},{"$f":"Sécurité!ES46","v":0},{"$f":"Sécurité!ET46","v":0},{"$f":"Sécurité!EU46","v":0},{"$f":"Sécurité!EV46","v":0},{"$f":"Sécurité!EW46","v":0},{"$f":"Sécurité!EX46","v":0},{"$f":"Sécurité!EY46","v":0},{"$f":"Sécurité!EZ46","v":0},{"$f":"Sécurité!FA46","v":0},{"$f":"Sécurité!FB46","v":0},{"$f":"Sécurité!FC46","v":0},{"$f":"Sécurité!FD46","v":0},{"$f":"Sécurité!FE46","v":0},{"$f":"Sécurité!FF46","v":0},{"$f":"Sécurité!FG46","v":0},{"$f":"Sécurité!FH46","v":0},{"$f":"Sécurité!FI46","v":0},{"$f":"Sécurité!FJ46","v":0},{"$f":"Sécurité!FK46","v":0},{"$f":"Sécurité!FL46","v":0},{"$f":"Sécurité!FM46","v":0},{"$f":"Sécurité!FN46","v":0},{"$f":"Sécurité!FO46","v":0},{"$f":"Sécurité!FP46","v":0}]
[null,null,{"$f":"Sécurité!$C$47","v":0},{"$f":"Sécurité!$D$47","v":0},{"$f":"Sécurité!ES47","v":0},{"$f":"Sécurité!ET47","v":0},{"$f":"Sécurité!EU47","v":0},{"$f":"Sécurité!EV47","v":0},{"$f":"Sécurité!EW47","v":0},{"$f":"Sécurité!EX47","v":0},{"$f":"Sécurité!EY47","v":0},{"$f":"Sécurité!EZ47","v":0},{"$f":"Sécurité!FA47","v":0},{"$f":"Sécurité!FB47","v":0},{"$f":"Sécurité!FC47","v":0},{"$f":"Sécurité!FD47","v":0},{"$f":"Sécurité!FE47","v":0},{"$f":"Sécurité!FF47","v":0},{"$f":"Sécurité!FG47","v":0},{"$f":"Sécurité!FH47","v":0},{"$f":"Sécurité!FI47","v":0},{"$f":"Sécurité!FJ47","v":0},{"$f":"Sécurité!FK47","v":0},{"$f":"Sécurité!FL47","v":0},{"$f":"Sécurité!FM47","v":0},{"$f":"Sécurité!FN47","v":0},{"$f":"Sécurité!FO47","v":0},{"$f":"Sécurité!FP47","v":0}]
[null,null,{"$f":"Sécurité!$C$48","v":0},{"$f":"Sécurité!$D$48","v":0},{"$f":"Sécurité!ES48","v":0},{"$f":"Sécurité!ET48","v":0},{"$f":"Sécurité!EU48","v":0},{"$f":"Sécurité!EV48","v":0},{"$f":"Sécurité!EW48","v":0},{"$f":"Sécurité!EX48","v":0},{"$f":"Sécurité!EY48","v":0},{"$f":"Sécurité!EZ48","v":0},{"$f":"Sécurité!FA48","v":0},{"$f":"Sécurité!FB48","v":0},{"$f":"Sécurité!FC48","v":0},{"$f":"Sécurité!FD48","v":0},{"$f":"Sécurité!FE48","v":0},{"$f":"Sécurité!FF48","v":0},{"$f":"Sécurité!FG48","v":0},{"$f":"Sécurité!FH48","v":0},{"$f":"Sécurité!FI48","v":0},{"$f":"Sécurité!FJ48","v":0},{"$f":"Sécurité!FK48","v":0},{"$f":"Sécurité!FL48","v":0},{"$f":"Sécurité!FM48","v":0},{"$f":"Sécurité!FN48","v":0},{"$f":"Sécurité!FO48","v":0},{"$f":"Sécurité!FP48","v":0}]
[null,null,{"$f":"Sécurité!$C$49","v":0},{"$f":"Sécurité!$D$49","v":0},{"$f":"Sécurité!ES49","v":0},{"$f":"Sécurité!ET49","v":0},{"$f":"Sécurité!EU49","v":0},{"$f":"Sécurité!EV49","v":0},{"$f":"Sécurité!EW49","v":0},{"$f":"Sécurité!EX49","v":0},{"$f":"Sécurité!EY49","v":0},{"$f":"Sécurité!EZ49","v":0},{"$f":"Sécurité!FA49","v":0},{"$f":"Sécurité!FB49","v":0},{"$f":"Sécurité!FC49","v":0},{"$f":"Sécurité!FD49","v":0},{"$f":"Sécurité!FE49","v":0},{"$f":"Sécurité!FF49","v":0},{"$f":"Sécurité!FG49","v":0},{"$f":"Sécurité!FH49","v":0},{"$f":"Sécurité!FI49","v":0},{"$f":"Sécurité!FJ49","v":0},{"$f":"Sécurité!FK49","v":0},{"$f":"Sécurité!FL49","v":0},{"$f":"Sécurité!FM49","v":0},{"$f":"Sécurité!FN49","v":0},{"$f":"Sécurité!FO49","v":0},{"$f":"Sécurité!FP49","v":0}]
[null,null,null,null,{"$f":"Identification!$A$36","v":"2016-03-01"}]
[null,null,{"$f":"Sécurité!$C$39","v":"tableau mensuel"},{"$f":"Sécurité!$D$39","v":"Nature des faits"},{"$f":"Sécurité!FQ39","v":"Nb total d'incidents par nature"},{"$f":"Sécurité!FR39","v":"Type de punition"},null,null,{"$f":"Sécurité!FU39","v":"Nb d'incidents par niveau"},null,null,null,null,null,null,null,null,null,{"$f":"Sécurité!GE39","v":"Nb d'élèves concernés"}]
[null,null,null,null,null,null,null,null,{"$f":"Sécurité!FU40","v":0},{"$f":"Sécurité!FV40","v":0},{"$f":"Sécurité!FW40","v":0},{"$f":"Sécurité!FX40","v":0},{"$f":"Sécurité!FY40","v":0},{"$f":"Sécurité!FZ40","v":0},{"$f":"Sécurité!GA40","v":0},{"$f":"Sécurité!GB40","v":0},{"$f":"Sécurité!GC40","v":0},{"$f":"Sécurité!GD40","v":0},{"$f":"Sécurité!GE40","v":0},{"$f":"Sécurité!GF40","v":0},{"$f":"Sécurité!GG40","v":0},{"$f":"Sécurité!GH40","v":0},{"$f":"Sécurité!GI40","v":0},{"$f":"Sécurité!GJ40","v":0},{"$f":"Sécurité!GK40","v":0},{"$f":"Sécurité!GL40","v":0},{"$f":"Sécurité!GM40","v":0},{"$f":"Sécurité!GN40","v":0}]
[null,null,null,null,null,{"$f":"Sécurité!FR41","v":0},{"$f":"Sécurité!FS41","v":0},{"$f":"Sécurité!FT41","v":0},{"$f":"Sécurité!FU41","v":0},{"$f":"Sécurité!FV41","v":0},{"$f":"Sécurité!FW41","v":0},{"$f":"Sécurité!FX41","v":0},{"$f":"Sécurité!FY41","v":0},{"$f":"Sécurité!FZ41","v":0},{"$f":"Sécurité!GA41","v":0},{"$f":"Sécurité!GB41","v":0},{"$f":"Sécurité!GC41","v":0},{"$f":"Sécurité!GD41","v":0},{"$f":"Sécurité!GE41","v":0},{"$f":"Sécurité!GF41","v":0},{"$f":"Sécurité!GG41","v":0},{"$f":"Sécurité!GH41","v":0},{"$f":"Sécurité!GI41","v":0},{"$f":"Sécurité!GJ41","v":0},{"$f":"Sécurité!GK41","v":0},{"$f":"Sécurité!GL41","v":0},{"$f":"Sécurité!GM41","v":0},{"$f":"Sécurité!GN41","v":0}]
[null,null,{"$f":"Sécurité!$C$42","v":"Nature des incidents (punitions)\n(à décliner)"},{"$f":"Sécurité!$D$42","v":0},{"$f":"Sécurité!FQ42","v":0},{"$f":"Sécurité!FR42","v":0},{"$f":"Sécurité!FS42","v":0},{"$f":"Sécurité!FT42","v":0},{"$f":"Sécurité!FU42","v":0},{"$f":"Sécurité!FV42","v":0},{"$f":"Sécurité!FW42","v":0},{"$f":"Sécurité!FX42","v":0},{"$f":"Sécurité!FY42","v":0},{"$f":"Sécurité!FZ42","v":0},{"$f":"Sécurité!GA42","v":0},{"$f":"Sécurité!GB42","v":0},{"$f":"Sécurité!GC42","v":0},{"$f":"Sécurité!GD42","v":0},{"$f":"Sécurité!GE42","v":0},{"$f":"Sécurité!GF42","v":0},{"$f":"Sécurité!GG42","v":0},{"$f":"Sécurité!GH42","v":0},{"$f":"Sécurité!GI42","v":0},{"$f":"Sécurité!GJ42","v":0},{"$f":"Sécurité!GK42","v":0},{"$f":"Sécurité!GL42","v":0},{"$f":"Sécurité!GM42","v":0},{"$f":"Sécurité!GN42","v":0}]
[null,null,{"$f":"Sécurité!$C$43","v":0},{"$f":"Sécurité!$D$43","v":0},{"$f":"Sécurité!FQ43","v":0},{"$f":"Sécurité!FR43","v":0},{"$f":"Sécurité!FS43","v":0},{"$f":"Sécurité!FT43","v":0},{"$f":"Sécurité!FU43","v":0},{"$f":"Sécurité!FV43","v":0},{"$f":"Sécurité!FW43","v":0},{"$f":"Sécurité!FX43","v":0},{"$f":"Sécurité!FY43","v":0},{"$f":"Sécurité!FZ43","v":0},{"$f":"Sécurité!GA43","v":0},{"$f":"Sécurité!GB43","v":0},{"$f":"Sécurité!GC43","v":0},{"$f":"Sécurité!GD43","v":0},{"$f":"Sécurité!GE43","v":0},{"$f":"Sécurité!GF43","v":0},{"$f":"Sécurité!GG43","v":0},{"$f":"Sécurité!GH43","v":0},{"$f":"Sécurité!GI43","v":0},{"$f":"Sécurité!GJ43","v":0},{"$f":"Sécurité!GK43","v":0},{"$f":"Sécurité!GL43","v":0},{"$f":"Sécurité!GM43","v":0},{"$f":"Sécurité!GN43","v":0}]
[null,null,{"$f":"Sécurité!$C$44","v":0},{"$f":"Sécurité!$D$44","v":0},{"$f":"Sécurité!FQ44","v":0},{"$f":"Sécurité!FR44","v":0},{"$f":"Sécurité!FS44","v":0},{"$f":"Sécurité!FT44","v":0},{"$f":"Sécurité!FU44","v":0},{"$f":"Sécurité!FV44","v":0},{"$f":"Sécurité!FW44","v":0},{"$f":"Sécurité!FX44","v":0},{"$f":"Sécurité!FY44","v":0},{"$f":"Sécurité!FZ44","v":0},{"$f":"Sécurité!GA44","v":0},{"$f":"Sécurité!GB44","v":0},{"$f":"Sécurité!GC44","v":0},{"$f":"Sécurité!GD44","v":0},{"$f":"Sécurité!GE44","v":0},{"$f":"Sécurité!GF44","v":0},{"$f":"Sécurité!GG44","v":0},{"$f":"Sécurité!GH44","v":0},{"$f":"Sécurité!GI44","v":0},{"$f":"Sécurité!GJ44","v":0},{"$f":"Sécurité!GK44","v":0},{"$f":"Sécurité!GL44","v":0},{"$f":"Sécurité!GM44","v":0},{"$f":"Sécurité!GN44","v":0}]
[null,null,{"$f":"Sécurité!$C$45","v":0},{"$f":"Sécurité!$D$45","v":0},{"$f":"Sécurité!FQ45","v":0},{"$f":"Sécurité!FR45","v":0},{"$f":"Sécurité!FS45","v":0},{"$f":"Sécurité!FT45","v":0},{"$f":"Sécurité!FU45","v":0},{"$f":"Sécurité!FV45","v":0},{"$f":"Sécurité!FW45","v":0},{"$f":"Sécurité!FX45","v":0},{"$f":"Sécurité!FY45","v":0},{"$f":"Sécurité!FZ45","v":0},{"$f":"Sécurité!GA45","v":0},{"$f":"Sécurité!GB45","v":0},{"$f":"Sécurité!GC45","v":0},{"$f":"Sécurité!GD45","v":0},{"$f":"Sécurité!GE45","v":0},{"$f":"Sécurité!GF45","v":0},{"$f":"Sécurité!GG45","v":0},{"$f":"Sécurité!GH45","v":0},{"$f":"Sécurité!GI45","v":0},{"$f":"Sécurité!GJ45","v":0},{"$f":"Sécurité!GK45","v":0},{"$f":"Sécurité!GL45","v":0},{"$f":"Sécurité!GM45","v":0},{"$f":"Sécurité!GN45","v":0}]
[null,null,{"$f":"Sécurité!$C$46","v":0},{"$f":"Sécurité!$D$46","v":0},{"$f":"Sécurité!FQ46","v":0},{"$f":"Sécurité!FR46","v":0},{"$f":"Sécurité!FS46","v":0},{"$f":"Sécurité!FT46","v":0},{"$f":"Sécurité!FU46","v":0},{"$f":"Sécurité!FV46","v":0},{"$f":"Sécurité!FW46","v":0},{"$f":"Sécurité!FX46","v":0},{"$f":"Sécurité!FY46","v":0},{"$f":"Sécurité!FZ46","v":0},{"$f":"Sécurité!GA46","v":0},{"$f":"Sécurité!GB46","v":0},{"$f":"Sécurité!GC46","v":0},{"$f":"Sécurité!GD46","v":0},{"$f":"Sécurité!GE46","v":0},{"$f":"Sécurité!GF46","v":0},{"$f":"Sécurité!GG46","v":0},{"$f":"Sécurité!GH46","v":0},{"$f":"Sécurité!GI46","v":0},{"$f":"Sécurité!GJ46","v":0},{"$f":"Sécurité!GK46","v":0},{"$f":"Sécurité!GL46","v":0},{"$f":"Sécurité!GM46","v":0},{"$f":"Sécurité!GN46","v":0}]
[null,null,{"$f":"Sécurité!$C$47","v":0},{"$f":"Sécurité!$D$47","v":0},{"$f":"Sécurité!FQ47","v":0},{"$f":"Sécurité!FR47","v":0},{"$f":"Sécurité!FS47","v":0},{"$f":"Sécurité!FT47","v":0},{"$f":"Sécurité!FU47","v":0},{"$f":"Sécurité!FV47","v":0},{"$f":"Sécurité!FW47","v":0},{"$f":"Sécurité!FX47","v":0},{"$f":"Sécurité!FY47","v":0},{"$f":"Sécurité!FZ47","v":0},{"$f":"Sécurité!GA47","v":0},{"$f":"Sécurité!GB47","v":0},{"$f":"Sécurité!GC47","v":0},{"$f":"Sécurité!GD47","v":0},{"$f":"Sécurité!GE47","v":0},{"$f":"Sécurité!GF47","v":0},{"$f":"Sécurité!GG47","v":0},{"$f":"Sécurité!GH47","v":0},{"$f":"Sécurité!GI47","v":0},{"$f":"Sécurité!GJ47","v":0},{"$f":"Sécurité!GK47","v":0},{"$f":"Sécurité!GL47","v":0},{"$f":"Sécurité!GM47","v":0},{"$f":"Sécurité!GN47","v":0}]
[null,null,{"$f":"Sécurité!$C$48","v":0},{"$f":"Sécurité!$D$48","v":0},{"$f":"Sécurité!FQ48","v":0},{"$f":"Sécurité!FR48","v":0},{"$f":"Sécurité!FS48","v":0},{"$f":"Sécurité!FT48","v":0},{"$f":"Sécurité!FU48","v":0},{"$f":"Sécurité!FV48","v":0},{"$f":"Sécurité!FW48","v":0},{"$f":"Sécurité!FX48","v":0},{"$f":"Sécurité!FY48","v":0},{"$f":"Sécurité!FZ48","v":0},{"$f":"Sécurité!GA48","v":0},{"$f":"Sécurité!GB48","v":0},{"$f":"Sécurité!GC48","v":0},{"$f":"Sécurité!GD48","v":0},{"$f":"Sécurité!GE48","v":0},{"$f":"Sécurité!GF48","v":0},{"$f":"Sécurité!GG48","v":0},{"$f":"Sécurité!GH48","v":0},{"$f":"Sécurité!GI48","v":0},{"$f":"Sécurité!GJ48","v":0},{"$f":"Sécurité!GK48","v":0},{"$f":"Sécurité!GL48","v":0},{"$f":"Sécurité!GM48","v":0},{"$f":"Sécurité!GN48","v":0}]
[null,null,{"$f":"Sécurité!$C$49","v":0},{"$f":"Sécurité!$D$49","v":0},{"$f":"Sécurité!FQ49","v":0},{"$f":"Sécurité!FR49","v":0},{"$f":"Sécurité!FS49","v":0},{"$f":"Sécurité!FT49","v":0},{"$f":"Sécurité!FU49","v":0},{"$f":"Sécurité!FV49","v":0},{"$f":"Sécurité!FW49","v":0},{"$f":"Sécurité!FX49","v":0},{"$f":"Sécurité!FY49","v":0},{"$f":"Sécurité!FZ49","v":0},{"$f":"Sécurité!GA49","v":0},{"$f":"Sécurité!GB49","v":0},{"$f":"Sécurité!GC49","v":0},{"$f":"Sécurité!GD49","v":0},{"$f":"Sécurité!GE49","v":0},{"$f":"Sécurité!GF49","v":0},{"$f":"Sécurité!GG49","v":0},{"$f":"Sécurité!GH49","v":0},{"$f":"Sécurité!GI49","v":0},{"$f":"Sécurité!GJ49","v":0},{"$f":"Sécurité!GK49","v":0},{"$f":"Sécurité!GL49","v":0},{"$f":"Sécurité!GM49","v":0},{"$f":"Sécurité!GN49","v":0}]
[null,null,null,null,{"$f":"Identification!$A$37","v":"2016-04-01"}]
[null,null,{"$f":"Sécurité!$C$39","v":"tableau mensuel"},{"$f":"Sécurité!$D$39","v":"Nature des faits"},{"$f":"Sécurité!GO39","v":"Nb total d'incidents par nature"},{"$f":"Sécurité!GP39","v":"Type de punition"},null,null,{"$f":"Sécurité!GS39","v":"Nb d'incidents par niveau"},null,null,null,null,null,null,null,null,null,{"$f":"Sécurité!HC39","v":"Nb d'élèves concernés"}]
[null,null,null,null,null,null,null,null,{"$f":"Sécurité!GS40","v":0},{"$f":"Sécurité!GT40","v":0},{"$f":"Sécurité!GU40","v":0},{"$f":"Sécurité!GV40","v":0},{"$f":"Sécurité!GW40","v":0},{"$f":"Sécurité!GX40","v":0},{"$f":"Sécurité!GY40","v":0},{"$f":"Sécurité!GZ40","v":0},{"$f":"Sécurité!HA40","v":0},{"$f":"Sécurité!HB40","v":0},{"$f":"Sécurité!HC40","v":0},{"$f":"Sécurité!HD40","v":0},{"$f":"Sécurité!HE40","v":0},{"$f":"Sécurité!HF40","v":0},{"$f":"Sécurité!HG40","v":0},{"$f":"Sécurité!HH40","v":0},{"$f":"Sécurité!HI40","v":0},{"$f":"Sécurité!HJ40","v":0},{"$f":"Sécurité!HK40","v":0},{"$f":"Sécurité!HL40","v":0}]
[null,null,null,null,null,{"$f":"Sécurité!GP41","v":0},{"$f":"Sécurité!GQ41","v":0},{"$f":"Sécurité!GR41","v":0},{"$f":"Sécurité!GS41","v":0},{"$f":"Sécurité!GT41","v":0},{"$f":"Sécurité!GU41","v":0},{"$f":"Sécurité!GV41","v":0},{"$f":"Sécurité!GW41","v":0},{"$f":"Sécurité!GX41","v":0},{"$f":"Sécurité!GY41","v":0},{"$f":"Sécurité!GZ41","v":0},{"$f":"Sécurité!HA41","v":0},{"$f":"Sécurité!HB41","v":0},{"$f":"Sécurité!HC41","v":0},{"$f":"Sécurité!HD41","v":0},{"$f":"Sécurité!HE41","v":0},{"$f":"Sécurité!HF41","v":0},{"$f":"Sécurité!HG41","v":0},{"$f":"Sécurité!HH41","v":0},{"$f":"Sécurité!HI41","v":0},{"$f":"Sécurité!HJ41","v":0},{"$f":"Sécurité!HK41","v":0},{"$f":"Sécurité!HL41","v":0}]
[null,null,{"$f":"Sécurité!$C$42","v":"Nature des incidents (punitions)\n(à décliner)"},{"$f":"Sécurité!$D$42","v":0},{"$f":"Sécurité!GO42","v":0},{"$f":"Sécurité!GP42","v":0},{"$f":"Sécurité!GQ42","v":0},{"$f":"Sécurité!GR42","v":0},{"$f":"Sécurité!GS42","v":0},{"$f":"Sécurité!GT42","v":0},{"$f":"Sécurité!GU42","v":0},{"$f":"Sécurité!GV42","v":0},{"$f":"Sécurité!GW42","v":0},{"$f":"Sécurité!GX42","v":0},{"$f":"Sécurité!GY42","v":0},{"$f":"Sécurité!GZ42","v":0},{"$f":"Sécurité!HA42","v":0},{"$f":"Sécurité!HB42","v":0},{"$f":"Sécurité!HC42","v":0},{"$f":"Sécurité!HD42","v":0},{"$f":"Sécurité!HE42","v":0},{"$f":"Sécurité!HF42","v":0},{"$f":"Sécurité!HG42","v":0},{"$f":"Sécurité!HH42","v":0},{"$f":"Sécurité!HI42","v":0},{"$f":"Sécurité!HJ42","v":0},{"$f":"Sécurité!HK42","v":0},{"$f":"Sécurité!HL42","v":0}]
[null,null,{"$f":"Sécurité!$C$43","v":0},{"$f":"Sécurité!$D$43","v":0},{"$f":"Sécurité!GO43","v":0},{"$f":"Sécurité!GP43","v":0},{"$f":"Sécurité!GQ43","v":0},{"$f":"Sécurité!GR43","v":0},{"$f":"Sécurité!GS43","v":0},{"$f":"Sécurité!GT43","v":0},{"$f":"Sécurité!GU43","v":0},{"$f":"Sécurité!GV43","v":0},{"$f":"Sécurité!GW43","v":0},{"$f":"Sécurité!GX43","v":0},{"$f":"Sécurité!GY43","v":0},{"$f":"Sécurité!GZ43","v":0},{"$f":"Sécurité!HA43","v":0},{"$f":"Sécurité!HB43","v":0},{"$f":"Sécurité!HC43","v":0},{"$f":"Sécurité!HD43","v":0},{"$f":"Sécurité!HE43","v":0},{"$f":"Sécurité!HF43","v":0},{"$f":"Sécurité!HG43","v":0},{"$f":"Sécurité!HH43","v":0},{"$f":"Sécurité!HI43","v":0},{"$f":"Sécurité!HJ43","v":0},{"$f":"Sécurité!HK43","v":0},{"$f":"Sécurité!HL43","v":0}]
[null,null,{"$f":"Sécurité!$C$44","v":0},{"$f":"Sécurité!$D$44","v":0},{"$f":"Sécurité!GO44","v":0},{"$f":"Sécurité!GP44","v":0},{"$f":"Sécurité!GQ44","v":0},{"$f":"Sécurité!GR44","v":0},{"$f":"Sécurité!GS44","v":0},{"$f":"Sécurité!GT44","v":0},{"$f":"Sécurité!GU44","v":0},{"$f":"Sécurité!GV44","v":0},{"$f":"Sécurité!GW44","v":0},{"$f":"Sécurité!GX44","v":0},{"$f":"Sécurité!GY44","v":0},{"$f":"Sécurité!GZ44","v":0},{"$f":"Sécurité!HA44","v":0},{"$f":"Sécurité!HB44","v":0},{"$f":"Sécurité!HC44","v":0},{"$f":"Sécurité!HD44","v":0},{"$f":"Sécurité!HE44","v":0},{"$f":"Sécurité!HF44","v":0},{"$f":"Sécurité!HG44","v":0},{"$f":"Sécurité!HH44","v":0},{"$f":"Sécurité!HI44","v":0},{"$f":"Sécurité!HJ44","v":0},{"$f":"Sécurité!HK44","v":0},{"$f":"Sécurité!HL44","v":0}]
[null,null,{"$f":"Sécurité!$C$45","v":0},{"$f":"Sécurité!$D$45","v":0},{"$f":"Sécurité!GO45","v":0},{"$f":"Sécurité!GP45","v":0},{"$f":"Sécurité!GQ45","v":0},{"$f":"Sécurité!GR45","v":0},{"$f":"Sécurité!GS45","v":0},{"$f":"Sécurité!GT45","v":0},{"$f":"Sécurité!GU45","v":0},{"$f":"Sécurité!GV45","v":0},{"$f":"Sécurité!GW45","v":0},{"$f":"Sécurité!GX45","v":0},{"$f":"Sécurité!GY45","v":0},{"$f":"Sécurité!GZ45","v":0},{"$f":"Sécurité!HA45","v":0},{"$f":"Sécurité!HB45","v":0},{"$f":"Sécurité!HC45","v":0},{"$f":"Sécurité!HD45","v":0},{"$f":"Sécurité!HE45","v":0},{"$f":"Sécurité!HF45","v":0},{"$f":"Sécurité!HG45","v":0},{"$f":"Sécurité!HH45","v":0},{"$f":"Sécurité!HI45","v":0},{"$f":"Sécurité!HJ45","v":0},{"$f":"Sécurité!HK45","v":0},{"$f":"Sécurité!HL45","v":0}]
[null,null,{"$f":"Sécurité!$C$46","v":0},{"$f":"Sécurité!$D$46","v":0},{"$f":"Sécurité!GO46","v":0},{"$f":"Sécurité!GP46","v":0},{"$f":"Sécurité!GQ46","v":0},{"$f":"Sécurité!GR46","v":0},{"$f":"Sécurité!GS46","v":0},{"$f":"Sécurité!GT46","v":0},{"$f":"Sécurité!GU46","v":0},{"$f":"Sécurité!GV46","v":0},{"$f":"Sécurité!GW46","v":0},{"$f":"Sécurité!GX46","v":0},{"$f":"Sécurité!GY46","v":0},{"$f":"Sécurité!GZ46","v":0},{"$f":"Sécurité!HA46","v":0},{"$f":"Sécurité!HB46","v":0},{"$f":"Sécurité!HC46","v":0},{"$f":"Sécurité!HD46","v":0},{"$f":"Sécurité!HE46","v":0},{"$f":"Sécurité!HF46","v":0},{"$f":"Sécurité!HG46","v":0},{"$f":"Sécurité!HH46","v":0},{"$f":"Sécurité!HI46","v":0},{"$f":"Sécurité!HJ46","v":0},{"$f":"Sécurité!HK46","v":0},{"$f":"Sécurité!HL46","v":0}]
[null,null,{"$f":"Sécurité!$C$47","v":0},{"$f":"Sécurité!$D$47","v":0},{"$f":"Sécurité!GO47","v":0},{"$f":"Sécurité!GP47","v":0},{"$f":"Sécurité!GQ47","v":0},{"$f":"Sécurité!GR47","v":0},{"$f":"Sécurité!GS47","v":0},{"$f":"Sécurité!GT47","v":0},{"$f":"Sécurité!GU47","v":0},{"$f":"Sécurité!GV47","v":0},{"$f":"Sécurité!GW47","v":0},{"$f":"Sécurité!GX47","v":0},{"$f":"Sécurité!GY47","v":0},{"$f":"Sécurité!GZ47","v":0},{"$f":"Sécurité!HA47","v":0},{"$f":"Sécurité!HB47","v":0},{"$f":"Sécurité!HC47","v":0},{"$f":"Sécurité!HD47","v":0},{"$f":"Sécurité!HE47","v":0},{"$f":"Sécurité!HF47","v":0},{"$f":"Sécurité!HG47","v":0},{"$f":"Sécurité!HH47","v":0},{"$f":"Sécurité!HI47","v":0},{"$f":"Sécurité!HJ47","v":0},{"$f":"Sécurité!HK47","v":0},{"$f":"Sécurité!HL47","v":0}]
[null,null,{"$f":"Sécurité!$C$48","v":0},{"$f":"Sécurité!$D$48","v":0},{"$f":"Sécurité!GO48","v":0},{"$f":"Sécurité!GP48","v":0},{"$f":"Sécurité!GQ48","v":0},{"$f":"Sécurité!GR48","v":0},{"$f":"Sécurité!GS48","v":0},{"$f":"Sécurité!GT48","v":0},{"$f":"Sécurité!GU48","v":0},{"$f":"Sécurité!GV48","v":0},{"$f":"Sécurité!GW48","v":0},{"$f":"Sécurité!GX48","v":0},{"$f":"Sécurité!GY48","v":0},{"$f":"Sécurité!GZ48","v":0},{"$f":"Sécurité!HA48","v":0},{"$f":"Sécurité!HB48","v":0},{"$f":"Sécurité!HC48","v":0},{"$f":"Sécurité!HD48","v":0},{"$f":"Sécurité!HE48","v":0},{"$f":"Sécurité!HF48","v":0},{"$f":"Sécurité!HG48","v":0},{"$f":"Sécurité!HH48","v":0},{"$f":"Sécurité!HI48","v":0},{"$f":"Sécurité!HJ48","v":0},{"$f":"Sécurité!HK48","v":0},{"$f":"Sécurité!HL48","v":0}]
[null,null,{"$f":"Sécurité!$C$49","v":0},{"$f":"Sécurité!$D$49","v":0},{"$f":"Sécurité!GO49","v":0},{"$f":"Sécurité!GP49","v":0},{"$f":"Sécurité!GQ49","v":0},{"$f":"Sécurité!GR49","v":0},{"$f":"Sécurité!GS49","v":0},{"$f":"Sécurité!GT49","v":0},{"$f":"Sécurité!GU49","v":0},{"$f":"Sécurité!GV49","v":0},{"$f":"Sécurité!GW49","v":0},{"$f":"Sécurité!GX49","v":0},{"$f":"Sécurité!GY49","v":0},{"$f":"Sécurité!GZ49","v":0},{"$f":"Sécurité!HA49","v":0},{"$f":"Sécurité!HB49","v":0},{"$f":"Sécurité!HC49","v":0},{"$f":"Sécurité!HD49","v":0},{"$f":"Sécurité!HE49","v":0},{"$f":"Sécurité!HF49","v":0},{"$f":"Sécurité!HG49","v":0},{"$f":"Sécurité!HH49","v":0},{"$f":"Sécurité!HI49","v":0},{"$f":"Sécurité!HJ49","v":0},{"$f":"Sécurité!HK49","v":0},{"$f":"Sécurité!HL49","v":0}]
[null,null,null,null,{"$f":"Identification!$A$38","v":"2016-05-01"}]
[null,null,{"$f":"Sécurité!$C$39","v":"tableau mensuel"},{"$f":"Sécurité!$D$39","v":"Nature des faits"},{"$f":"Sécurité!HM39","v":"Nb total d'incidents par nature"},{"$f":"Sécurité!HN39","v":"Type de punition"},null,null,{"$f":"Sécurité!HQ39","v":"Nb d'incidents par niveau"},null,null,null,null,null,null,null,null,null,{"$f":"Sécurité!IA39","v":"Nb d'élèves concernés"}]
[null,null,null,null,null,null,null,null,{"$f":"Sécurité!HQ40","v":0},{"$f":"Sécurité!HR40","v":0},{"$f":"Sécurité!HS40","v":0},{"$f":"Sécurité!HT40","v":0},{"$f":"Sécurité!HU40","v":0},{"$f":"Sécurité!HV40","v":0},{"$f":"Sécurité!HW40","v":0},{"$f":"Sécurité!HX40","v":0},{"$f":"Sécurité!HY40","v":0},{"$f":"Sécurité!HZ40","v":0},{"$f":"Sécurité!IA40","v":0},{"$f":"Sécurité!IB40","v":0},{"$f":"Sécurité!IC40","v":0},{"$f":"Sécurité!ID40","v":0},{"$f":"Sécurité!IE40","v":0},{"$f":"Sécurité!IF40","v":0},{"$f":"Sécurité!IG40","v":0},{"$f":"Sécurité!IH40","v":0},{"$f":"Sécurité!II40","v":0},{"$f":"Sécurité!IJ40","v":0}]
[null,null,null,null,null,{"$f":"Sécurité!HN41","v":0},{"$f":"Sécurité!HO41","v":0},{"$f":"Sécurité!HP41","v":0},{"$f":"Sécurité!HQ41","v":0},{"$f":"Sécurité!HR41","v":0},{"$f":"Sécurité!HS41","v":0},{"$f":"Sécurité!HT41","v":0},{"$f":"Sécurité!HU41","v":0},{"$f":"Sécurité!HV41","v":0},{"$f":"Sécurité!HW41","v":0},{"$f":"Sécurité!HX41","v":0},{"$f":"Sécurité!HY41","v":0},{"$f":"Sécurité!HZ41","v":0},{"$f":"Sécurité!IA41","v":0},{"$f":"Sécurité!IB41","v":0},{"$f":"Sécurité!IC41","v":0},{"$f":"Sécurité!ID41","v":0},{"$f":"Sécurité!IE41","v":0},{"$f":"Sécurité!IF41","v":0},{"$f":"Sécurité!IG41","v":0},{"$f":"Sécurité!IH41","v":0},{"$f":"Sécurité!II41","v":0},{"$f":"Sécurité!IJ41","v":0}]
[null,null,{"$f":"Sécurité!$C$42","v":"Nature des incidents (punitions)\n(à décliner)"},{"$f":"Sécurité!$D$42","v":0},{"$f":"Sécurité!HM42","v":0},{"$f":"Sécurité!HN42","v":0},{"$f":"Sécurité!HO42","v":0},{"$f":"Sécurité!HP42","v":0},{"$f":"Sécurité!HQ42","v":0},{"$f":"Sécurité!HR42","v":0},{"$f":"Sécurité!HS42","v":0},{"$f":"Sécurité!HT42","v":0},{"$f":"Sécurité!HU42","v":0},{"$f":"Sécurité!HV42","v":0},{"$f":"Sécurité!HW42","v":0},{"$f":"Sécurité!HX42","v":0},{"$f":"Sécurité!HY42","v":0},{"$f":"Sécurité!HZ42","v":0},{"$f":"Sécurité!IA42","v":0},{"$f":"Sécurité!IB42","v":0},{"$f":"Sécurité!IC42","v":0},{"$f":"Sécurité!ID42","v":0},{"$f":"Sécurité!IE42","v":0},{"$f":"Sécurité!IF42","v":0},{"$f":"Sécurité!IG42","v":0},{"$f":"Sécurité!IH42","v":0},{"$f":"Sécurité!II42","v":0},{"$f":"Sécurité!IJ42","v":0}]
[null,null,{"$f":"Sécurité!$C$43","v":0},{"$f":"Sécurité!$D$43","v":0},{"$f":"Sécurité!HM43","v":0},{"$f":"Sécurité!HN43","v":0},{"$f":"Sécurité!HO43","v":0},{"$f":"Sécurité!HP43","v":0},{"$f":"Sécurité!HQ43","v":0},{"$f":"Sécurité!HR43","v":0},{"$f":"Sécurité!HS43","v":0},{"$f":"Sécurité!HT43","v":0},{"$f":"Sécurité!HU43","v":0},{"$f":"Sécurité!HV43","v":0},{"$f":"Sécurité!HW43","v":0},{"$f":"Sécurité!HX43","v":0},{"$f":"Sécurité!HY43","v":0},{"$f":"Sécurité!HZ43","v":0},{"$f":"Sécurité!IA43","v":0},{"$f":"Sécurité!IB43","v":0},{"$f":"Sécurité!IC43","v":0},{"$f":"Sécurité!ID43","v":0},{"$f":"Sécurité!IE43","v":0},{"$f":"Sécurité!IF43","v":0},{"$f":"Sécurité!IG43","v":0},{"$f":"Sécurité!IH43","v":0},{"$f":"Sécurité!II43","v":0},{"$f":"Sécurité!IJ43","v":0}]
[null,null,{"$f":"Sécurité!$C$44","v":0},{"$f":"Sécurité!$D$44","v":0},{"$f":"Sécurité!HM44","v":0},{"$f":"Sécurité!HN44","v":0},{"$f":"Sécurité!HO44","v":0},{"$f":"Sécurité!HP44","v":0},{"$f":"Sécurité!HQ44","v":0},{"$f":"Sécurité!HR44","v":0},{"$f":"Sécurité!HS44","v":0},{"$f":"Sécurité!HT44","v":0},{"$f":"Sécurité!HU44","v":0},{"$f":"Sécurité!HV44","v":0},{"$f":"Sécurité!HW44","v":0},{"$f":"Sécurité!HX44","v":0},{"$f":"Sécurité!HY44","v":0},{"$f":"Sécurité!HZ44","v":0},{"$f":"Sécurité!IA44","v":0},{"$f":"Sécurité!IB44","v":0},{"$f":"Sécurité!IC44","v":0},{"$f":"Sécurité!ID44","v":0},{"$f":"Sécurité!IE44","v":0},{"$f":"Sécurité!IF44","v":0},{"$f":"Sécurité!IG44","v":0},{"$f":"Sécurité!IH44","v":0},{"$f":"Sécurité!II44","v":0},{"$f":"Sécurité!IJ44","v":0}]
[null,null,{"$f":"Sécurité!$C$45","v":0},{"$f":"Sécurité!$D$45","v":0},{"$f":"Sécurité!HM45","v":0},{"$f":"Sécurité!HN45","v":0},{"$f":"Sécurité!HO45","v":0},{"$f":"Sécurité!HP45","v":0},{"$f":"Sécurité!HQ45","v":0},{"$f":"Sécurité!HR45","v":0},{"$f":"Sécurité!HS45","v":0},{"$f":"Sécurité!HT45","v":0},{"$f":"Sécurité!HU45","v":0},{"$f":"Sécurité!HV45","v":0},{"$f":"Sécurité!HW45","v":0},{"$f":"Sécurité!HX45","v":0},{"$f":"Sécurité!HY45","v":0},{"$f":"Sécurité!HZ45","v":0},{"$f":"Sécurité!IA45","v":0},{"$f":"Sécurité!IB45","v":0},{"$f":"Sécurité!IC45","v":0},{"$f":"Sécurité!ID45","v":0},{"$f":"Sécurité!IE45","v":0},{"$f":"Sécurité!IF45","v":0},{"$f":"Sécurité!IG45","v":0},{"$f":"Sécurité!IH45","v":0},{"$f":"Sécurité!II45","v":0},{"$f":"Sécurité!IJ45","v":0}]
[null,null,{"$f":"Sécurité!$C$46","v":0},{"$f":"Sécurité!$D$46","v":0},{"$f":"Sécurité!HM46","v":0},{"$f":"Sécurité!HN46","v":0},{"$f":"Sécurité!HO46","v":0},{"$f":"Sécurité!HP46","v":0},{"$f":"Sécurité!HQ46","v":0},{"$f":"Sécurité!HR46","v":0},{"$f":"Sécurité!HS46","v":0},{"$f":"Sécurité!HT46","v":0},{"$f":"Sécurité!HU46","v":0},{"$f":"Sécurité!HV46","v":0},{"$f":"Sécurité!HW46","v":0},{"$f":"Sécurité!HX46","v":0},{"$f":"Sécurité!HY46","v":0},{"$f":"Sécurité!HZ46","v":0},{"$f":"Sécurité!IA46","v":0},{"$f":"Sécurité!IB46","v":0},{"$f":"Sécurité!IC46","v":0},{"$f":"Sécurité!ID46","v":0},{"$f":"Sécurité!IE46","v":0},{"$f":"Sécurité!IF46","v":0},{"$f":"Sécurité!IG46","v":0},{"$f":"Sécurité!IH46","v":0},{"$f":"Sécurité!II46","v":0},{"$f":"Sécurité!IJ46","v":0}]
[null,null,{"$f":"Sécurité!$C$47","v":0},{"$f":"Sécurité!$D$47","v":0},{"$f":"Sécurité!HM47","v":0},{"$f":"Sécurité!HN47","v":0},{"$f":"Sécurité!HO47","v":0},{"$f":"Sécurité!HP47","v":0},{"$f":"Sécurité!HQ47","v":0},{"$f":"Sécurité!HR47","v":0},{"$f":"Sécurité!HS47","v":0},{"$f":"Sécurité!HT47","v":0},{"$f":"Sécurité!HU47","v":0},{"$f":"Sécurité!HV47","v":0},{"$f":"Sécurité!HW47","v":0},{"$f":"Sécurité!HX47","v":0},{"$f":"Sécurité!HY47","v":0},{"$f":"Sécurité!HZ47","v":0},{"$f":"Sécurité!IA47","v":0},{"$f":"Sécurité!IB47","v":0},{"$f":"Sécurité!IC47","v":0},{"$f":"Sécurité!ID47","v":0},{"$f":"Sécurité!IE47","v":0},{"$f":"Sécurité!IF47","v":0},{"$f":"Sécurité!IG47","v":0},{"$f":"Sécurité!IH47","v":0},{"$f":"Sécurité!II47","v":0},{"$f":"Sécurité!IJ47","v":0}]
[null,null,{"$f":"Sécurité!$C$48","v":0},{"$f":"Sécurité!$D$48","v":0},{"$f":"Sécurité!HM48","v":0},{"$f":"Sécurité!HN48","v":0},{"$f":"Sécurité!HO48","v":0},{"$f":"Sécurité!HP48","v":0},{"$f":"Sécurité!HQ48","v":0},{"$f":"Sécurité!HR48","v":0},{"$f":"Sécurité!HS48","v":0},{"$f":"Sécurité!HT48","v":0},{"$f":"Sécurité!HU48","v":0},{"$f":"Sécurité!HV48","v":0},{"$f":"Sécurité!HW48","v":0},{"$f":"Sécurité!HX48","v":0},{"$f":"Sécurité!HY48","v":0},{"$f":"Sécurité!HZ48","v":0},{"$f":"Sécurité!IA48","v":0},{"$f":"Sécurité!IB48","v":0},{"$f":"Sécurité!IC48","v":0},{"$f":"Sécurité!ID48","v":0},{"$f":"Sécurité!IE48","v":0},{"$f":"Sécurité!IF48","v":0},{"$f":"Sécurité!IG48","v":0},{"$f":"Sécurité!IH48","v":0},{"$f":"Sécurité!II48","v":0},{"$f":"Sécurité!IJ48","v":0}]
[null,null,{"$f":"Sécurité!$C$49","v":0},{"$f":"Sécurité!$D$49","v":0},{"$f":"Sécurité!HM49","v":0},{"$f":"Sécurité!HN49","v":0},{"$f":"Sécurité!HO49","v":0},{"$f":"Sécurité!HP49","v":0},{"$f":"Sécurité!HQ49","v":0},{"$f":"Sécurité!HR49","v":0},{"$f":"Sécurité!HS49","v":0},{"$f":"Sécurité!HT49","v":0},{"$f":"Sécurité!HU49","v":0},{"$f":"Sécurité!HV49","v":0},{"$f":"Sécurité!HW49","v":0},{"$f":"Sécurité!HX49","v":0},{"$f":"Sécurité!HY49","v":0},{"$f":"Sécurité!HZ49","v":0},{"$f":"Sécurité!IA49","v":0},{"$f":"Sécurité!IB49","v":0},{"$f":"Sécurité!IC49","v":0},{"$f":"Sécurité!ID49","v":0},{"$f":"Sécurité!IE49","v":0},{"$f":"Sécurité!IF49","v":0},{"$f":"Sécurité!IG49","v":0},{"$f":"Sécurité!IH49","v":0},{"$f":"Sécurité!II49","v":0},{"$f":"Sécurité!IJ49","v":0}]
[null,null,null,null,{"$f":"Identification!$A$39","v":"2016-06-01"}]
[null,null,{"$f":"Sécurité!$C$39","v":"tableau mensuel"},{"$f":"Sécurité!$D$39","v":"Nature des faits"},{"$f":"Sécurité!IK53","v":"Nb total d'incidents par nature"},{"$f":"Sécurité!IL53","v":"Type de punition"},null,null,{"$f":"Sécurité!IO39","v":"Nb d'incidents par niveau"},null,null,null,null,null,null,null,null,null,{"$f":"Sécurité!IY39","v":"Nb d'élèves concernés"}]
[null,null,null,null,null,null,null,null,{"$f":"Sécurité!IO40","v":0},{"$f":"Sécurité!IP40","v":0},{"$f":"Sécurité!IQ40","v":0},{"$f":"Sécurité!IR40","v":0},{"$f":"Sécurité!IS40","v":0},{"$f":"Sécurité!IT40","v":0},{"$f":"Sécurité!IU40","v":0},{"$f":"Sécurité!IV40","v":0},{"$f":"Sécurité!IW40","v":0},{"$f":"Sécurité!IX40","v":0},{"$f":"Sécurité!IY40","v":0},{"$f":"Sécurité!IZ40","v":0},{"$f":"Sécurité!JA40","v":0},{"$f":"Sécurité!JB40","v":0},{"$f":"Sécurité!JC40","v":0},{"$f":"Sécurité!JD40","v":0},{"$f":"Sécurité!JE40","v":0},{"$f":"Sécurité!JF40","v":0},{"$f":"Sécurité!JG40","v":0},{"$f":"Sécurité!JH40","v":0}]
[null,null,null,null,null,{"$f":"Sécurité!IL41","v":0},{"$f":"Sécurité!IM41","v":0},{"$f":"Sécurité!IN41","v":0},{"$f":"Sécurité!IO41","v":0},{"$f":"Sécurité!IP41","v":0},{"$f":"Sécurité!IQ41","v":0},{"$f":"Sécurité!IR41","v":0},{"$f":"Sécurité!IS41","v":0},{"$f":"Sécurité!IT41","v":0},{"$f":"Sécurité!IU41","v":0},{"$f":"Sécurité!IV41","v":0},{"$f":"Sécurité!IW41","v":0},{"$f":"Sécurité!IX41","v":0},{"$f":"Sécurité!IY41","v":0},{"$f":"Sécurité!IZ41","v":0},{"$f":"Sécurité!JA41","v":0},{"$f":"Sécurité!JB41","v":0},{"$f":"Sécurité!JC41","v":0},{"$f":"Sécurité!JD41","v":0},{"$f":"Sécurité!JE41","v":0},{"$f":"Sécurité!JF41","v":0},{"$f":"Sécurité!JG41","v":0},{"$f":"Sécurité!JH41","v":0}]
[null,null,{"$f":"Sécurité!$C$42","v":"Nature des incidents (punitions)\n(à décliner)"},{"$f":"Sécurité!$D$42","v":0},{"$f":"Sécurité!IK42","v":0},{"$f":"Sécurité!IL42","v":0},{"$f":"Sécurité!IM42","v":0},{"$f":"Sécurité!IN42","v":0},{"$f":"Sécurité!IO42","v":0},{"$f":"Sécurité!IP42","v":0},{"$f":"Sécurité!IQ42","v":0},{"$f":"Sécurité!IR42","v":0},{"$f":"Sécurité!IS42","v":0},{"$f":"Sécurité!IT42","v":0},{"$f":"Sécurité!IU42","v":0},{"$f":"Sécurité!IV42","v":0},{"$f":"Sécurité!IW42","v":0},{"$f":"Sécurité!IX42","v":0},{"$f":"Sécurité!IY42","v":0},{"$f":"Sécurité!IZ42","v":0},{"$f":"Sécurité!JA42","v":0},{"$f":"Sécurité!JB42","v":0},{"$f":"Sécurité!JC42","v":0},{"$f":"Sécurité!JD42","v":0},{"$f":"Sécurité!JE42","v":0},{"$f":"Sécurité!JF42","v":0},{"$f":"Sécurité!JG42","v":0},{"$f":"Sécurité!JH42","v":0}]
[null,null,{"$f":"Sécurité!$C$43","v":0},{"$f":"Sécurité!$D$43","v":0},{"$f":"Sécurité!IK43","v":0},{"$f":"Sécurité!IL43","v":0},{"$f":"Sécurité!IM43","v":0},{"$f":"Sécurité!IN43","v":0},{"$f":"Sécurité!IO43","v":0},{"$f":"Sécurité!IP43","v":0},{"$f":"Sécurité!IQ43","v":0},{"$f":"Sécurité!IR43","v":0},{"$f":"Sécurité!IS43","v":0},{"$f":"Sécurité!IT43","v":0},{"$f":"Sécurité!IU43","v":0},{"$f":"Sécurité!IV43","v":0},{"$f":"Sécurité!IW43","v":0},{"$f":"Sécurité!IX43","v":0},{"$f":"Sécurité!IY43","v":0},{"$f":"Sécurité!IZ43","v":0},{"$f":"Sécurité!JA43","v":0},{"$f":"Sécurité!JB43","v":0},{"$f":"Sécurité!JC43","v":0},{"$f":"Sécurité!JD43","v":0},{"$f":"Sécurité!JE43","v":0},{"$f":"Sécurité!JF43","v":0},{"$f":"Sécurité!JG43","v":0},{"$f":"Sécurité!JH43","v":0}]
[null,null,{"$f":"Sécurité!$C$44","v":0},{"$f":"Sécurité!$D$44","v":0},{"$f":"Sécurité!IK44","v":0},{"$f":"Sécurité!IL44","v":0},{"$f":"Sécurité!IM44","v":0},{"$f":"Sécurité!IN44","v":0},{"$f":"Sécurité!IO44","v":0},{"$f":"Sécurité!IP44","v":0},{"$f":"Sécurité!IQ44","v":0},{"$f":"Sécurité!IR44","v":0},{"$f":"Sécurité!IS44","v":0},{"$f":"Sécurité!IT44","v":0},{"$f":"Sécurité!IU44","v":0},{"$f":"Sécurité!IV44","v":0},{"$f":"Sécurité!IW44","v":0},{"$f":"Sécurité!IX44","v":0},{"$f":"Sécurité!IY44","v":0},{"$f":"Sécurité!IZ44","v":0},{"$f":"Sécurité!JA44","v":0},{"$f":"Sécurité!JB44","v":0},{"$f":"Sécurité!JC44","v":0},{"$f":"Sécurité!JD44","v":0},{"$f":"Sécurité!JE44","v":0},{"$f":"Sécurité!JF44","v":0},{"$f":"Sécurité!JG44","v":0},{"$f":"Sécurité!JH44","v":0}]
[null,null,{"$f":"Sécurité!$C$45","v":0},{"$f":"Sécurité!$D$45","v":0},{"$f":"Sécurité!IK45","v":0},{"$f":"Sécurité!IL45","v":0},{"$f":"Sécurité!IM45","v":0},{"$f":"Sécurité!IN45","v":0},{"$f":"Sécurité!IO45","v":0},{"$f":"Sécurité!IP45","v":0},{"$f":"Sécurité!IQ45","v":0},{"$f":"Sécurité!IR45","v":0},{"$f":"Sécurité!IS45","v":0},{"$f":"Sécurité!IT45","v":0},{"$f":"Sécurité!IU45","v":0},{"$f":"Sécurité!IV45","v":0},{"$f":"Sécurité!IW45","v":0},{"$f":"Sécurité!IX45","v":0},{"$f":"Sécurité!IY45","v":0},{"$f":"Sécurité!IZ45","v":0},{"$f":"Sécurité!JA45","v":0},{"$f":"Sécurité!JB45","v":0},{"$f":"Sécurité!JC45","v":0},{"$f":"Sécurité!JD45","v":0},{"$f":"Sécurité!JE45","v":0},{"$f":"Sécurité!JF45","v":0},{"$f":"Sécurité!JG45","v":0},{"$f":"Sécurité!JH45","v":0}]
[null,null,{"$f":"Sécurité!$C$46","v":0},{"$f":"Sécurité!$D$46","v":0},{"$f":"Sécurité!IK46","v":0},{"$f":"Sécurité!IL46","v":0},{"$f":"Sécurité!IM46","v":0},{"$f":"Sécurité!IN46","v":0},{"$f":"Sécurité!IO46","v":0},{"$f":"Sécurité!IP46","v":0},{"$f":"Sécurité!IQ46","v":0},{"$f":"Sécurité!IR46","v":0},{"$f":"Sécurité!IS46","v":0},{"$f":"Sécurité!IT46","v":0},{"$f":"Sécurité!IU46","v":0},{"$f":"Sécurité!IV46","v":0},{"$f":"Sécurité!IW46","v":0},{"$f":"Sécurité!IX46","v":0},{"$f":"Sécurité!IY46","v":0},{"$f":"Sécurité!IZ46","v":0},{"$f":"Sécurité!JA46","v":0},{"$f":"Sécurité!JB46","v":0},{"$f":"Sécurité!JC46","v":0},{"$f":"Sécurité!JD46","v":0},{"$f":"Sécurité!JE46","v":0},{"$f":"Sécurité!JF46","v":0},{"$f":"Sécurité!JG46","v":0},{"$f":"Sécurité!JH46","v":0}]
[null,null,{"$f":"Sécurité!$C$47","v":0},{"$f":"Sécurité!$D$47","v":0},{"$f":"Sécurité!IK47","v":0},{"$f":"Sécurité!IL47","v":0},{"$f":"Sécurité!IM47","v":0},{"$f":"Sécurité!IN47","v":0},{"$f":"Sécurité!IO47","v":0},{"$f":"Sécurité!IP47","v":0},{"$f":"Sécurité!IQ47","v":0},{"$f":"Sécurité!IR47","v":0},{"$f":"Sécurité!IS47","v":0},{"$f":"Sécurité!IT47","v":0},{"$f":"Sécurité!IU47","v":0},{"$f":"Sécurité!IV47","v":0},{"$f":"Sécurité!IW47","v":0},{"$f":"Sécurité!IX47","v":0},{"$f":"Sécurité!IY47","v":0},{"$f":"Sécurité!IZ47","v":0},{"$f":"Sécurité!JA47","v":0},{"$f":"Sécurité!JB47","v":0},{"$f":"Sécurité!JC47","v":0},{"$f":"Sécurité!JD47","v":0},{"$f":"Sécurité!JE47","v":0},{"$f":"Sécurité!JF47","v":0},{"$f":"Sécurité!JG47","v":0},{"$f":"Sécurité!JH47","v":0}]
[null,null,{"$f":"Sécurité!$C$48","v":0},{"$f":"Sécurité!$D$48","v":0},{"$f":"Sécurité!IK48","v":0},{"$f":"Sécurité!IL48","v":0},{"$f":"Sécurité!IM48","v":0},{"$f":"Sécurité!IN48","v":0},{"$f":"Sécurité!IO48","v":0},{"$f":"Sécurité!IP48","v":0},{"$f":"Sécurité!IQ48","v":0},{"$f":"Sécurité!IR48","v":0},{"$f":"Sécurité!IS48","v":0},{"$f":"Sécurité!IT48","v":0},{"$f":"Sécurité!IU48","v":0},{"$f":"Sécurité!IV48","v":0},{"$f":"Sécurité!IW48","v":0},{"$f":"Sécurité!IX48","v":0},{"$f":"Sécurité!IY48","v":0},{"$f":"Sécurité!IZ48","v":0},{"$f":"Sécurité!JA48","v":0},{"$f":"Sécurité!JB48","v":0},{"$f":"Sécurité!JC48","v":0},{"$f":"Sécurité!JD48","v":0},{"$f":"Sécurité!JE48","v":0},{"$f":"Sécurité!JF48","v":0},{"$f":"Sécurité!JG48","v":0},{"$f":"Sécurité!JH48","v":0}]
[null,null,{"$f":"Sécurité!$C$49","v":0},{"$f":"Sécurité!$D$49","v":0},{"$f":"Sécurité!IK49","v":0},{"$f":"Sécurité!IL49","v":0},{"$f":"Sécurité!IM49","v":0},{"$f":"Sécurité!IN49","v":0},{"$f":"Sécurité!IO49","v":0},{"$f":"Sécurité!IP49","v":0},{"$f":"Sécurité!IQ49","v":0},{"$f":"Sécurité!IR49","v":0},{"$f":"Sécurité!IS49","v":0},{"$f":"Sécurité!IT49","v":0},{"$f":"Sécurité!IU49","v":0},{"$f":"Sécurité!IV49","v":0},{"$f":"Sécurité!IW49","v":0},{"$f":"Sécurité!IX49","v":0},{"$f":"Sécurité!IY49","v":0},{"$f":"Sécurité!IZ49","v":0},{"$f":"Sécurité!JA49","v":0},{"$f":"Sécurité!JB49","v":0},{"$f":"Sécurité!JC49","v":0},{"$f":"Sécurité!JD49","v":0},{"$f":"Sécurité!JE49","v":0},{"$f":"Sécurité!JF49","v":0},{"$f":"Sécurité!JG49","v":0},{"$f":"Sécurité!JH49","v":0}]
[]
["Etre élève","Respect des biens        (Sanctions)"]
[]
[null,null,null,null,{"$f":"Identification!$A$29","v":"2015-08-01"}]
[null,null,{"$f":"Sécurité!$C$53","v":"tableau mensuel"},{"$f":"Sécurité!$D$53","v":"Nature des faits"},{"$f":"Sécurité!E53","v":"Nb total d'incidents par nature"},{"$f":"Sécurité!F53","v":"Type de punition"},null,null,{"$f":"Sécurité!I53","v":"Nb d'incidents par niveau"},null,null,null,null,null,null,null,null,null,{"$f":"Sécurité!S53","v":"Nb d'élèves concernés"}]
[null,null,null,null,null,null,null,null,{"$f":"Sécurité!I54","v":0},{"$f":"Sécurité!J54","v":0},{"$f":"Sécurité!K54","v":0},{"$f":"Sécurité!L54","v":0},{"$f":"Sécurité!M54","v":0},{"$f":"Sécurité!N54","v":0},{"$f":"Sécurité!O54","v":0},{"$f":"Sécurité!P54","v":0},{"$f":"Sécurité!Q54","v":0},{"$f":"Sécurité!R54","v":0},{"$f":"Sécurité!S54","v":0},{"$f":"Sécurité!T54","v":0},{"$f":"Sécurité!U54","v":0},{"$f":"Sécurité!V54","v":0},{"$f":"Sécurité!W54","v":0},{"$f":"Sécurité!X54","v":0},{"$f":"Sécurité!Y54","v":0},{"$f":"Sécurité!Z54","v":0},{"$f":"Sécurité!AA54","v":0},{"$f":"Sécurité!AB54","v":0}]
[null,null,null,null,null,{"$f":"Sécurité!F55","v":0},{"$f":"Sécurité!G55","v":0},{"$f":"Sécurité!H55","v":0},{"$f":"Sécurité!I55","v":0},{"$f":"Sécurité!J55","v":0},{"$f":"Sécurité!K55","v":0},{"$f":"Sécurité!L55","v":0},{"$f":"Sécurité!M55","v":0},{"$f":"Sécurité!N55","v":0},{"$f":"Sécurité!O55","v":0},{"$f":"Sécurité!P55","v":0},{"$f":"Sécurité!Q55","v":0},{"$f":"Sécurité!R55","v":0},{"$f":"Sécurité!S55","v":0},{"$f":"Sécurité!T55","v":0},{"$f":"Sécurité!U55","v":0},{"$f":"Sécurité!V55","v":0},{"$f":"Sécurité!W55","v":0},{"$f":"Sécurité!X55","v":0},{"$f":"Sécurité!Y55","v":0},{"$f":"Sécurité!Z55","v":0},{"$f":"Sécurité!AA55","v":0},{"$f":"Sécurité!AB55","v":0}]
[null,null,{"$f":"Sécurité!$C$56","v":"Nature des incidents (sanctions registre)\n(à décliner)"},{"$f":"Sécurité!$D$56","v":0},{"$f":"Sécurité!E56","v":0},{"$f":"Sécurité!F56","v":0},{"$f":"Sécurité!G56","v":0},{"$f":"Sécurité!H56","v":0},{"$f":"Sécurité!I56","v":0},{"$f":"Sécurité!J56","v":0},{"$f":"Sécurité!K56","v":0},{"$f":"Sécurité!L56","v":0},{"$f":"Sécurité!M56","v":0},{"$f":"Sécurité!N56","v":0},{"$f":"Sécurité!O56","v":0},{"$f":"Sécurité!P56","v":0},{"$f":"Sécurité!Q56","v":0},{"$f":"Sécurité!R56","v":0},{"$f":"Sécurité!S56","v":0},{"$f":"Sécurité!T56","v":0},{"$f":"Sécurité!U56","v":0},{"$f":"Sécurité!V56","v":0},{"$f":"Sécurité!W56","v":0},{"$f":"Sécurité!X56","v":0},{"$f":"Sécurité!Y56","v":0},{"$f":"Sécurité!Z56","v":0},{"$f":"Sécurité!AA56","v":0},{"$f":"Sécurité!AB56","v":0}]
[null,null,{"$f":"Sécurité!$C$57","v":0},{"$f":"Sécurité!$D$57","v":0},{"$f":"Sécurité!E57","v":0},{"$f":"Sécurité!F57","v":0},{"$f":"Sécurité!G57","v":0},{"$f":"Sécurité!H57","v":0},{"$f":"Sécurité!I57","v":0},{"$f":"Sécurité!J57","v":0},{"$f":"Sécurité!K57","v":0},{"$f":"Sécurité!L57","v":0},{"$f":"Sécurité!M57","v":0},{"$f":"Sécurité!N57","v":0},{"$f":"Sécurité!O57","v":0},{"$f":"Sécurité!P57","v":0},{"$f":"Sécurité!Q57","v":0},{"$f":"Sécurité!R57","v":0},{"$f":"Sécurité!S57","v":0},{"$f":"Sécurité!T57","v":0},{"$f":"Sécurité!U57","v":0},{"$f":"Sécurité!V57","v":0},{"$f":"Sécurité!W57","v":0},{"$f":"Sécurité!X57","v":0},{"$f":"Sécurité!Y57","v":0},{"$f":"Sécurité!Z57","v":0},{"$f":"Sécurité!AA57","v":0},{"$f":"Sécurité!AB57","v":0}]
[null,null,{"$f":"Sécurité!$C$58","v":0},{"$f":"Sécurité!$D$58","v":0},{"$f":"Sécurité!E58","v":0},{"$f":"Sécurité!F58","v":0},{"$f":"Sécurité!G58","v":0},{"$f":"Sécurité!H58","v":0},{"$f":"Sécurité!I58","v":0},{"$f":"Sécurité!J58","v":0},{"$f":"Sécurité!K58","v":0},{"$f":"Sécurité!L58","v":0},{"$f":"Sécurité!M58","v":0},{"$f":"Sécurité!N58","v":0},{"$f":"Sécurité!O58","v":0},{"$f":"Sécurité!P58","v":0},{"$f":"Sécurité!Q58","v":0},{"$f":"Sécurité!R58","v":0},{"$f":"Sécurité!S58","v":0},{"$f":"Sécurité!T58","v":0},{"$f":"Sécurité!U58","v":0},{"$f":"Sécurité!V58","v":0},{"$f":"Sécurité!W58","v":0},{"$f":"Sécurité!X58","v":0},{"$f":"Sécurité!Y58","v":0},{"$f":"Sécurité!Z58","v":0},{"$f":"Sécurité!AA58","v":0},{"$f":"Sécurité!AB58","v":0}]
[null,null,{"$f":"Sécurité!$C$59","v":0},{"$f":"Sécurité!$D$59","v":0},{"$f":"Sécurité!E59","v":0},{"$f":"Sécurité!F59","v":0},{"$f":"Sécurité!G59","v":0},{"$f":"Sécurité!H59","v":0},{"$f":"Sécurité!I59","v":0},{"$f":"Sécurité!J59","v":0},{"$f":"Sécurité!K59","v":0},{"$f":"Sécurité!L59","v":0},{"$f":"Sécurité!M59","v":0},{"$f":"Sécurité!N59","v":0},{"$f":"Sécurité!O59","v":0},{"$f":"Sécurité!P59","v":0},{"$f":"Sécurité!Q59","v":0},{"$f":"Sécurité!R59","v":0},{"$f":"Sécurité!S59","v":0},{"$f":"Sécurité!T59","v":0},{"$f":"Sécurité!U59","v":0},{"$f":"Sécurité!V59","v":0},{"$f":"Sécurité!W59","v":0},{"$f":"Sécurité!X59","v":0},{"$f":"Sécurité!Y59","v":0},{"$f":"Sécurité!Z59","v":0},{"$f":"Sécurité!AA59","v":0},{"$f":"Sécurité!AB59","v":0}]
[null,null,{"$f":"Sécurité!$C$60","v":0},{"$f":"Sécurité!$D$60","v":0},{"$f":"Sécurité!E60","v":0},{"$f":"Sécurité!F60","v":0},{"$f":"Sécurité!G60","v":0},{"$f":"Sécurité!H60","v":0},{"$f":"Sécurité!I60","v":0},{"$f":"Sécurité!J60","v":0},{"$f":"Sécurité!K60","v":0},{"$f":"Sécurité!L60","v":0},{"$f":"Sécurité!M60","v":0},{"$f":"Sécurité!N60","v":0},{"$f":"Sécurité!O60","v":0},{"$f":"Sécurité!P60","v":0},{"$f":"Sécurité!Q60","v":0},{"$f":"Sécurité!R60","v":0},{"$f":"Sécurité!S60","v":0},{"$f":"Sécurité!T60","v":0},{"$f":"Sécurité!U60","v":0},{"$f":"Sécurité!V60","v":0},{"$f":"Sécurité!W60","v":0},{"$f":"Sécurité!X60","v":0},{"$f":"Sécurité!Y60","v":0},{"$f":"Sécurité!Z60","v":0},{"$f":"Sécurité!AA60","v":0},{"$f":"Sécurité!AB60","v":0}]
[null,null,{"$f":"Sécurité!$C$61","v":0},{"$f":"Sécurité!$D$61","v":0},{"$f":"Sécurité!E61","v":0},{"$f":"Sécurité!F61","v":0},{"$f":"Sécurité!G61","v":0},{"$f":"Sécurité!H61","v":0},{"$f":"Sécurité!I61","v":0},{"$f":"Sécurité!J61","v":0},{"$f":"Sécurité!K61","v":0},{"$f":"Sécurité!L61","v":0},{"$f":"Sécurité!M61","v":0},{"$f":"Sécurité!N61","v":0},{"$f":"Sécurité!O61","v":0},{"$f":"Sécurité!P61","v":0},{"$f":"Sécurité!Q61","v":0},{"$f":"Sécurité!R61","v":0},{"$f":"Sécurité!S61","v":0},{"$f":"Sécurité!T61","v":0},{"$f":"Sécurité!U61","v":0},{"$f":"Sécurité!V61","v":0},{"$f":"Sécurité!W61","v":0},{"$f":"Sécurité!X61","v":0},{"$f":"Sécurité!Y61","v":0},{"$f":"Sécurité!Z61","v":0},{"$f":"Sécurité!AA61","v":0},{"$f":"Sécurité!AB61","v":0}]
[null,null,{"$f":"Sécurité!$C$62","v":0},{"$f":"Sécurité!$D$62","v":0},{"$f":"Sécurité!E62","v":0},{"$f":"Sécurité!F62","v":0},{"$f":"Sécurité!G62","v":0},{"$f":"Sécurité!H62","v":0},{"$f":"Sécurité!I62","v":0},{"$f":"Sécurité!J62","v":0},{"$f":"Sécurité!K62","v":0},{"$f":"Sécurité!L62","v":0},{"$f":"Sécurité!M62","v":0},{"$f":"Sécurité!N62","v":0},{"$f":"Sécurité!O62","v":0},{"$f":"Sécurité!P62","v":0},{"$f":"Sécurité!Q62","v":0},{"$f":"Sécurité!R62","v":0},{"$f":"Sécurité!S62","v":0},{"$f":"Sécurité!T62","v":0},{"$f":"Sécurité!U62","v":0},{"$f":"Sécurité!V62","v":0},{"$f":"Sécurité!W62","v":0},{"$f":"Sécurité!X62","v":0},{"$f":"Sécurité!Y62","v":0},{"$f":"Sécurité!Z62","v":0},{"$f":"Sécurité!AA62","v":0},{"$f":"Sécurité!AB62","v":0}]
[null,null,{"$f":"Sécurité!$C$63","v":0},{"$f":"Sécurité!$D$63","v":0},{"$f":"Sécurité!E63","v":0},{"$f":"Sécurité!F63","v":0},{"$f":"Sécurité!G63","v":0},{"$f":"Sécurité!H63","v":0},{"$f":"Sécurité!I63","v":0},{"$f":"Sécurité!J63","v":0},{"$f":"Sécurité!K63","v":0},{"$f":"Sécurité!L63","v":0},{"$f":"Sécurité!M63","v":0},{"$f":"Sécurité!N63","v":0},{"$f":"Sécurité!O63","v":0},{"$f":"Sécurité!P63","v":0},{"$f":"Sécurité!Q63","v":0},{"$f":"Sécurité!R63","v":0},{"$f":"Sécurité!S63","v":0},{"$f":"Sécurité!T63","v":0},{"$f":"Sécurité!U63","v":0},{"$f":"Sécurité!V63","v":0},{"$f":"Sécurité!W63","v":0},{"$f":"Sécurité!X63","v":0},{"$f":"Sécurité!Y63","v":0},{"$f":"Sécurité!Z63","v":0},{"$f":"Sécurité!AA63","v":0},{"$f":"Sécurité!AB63","v":0}]
[null,null,null,null,{"$f":"Identification!$A$30","v":"2015-09-01"}]
[null,null,{"$f":"Sécurité!$C$53","v":"tableau mensuel"},{"$f":"Sécurité!$D$53","v":"Nature des faits"},{"$f":"Sécurité!AC53","v":"Nb total d'incidents par nature"},{"$f":"Sécurité!AD53","v":"Type de punition"},null,null,{"$f":"Sécurité!AG53","v":"Nb d'incidents par niveau"},null,null,null,null,null,null,null,null,null,{"$f":"Sécurité!AQ53","v":"Nb d'élèves concernés"}]
[null,null,null,null,null,null,null,null,{"$f":"Sécurité!AG54","v":0},{"$f":"Sécurité!AH54","v":0},{"$f":"Sécurité!AI54","v":0},{"$f":"Sécurité!AJ54","v":0},{"$f":"Sécurité!AK54","v":0},{"$f":"Sécurité!AL54","v":0},{"$f":"Sécurité!AM54","v":0},{"$f":"Sécurité!AN54","v":0},{"$f":"Sécurité!AO54","v":0},{"$f":"Sécurité!AP54","v":0},{"$f":"Sécurité!AQ54","v":0},{"$f":"Sécurité!AR54","v":0},{"$f":"Sécurité!AS54","v":0},{"$f":"Sécurité!AT54","v":0},{"$f":"Sécurité!AU54","v":0},{"$f":"Sécurité!AV54","v":0},{"$f":"Sécurité!AW54","v":0},{"$f":"Sécurité!AX54","v":0},{"$f":"Sécurité!AY54","v":0},{"$f":"Sécurité!AZ54","v":0}]
[null,null,null,null,null,{"$f":"Sécurité!AD55","v":0},{"$f":"Sécurité!AE55","v":0},{"$f":"Sécurité!AF55","v":0},{"$f":"Sécurité!AG55","v":0},{"$f":"Sécurité!AH55","v":0},{"$f":"Sécurité!AI55","v":0},{"$f":"Sécurité!AJ55","v":0},{"$f":"Sécurité!AK55","v":0},{"$f":"Sécurité!AL55","v":0},{"$f":"Sécurité!AM55","v":0},{"$f":"Sécurité!AN55","v":0},{"$f":"Sécurité!AO55","v":0},{"$f":"Sécurité!AP55","v":0},{"$f":"Sécurité!AQ55","v":0},{"$f":"Sécurité!AR55","v":0},{"$f":"Sécurité!AS55","v":0},{"$f":"Sécurité!AT55","v":0},{"$f":"Sécurité!AU55","v":0},{"$f":"Sécurité!AV55","v":0},{"$f":"Sécurité!AW55","v":0},{"$f":"Sécurité!AX55","v":0},{"$f":"Sécurité!AY55","v":0},{"$f":"Sécurité!AZ55","v":0}]
[null,null,{"$f":"Sécurité!$C$56","v":"Nature des incidents (sanctions registre)\n(à décliner)"},{"$f":"Sécurité!$D$56","v":0},{"$f":"Sécurité!AC56","v":0},{"$f":"Sécurité!AD56","v":0},{"$f":"Sécurité!AE56","v":0},{"$f":"Sécurité!AF56","v":0},{"$f":"Sécurité!AG56","v":0},{"$f":"Sécurité!AH56","v":0},{"$f":"Sécurité!AI56","v":0},{"$f":"Sécurité!AJ56","v":0},{"$f":"Sécurité!AK56","v":0},{"$f":"Sécurité!AL56","v":0},{"$f":"Sécurité!AM56","v":0},{"$f":"Sécurité!AN56","v":0},{"$f":"Sécurité!AO56","v":0},{"$f":"Sécurité!AP56","v":0},{"$f":"Sécurité!AQ56","v":0},{"$f":"Sécurité!AR56","v":0},{"$f":"Sécurité!AS56","v":0},{"$f":"Sécurité!AT56","v":0},{"$f":"Sécurité!AU56","v":0},{"$f":"Sécurité!AV56","v":0},{"$f":"Sécurité!AW56","v":0},{"$f":"Sécurité!AX56","v":0},{"$f":"Sécurité!AY56","v":0},{"$f":"Sécurité!AZ56","v":0}]
[null,null,{"$f":"Sécurité!$C$57","v":0},{"$f":"Sécurité!$D$57","v":0},{"$f":"Sécurité!AC57","v":0},{"$f":"Sécurité!AD57","v":0},{"$f":"Sécurité!AE57","v":0},{"$f":"Sécurité!AF57","v":0},{"$f":"Sécurité!AG57","v":0},{"$f":"Sécurité!AH57","v":0},{"$f":"Sécurité!AI57","v":0},{"$f":"Sécurité!AJ57","v":0},{"$f":"Sécurité!AK57","v":0},{"$f":"Sécurité!AL57","v":0},{"$f":"Sécurité!AM57","v":0},{"$f":"Sécurité!AN57","v":0},{"$f":"Sécurité!AO57","v":0},{"$f":"Sécurité!AP57","v":0},{"$f":"Sécurité!AQ57","v":0},{"$f":"Sécurité!AR57","v":0},{"$f":"Sécurité!AS57","v":0},{"$f":"Sécurité!AT57","v":0},{"$f":"Sécurité!AU57","v":0},{"$f":"Sécurité!AV57","v":0},{"$f":"Sécurité!AW57","v":0},{"$f":"Sécurité!AX57","v":0},{"$f":"Sécurité!AY57","v":0},{"$f":"Sécurité!AZ57","v":0}]
[null,null,{"$f":"Sécurité!$C$58","v":0},{"$f":"Sécurité!$D$58","v":0},{"$f":"Sécurité!AC58","v":0},{"$f":"Sécurité!AD58","v":0},{"$f":"Sécurité!AE58","v":0},{"$f":"Sécurité!AF58","v":0},{"$f":"Sécurité!AG58","v":0},{"$f":"Sécurité!AH58","v":0},{"$f":"Sécurité!AI58","v":0},{"$f":"Sécurité!AJ58","v":0},{"$f":"Sécurité!AK58","v":0},{"$f":"Sécurité!AL58","v":0},{"$f":"Sécurité!AM58","v":0},{"$f":"Sécurité!AN58","v":0},{"$f":"Sécurité!AO58","v":0},{"$f":"Sécurité!AP58","v":0},{"$f":"Sécurité!AQ58","v":0},{"$f":"Sécurité!AR58","v":0},{"$f":"Sécurité!AS58","v":0},{"$f":"Sécurité!AT58","v":0},{"$f":"Sécurité!AU58","v":0},{"$f":"Sécurité!AV58","v":0},{"$f":"Sécurité!AW58","v":0},{"$f":"Sécurité!AX58","v":0},{"$f":"Sécurité!AY58","v":0},{"$f":"Sécurité!AZ58","v":0}]
[null,null,{"$f":"Sécurité!$C$59","v":0},{"$f":"Sécurité!$D$59","v":0},{"$f":"Sécurité!AC59","v":0},{"$f":"Sécurité!AD59","v":0},{"$f":"Sécurité!AE59","v":0},{"$f":"Sécurité!AF59","v":0},{"$f":"Sécurité!AG59","v":0},{"$f":"Sécurité!AH59","v":0},{"$f":"Sécurité!AI59","v":0},{"$f":"Sécurité!AJ59","v":0},{"$f":"Sécurité!AK59","v":0},{"$f":"Sécurité!AL59","v":0},{"$f":"Sécurité!AM59","v":0},{"$f":"Sécurité!AN59","v":0},{"$f":"Sécurité!AO59","v":0},{"$f":"Sécurité!AP59","v":0},{"$f":"Sécurité!AQ59","v":0},{"$f":"Sécurité!AR59","v":0},{"$f":"Sécurité!AS59","v":0},{"$f":"Sécurité!AT59","v":0},{"$f":"Sécurité!AU59","v":0},{"$f":"Sécurité!AV59","v":0},{"$f":"Sécurité!AW59","v":0},{"$f":"Sécurité!AX59","v":0},{"$f":"Sécurité!AY59","v":0},{"$f":"Sécurité!AZ59","v":0}]
[null,null,{"$f":"Sécurité!$C$60","v":0},{"$f":"Sécurité!$D$60","v":0},{"$f":"Sécurité!AC60","v":0},{"$f":"Sécurité!AD60","v":0},{"$f":"Sécurité!AE60","v":0},{"$f":"Sécurité!AF60","v":0},{"$f":"Sécurité!AG60","v":0},{"$f":"Sécurité!AH60","v":0},{"$f":"Sécurité!AI60","v":0},{"$f":"Sécurité!AJ60","v":0},{"$f":"Sécurité!AK60","v":0},{"$f":"Sécurité!AL60","v":0},{"$f":"Sécurité!AM60","v":0},{"$f":"Sécurité!AN60","v":0},{"$f":"Sécurité!AO60","v":0},{"$f":"Sécurité!AP60","v":0},{"$f":"Sécurité!AQ60","v":0},{"$f":"Sécurité!AR60","v":0},{"$f":"Sécurité!AS60","v":0},{"$f":"Sécurité!AT60","v":0},{"$f":"Sécurité!AU60","v":0},{"$f":"Sécurité!AV60","v":0},{"$f":"Sécurité!AW60","v":0},{"$f":"Sécurité!AX60","v":0},{"$f":"Sécurité!AY60","v":0},{"$f":"Sécurité!AZ60","v":0}]
[null,null,{"$f":"Sécurité!$C$61","v":0},{"$f":"Sécurité!$D$61","v":0},{"$f":"Sécurité!AC61","v":0},{"$f":"Sécurité!AD61","v":0},{"$f":"Sécurité!AE61","v":0},{"$f":"Sécurité!AF61","v":0},{"$f":"Sécurité!AG61","v":0},{"$f":"Sécurité!AH61","v":0},{"$f":"Sécurité!AI61","v":0},{"$f":"Sécurité!AJ61","v":0},{"$f":"Sécurité!AK61","v":0},{"$f":"Sécurité!AL61","v":0},{"$f":"Sécurité!AM61","v":0},{"$f":"Sécurité!AN61","v":0},{"$f":"Sécurité!AO61","v":0},{"$f":"Sécurité!AP61","v":0},{"$f":"Sécurité!AQ61","v":0},{"$f":"Sécurité!AR61","v":0},{"$f":"Sécurité!AS61","v":0},{"$f":"Sécurité!AT61","v":0},{"$f":"Sécurité!AU61","v":0},{"$f":"Sécurité!AV61","v":0},{"$f":"Sécurité!AW61","v":0},{"$f":"Sécurité!AX61","v":0},{"$f":"Sécurité!AY61","v":0},{"$f":"Sécurité!AZ61","v":0}]
[null,null,{"$f":"Sécurité!$C$62","v":0},{"$f":"Sécurité!$D$62","v":0},{"$f":"Sécurité!AC62","v":0},{"$f":"Sécurité!AD62","v":0},{"$f":"Sécurité!AE62","v":0},{"$f":"Sécurité!AF62","v":0},{"$f":"Sécurité!AG62","v":0},{"$f":"Sécurité!AH62","v":0},{"$f":"Sécurité!AI62","v":0},{"$f":"Sécurité!AJ62","v":0},{"$f":"Sécurité!AK62","v":0},{"$f":"Sécurité!AL62","v":0},{"$f":"Sécurité!AM62","v":0},{"$f":"Sécurité!AN62","v":0},{"$f":"Sécurité!AO62","v":0},{"$f":"Sécurité!AP62","v":0},{"$f":"Sécurité!AQ62","v":0},{"$f":"Sécurité!AR62","v":0},{"$f":"Sécurité!AS62","v":0},{"$f":"Sécurité!AT62","v":0},{"$f":"Sécurité!AU62","v":0},{"$f":"Sécurité!AV62","v":0},{"$f":"Sécurité!AW62","v":0},{"$f":"Sécurité!AX62","v":0},{"$f":"Sécurité!AY62","v":0},{"$f":"Sécurité!AZ62","v":0}]
[null,null,{"$f":"Sécurité!$C$63","v":0},{"$f":"Sécurité!$D$63","v":0},{"$f":"Sécurité!AC63","v":0},{"$f":"Sécurité!AD63","v":0},{"$f":"Sécurité!AE63","v":0},{"$f":"Sécurité!AF63","v":0},{"$f":"Sécurité!AG63","v":0},{"$f":"Sécurité!AH63","v":0},{"$f":"Sécurité!AI63","v":0},{"$f":"Sécurité!AJ63","v":0},{"$f":"Sécurité!AK63","v":0},{"$f":"Sécurité!AL63","v":0},{"$f":"Sécurité!AM63","v":0},{"$f":"Sécurité!AN63","v":0},{"$f":"Sécurité!AO63","v":0},{"$f":"Sécurité!AP63","v":0},{"$f":"Sécurité!AQ63","v":0},{"$f":"Sécurité!AR63","v":0},{"$f":"Sécurité!AS63","v":0},{"$f":"Sécurité!AT63","v":0},{"$f":"Sécurité!AU63","v":0},{"$f":"Sécurité!AV63","v":0},{"$f":"Sécurité!AW63","v":0},{"$f":"Sécurité!AX63","v":0},{"$f":"Sécurité!AY63","v":0},{"$f":"Sécurité!AZ63","v":0}]
[null,null,null,null,{"$f":"Identification!$A$31","v":"2015-10-01"}]
[null,null,{"$f":"Sécurité!$C$53","v":"tableau mensuel"},{"$f":"Sécurité!$D$53","v":"Nature des faits"},{"$f":"Sécurité!BA53","v":"Nb total d'incidents par nature"},{"$f":"Sécurité!BB53","v":"Type de punition"},null,null,{"$f":"Sécurité!BE53","v":"Nb d'incidents par niveau"},null,null,null,null,null,null,null,null,null,{"$f":"Sécurité!BO53","v":"Nb d'élèves concernés"}]
[null,null,null,null,null,null,null,null,{"$f":"Sécurité!BE54","v":0},{"$f":"Sécurité!BF54","v":0},{"$f":"Sécurité!BG54","v":0},{"$f":"Sécurité!BH54","v":0},{"$f":"Sécurité!BI54","v":0},{"$f":"Sécurité!BJ54","v":0},{"$f":"Sécurité!BK54","v":0},{"$f":"Sécurité!BL54","v":0},{"$f":"Sécurité!BM54","v":0},{"$f":"Sécurité!BN54","v":0},{"$f":"Sécurité!BO54","v":0},{"$f":"Sécurité!BP54","v":0},{"$f":"Sécurité!BQ54","v":0},{"$f":"Sécurité!BR54","v":0},{"$f":"Sécurité!BS54","v":0},{"$f":"Sécurité!BT54","v":0},{"$f":"Sécurité!BU54","v":0},{"$f":"Sécurité!BV54","v":0},{"$f":"Sécurité!BW54","v":0},{"$f":"Sécurité!BX54","v":0}]
[null,null,null,null,null,{"$f":"Sécurité!BB55","v":0},{"$f":"Sécurité!BC55","v":0},{"$f":"Sécurité!BD55","v":0},{"$f":"Sécurité!BE55","v":0},{"$f":"Sécurité!BF55","v":0},{"$f":"Sécurité!BG55","v":0},{"$f":"Sécurité!BH55","v":0},{"$f":"Sécurité!BI55","v":0},{"$f":"Sécurité!BJ55","v":0},{"$f":"Sécurité!BK55","v":0},{"$f":"Sécurité!BL55","v":0},{"$f":"Sécurité!BM55","v":0},{"$f":"Sécurité!BN55","v":0},{"$f":"Sécurité!BO55","v":0},{"$f":"Sécurité!BP55","v":0},{"$f":"Sécurité!BQ55","v":0},{"$f":"Sécurité!BR55","v":0},{"$f":"Sécurité!BS55","v":0},{"$f":"Sécurité!BT55","v":0},{"$f":"Sécurité!BU55","v":0},{"$f":"Sécurité!BV55","v":0},{"$f":"Sécurité!BW55","v":0},{"$f":"Sécurité!BX55","v":0}]
[null,null,{"$f":"Sécurité!$C$56","v":"Nature des incidents (sanctions registre)\n(à décliner)"},{"$f":"Sécurité!$D$56","v":0},{"$f":"Sécurité!BA56","v":0},{"$f":"Sécurité!BB56","v":0},{"$f":"Sécurité!BC56","v":0},{"$f":"Sécurité!BD56","v":0},{"$f":"Sécurité!BE56","v":0},{"$f":"Sécurité!BF56","v":0},{"$f":"Sécurité!BG56","v":0},{"$f":"Sécurité!BH56","v":0},{"$f":"Sécurité!BI56","v":0},{"$f":"Sécurité!BJ56","v":0},{"$f":"Sécurité!BK56","v":0},{"$f":"Sécurité!BL56","v":0},{"$f":"Sécurité!BM56","v":0},{"$f":"Sécurité!BN56","v":0},{"$f":"Sécurité!BO56","v":0},{"$f":"Sécurité!BP56","v":0},{"$f":"Sécurité!BQ56","v":0},{"$f":"Sécurité!BR56","v":0},{"$f":"Sécurité!BS56","v":0},{"$f":"Sécurité!BT56","v":0},{"$f":"Sécurité!BU56","v":0},{"$f":"Sécurité!BV56","v":0},{"$f":"Sécurité!BW56","v":0},{"$f":"Sécurité!BX56","v":0}]
[null,null,{"$f":"Sécurité!$C$57","v":0},{"$f":"Sécurité!$D$57","v":0},{"$f":"Sécurité!BA57","v":0},{"$f":"Sécurité!BB57","v":0},{"$f":"Sécurité!BC57","v":0},{"$f":"Sécurité!BD57","v":0},{"$f":"Sécurité!BE57","v":0},{"$f":"Sécurité!BF57","v":0},{"$f":"Sécurité!BG57","v":0},{"$f":"Sécurité!BH57","v":0},{"$f":"Sécurité!BI57","v":0},{"$f":"Sécurité!BJ57","v":0},{"$f":"Sécurité!BK57","v":0},{"$f":"Sécurité!BL57","v":0},{"$f":"Sécurité!BM57","v":0},{"$f":"Sécurité!BN57","v":0},{"$f":"Sécurité!BO57","v":0},{"$f":"Sécurité!BP57","v":0},{"$f":"Sécurité!BQ57","v":0},{"$f":"Sécurité!BR57","v":0},{"$f":"Sécurité!BS57","v":0},{"$f":"Sécurité!BT57","v":0},{"$f":"Sécurité!BU57","v":0},{"$f":"Sécurité!BV57","v":0},{"$f":"Sécurité!BW57","v":0},{"$f":"Sécurité!BX57","v":0}]
[null,null,{"$f":"Sécurité!$C$58","v":0},{"$f":"Sécurité!$D$58","v":0},{"$f":"Sécurité!BA58","v":0},{"$f":"Sécurité!BB58","v":0},{"$f":"Sécurité!BC58","v":0},{"$f":"Sécurité!BD58","v":0},{"$f":"Sécurité!BE58","v":0},{"$f":"Sécurité!BF58","v":0},{"$f":"Sécurité!BG58","v":0},{"$f":"Sécurité!BH58","v":0},{"$f":"Sécurité!BI58","v":0},{"$f":"Sécurité!BJ58","v":0},{"$f":"Sécurité!BK58","v":0},{"$f":"Sécurité!BL58","v":0},{"$f":"Sécurité!BM58","v":0},{"$f":"Sécurité!BN58","v":0},{"$f":"Sécurité!BO58","v":0},{"$f":"Sécurité!BP58","v":0},{"$f":"Sécurité!BQ58","v":0},{"$f":"Sécurité!BR58","v":0},{"$f":"Sécurité!BS58","v":0},{"$f":"Sécurité!BT58","v":0},{"$f":"Sécurité!BU58","v":0},{"$f":"Sécurité!BV58","v":0},{"$f":"Sécurité!BW58","v":0},{"$f":"Sécurité!BX58","v":0}]
[null,null,{"$f":"Sécurité!$C$59","v":0},{"$f":"Sécurité!$D$59","v":0},{"$f":"Sécurité!BA59","v":0},{"$f":"Sécurité!BB59","v":0},{"$f":"Sécurité!BC59","v":0},{"$f":"Sécurité!BD59","v":0},{"$f":"Sécurité!BE59","v":0},{"$f":"Sécurité!BF59","v":0},{"$f":"Sécurité!BG59","v":0},{"$f":"Sécurité!BH59","v":0},{"$f":"Sécurité!BI59","v":0},{"$f":"Sécurité!BJ59","v":0},{"$f":"Sécurité!BK59","v":0},{"$f":"Sécurité!BL59","v":0},{"$f":"Sécurité!BM59","v":0},{"$f":"Sécurité!BN59","v":0},{"$f":"Sécurité!BO59","v":0},{"$f":"Sécurité!BP59","v":0},{"$f":"Sécurité!BQ59","v":0},{"$f":"Sécurité!BR59","v":0},{"$f":"Sécurité!BS59","v":0},{"$f":"Sécurité!BT59","v":0},{"$f":"Sécurité!BU59","v":0},{"$f":"Sécurité!BV59","v":0},{"$f":"Sécurité!BW59","v":0},{"$f":"Sécurité!BX59","v":0}]
[null,null,{"$f":"Sécurité!$C$60","v":0},{"$f":"Sécurité!$D$60","v":0},{"$f":"Sécurité!BA60","v":0},{"$f":"Sécurité!BB60","v":0},{"$f":"Sécurité!BC60","v":0},{"$f":"Sécurité!BD60","v":0},{"$f":"Sécurité!BE60","v":0},{"$f":"Sécurité!BF60","v":0},{"$f":"Sécurité!BG60","v":0},{"$f":"Sécurité!BH60","v":0},{"$f":"Sécurité!BI60","v":0},{"$f":"Sécurité!BJ60","v":0},{"$f":"Sécurité!BK60","v":0},{"$f":"Sécurité!BL60","v":0},{"$f":"Sécurité!BM60","v":0},{"$f":"Sécurité!BN60","v":0},{"$f":"Sécurité!BO60","v":0},{"$f":"Sécurité!BP60","v":0},{"$f":"Sécurité!BQ60","v":0},{"$f":"Sécurité!BR60","v":0},{"$f":"Sécurité!BS60","v":0},{"$f":"Sécurité!BT60","v":0},{"$f":"Sécurité!BU60","v":0},{"$f":"Sécurité!BV60","v":0},{"$f":"Sécurité!BW60","v":0},{"$f":"Sécurité!BX60","v":0}]
[null,null,{"$f":"Sécurité!$C$61","v":0},{"$f":"Sécurité!$D$61","v":0},{"$f":"Sécurité!BA61","v":0},{"$f":"Sécurité!BB61","v":0},{"$f":"Sécurité!BC61","v":0},{"$f":"Sécurité!BD61","v":0},{"$f":"Sécurité!BE61","v":0},{"$f":"Sécurité!BF61","v":0},{"$f":"Sécurité!BG61","v":0},{"$f":"Sécurité!BH61","v":0},{"$f":"Sécurité!BI61","v":0},{"$f":"Sécurité!BJ61","v":0},{"$f":"Sécurité!BK61","v":0},{"$f":"Sécurité!BL61","v":0},{"$f":"Sécurité!BM61","v":0},{"$f":"Sécurité!BN61","v":0},{"$f":"Sécurité!BO61","v":0},{"$f":"Sécurité!BP61","v":0},{"$f":"Sécurité!BQ61","v":0},{"$f":"Sécurité!BR61","v":0},{"$f":"Sécurité!BS61","v":0},{"$f":"Sécurité!BT61","v":0},{"$f":"Sécurité!BU61","v":0},{"$f":"Sécurité!BV61","v":0},{"$f":"Sécurité!BW61","v":0},{"$f":"Sécurité!BX61","v":0}]
[null,null,{"$f":"Sécurité!$C$62","v":0},{"$f":"Sécurité!$D$62","v":0},{"$f":"Sécurité!BA62","v":0},{"$f":"Sécurité!BB62","v":0},{"$f":"Sécurité!BC62","v":0},{"$f":"Sécurité!BD62","v":0},{"$f":"Sécurité!BE62","v":0},{"$f":"Sécurité!BF62","v":0},{"$f":"Sécurité!BG62","v":0},{"$f":"Sécurité!BH62","v":0},{"$f":"Sécurité!BI62","v":0},{"$f":"Sécurité!BJ62","v":0},{"$f":"Sécurité!BK62","v":0},{"$f":"Sécurité!BL62","v":0},{"$f":"Sécurité!BM62","v":0},{"$f":"Sécurité!BN62","v":0},{"$f":"Sécurité!BO62","v":0},{"$f":"Sécurité!BP62","v":0},{"$f":"Sécurité!BQ62","v":0},{"$f":"Sécurité!BR62","v":0},{"$f":"Sécurité!BS62","v":0},{"$f":"Sécurité!BT62","v":0},{"$f":"Sécurité!BU62","v":0},{"$f":"Sécurité!BV62","v":0},{"$f":"Sécurité!BW62","v":0},{"$f":"Sécurité!BX62","v":0}]
[null,null,{"$f":"Sécurité!$C$63","v":0},{"$f":"Sécurité!$D$63","v":0},{"$f":"Sécurité!BA63","v":0},{"$f":"Sécurité!BB63","v":0},{"$f":"Sécurité!BC63","v":0},{"$f":"Sécurité!BD63","v":0},{"$f":"Sécurité!BE63","v":0},{"$f":"Sécurité!BF63","v":0},{"$f":"Sécurité!BG63","v":0},{"$f":"Sécurité!BH63","v":0},{"$f":"Sécurité!BI63","v":0},{"$f":"Sécurité!BJ63","v":0},{"$f":"Sécurité!BK63","v":0},{"$f":"Sécurité!BL63","v":0},{"$f":"Sécurité!BM63","v":0},{"$f":"Sécurité!BN63","v":0},{"$f":"Sécurité!BO63","v":0},{"$f":"Sécurité!BP63","v":0},{"$f":"Sécurité!BQ63","v":0},{"$f":"Sécurité!BR63","v":0},{"$f":"Sécurité!BS63","v":0},{"$f":"Sécurité!BT63","v":0},{"$f":"Sécurité!BU63","v":0},{"$f":"Sécurité!BV63","v":0},{"$f":"Sécurité!BW63","v":0},{"$f":"Sécurité!BX63","v":0}]
[null,null,null,null,{"$f":"Identification!$A$32","v":"2015-11-01"}]
[null,null,{"$f":"Sécurité!$C$53","v":"tableau mensuel"},{"$f":"Sécurité!$D$53","v":"Nature des faits"},{"$f":"Sécurité!BY53","v":"Nb total d'incidents par nature"},{"$f":"Sécurité!BZ53","v":"Type de punition"},null,null,{"$f":"Sécurité!CC53","v":"Nb d'incidents par niveau"},null,null,null,null,null,null,null,null,null,{"$f":"Sécurité!CM53","v":"Nb d'élèves concernés"}]
[null,null,null,null,null,null,null,null,{"$f":"Sécurité!CC54","v":0},{"$f":"Sécurité!CD54","v":0},{"$f":"Sécurité!CE54","v":0},{"$f":"Sécurité!CF54","v":0},{"$f":"Sécurité!CG54","v":0},{"$f":"Sécurité!CH54","v":0},{"$f":"Sécurité!CI54","v":0},{"$f":"Sécurité!CJ54","v":0},{"$f":"Sécurité!CK54","v":0},{"$f":"Sécurité!CL54","v":0},{"$f":"Sécurité!CM54","v":0},{"$f":"Sécurité!CN54","v":0},{"$f":"Sécurité!CO54","v":0},{"$f":"Sécurité!CP54","v":0},{"$f":"Sécurité!CQ54","v":0},{"$f":"Sécurité!CR54","v":0},{"$f":"Sécurité!CS54","v":0},{"$f":"Sécurité!CT54","v":0},{"$f":"Sécurité!CU54","v":0},{"$f":"Sécurité!CV54","v":0}]
[null,null,null,null,null,{"$f":"Sécurité!BZ55","v":0},{"$f":"Sécurité!CA55","v":0},{"$f":"Sécurité!CB55","v":0},{"$f":"Sécurité!CC55","v":0},{"$f":"Sécurité!CD55","v":0},{"$f":"Sécurité!CE55","v":0},{"$f":"Sécurité!CF55","v":0},{"$f":"Sécurité!CG55","v":0},{"$f":"Sécurité!CH55","v":0},{"$f":"Sécurité!CI55","v":0},{"$f":"Sécurité!CJ55","v":0},{"$f":"Sécurité!CK55","v":0},{"$f":"Sécurité!CL55","v":0},{"$f":"Sécurité!CM55","v":0},{"$f":"Sécurité!CN55","v":0},{"$f":"Sécurité!CO55","v":0},{"$f":"Sécurité!CP55","v":0},{"$f":"Sécurité!CQ55","v":0},{"$f":"Sécurité!CR55","v":0},{"$f":"Sécurité!CS55","v":0},{"$f":"Sécurité!CT55","v":0},{"$f":"Sécurité!CU55","v":0},{"$f":"Sécurité!CV55","v":0}]
[null,null,{"$f":"Sécurité!$C$56","v":"Nature des incidents (sanctions registre)\n(à décliner)"},{"$f":"Sécurité!$D$56","v":0},{"$f":"Sécurité!BY56","v":0},{"$f":"Sécurité!BZ56","v":0},{"$f":"Sécurité!CA56","v":0},{"$f":"Sécurité!CB56","v":0},{"$f":"Sécurité!CC56","v":0},{"$f":"Sécurité!CD56","v":0},{"$f":"Sécurité!CE56","v":0},{"$f":"Sécurité!CF56","v":0},{"$f":"Sécurité!CG56","v":0},{"$f":"Sécurité!CH56","v":0},{"$f":"Sécurité!CI56","v":0},{"$f":"Sécurité!CJ56","v":0},{"$f":"Sécurité!CK56","v":0},{"$f":"Sécurité!CL56","v":0},{"$f":"Sécurité!CM56","v":0},{"$f":"Sécurité!CN56","v":0},{"$f":"Sécurité!CO56","v":0},{"$f":"Sécurité!CP56","v":0},{"$f":"Sécurité!CQ56","v":0},{"$f":"Sécurité!CR56","v":0},{"$f":"Sécurité!CS56","v":0},{"$f":"Sécurité!CT56","v":0},{"$f":"Sécurité!CU56","v":0},{"$f":"Sécurité!CV56","v":0}]
[null,null,{"$f":"Sécurité!$C$57","v":0},{"$f":"Sécurité!$D$57","v":0},{"$f":"Sécurité!BY57","v":0},{"$f":"Sécurité!BZ57","v":0},{"$f":"Sécurité!CA57","v":0},{"$f":"Sécurité!CB57","v":0},{"$f":"Sécurité!CC57","v":0},{"$f":"Sécurité!CD57","v":0},{"$f":"Sécurité!CE57","v":0},{"$f":"Sécurité!CF57","v":0},{"$f":"Sécurité!CG57","v":0},{"$f":"Sécurité!CH57","v":0},{"$f":"Sécurité!CI57","v":0},{"$f":"Sécurité!CJ57","v":0},{"$f":"Sécurité!CK57","v":0},{"$f":"Sécurité!CL57","v":0},{"$f":"Sécurité!CM57","v":0},{"$f":"Sécurité!CN57","v":0},{"$f":"Sécurité!CO57","v":0},{"$f":"Sécurité!CP57","v":0},{"$f":"Sécurité!CQ57","v":0},{"$f":"Sécurité!CR57","v":0},{"$f":"Sécurité!CS57","v":0},{"$f":"Sécurité!CT57","v":0},{"$f":"Sécurité!CU57","v":0},{"$f":"Sécurité!CV57","v":0}]
[null,null,{"$f":"Sécurité!$C$58","v":0},{"$f":"Sécurité!$D$58","v":0},{"$f":"Sécurité!BY58","v":0},{"$f":"Sécurité!BZ58","v":0},{"$f":"Sécurité!CA58","v":0},{"$f":"Sécurité!CB58","v":0},{"$f":"Sécurité!CC58","v":0},{"$f":"Sécurité!CD58","v":0},{"$f":"Sécurité!CE58","v":0},{"$f":"Sécurité!CF58","v":0},{"$f":"Sécurité!CG58","v":0},{"$f":"Sécurité!CH58","v":0},{"$f":"Sécurité!CI58","v":0},{"$f":"Sécurité!CJ58","v":0},{"$f":"Sécurité!CK58","v":0},{"$f":"Sécurité!CL58","v":0},{"$f":"Sécurité!CM58","v":0},{"$f":"Sécurité!CN58","v":0},{"$f":"Sécurité!CO58","v":0},{"$f":"Sécurité!CP58","v":0},{"$f":"Sécurité!CQ58","v":0},{"$f":"Sécurité!CR58","v":0},{"$f":"Sécurité!CS58","v":0},{"$f":"Sécurité!CT58","v":0},{"$f":"Sécurité!CU58","v":0},{"$f":"Sécurité!CV58","v":0}]
[null,null,{"$f":"Sécurité!$C$59","v":0},{"$f":"Sécurité!$D$59","v":0},{"$f":"Sécurité!BY59","v":0},{"$f":"Sécurité!BZ59","v":0},{"$f":"Sécurité!CA59","v":0},{"$f":"Sécurité!CB59","v":0},{"$f":"Sécurité!CC59","v":0},{"$f":"Sécurité!CD59","v":0},{"$f":"Sécurité!CE59","v":0},{"$f":"Sécurité!CF59","v":0},{"$f":"Sécurité!CG59","v":0},{"$f":"Sécurité!CH59","v":0},{"$f":"Sécurité!CI59","v":0},{"$f":"Sécurité!CJ59","v":0},{"$f":"Sécurité!CK59","v":0},{"$f":"Sécurité!CL59","v":0},{"$f":"Sécurité!CM59","v":0},{"$f":"Sécurité!CN59","v":0},{"$f":"Sécurité!CO59","v":0},{"$f":"Sécurité!CP59","v":0},{"$f":"Sécurité!CQ59","v":0},{"$f":"Sécurité!CR59","v":0},{"$f":"Sécurité!CS59","v":0},{"$f":"Sécurité!CT59","v":0},{"$f":"Sécurité!CU59","v":0},{"$f":"Sécurité!CV59","v":0}]
[null,null,{"$f":"Sécurité!$C$60","v":0},{"$f":"Sécurité!$D$60","v":0},{"$f":"Sécurité!BY60","v":0},{"$f":"Sécurité!BZ60","v":0},{"$f":"Sécurité!CA60","v":0},{"$f":"Sécurité!CB60","v":0},{"$f":"Sécurité!CC60","v":0},{"$f":"Sécurité!CD60","v":0},{"$f":"Sécurité!CE60","v":0},{"$f":"Sécurité!CF60","v":0},{"$f":"Sécurité!CG60","v":0},{"$f":"Sécurité!CH60","v":0},{"$f":"Sécurité!CI60","v":0},{"$f":"Sécurité!CJ60","v":0},{"$f":"Sécurité!CK60","v":0},{"$f":"Sécurité!CL60","v":0},{"$f":"Sécurité!CM60","v":0},{"$f":"Sécurité!CN60","v":0},{"$f":"Sécurité!CO60","v":0},{"$f":"Sécurité!CP60","v":0},{"$f":"Sécurité!CQ60","v":0},{"$f":"Sécurité!CR60","v":0},{"$f":"Sécurité!CS60","v":0},{"$f":"Sécurité!CT60","v":0},{"$f":"Sécurité!CU60","v":0},{"$f":"Sécurité!CV60","v":0}]
[null,null,{"$f":"Sécurité!$C$61","v":0},{"$f":"Sécurité!$D$61","v":0},{"$f":"Sécurité!BY61","v":0},{"$f":"Sécurité!BZ61","v":0},{"$f":"Sécurité!CA61","v":0},{"$f":"Sécurité!CB61","v":0},{"$f":"Sécurité!CC61","v":0},{"$f":"Sécurité!CD61","v":0},{"$f":"Sécurité!CE61","v":0},{"$f":"Sécurité!CF61","v":0},{"$f":"Sécurité!CG61","v":0},{"$f":"Sécurité!CH61","v":0},{"$f":"Sécurité!CI61","v":0},{"$f":"Sécurité!CJ61","v":0},{"$f":"Sécurité!CK61","v":0},{"$f":"Sécurité!CL61","v":0},{"$f":"Sécurité!CM61","v":0},{"$f":"Sécurité!CN61","v":0},{"$f":"Sécurité!CO61","v":0},{"$f":"Sécurité!CP61","v":0},{"$f":"Sécurité!CQ61","v":0},{"$f":"Sécurité!CR61","v":0},{"$f":"Sécurité!CS61","v":0},{"$f":"Sécurité!CT61","v":0},{"$f":"Sécurité!CU61","v":0},{"$f":"Sécurité!CV61","v":0}]
[null,null,{"$f":"Sécurité!$C$62","v":0},{"$f":"Sécurité!$D$62","v":0},{"$f":"Sécurité!BY62","v":0},{"$f":"Sécurité!BZ62","v":0},{"$f":"Sécurité!CA62","v":0},{"$f":"Sécurité!CB62","v":0},{"$f":"Sécurité!CC62","v":0},{"$f":"Sécurité!CD62","v":0},{"$f":"Sécurité!CE62","v":0},{"$f":"Sécurité!CF62","v":0},{"$f":"Sécurité!CG62","v":0},{"$f":"Sécurité!CH62","v":0},{"$f":"Sécurité!CI62","v":0},{"$f":"Sécurité!CJ62","v":0},{"$f":"Sécurité!CK62","v":0},{"$f":"Sécurité!CL62","v":0},{"$f":"Sécurité!CM62","v":0},{"$f":"Sécurité!CN62","v":0},{"$f":"Sécurité!CO62","v":0},{"$f":"Sécurité!CP62","v":0},{"$f":"Sécurité!CQ62","v":0},{"$f":"Sécurité!CR62","v":0},{"$f":"Sécurité!CS62","v":0},{"$f":"Sécurité!CT62","v":0},{"$f":"Sécurité!CU62","v":0},{"$f":"Sécurité!CV62","v":0}]
[null,null,{"$f":"Sécurité!$C$63","v":0},{"$f":"Sécurité!$D$63","v":0},{"$f":"Sécurité!BY63","v":0},{"$f":"Sécurité!BZ63","v":0},{"$f":"Sécurité!CA63","v":0},{"$f":"Sécurité!CB63","v":0},{"$f":"Sécurité!CC63","v":0},{"$f":"Sécurité!CD63","v":0},{"$f":"Sécurité!CE63","v":0},{"$f":"Sécurité!CF63","v":0},{"$f":"Sécurité!CG63","v":0},{"$f":"Sécurité!CH63","v":0},{"$f":"Sécurité!CI63","v":0},{"$f":"Sécurité!CJ63","v":0},{"$f":"Sécurité!CK63","v":0},{"$f":"Sécurité!CL63","v":0},{"$f":"Sécurité!CM63","v":0},{"$f":"Sécurité!CN63","v":0},{"$f":"Sécurité!CO63","v":0},{"$f":"Sécurité!CP63","v":0},{"$f":"Sécurité!CQ63","v":0},{"$f":"Sécurité!CR63","v":0},{"$f":"Sécurité!CS63","v":0},{"$f":"Sécurité!CT63","v":0},{"$f":"Sécurité!CU63","v":0},{"$f":"Sécurité!CV63","v":0}]
[null,null,null,null,{"$f":"Identification!$A$33","v":"2015-12-01"}]
[null,null,{"$f":"Sécurité!$C$53","v":"tableau mensuel"},{"$f":"Sécurité!$D$53","v":"Nature des faits"},{"$f":"Sécurité!CW53","v":"Nb total d'incidents par nature"},{"$f":"Sécurité!CX53","v":"Type de punition"},null,null,{"$f":"Sécurité!DA53","v":"Nb d'incidents par niveau"},null,null,null,null,null,null,null,null,null,{"$f":"Sécurité!DK53","v":"Nb d'élèves concernés"}]
[null,null,null,null,null,null,null,null,{"$f":"Sécurité!DA54","v":0},{"$f":"Sécurité!DB54","v":0},{"$f":"Sécurité!DC54","v":0},{"$f":"Sécurité!DD54","v":0},{"$f":"Sécurité!DE54","v":0},{"$f":"Sécurité!DF54","v":0},{"$f":"Sécurité!DG54","v":0},{"$f":"Sécurité!DH54","v":0},{"$f":"Sécurité!DI54","v":0},{"$f":"Sécurité!DJ54","v":0},{"$f":"Sécurité!DK54","v":0},{"$f":"Sécurité!DL54","v":0},{"$f":"Sécurité!DM54","v":0},{"$f":"Sécurité!DN54","v":0},{"$f":"Sécurité!DO54","v":0},{"$f":"Sécurité!DP54","v":0},{"$f":"Sécurité!DQ54","v":0},{"$f":"Sécurité!DR54","v":0},{"$f":"Sécurité!DS54","v":0},{"$f":"Sécurité!DT54","v":0}]
[null,null,null,null,null,{"$f":"Sécurité!CX55","v":0},{"$f":"Sécurité!CY55","v":0},{"$f":"Sécurité!CZ55","v":0},{"$f":"Sécurité!DA55","v":0},{"$f":"Sécurité!DB55","v":0},{"$f":"Sécurité!DC55","v":0},{"$f":"Sécurité!DD55","v":0},{"$f":"Sécurité!DE55","v":0},{"$f":"Sécurité!DF55","v":0},{"$f":"Sécurité!DG55","v":0},{"$f":"Sécurité!DH55","v":0},{"$f":"Sécurité!DI55","v":0},{"$f":"Sécurité!DJ55","v":0},{"$f":"Sécurité!DK55","v":0},{"$f":"Sécurité!DL55","v":0},{"$f":"Sécurité!DM55","v":0},{"$f":"Sécurité!DN55","v":0},{"$f":"Sécurité!DO55","v":0},{"$f":"Sécurité!DP55","v":0},{"$f":"Sécurité!DQ55","v":0},{"$f":"Sécurité!DR55","v":0},{"$f":"Sécurité!DS55","v":0},{"$f":"Sécurité!DT55","v":0}]
[null,null,{"$f":"Sécurité!$C$56","v":"Nature des incidents (sanctions registre)\n(à décliner)"},{"$f":"Sécurité!$D$56","v":0},{"$f":"Sécurité!CW56","v":0},{"$f":"Sécurité!CX56","v":0},{"$f":"Sécurité!CY56","v":0},{"$f":"Sécurité!CZ56","v":0},{"$f":"Sécurité!DA56","v":0},{"$f":"Sécurité!DB56","v":0},{"$f":"Sécurité!DC56","v":0},{"$f":"Sécurité!DD56","v":0},{"$f":"Sécurité!DE56","v":0},{"$f":"Sécurité!DF56","v":0},{"$f":"Sécurité!DG56","v":0},{"$f":"Sécurité!DH56","v":0},{"$f":"Sécurité!DI56","v":0},{"$f":"Sécurité!DJ56","v":0},{"$f":"Sécurité!DK56","v":0},{"$f":"Sécurité!DL56","v":0},{"$f":"Sécurité!DM56","v":0},{"$f":"Sécurité!DN56","v":0},{"$f":"Sécurité!DO56","v":0},{"$f":"Sécurité!DP56","v":0},{"$f":"Sécurité!DQ56","v":0},{"$f":"Sécurité!DR56","v":0},{"$f":"Sécurité!DS56","v":0},{"$f":"Sécurité!DT56","v":0}]
[null,null,{"$f":"Sécurité!$C$57","v":0},{"$f":"Sécurité!$D$57","v":0},{"$f":"Sécurité!CW57","v":0},{"$f":"Sécurité!CX57","v":0},{"$f":"Sécurité!CY57","v":0},{"$f":"Sécurité!CZ57","v":0},{"$f":"Sécurité!DA57","v":0},{"$f":"Sécurité!DB57","v":0},{"$f":"Sécurité!DC57","v":0},{"$f":"Sécurité!DD57","v":0},{"$f":"Sécurité!DE57","v":0},{"$f":"Sécurité!DF57","v":0},{"$f":"Sécurité!DG57","v":0},{"$f":"Sécurité!DH57","v":0},{"$f":"Sécurité!DI57","v":0},{"$f":"Sécurité!DJ57","v":0},{"$f":"Sécurité!DK57","v":0},{"$f":"Sécurité!DL57","v":0},{"$f":"Sécurité!DM57","v":0},{"$f":"Sécurité!DN57","v":0},{"$f":"Sécurité!DO57","v":0},{"$f":"Sécurité!DP57","v":0},{"$f":"Sécurité!DQ57","v":0},{"$f":"Sécurité!DR57","v":0},{"$f":"Sécurité!DS57","v":0},{"$f":"Sécurité!DT57","v":0}]
[null,null,{"$f":"Sécurité!$C$58","v":0},{"$f":"Sécurité!$D$58","v":0},{"$f":"Sécurité!CW58","v":0},{"$f":"Sécurité!CX58","v":0},{"$f":"Sécurité!CY58","v":0},{"$f":"Sécurité!CZ58","v":0},{"$f":"Sécurité!DA58","v":0},{"$f":"Sécurité!DB58","v":0},{"$f":"Sécurité!DC58","v":0},{"$f":"Sécurité!DD58","v":0},{"$f":"Sécurité!DE58","v":0},{"$f":"Sécurité!DF58","v":0},{"$f":"Sécurité!DG58","v":0},{"$f":"Sécurité!DH58","v":0},{"$f":"Sécurité!DI58","v":0},{"$f":"Sécurité!DJ58","v":0},{"$f":"Sécurité!DK58","v":0},{"$f":"Sécurité!DL58","v":0},{"$f":"Sécurité!DM58","v":0},{"$f":"Sécurité!DN58","v":0},{"$f":"Sécurité!DO58","v":0},{"$f":"Sécurité!DP58","v":0},{"$f":"Sécurité!DQ58","v":0},{"$f":"Sécurité!DR58","v":0},{"$f":"Sécurité!DS58","v":0},{"$f":"Sécurité!DT58","v":0}]
[null,null,{"$f":"Sécurité!$C$59","v":0},{"$f":"Sécurité!$D$59","v":0},{"$f":"Sécurité!CW59","v":0},{"$f":"Sécurité!CX59","v":0},{"$f":"Sécurité!CY59","v":0},{"$f":"Sécurité!CZ59","v":0},{"$f":"Sécurité!DA59","v":0},{"$f":"Sécurité!DB59","v":0},{"$f":"Sécurité!DC59","v":0},{"$f":"Sécurité!DD59","v":0},{"$f":"Sécurité!DE59","v":0},{"$f":"Sécurité!DF59","v":0},{"$f":"Sécurité!DG59","v":0},{"$f":"Sécurité!DH59","v":0},{"$f":"Sécurité!DI59","v":0},{"$f":"Sécurité!DJ59","v":0},{"$f":"Sécurité!DK59","v":0},{"$f":"Sécurité!DL59","v":0},{"$f":"Sécurité!DM59","v":0},{"$f":"Sécurité!DN59","v":0},{"$f":"Sécurité!DO59","v":0},{"$f":"Sécurité!DP59","v":0},{"$f":"Sécurité!DQ59","v":0},{"$f":"Sécurité!DR59","v":0},{"$f":"Sécurité!DS59","v":0},{"$f":"Sécurité!DT59","v":0}]
[null,null,{"$f":"Sécurité!$C$60","v":0},{"$f":"Sécurité!$D$60","v":0},{"$f":"Sécurité!CW60","v":0},{"$f":"Sécurité!CX60","v":0},{"$f":"Sécurité!CY60","v":0},{"$f":"Sécurité!CZ60","v":0},{"$f":"Sécurité!DA60","v":0},{"$f":"Sécurité!DB60","v":0},{"$f":"Sécurité!DC60","v":0},{"$f":"Sécurité!DD60","v":0},{"$f":"Sécurité!DE60","v":0},{"$f":"Sécurité!DF60","v":0},{"$f":"Sécurité!DG60","v":0},{"$f":"Sécurité!DH60","v":0},{"$f":"Sécurité!DI60","v":0},{"$f":"Sécurité!DJ60","v":0},{"$f":"Sécurité!DK60","v":0},{"$f":"Sécurité!DL60","v":0},{"$f":"Sécurité!DM60","v":0},{"$f":"Sécurité!DN60","v":0},{"$f":"Sécurité!DO60","v":0},{"$f":"Sécurité!DP60","v":0},{"$f":"Sécurité!DQ60","v":0},{"$f":"Sécurité!DR60","v":0},{"$f":"Sécurité!DS60","v":0},{"$f":"Sécurité!DT60","v":0}]
[null,null,{"$f":"Sécurité!$C$61","v":0},{"$f":"Sécurité!$D$61","v":0},{"$f":"Sécurité!CW61","v":0},{"$f":"Sécurité!CX61","v":0},{"$f":"Sécurité!CY61","v":0},{"$f":"Sécurité!CZ61","v":0},{"$f":"Sécurité!DA61","v":0},{"$f":"Sécurité!DB61","v":0},{"$f":"Sécurité!DC61","v":0},{"$f":"Sécurité!DD61","v":0},{"$f":"Sécurité!DE61","v":0},{"$f":"Sécurité!DF61","v":0},{"$f":"Sécurité!DG61","v":0},{"$f":"Sécurité!DH61","v":0},{"$f":"Sécurité!DI61","v":0},{"$f":"Sécurité!DJ61","v":0},{"$f":"Sécurité!DK61","v":0},{"$f":"Sécurité!DL61","v":0},{"$f":"Sécurité!DM61","v":0},{"$f":"Sécurité!DN61","v":0},{"$f":"Sécurité!DO61","v":0},{"$f":"Sécurité!DP61","v":0},{"$f":"Sécurité!DQ61","v":0},{"$f":"Sécurité!DR61","v":0},{"$f":"Sécurité!DS61","v":0},{"$f":"Sécurité!DT61","v":0}]
[null,null,{"$f":"Sécurité!$C$62","v":0},{"$f":"Sécurité!$D$62","v":0},{"$f":"Sécurité!CW62","v":0},{"$f":"Sécurité!CX62","v":0},{"$f":"Sécurité!CY62","v":0},{"$f":"Sécurité!CZ62","v":0},{"$f":"Sécurité!DA62","v":0},{"$f":"Sécurité!DB62","v":0},{"$f":"Sécurité!DC62","v":0},{"$f":"Sécurité!DD62","v":0},{"$f":"Sécurité!DE62","v":0},{"$f":"Sécurité!DF62","v":0},{"$f":"Sécurité!DG62","v":0},{"$f":"Sécurité!DH62","v":0},{"$f":"Sécurité!DI62","v":0},{"$f":"Sécurité!DJ62","v":0},{"$f":"Sécurité!DK62","v":0},{"$f":"Sécurité!DL62","v":0},{"$f":"Sécurité!DM62","v":0},{"$f":"Sécurité!DN62","v":0},{"$f":"Sécurité!DO62","v":0},{"$f":"Sécurité!DP62","v":0},{"$f":"Sécurité!DQ62","v":0},{"$f":"Sécurité!DR62","v":0},{"$f":"Sécurité!DS62","v":0},{"$f":"Sécurité!DT62","v":0}]
[null,null,{"$f":"Sécurité!$C$63","v":0},{"$f":"Sécurité!$D$63","v":0},{"$f":"Sécurité!CW63","v":0},{"$f":"Sécurité!CX63","v":0},{"$f":"Sécurité!CY63","v":0},{"$f":"Sécurité!CZ63","v":0},{"$f":"Sécurité!DA63","v":0},{"$f":"Sécurité!DB63","v":0},{"$f":"Sécurité!DC63","v":0},{"$f":"Sécurité!DD63","v":0},{"$f":"Sécurité!DE63","v":0},{"$f":"Sécurité!DF63","v":0},{"$f":"Sécurité!DG63","v":0},{"$f":"Sécurité!DH63","v":0},{"$f":"Sécurité!DI63","v":0},{"$f":"Sécurité!DJ63","v":0},{"$f":"Sécurité!DK63","v":0},{"$f":"Sécurité!DL63","v":0},{"$f":"Sécurité!DM63","v":0},{"$f":"Sécurité!DN63","v":0},{"$f":"Sécurité!DO63","v":0},{"$f":"Sécurité!DP63","v":0},{"$f":"Sécurité!DQ63","v":0},{"$f":"Sécurité!DR63","v":0},{"$f":"Sécurité!DS63","v":0},{"$f":"Sécurité!DT63","v":0}]
[null,null,null,null,{"$f":"Identification!$A$34","v":"2016-01-01"}]
[null,null,{"$f":"Sécurité!$C$53","v":"tableau mensuel"},{"$f":"Sécurité!$D$53","v":"Nature des faits"},{"$f":"Sécurité!DU53","v":"Nb total d'incidents par nature"},{"$f":"Sécurité!DV53","v":"Type de punition"},null,null,{"$f":"Sécurité!DY53","v":"Nb d'incidents par niveau"},null,null,null,null,null,null,null,null,null,{"$f":"Sécurité!EI53","v":"Nb d'élèves concernés"}]
[null,null,null,null,null,null,null,null,{"$f":"Sécurité!DY54","v":0},{"$f":"Sécurité!DZ54","v":0},{"$f":"Sécurité!EA54","v":0},{"$f":"Sécurité!EB54","v":0},{"$f":"Sécurité!EC54","v":0},{"$f":"Sécurité!ED54","v":0},{"$f":"Sécurité!EE54","v":0},{"$f":"Sécurité!EF54","v":0},{"$f":"Sécurité!EG54","v":0},{"$f":"Sécurité!EH54","v":0},{"$f":"Sécurité!EI54","v":0},{"$f":"Sécurité!EJ54","v":0},{"$f":"Sécurité!EK54","v":0},{"$f":"Sécurité!EL54","v":0},{"$f":"Sécurité!EM54","v":0},{"$f":"Sécurité!EN54","v":0},{"$f":"Sécurité!EO54","v":0},{"$f":"Sécurité!EP54","v":0},{"$f":"Sécurité!EQ54","v":0},{"$f":"Sécurité!ER54","v":0}]
[null,null,null,null,null,{"$f":"Sécurité!DV55","v":0},{"$f":"Sécurité!DW55","v":0},{"$f":"Sécurité!DX55","v":0},{"$f":"Sécurité!DY55","v":0},{"$f":"Sécurité!DZ55","v":0},{"$f":"Sécurité!EA55","v":0},{"$f":"Sécurité!EB55","v":0},{"$f":"Sécurité!EC55","v":0},{"$f":"Sécurité!ED55","v":0},{"$f":"Sécurité!EE55","v":0},{"$f":"Sécurité!EF55","v":0},{"$f":"Sécurité!EG55","v":0},{"$f":"Sécurité!EH55","v":0},{"$f":"Sécurité!EI55","v":0},{"$f":"Sécurité!EJ55","v":0},{"$f":"Sécurité!EK55","v":0},{"$f":"Sécurité!EL55","v":0},{"$f":"Sécurité!EM55","v":0},{"$f":"Sécurité!EN55","v":0},{"$f":"Sécurité!EO55","v":0},{"$f":"Sécurité!EP55","v":0},{"$f":"Sécurité!EQ55","v":0},{"$f":"Sécurité!ER55","v":0}]
[null,null,{"$f":"Sécurité!$C$56","v":"Nature des incidents (sanctions registre)\n(à décliner)"},{"$f":"Sécurité!$D$56","v":0},{"$f":"Sécurité!DU56","v":0},{"$f":"Sécurité!DV56","v":0},{"$f":"Sécurité!DW56","v":0},{"$f":"Sécurité!DX56","v":0},{"$f":"Sécurité!DY56","v":0},{"$f":"Sécurité!DZ56","v":0},{"$f":"Sécurité!EA56","v":0},{"$f":"Sécurité!EB56","v":0},{"$f":"Sécurité!EC56","v":0},{"$f":"Sécurité!ED56","v":0},{"$f":"Sécurité!EE56","v":0},{"$f":"Sécurité!EF56","v":0},{"$f":"Sécurité!EG56","v":0},{"$f":"Sécurité!EH56","v":0},{"$f":"Sécurité!EI56","v":0},{"$f":"Sécurité!EJ56","v":0},{"$f":"Sécurité!EK56","v":0},{"$f":"Sécurité!EL56","v":0},{"$f":"Sécurité!EM56","v":0},{"$f":"Sécurité!EN56","v":0},{"$f":"Sécurité!EO56","v":0},{"$f":"Sécurité!EP56","v":0},{"$f":"Sécurité!EQ56","v":0},{"$f":"Sécurité!ER56","v":0}]
[null,null,{"$f":"Sécurité!$C$57","v":0},{"$f":"Sécurité!$D$57","v":0},{"$f":"Sécurité!DU57","v":0},{"$f":"Sécurité!DV57","v":0},{"$f":"Sécurité!DW57","v":0},{"$f":"Sécurité!DX57","v":0},{"$f":"Sécurité!DY57","v":0},{"$f":"Sécurité!DZ57","v":0},{"$f":"Sécurité!EA57","v":0},{"$f":"Sécurité!EB57","v":0},{"$f":"Sécurité!EC57","v":0},{"$f":"Sécurité!ED57","v":0},{"$f":"Sécurité!EE57","v":0},{"$f":"Sécurité!EF57","v":0},{"$f":"Sécurité!EG57","v":0},{"$f":"Sécurité!EH57","v":0},{"$f":"Sécurité!EI57","v":0},{"$f":"Sécurité!EJ57","v":0},{"$f":"Sécurité!EK57","v":0},{"$f":"Sécurité!EL57","v":0},{"$f":"Sécurité!EM57","v":0},{"$f":"Sécurité!EN57","v":0},{"$f":"Sécurité!EO57","v":0},{"$f":"Sécurité!EP57","v":0},{"$f":"Sécurité!EQ57","v":0},{"$f":"Sécurité!ER57","v":0}]
[null,null,{"$f":"Sécurité!$C$58","v":0},{"$f":"Sécurité!$D$58","v":0},{"$f":"Sécurité!DU58","v":0},{"$f":"Sécurité!DV58","v":0},{"$f":"Sécurité!DW58","v":0},{"$f":"Sécurité!DX58","v":0},{"$f":"Sécurité!DY58","v":0},{"$f":"Sécurité!DZ58","v":0},{"$f":"Sécurité!EA58","v":0},{"$f":"Sécurité!EB58","v":0},{"$f":"Sécurité!EC58","v":0},{"$f":"Sécurité!ED58","v":0},{"$f":"Sécurité!EE58","v":0},{"$f":"Sécurité!EF58","v":0},{"$f":"Sécurité!EG58","v":0},{"$f":"Sécurité!EH58","v":0},{"$f":"Sécurité!EI58","v":0},{"$f":"Sécurité!EJ58","v":0},{"$f":"Sécurité!EK58","v":0},{"$f":"Sécurité!EL58","v":0},{"$f":"Sécurité!EM58","v":0},{"$f":"Sécurité!EN58","v":0},{"$f":"Sécurité!EO58","v":0},{"$f":"Sécurité!EP58","v":0},{"$f":"Sécurité!EQ58","v":0},{"$f":"Sécurité!ER58","v":0}]
[null,null,{"$f":"Sécurité!$C$59","v":0},{"$f":"Sécurité!$D$59","v":0},{"$f":"Sécurité!DU59","v":0},{"$f":"Sécurité!DV59","v":0},{"$f":"Sécurité!DW59","v":0},{"$f":"Sécurité!DX59","v":0},{"$f":"Sécurité!DY59","v":0},{"$f":"Sécurité!DZ59","v":0},{"$f":"Sécurité!EA59","v":0},{"$f":"Sécurité!EB59","v":0},{"$f":"Sécurité!EC59","v":0},{"$f":"Sécurité!ED59","v":0},{"$f":"Sécurité!EE59","v":0},{"$f":"Sécurité!EF59","v":0},{"$f":"Sécurité!EG59","v":0},{"$f":"Sécurité!EH59","v":0},{"$f":"Sécurité!EI59","v":0},{"$f":"Sécurité!EJ59","v":0},{"$f":"Sécurité!EK59","v":0},{"$f":"Sécurité!EL59","v":0},{"$f":"Sécurité!EM59","v":0},{"$f":"Sécurité!EN59","v":0},{"$f":"Sécurité!EO59","v":0},{"$f":"Sécurité!EP59","v":0},{"$f":"Sécurité!EQ59","v":0},{"$f":"Sécurité!ER59","v":0}]
[null,null,{"$f":"Sécurité!$C$60","v":0},{"$f":"Sécurité!$D$60","v":0},{"$f":"Sécurité!DU60","v":0},{"$f":"Sécurité!DV60","v":0},{"$f":"Sécurité!DW60","v":0},{"$f":"Sécurité!DX60","v":0},{"$f":"Sécurité!DY60","v":0},{"$f":"Sécurité!DZ60","v":0},{"$f":"Sécurité!EA60","v":0},{"$f":"Sécurité!EB60","v":0},{"$f":"Sécurité!EC60","v":0},{"$f":"Sécurité!ED60","v":0},{"$f":"Sécurité!EE60","v":0},{"$f":"Sécurité!EF60","v":0},{"$f":"Sécurité!EG60","v":0},{"$f":"Sécurité!EH60","v":0},{"$f":"Sécurité!EI60","v":0},{"$f":"Sécurité!EJ60","v":0},{"$f":"Sécurité!EK60","v":0},{"$f":"Sécurité!EL60","v":0},{"$f":"Sécurité!EM60","v":0},{"$f":"Sécurité!EN60","v":0},{"$f":"Sécurité!EO60","v":0},{"$f":"Sécurité!EP60","v":0},{"$f":"Sécurité!EQ60","v":0},{"$f":"Sécurité!ER60","v":0}]
[null,null,{"$f":"Sécurité!$C$61","v":0},{"$f":"Sécurité!$D$61","v":0},{"$f":"Sécurité!DU61","v":0},{"$f":"Sécurité!DV61","v":0},{"$f":"Sécurité!DW61","v":0},{"$f":"Sécurité!DX61","v":0},{"$f":"Sécurité!DY61","v":0},{"$f":"Sécurité!DZ61","v":0},{"$f":"Sécurité!EA61","v":0},{"$f":"Sécurité!EB61","v":0},{"$f":"Sécurité!EC61","v":0},{"$f":"Sécurité!ED61","v":0},{"$f":"Sécurité!EE61","v":0},{"$f":"Sécurité!EF61","v":0},{"$f":"Sécurité!EG61","v":0},{"$f":"Sécurité!EH61","v":0},{"$f":"Sécurité!EI61","v":0},{"$f":"Sécurité!EJ61","v":0},{"$f":"Sécurité!EK61","v":0},{"$f":"Sécurité!EL61","v":0},{"$f":"Sécurité!EM61","v":0},{"$f":"Sécurité!EN61","v":0},{"$f":"Sécurité!EO61","v":0},{"$f":"Sécurité!EP61","v":0},{"$f":"Sécurité!EQ61","v":0},{"$f":"Sécurité!ER61","v":0}]
[null,null,{"$f":"Sécurité!$C$62","v":0},{"$f":"Sécurité!$D$62","v":0},{"$f":"Sécurité!DU62","v":0},{"$f":"Sécurité!DV62","v":0},{"$f":"Sécurité!DW62","v":0},{"$f":"Sécurité!DX62","v":0},{"$f":"Sécurité!DY62","v":0},{"$f":"Sécurité!DZ62","v":0},{"$f":"Sécurité!EA62","v":0},{"$f":"Sécurité!EB62","v":0},{"$f":"Sécurité!EC62","v":0},{"$f":"Sécurité!ED62","v":0},{"$f":"Sécurité!EE62","v":0},{"$f":"Sécurité!EF62","v":0},{"$f":"Sécurité!EG62","v":0},{"$f":"Sécurité!EH62","v":0},{"$f":"Sécurité!EI62","v":0},{"$f":"Sécurité!EJ62","v":0},{"$f":"Sécurité!EK62","v":0},{"$f":"Sécurité!EL62","v":0},{"$f":"Sécurité!EM62","v":0},{"$f":"Sécurité!EN62","v":0},{"$f":"Sécurité!EO62","v":0},{"$f":"Sécurité!EP62","v":0},{"$f":"Sécurité!EQ62","v":0},{"$f":"Sécurité!ER62","v":0}]
[null,null,{"$f":"Sécurité!$C$63","v":0},{"$f":"Sécurité!$D$63","v":0},{"$f":"Sécurité!DU63","v":0},{"$f":"Sécurité!DV63","v":0},{"$f":"Sécurité!DW63","v":0},{"$f":"Sécurité!DX63","v":0},{"$f":"Sécurité!DY63","v":0},{"$f":"Sécurité!DZ63","v":0},{"$f":"Sécurité!EA63","v":0},{"$f":"Sécurité!EB63","v":0},{"$f":"Sécurité!EC63","v":0},{"$f":"Sécurité!ED63","v":0},{"$f":"Sécurité!EE63","v":0},{"$f":"Sécurité!EF63","v":0},{"$f":"Sécurité!EG63","v":0},{"$f":"Sécurité!EH63","v":0},{"$f":"Sécurité!EI63","v":0},{"$f":"Sécurité!EJ63","v":0},{"$f":"Sécurité!EK63","v":0},{"$f":"Sécurité!EL63","v":0},{"$f":"Sécurité!EM63","v":0},{"$f":"Sécurité!EN63","v":0},{"$f":"Sécurité!EO63","v":0},{"$f":"Sécurité!EP63","v":0},{"$f":"Sécurité!EQ63","v":0},{"$f":"Sécurité!ER63","v":0}]
[]
[]
[]
[]
[]
[]
[]
[null,"Respect des biens        (Sanctions)"]
[]
[null,null,null,null,{"$f":"Identification!$A$35","v":"2016-02-01"}]
[null,null,{"$f":"Sécurité!$C$53","v":"tableau mensuel"},{"$f":"Sécurité!$D$53","v":"Nature des faits"},{"$f":"Sécurité!ES53","v":"Nb total d'incidents par nature"},{"$f":"Sécurité!ET53","v":"Type de punition"},null,null,{"$f":"Sécurité!EW53","v":"Nb d'incidents par niveau"},null,null,null,null,null,null,null,null,null,{"$f":"Sécurité!FG53","v":"Nb d'élèves concernés"}]
[null,null,null,null,null,null,null,null,{"$f":"Sécurité!EW54","v":0},{"$f":"Sécurité!EX54","v":0},{"$f":"Sécurité!EY54","v":0},{"$f":"Sécurité!EZ54","v":0},{"$f":"Sécurité!FA54","v":0},{"$f":"Sécurité!FB54","v":0},{"$f":"Sécurité!FC54","v":0},{"$f":"Sécurité!FD54","v":0},{"$f":"Sécurité!FE54","v":0},{"$f":"Sécurité!FF54","v":0},{"$f":"Sécurité!FG54","v":0},{"$f":"Sécurité!FH54","v":0},{"$f":"Sécurité!FI54","v":0},{"$f":"Sécurité!FJ54","v":0},{"$f":"Sécurité!FK54","v":0},{"$f":"Sécurité!FL54","v":0},{"$f":"Sécurité!FM54","v":0},{"$f":"Sécurité!FN54","v":0},{"$f":"Sécurité!FO54","v":0},{"$f":"Sécurité!FP54","v":0}]
[null,null,null,null,null,{"$f":"Sécurité!ET55","v":0},{"$f":"Sécurité!EU55","v":0},{"$f":"Sécurité!EV55","v":0},{"$f":"Sécurité!EW55","v":0},{"$f":"Sécurité!EX55","v":0},{"$f":"Sécurité!EY55","v":0},{"$f":"Sécurité!EZ55","v":0},{"$f":"Sécurité!FA55","v":0},{"$f":"Sécurité!FB55","v":0},{"$f":"Sécurité!FC55","v":0},{"$f":"Sécurité!FD55","v":0},{"$f":"Sécurité!FE55","v":0},{"$f":"Sécurité!FF55","v":0},{"$f":"Sécurité!FG55","v":0},{"$f":"Sécurité!FH55","v":0},{"$f":"Sécurité!FI55","v":0},{"$f":"Sécurité!FJ55","v":0},{"$f":"Sécurité!FK55","v":0},{"$f":"Sécurité!FL55","v":0},{"$f":"Sécurité!FM55","v":0},{"$f":"Sécurité!FN55","v":0},{"$f":"Sécurité!FO55","v":0},{"$f":"Sécurité!FP55","v":0}]
[null,null,{"$f":"Sécurité!$C$56","v":"Nature des incidents (sanctions registre)\n(à décliner)"},{"$f":"Sécurité!$D$56","v":0},{"$f":"Sécurité!ES56","v":0},{"$f":"Sécurité!ET56","v":0},{"$f":"Sécurité!EU56","v":0},{"$f":"Sécurité!EV56","v":0},{"$f":"Sécurité!EW56","v":0},{"$f":"Sécurité!EX56","v":0},{"$f":"Sécurité!EY56","v":0},{"$f":"Sécurité!EZ56","v":0},{"$f":"Sécurité!FA56","v":0},{"$f":"Sécurité!FB56","v":0},{"$f":"Sécurité!FC56","v":0},{"$f":"Sécurité!FD56","v":0},{"$f":"Sécurité!FE56","v":0},{"$f":"Sécurité!FF56","v":0},{"$f":"Sécurité!FG56","v":0},{"$f":"Sécurité!FH56","v":0},{"$f":"Sécurité!FI56","v":0},{"$f":"Sécurité!FJ56","v":0},{"$f":"Sécurité!FK56","v":0},{"$f":"Sécurité!FL56","v":0},{"$f":"Sécurité!FM56","v":0},{"$f":"Sécurité!FN56","v":0},{"$f":"Sécurité!FO56","v":0},{"$f":"Sécurité!FP56","v":0}]
[null,null,{"$f":"Sécurité!$C$57","v":0},{"$f":"Sécurité!$D$57","v":0},{"$f":"Sécurité!ES57","v":0},{"$f":"Sécurité!ET57","v":0},{"$f":"Sécurité!EU57","v":0},{"$f":"Sécurité!EV57","v":0},{"$f":"Sécurité!EW57","v":0},{"$f":"Sécurité!EX57","v":0},{"$f":"Sécurité!EY57","v":0},{"$f":"Sécurité!EZ57","v":0},{"$f":"Sécurité!FA57","v":0},{"$f":"Sécurité!FB57","v":0},{"$f":"Sécurité!FC57","v":0},{"$f":"Sécurité!FD57","v":0},{"$f":"Sécurité!FE57","v":0},{"$f":"Sécurité!FF57","v":0},{"$f":"Sécurité!FG57","v":0},{"$f":"Sécurité!FH57","v":0},{"$f":"Sécurité!FI57","v":0},{"$f":"Sécurité!FJ57","v":0},{"$f":"Sécurité!FK57","v":0},{"$f":"Sécurité!FL57","v":0},{"$f":"Sécurité!FM57","v":0},{"$f":"Sécurité!FN57","v":0},{"$f":"Sécurité!FO57","v":0},{"$f":"Sécurité!FP57","v":0}]
[null,null,{"$f":"Sécurité!$C$58","v":0},{"$f":"Sécurité!$D$58","v":0},{"$f":"Sécurité!ES58","v":0},{"$f":"Sécurité!ET58","v":0},{"$f":"Sécurité!EU58","v":0},{"$f":"Sécurité!EV58","v":0},{"$f":"Sécurité!EW58","v":0},{"$f":"Sécurité!EX58","v":0},{"$f":"Sécurité!EY58","v":0},{"$f":"Sécurité!EZ58","v":0},{"$f":"Sécurité!FA58","v":0},{"$f":"Sécurité!FB58","v":0},{"$f":"Sécurité!FC58","v":0},{"$f":"Sécurité!FD58","v":0},{"$f":"Sécurité!FE58","v":0},{"$f":"Sécurité!FF58","v":0},{"$f":"Sécurité!FG58","v":0},{"$f":"Sécurité!FH58","v":0},{"$f":"Sécurité!FI58","v":0},{"$f":"Sécurité!FJ58","v":0},{"$f":"Sécurité!FK58","v":0},{"$f":"Sécurité!FL58","v":0},{"$f":"Sécurité!FM58","v":0},{"$f":"Sécurité!FN58","v":0},{"$f":"Sécurité!FO58","v":0},{"$f":"Sécurité!FP58","v":0}]
[null,null,{"$f":"Sécurité!$C$59","v":0},{"$f":"Sécurité!$D$59","v":0},{"$f":"Sécurité!ES59","v":0},{"$f":"Sécurité!ET59","v":0},{"$f":"Sécurité!EU59","v":0},{"$f":"Sécurité!EV59","v":0},{"$f":"Sécurité!EW59","v":0},{"$f":"Sécurité!EX59","v":0},{"$f":"Sécurité!EY59","v":0},{"$f":"Sécurité!EZ59","v":0},{"$f":"Sécurité!FA59","v":0},{"$f":"Sécurité!FB59","v":0},{"$f":"Sécurité!FC59","v":0},{"$f":"Sécurité!FD59","v":0},{"$f":"Sécurité!FE59","v":0},{"$f":"Sécurité!FF59","v":0},{"$f":"Sécurité!FG59","v":0},{"$f":"Sécurité!FH59","v":0},{"$f":"Sécurité!FI59","v":0},{"$f":"Sécurité!FJ59","v":0},{"$f":"Sécurité!FK59","v":0},{"$f":"Sécurité!FL59","v":0},{"$f":"Sécurité!FM59","v":0},{"$f":"Sécurité!FN59","v":0},{"$f":"Sécurité!FO59","v":0},{"$f":"Sécurité!FP59","v":0}]
[null,null,{"$f":"Sécurité!$C$60","v":0},{"$f":"Sécurité!$D$60","v":0},{"$f":"Sécurité!ES60","v":0},{"$f":"Sécurité!ET60","v":0},{"$f":"Sécurité!EU60","v":0},{"$f":"Sécurité!EV60","v":0},{"$f":"Sécurité!EW60","v":0},{"$f":"Sécurité!EX60","v":0},{"$f":"Sécurité!EY60","v":0},{"$f":"Sécurité!EZ60","v":0},{"$f":"Sécurité!FA60","v":0},{"$f":"Sécurité!FB60","v":0},{"$f":"Sécurité!FC60","v":0},{"$f":"Sécurité!FD60","v":0},{"$f":"Sécurité!FE60","v":0},{"$f":"Sécurité!FF60","v":0},{"$f":"Sécurité!FG60","v":0},{"$f":"Sécurité!FH60","v":0},{"$f":"Sécurité!FI60","v":0},{"$f":"Sécurité!FJ60","v":0},{"$f":"Sécurité!FK60","v":0},{"$f":"Sécurité!FL60","v":0},{"$f":"Sécurité!FM60","v":0},{"$f":"Sécurité!FN60","v":0},{"$f":"Sécurité!FO60","v":0},{"$f":"Sécurité!FP60","v":0}]
[null,null,{"$f":"Sécurité!$C$61","v":0},{"$f":"Sécurité!$D$61","v":0},{"$f":"Sécurité!ES61","v":0},{"$f":"Sécurité!ET61","v":0},{"$f":"Sécurité!EU61","v":0},{"$f":"Sécurité!EV61","v":0},{"$f":"Sécurité!EW61","v":0},{"$f":"Sécurité!EX61","v":0},{"$f":"Sécurité!EY61","v":0},{"$f":"Sécurité!EZ61","v":0},{"$f":"Sécurité!FA61","v":0},{"$f":"Sécurité!FB61","v":0},{"$f":"Sécurité!FC61","v":0},{"$f":"Sécurité!FD61","v":0},{"$f":"Sécurité!FE61","v":0},{"$f":"Sécurité!FF61","v":0},{"$f":"Sécurité!FG61","v":0},{"$f":"Sécurité!FH61","v":0},{"$f":"Sécurité!FI61","v":0},{"$f":"Sécurité!FJ61","v":0},{"$f":"Sécurité!FK61","v":0},{"$f":"Sécurité!FL61","v":0},{"$f":"Sécurité!FM61","v":0},{"$f":"Sécurité!FN61","v":0},{"$f":"Sécurité!FO61","v":0},{"$f":"Sécurité!FP61","v":0}]
[null,null,{"$f":"Sécurité!$C$62","v":0},{"$f":"Sécurité!$D$62","v":0},{"$f":"Sécurité!ES62","v":0},{"$f":"Sécurité!ET62","v":0},{"$f":"Sécurité!EU62","v":0},{"$f":"Sécurité!EV62","v":0},{"$f":"Sécurité!EW62","v":0},{"$f":"Sécurité!EX62","v":0},{"$f":"Sécurité!EY62","v":0},{"$f":"Sécurité!EZ62","v":0},{"$f":"Sécurité!FA62","v":0},{"$f":"Sécurité!FB62","v":0},{"$f":"Sécurité!FC62","v":0},{"$f":"Sécurité!FD62","v":0},{"$f":"Sécurité!FE62","v":0},{"$f":"Sécurité!FF62","v":0},{"$f":"Sécurité!FG62","v":0},{"$f":"Sécurité!FH62","v":0},{"$f":"Sécurité!FI62","v":0},{"$f":"Sécurité!FJ62","v":0},{"$f":"Sécurité!FK62","v":0},{"$f":"Sécurité!FL62","v":0},{"$f":"Sécurité!FM62","v":0},{"$f":"Sécurité!FN62","v":0},{"$f":"Sécurité!FO62","v":0},{"$f":"Sécurité!FP62","v":0}]
[null,null,{"$f":"Sécurité!$C$63","v":0},{"$f":"Sécurité!$D$63","v":0},{"$f":"Sécurité!ES63","v":0},{"$f":"Sécurité!ET63","v":0},{"$f":"Sécurité!EU63","v":0},{"$f":"Sécurité!EV63","v":0},{"$f":"Sécurité!EW63","v":0},{"$f":"Sécurité!EX63","v":0},{"$f":"Sécurité!EY63","v":0},{"$f":"Sécurité!EZ63","v":0},{"$f":"Sécurité!FA63","v":0},{"$f":"Sécurité!FB63","v":0},{"$f":"Sécurité!FC63","v":0},{"$f":"Sécurité!FD63","v":0},{"$f":"Sécurité!FE63","v":0},{"$f":"Sécurité!FF63","v":0},{"$f":"Sécurité!FG63","v":0},{"$f":"Sécurité!FH63","v":0},{"$f":"Sécurité!FI63","v":0},{"$f":"Sécurité!FJ63","v":0},{"$f":"Sécurité!FK63","v":0},{"$f":"Sécurité!FL63","v":0},{"$f":"Sécurité!FM63","v":0},{"$f":"Sécurité!FN63","v":0},{"$f":"Sécurité!FO63","v":0},{"$f":"Sécurité!FP63","v":0}]
[null,null,null,null,{"$f":"Identification!$A$36","v":"2016-03-01"}]
[null,null,{"$f":"Sécurité!$C$53","v":"tableau mensuel"},{"$f":"Sécurité!$D$53","v":"Nature des faits"},{"$f":"Sécurité!FQ53","v":"Nb total d'incidents par nature"},{"$f":"Sécurité!FR53","v":"Type de punition"},null,null,{"$f":"Sécurité!FU53","v":"Nb d'incidents par niveau"},null,null,null,null,null,null,null,null,null,{"$f":"Sécurité!GE53","v":"Nb d'élèves concernés"}]
[null,null,null,null,null,null,null,null,{"$f":"Sécurité!FU54","v":0},{"$f":"Sécurité!FV54","v":0},{"$f":"Sécurité!FW54","v":0},{"$f":"Sécurité!FX54","v":0},{"$f":"Sécurité!FY54","v":0},{"$f":"Sécurité!FZ54","v":0},{"$f":"Sécurité!GA54","v":0},{"$f":"Sécurité!GB54","v":0},{"$f":"Sécurité!GC54","v":0},{"$f":"Sécurité!GD54","v":0},{"$f":"Sécurité!GE54","v":0},{"$f":"Sécurité!GF54","v":0},{"$f":"Sécurité!GG54","v":0},{"$f":"Sécurité!GH54","v":0},{"$f":"Sécurité!GI54","v":0},{"$f":"Sécurité!GJ54","v":0},{"$f":"Sécurité!GK54","v":0},{"$f":"Sécurité!GL54","v":0},{"$f":"Sécurité!GM54","v":0},{"$f":"Sécurité!GN54","v":0}]
[null,null,null,null,null,{"$f":"Sécurité!FR55","v":0},{"$f":"Sécurité!FS55","v":0},{"$f":"Sécurité!FT55","v":0},{"$f":"Sécurité!FU55","v":0},{"$f":"Sécurité!FV55","v":0},{"$f":"Sécurité!FW55","v":0},{"$f":"Sécurité!FX55","v":0},{"$f":"Sécurité!FY55","v":0},{"$f":"Sécurité!FZ55","v":0},{"$f":"Sécurité!GA55","v":0},{"$f":"Sécurité!GB55","v":0},{"$f":"Sécurité!GC55","v":0},{"$f":"Sécurité!GD55","v":0},{"$f":"Sécurité!GE55","v":0},{"$f":"Sécurité!GF55","v":0},{"$f":"Sécurité!GG55","v":0},{"$f":"Sécurité!GH55","v":0},{"$f":"Sécurité!GI55","v":0},{"$f":"Sécurité!GJ55","v":0},{"$f":"Sécurité!GK55","v":0},{"$f":"Sécurité!GL55","v":0},{"$f":"Sécurité!GM55","v":0},{"$f":"Sécurité!GN55","v":0}]
[null,null,{"$f":"Sécurité!$C$56","v":"Nature des incidents (sanctions registre)\n(à décliner)"},{"$f":"Sécurité!$D$56","v":0},{"$f":"Sécurité!FQ56","v":0},{"$f":"Sécurité!FR56","v":0},{"$f":"Sécurité!FS56","v":0},{"$f":"Sécurité!FT56","v":0},{"$f":"Sécurité!FU56","v":0},{"$f":"Sécurité!FV56","v":0},{"$f":"Sécurité!FW56","v":0},{"$f":"Sécurité!FX56","v":0},{"$f":"Sécurité!FY56","v":0},{"$f":"Sécurité!FZ56","v":0},{"$f":"Sécurité!GA56","v":0},{"$f":"Sécurité!GB56","v":0},{"$f":"Sécurité!GC56","v":0},{"$f":"Sécurité!GD56","v":0},{"$f":"Sécurité!GE56","v":0},{"$f":"Sécurité!GF56","v":0},{"$f":"Sécurité!GG56","v":0},{"$f":"Sécurité!GH56","v":0},{"$f":"Sécurité!GI56","v":0},{"$f":"Sécurité!GJ56","v":0},{"$f":"Sécurité!GK56","v":0},{"$f":"Sécurité!GL56","v":0},{"$f":"Sécurité!GM56","v":0},{"$f":"Sécurité!GN56","v":0}]
[null,null,{"$f":"Sécurité!$C$57","v":0},{"$f":"Sécurité!$D$57","v":0},{"$f":"Sécurité!FQ57","v":0},{"$f":"Sécurité!FR57","v":0},{"$f":"Sécurité!FS57","v":0},{"$f":"Sécurité!FT57","v":0},{"$f":"Sécurité!FU57","v":0},{"$f":"Sécurité!FV57","v":0},{"$f":"Sécurité!FW57","v":0},{"$f":"Sécurité!FX57","v":0},{"$f":"Sécurité!FY57","v":0},{"$f":"Sécurité!FZ57","v":0},{"$f":"Sécurité!GA57","v":0},{"$f":"Sécurité!GB57","v":0},{"$f":"Sécurité!GC57","v":0},{"$f":"Sécurité!GD57","v":0},{"$f":"Sécurité!GE57","v":0},{"$f":"Sécurité!GF57","v":0},{"$f":"Sécurité!GG57","v":0},{"$f":"Sécurité!GH57","v":0},{"$f":"Sécurité!GI57","v":0},{"$f":"Sécurité!GJ57","v":0},{"$f":"Sécurité!GK57","v":0},{"$f":"Sécurité!GL57","v":0},{"$f":"Sécurité!GM57","v":0},{"$f":"Sécurité!GN57","v":0}]
[null,null,{"$f":"Sécurité!$C$58","v":0},{"$f":"Sécurité!$D$58","v":0},{"$f":"Sécurité!FQ58","v":0},{"$f":"Sécurité!FR58","v":0},{"$f":"Sécurité!FS58","v":0},{"$f":"Sécurité!FT58","v":0},{"$f":"Sécurité!FU58","v":0},{"$f":"Sécurité!FV58","v":0},{"$f":"Sécurité!FW58","v":0},{"$f":"Sécurité!FX58","v":0},{"$f":"Sécurité!FY58","v":0},{"$f":"Sécurité!FZ58","v":0},{"$f":"Sécurité!GA58","v":0},{"$f":"Sécurité!GB58","v":0},{"$f":"Sécurité!GC58","v":0},{"$f":"Sécurité!GD58","v":0},{"$f":"Sécurité!GE58","v":0},{"$f":"Sécurité!GF58","v":0},{"$f":"Sécurité!GG58","v":0},{"$f":"Sécurité!GH58","v":0},{"$f":"Sécurité!GI58","v":0},{"$f":"Sécurité!GJ58","v":0},{"$f":"Sécurité!GK58","v":0},{"$f":"Sécurité!GL58","v":0},{"$f":"Sécurité!GM58","v":0},{"$f":"Sécurité!GN58","v":0}]
[null,null,{"$f":"Sécurité!$C$59","v":0},{"$f":"Sécurité!$D$59","v":0},{"$f":"Sécurité!FQ59","v":0},{"$f":"Sécurité!FR59","v":0},{"$f":"Sécurité!FS59","v":0},{"$f":"Sécurité!FT59","v":0},{"$f":"Sécurité!FU59","v":0},{"$f":"Sécurité!FV59","v":0},{"$f":"Sécurité!FW59","v":0},{"$f":"Sécurité!FX59","v":0},{"$f":"Sécurité!FY59","v":0},{"$f":"Sécurité!FZ59","v":0},{"$f":"Sécurité!GA59","v":0},{"$f":"Sécurité!GB59","v":0},{"$f":"Sécurité!GC59","v":0},{"$f":"Sécurité!GD59","v":0},{"$f":"Sécurité!GE59","v":0},{"$f":"Sécurité!GF59","v":0},{"$f":"Sécurité!GG59","v":0},{"$f":"Sécurité!GH59","v":0},{"$f":"Sécurité!GI59","v":0},{"$f":"Sécurité!GJ59","v":0},{"$f":"Sécurité!GK59","v":0},{"$f":"Sécurité!GL59","v":0},{"$f":"Sécurité!GM59","v":0},{"$f":"Sécurité!GN59","v":0}]
[null,null,{"$f":"Sécurité!$C$60","v":0},{"$f":"Sécurité!$D$60","v":0},{"$f":"Sécurité!FQ60","v":0},{"$f":"Sécurité!FR60","v":0},{"$f":"Sécurité!FS60","v":0},{"$f":"Sécurité!FT60","v":0},{"$f":"Sécurité!FU60","v":0},{"$f":"Sécurité!FV60","v":0},{"$f":"Sécurité!FW60","v":0},{"$f":"Sécurité!FX60","v":0},{"$f":"Sécurité!FY60","v":0},{"$f":"Sécurité!FZ60","v":0},{"$f":"Sécurité!GA60","v":0},{"$f":"Sécurité!GB60","v":0},{"$f":"Sécurité!GC60","v":0},{"$f":"Sécurité!GD60","v":0},{"$f":"Sécurité!GE60","v":0},{"$f":"Sécurité!GF60","v":0},{"$f":"Sécurité!GG60","v":0},{"$f":"Sécurité!GH60","v":0},{"$f":"Sécurité!GI60","v":0},{"$f":"Sécurité!GJ60","v":0},{"$f":"Sécurité!GK60","v":0},{"$f":"Sécurité!GL60","v":0},{"$f":"Sécurité!GM60","v":0},{"$f":"Sécurité!GN60","v":0}]
[null,null,{"$f":"Sécurité!$C$61","v":0},{"$f":"Sécurité!$D$61","v":0},{"$f":"Sécurité!FQ61","v":0},{"$f":"Sécurité!FR61","v":0},{"$f":"Sécurité!FS61","v":0},{"$f":"Sécurité!FT61","v":0},{"$f":"Sécurité!FU61","v":0},{"$f":"Sécurité!FV61","v":0},{"$f":"Sécurité!FW61","v":0},{"$f":"Sécurité!FX61","v":0},{"$f":"Sécurité!FY61","v":0},{"$f":"Sécurité!FZ61","v":0},{"$f":"Sécurité!GA61","v":0},{"$f":"Sécurité!GB61","v":0},{"$f":"Sécurité!GC61","v":0},{"$f":"Sécurité!GD61","v":0},{"$f":"Sécurité!GE61","v":0},{"$f":"Sécurité!GF61","v":0},{"$f":"Sécurité!GG61","v":0},{"$f":"Sécurité!GH61","v":0},{"$f":"Sécurité!GI61","v":0},{"$f":"Sécurité!GJ61","v":0},{"$f":"Sécurité!GK61","v":0},{"$f":"Sécurité!GL61","v":0},{"$f":"Sécurité!GM61","v":0},{"$f":"Sécurité!GN61","v":0}]
[null,null,{"$f":"Sécurité!$C$62","v":0},{"$f":"Sécurité!$D$62","v":0},{"$f":"Sécurité!FQ62","v":0},{"$f":"Sécurité!FR62","v":0},{"$f":"Sécurité!FS62","v":0},{"$f":"Sécurité!FT62","v":0},{"$f":"Sécurité!FU62","v":0},{"$f":"Sécurité!FV62","v":0},{"$f":"Sécurité!FW62","v":0},{"$f":"Sécurité!FX62","v":0},{"$f":"Sécurité!FY62","v":0},{"$f":"Sécurité!FZ62","v":0},{"$f":"Sécurité!GA62","v":0},{"$f":"Sécurité!GB62","v":0},{"$f":"Sécurité!GC62","v":0},{"$f":"Sécurité!GD62","v":0},{"$f":"Sécurité!GE62","v":0},{"$f":"Sécurité!GF62","v":0},{"$f":"Sécurité!GG62","v":0},{"$f":"Sécurité!GH62","v":0},{"$f":"Sécurité!GI62","v":0},{"$f":"Sécurité!GJ62","v":0},{"$f":"Sécurité!GK62","v":0},{"$f":"Sécurité!GL62","v":0},{"$f":"Sécurité!GM62","v":0},{"$f":"Sécurité!GN62","v":0}]
[null,null,{"$f":"Sécurité!$C$63","v":0},{"$f":"Sécurité!$D$63","v":0},{"$f":"Sécurité!FQ63","v":0},{"$f":"Sécurité!FR63","v":0},{"$f":"Sécurité!FS63","v":0},{"$f":"Sécurité!FT63","v":0},{"$f":"Sécurité!FU63","v":0},{"$f":"Sécurité!FV63","v":0},{"$f":"Sécurité!FW63","v":0},{"$f":"Sécurité!FX63","v":0},{"$f":"Sécurité!FY63","v":0},{"$f":"Sécurité!FZ63","v":0},{"$f":"Sécurité!GA63","v":0},{"$f":"Sécurité!GB63","v":0},{"$f":"Sécurité!GC63","v":0},{"$f":"Sécurité!GD63","v":0},{"$f":"Sécurité!GE63","v":0},{"$f":"Sécurité!GF63","v":0},{"$f":"Sécurité!GG63","v":0},{"$f":"Sécurité!GH63","v":0},{"$f":"Sécurité!GI63","v":0},{"$f":"Sécurité!GJ63","v":0},{"$f":"Sécurité!GK63","v":0},{"$f":"Sécurité!GL63","v":0},{"$f":"Sécurité!GM63","v":0},{"$f":"Sécurité!GN63","v":0}]
[null,null,null,null,{"$f":"Identification!$A$37","v":"2016-04-01"}]
[null,null,{"$f":"Sécurité!$C$53","v":"tableau mensuel"},{"$f":"Sécurité!$D$53","v":"Nature des faits"},{"$f":"Sécurité!GO53","v":"Nb total d'incidents par nature"},{"$f":"Sécurité!GP53","v":"Type de punition"},null,null,{"$f":"Sécurité!GS53","v":"Nb d'incidents par niveau"},null,null,null,null,null,null,null,null,null,{"$f":"Sécurité!HC53","v":"Nb d'élèves concernés"}]
[null,null,null,null,null,null,null,null,{"$f":"Sécurité!GS54","v":0},{"$f":"Sécurité!GT54","v":0},{"$f":"Sécurité!GU54","v":0},{"$f":"Sécurité!GV54","v":0},{"$f":"Sécurité!GW54","v":0},{"$f":"Sécurité!GX54","v":0},{"$f":"Sécurité!GY54","v":0},{"$f":"Sécurité!GZ54","v":0},{"$f":"Sécurité!HA54","v":0},{"$f":"Sécurité!HB54","v":0},{"$f":"Sécurité!HC54","v":0},{"$f":"Sécurité!HD54","v":0},{"$f":"Sécurité!HE54","v":0},{"$f":"Sécurité!HF54","v":0},{"$f":"Sécurité!HG54","v":0},{"$f":"Sécurité!HH54","v":0},{"$f":"Sécurité!HI54","v":0},{"$f":"Sécurité!HJ54","v":0},{"$f":"Sécurité!HK54","v":0},{"$f":"Sécurité!HL54","v":0}]
[null,null,null,null,null,{"$f":"Sécurité!GP55","v":0},{"$f":"Sécurité!GQ55","v":0},{"$f":"Sécurité!GR55","v":0},{"$f":"Sécurité!GS55","v":0},{"$f":"Sécurité!GT55","v":0},{"$f":"Sécurité!GU55","v":0},{"$f":"Sécurité!GV55","v":0},{"$f":"Sécurité!GW55","v":0},{"$f":"Sécurité!GX55","v":0},{"$f":"Sécurité!GY55","v":0},{"$f":"Sécurité!GZ55","v":0},{"$f":"Sécurité!HA55","v":0},{"$f":"Sécurité!HB55","v":0},{"$f":"Sécurité!HC55","v":0},{"$f":"Sécurité!HD55","v":0},{"$f":"Sécurité!HE55","v":0},{"$f":"Sécurité!HF55","v":0},{"$f":"Sécurité!HG55","v":0},{"$f":"Sécurité!HH55","v":0},{"$f":"Sécurité!HI55","v":0},{"$f":"Sécurité!HJ55","v":0},{"$f":"Sécurité!HK55","v":0},{"$f":"Sécurité!HL55","v":0}]
[null,null,{"$f":"Sécurité!$C$56","v":"Nature des incidents (sanctions registre)\n(à décliner)"},{"$f":"Sécurité!$D$56","v":0},{"$f":"Sécurité!GO56","v":0},{"$f":"Sécurité!GP56","v":0},{"$f":"Sécurité!GQ56","v":0},{"$f":"Sécurité!GR56","v":0},{"$f":"Sécurité!GS56","v":0},{"$f":"Sécurité!GT56","v":0},{"$f":"Sécurité!GU56","v":0},{"$f":"Sécurité!GV56","v":0},{"$f":"Sécurité!GW56","v":0},{"$f":"Sécurité!GX56","v":0},{"$f":"Sécurité!GY56","v":0},{"$f":"Sécurité!GZ56","v":0},{"$f":"Sécurité!HA56","v":0},{"$f":"Sécurité!HB56","v":0},{"$f":"Sécurité!HC56","v":0},{"$f":"Sécurité!HD56","v":0},{"$f":"Sécurité!HE56","v":0},{"$f":"Sécurité!HF56","v":0},{"$f":"Sécurité!HG56","v":0},{"$f":"Sécurité!HH56","v":0},{"$f":"Sécurité!HI56","v":0},{"$f":"Sécurité!HJ56","v":0},{"$f":"Sécurité!HK56","v":0},{"$f":"Sécurité!HL56","v":0}]
[null,null,{"$f":"Sécurité!$C$57","v":0},{"$f":"Sécurité!$D$57","v":0},{"$f":"Sécurité!GO57","v":0},{"$f":"Sécurité!GP57","v":0},{"$f":"Sécurité!GQ57","v":0},{"$f":"Sécurité!GR57","v":0},{"$f":"Sécurité!GS57","v":0},{"$f":"Sécurité!GT57","v":0},{"$f":"Sécurité!GU57","v":0},{"$f":"Sécurité!GV57","v":0},{"$f":"Sécurité!GW57","v":0},{"$f":"Sécurité!GX57","v":0},{"$f":"Sécurité!GY57","v":0},{"$f":"Sécurité!GZ57","v":0},{"$f":"Sécurité!HA57","v":0},{"$f":"Sécurité!HB57","v":0},{"$f":"Sécurité!HC57","v":0},{"$f":"Sécurité!HD57","v":0},{"$f":"Sécurité!HE57","v":0},{"$f":"Sécurité!HF57","v":0},{"$f":"Sécurité!HG57","v":0},{"$f":"Sécurité!HH57","v":0},{"$f":"Sécurité!HI57","v":0},{"$f":"Sécurité!HJ57","v":0},{"$f":"Sécurité!HK57","v":0},{"$f":"Sécurité!HL57","v":0}]
[null,null,{"$f":"Sécurité!$C$58","v":0},{"$f":"Sécurité!$D$58","v":0},{"$f":"Sécurité!GO58","v":0},{"$f":"Sécurité!GP58","v":0},{"$f":"Sécurité!GQ58","v":0},{"$f":"Sécurité!GR58","v":0},{"$f":"Sécurité!GS58","v":0},{"$f":"Sécurité!GT58","v":0},{"$f":"Sécurité!GU58","v":0},{"$f":"Sécurité!GV58","v":0},{"$f":"Sécurité!GW58","v":0},{"$f":"Sécurité!GX58","v":0},{"$f":"Sécurité!GY58","v":0},{"$f":"Sécurité!GZ58","v":0},{"$f":"Sécurité!HA58","v":0},{"$f":"Sécurité!HB58","v":0},{"$f":"Sécurité!HC58","v":0},{"$f":"Sécurité!HD58","v":0},{"$f":"Sécurité!HE58","v":0},{"$f":"Sécurité!HF58","v":0},{"$f":"Sécurité!HG58","v":0},{"$f":"Sécurité!HH58","v":0},{"$f":"Sécurité!HI58","v":0},{"$f":"Sécurité!HJ58","v":0},{"$f":"Sécurité!HK58","v":0},{"$f":"Sécurité!HL58","v":0}]
[null,null,{"$f":"Sécurité!$C$59","v":0},{"$f":"Sécurité!$D$59","v":0},{"$f":"Sécurité!GO59","v":0},{"$f":"Sécurité!GP59","v":0},{"$f":"Sécurité!GQ59","v":0},{"$f":"Sécurité!GR59","v":0},{"$f":"Sécurité!GS59","v":0},{"$f":"Sécurité!GT59","v":0},{"$f":"Sécurité!GU59","v":0},{"$f":"Sécurité!GV59","v":0},{"$f":"Sécurité!GW59","v":0},{"$f":"Sécurité!GX59","v":0},{"$f":"Sécurité!GY59","v":0},{"$f":"Sécurité!GZ59","v":0},{"$f":"Sécurité!HA59","v":0},{"$f":"Sécurité!HB59","v":0},{"$f":"Sécurité!HC59","v":0},{"$f":"Sécurité!HD59","v":0},{"$f":"Sécurité!HE59","v":0},{"$f":"Sécurité!HF59","v":0},{"$f":"Sécurité!HG59","v":0},{"$f":"Sécurité!HH59","v":0},{"$f":"Sécurité!HI59","v":0},{"$f":"Sécurité!HJ59","v":0},{"$f":"Sécurité!HK59","v":0},{"$f":"Sécurité!HL59","v":0}]
[null,null,{"$f":"Sécurité!$C$60","v":0},{"$f":"Sécurité!$D$60","v":0},{"$f":"Sécurité!GO60","v":0},{"$f":"Sécurité!GP60","v":0},{"$f":"Sécurité!GQ60","v":0},{"$f":"Sécurité!GR60","v":0},{"$f":"Sécurité!GS60","v":0},{"$f":"Sécurité!GT60","v":0},{"$f":"Sécurité!GU60","v":0},{"$f":"Sécurité!GV60","v":0},{"$f":"Sécurité!GW60","v":0},{"$f":"Sécurité!GX60","v":0},{"$f":"Sécurité!GY60","v":0},{"$f":"Sécurité!GZ60","v":0},{"$f":"Sécurité!HA60","v":0},{"$f":"Sécurité!HB60","v":0},{"$f":"Sécurité!HC60","v":0},{"$f":"Sécurité!HD60","v":0},{"$f":"Sécurité!HE60","v":0},{"$f":"Sécurité!HF60","v":0},{"$f":"Sécurité!HG60","v":0},{"$f":"Sécurité!HH60","v":0},{"$f":"Sécurité!HI60","v":0},{"$f":"Sécurité!HJ60","v":0},{"$f":"Sécurité!HK60","v":0},{"$f":"Sécurité!HL60","v":0}]
[null,null,{"$f":"Sécurité!$C$61","v":0},{"$f":"Sécurité!$D$61","v":0},{"$f":"Sécurité!GO61","v":0},{"$f":"Sécurité!GP61","v":0},{"$f":"Sécurité!GQ61","v":0},{"$f":"Sécurité!GR61","v":0},{"$f":"Sécurité!GS61","v":0},{"$f":"Sécurité!GT61","v":0},{"$f":"Sécurité!GU61","v":0},{"$f":"Sécurité!GV61","v":0},{"$f":"Sécurité!GW61","v":0},{"$f":"Sécurité!GX61","v":0},{"$f":"Sécurité!GY61","v":0},{"$f":"Sécurité!GZ61","v":0},{"$f":"Sécurité!HA61","v":0},{"$f":"Sécurité!HB61","v":0},{"$f":"Sécurité!HC61","v":0},{"$f":"Sécurité!HD61","v":0},{"$f":"Sécurité!HE61","v":0},{"$f":"Sécurité!HF61","v":0},{"$f":"Sécurité!HG61","v":0},{"$f":"Sécurité!HH61","v":0},{"$f":"Sécurité!HI61","v":0},{"$f":"Sécurité!HJ61","v":0},{"$f":"Sécurité!HK61","v":0},{"$f":"Sécurité!HL61","v":0}]
[null,null,{"$f":"Sécurité!$C$62","v":0},{"$f":"Sécurité!$D$62","v":0},{"$f":"Sécurité!GO62","v":0},{"$f":"Sécurité!GP62","v":0},{"$f":"Sécurité!GQ62","v":0},{"$f":"Sécurité!GR62","v":0},{"$f":"Sécurité!GS62","v":0},{"$f":"Sécurité!GT62","v":0},{"$f":"Sécurité!GU62","v":0},{"$f":"Sécurité!GV62","v":0},{"$f":"Sécurité!GW62","v":0},{"$f":"Sécurité!GX62","v":0},{"$f":"Sécurité!GY62","v":0},{"$f":"Sécurité!GZ62","v":0},{"$f":"Sécurité!HA62","v":0},{"$f":"Sécurité!HB62","v":0},{"$f":"Sécurité!HC62","v":0},{"$f":"Sécurité!HD62","v":0},{"$f":"Sécurité!HE62","v":0},{"$f":"Sécurité!HF62","v":0},{"$f":"Sécurité!HG62","v":0},{"$f":"Sécurité!HH62","v":0},{"$f":"Sécurité!HI62","v":0},{"$f":"Sécurité!HJ62","v":0},{"$f":"Sécurité!HK62","v":0},{"$f":"Sécurité!HL62","v":0}]
[null,null,{"$f":"Sécurité!$C$63","v":0},{"$f":"Sécurité!$D$63","v":0},{"$f":"Sécurité!GO63","v":0},{"$f":"Sécurité!GP63","v":0},{"$f":"Sécurité!GQ63","v":0},{"$f":"Sécurité!GR63","v":0},{"$f":"Sécurité!GS63","v":0},{"$f":"Sécurité!GT63","v":0},{"$f":"Sécurité!GU63","v":0},{"$f":"Sécurité!GV63","v":0},{"$f":"Sécurité!GW63","v":0},{"$f":"Sécurité!GX63","v":0},{"$f":"Sécurité!GY63","v":0},{"$f":"Sécurité!GZ63","v":0},{"$f":"Sécurité!HA63","v":0},{"$f":"Sécurité!HB63","v":0},{"$f":"Sécurité!HC63","v":0},{"$f":"Sécurité!HD63","v":0},{"$f":"Sécurité!HE63","v":0},{"$f":"Sécurité!HF63","v":0},{"$f":"Sécurité!HG63","v":0},{"$f":"Sécurité!HH63","v":0},{"$f":"Sécurité!HI63","v":0},{"$f":"Sécurité!HJ63","v":0},{"$f":"Sécurité!HK63","v":0},{"$f":"Sécurité!HL63","v":0}]
[null,null,null,null,{"$f":"Identification!$A$38","v":"2016-05-01"}]
[null,null,{"$f":"Sécurité!$C$53","v":"tableau mensuel"},{"$f":"Sécurité!$D$53","v":"Nature des faits"},{"$f":"Sécurité!HM53","v":"Nb total d'incidents par nature"},{"$f":"Sécurité!HN53","v":"Type de punition"},null,null,{"$f":"Sécurité!HQ53","v":"Nb d'incidents par niveau"},null,null,null,null,null,null,null,null,null,{"$f":"Sécurité!IA53","v":"Nb d'élèves concernés"}]
[null,null,null,null,null,null,null,null,{"$f":"Sécurité!HQ54","v":0},{"$f":"Sécurité!HR54","v":0},{"$f":"Sécurité!HS54","v":0},{"$f":"Sécurité!HT54","v":0},{"$f":"Sécurité!HU54","v":0},{"$f":"Sécurité!HV54","v":0},{"$f":"Sécurité!HW54","v":0},{"$f":"Sécurité!HX54","v":0},{"$f":"Sécurité!HY54","v":0},{"$f":"Sécurité!HZ54","v":0},{"$f":"Sécurité!IA54","v":0},{"$f":"Sécurité!IB54","v":0},{"$f":"Sécurité!IC54","v":0},{"$f":"Sécurité!ID54","v":0},{"$f":"Sécurité!IE54","v":0},{"$f":"Sécurité!IF54","v":0},{"$f":"Sécurité!IG54","v":0},{"$f":"Sécurité!IH54","v":0},{"$f":"Sécurité!II54","v":0},{"$f":"Sécurité!IJ54","v":0}]
[null,null,null,null,null,{"$f":"Sécurité!HN55","v":0},{"$f":"Sécurité!HO55","v":0},{"$f":"Sécurité!HP55","v":0},{"$f":"Sécurité!HQ55","v":0},{"$f":"Sécurité!HR55","v":0},{"$f":"Sécurité!HS55","v":0},{"$f":"Sécurité!HT55","v":0},{"$f":"Sécurité!HU55","v":0},{"$f":"Sécurité!HV55","v":0},{"$f":"Sécurité!HW55","v":0},{"$f":"Sécurité!HX55","v":0},{"$f":"Sécurité!HY55","v":0},{"$f":"Sécurité!HZ55","v":0},{"$f":"Sécurité!IA55","v":0},{"$f":"Sécurité!IB55","v":0},{"$f":"Sécurité!IC55","v":0},{"$f":"Sécurité!ID55","v":0},{"$f":"Sécurité!IE55","v":0},{"$f":"Sécurité!IF55","v":0},{"$f":"Sécurité!IG55","v":0},{"$f":"Sécurité!IH55","v":0},{"$f":"Sécurité!II55","v":0},{"$f":"Sécurité!IJ55","v":0}]
[null,null,{"$f":"Sécurité!$C$56","v":"Nature des incidents (sanctions registre)\n(à décliner)"},{"$f":"Sécurité!$D$56","v":0},{"$f":"Sécurité!HM56","v":0},{"$f":"Sécurité!HN56","v":0},{"$f":"Sécurité!HO56","v":0},{"$f":"Sécurité!HP56","v":0},{"$f":"Sécurité!HQ56","v":0},{"$f":"Sécurité!HR56","v":0},{"$f":"Sécurité!HS56","v":0},{"$f":"Sécurité!HT56","v":0},{"$f":"Sécurité!HU56","v":0},{"$f":"Sécurité!HV56","v":0},{"$f":"Sécurité!HW56","v":0},{"$f":"Sécurité!HX56","v":0},{"$f":"Sécurité!HY56","v":0},{"$f":"Sécurité!HZ56","v":0},{"$f":"Sécurité!IA56","v":0},{"$f":"Sécurité!IB56","v":0},{"$f":"Sécurité!IC56","v":0},{"$f":"Sécurité!ID56","v":0},{"$f":"Sécurité!IE56","v":0},{"$f":"Sécurité!IF56","v":0},{"$f":"Sécurité!IG56","v":0},{"$f":"Sécurité!IH56","v":0},{"$f":"Sécurité!II56","v":0},{"$f":"Sécurité!IJ56","v":0}]
[null,null,{"$f":"Sécurité!$C$57","v":0},{"$f":"Sécurité!$D$57","v":0},{"$f":"Sécurité!HM57","v":0},{"$f":"Sécurité!HN57","v":0},{"$f":"Sécurité!HO57","v":0},{"$f":"Sécurité!HP57","v":0},{"$f":"Sécurité!HQ57","v":0},{"$f":"Sécurité!HR57","v":0},{"$f":"Sécurité!HS57","v":0},{"$f":"Sécurité!HT57","v":0},{"$f":"Sécurité!HU57","v":0},{"$f":"Sécurité!HV57","v":0},{"$f":"Sécurité!HW57","v":0},{"$f":"Sécurité!HX57","v":0},{"$f":"Sécurité!HY57","v":0},{"$f":"Sécurité!HZ57","v":0},{"$f":"Sécurité!IA57","v":0},{"$f":"Sécurité!IB57","v":0},{"$f":"Sécurité!IC57","v":0},{"$f":"Sécurité!ID57","v":0},{"$f":"Sécurité!IE57","v":0},{"$f":"Sécurité!IF57","v":0},{"$f":"Sécurité!IG57","v":0},{"$f":"Sécurité!IH57","v":0},{"$f":"Sécurité!II57","v":0},{"$f":"Sécurité!IJ57","v":0}]
[null,null,{"$f":"Sécurité!$C$58","v":0},{"$f":"Sécurité!$D$58","v":0},{"$f":"Sécurité!HM58","v":0},{"$f":"Sécurité!HN58","v":0},{"$f":"Sécurité!HO58","v":0},{"$f":"Sécurité!HP58","v":0},{"$f":"Sécurité!HQ58","v":0},{"$f":"Sécurité!HR58","v":0},{"$f":"Sécurité!HS58","v":0},{"$f":"Sécurité!HT58","v":0},{"$f":"Sécurité!HU58","v":0},{"$f":"Sécurité!HV58","v":0},{"$f":"Sécurité!HW58","v":0},{"$f":"Sécurité!HX58","v":0},{"$f":"Sécurité!HY58","v":0},{"$f":"Sécurité!HZ58","v":0},{"$f":"Sécurité!IA58","v":0},{"$f":"Sécurité!IB58","v":0},{"$f":"Sécurité!IC58","v":0},{"$f":"Sécurité!ID58","v":0},{"$f":"Sécurité!IE58","v":0},{"$f":"Sécurité!IF58","v":0},{"$f":"Sécurité!IG58","v":0},{"$f":"Sécurité!IH58","v":0},{"$f":"Sécurité!II58","v":0},{"$f":"Sécurité!IJ58","v":0}]
[null,null,{"$f":"Sécurité!$C$59","v":0},{"$f":"Sécurité!$D$59","v":0},{"$f":"Sécurité!HM59","v":0},{"$f":"Sécurité!HN59","v":0},{"$f":"Sécurité!HO59","v":0},{"$f":"Sécurité!HP59","v":0},{"$f":"Sécurité!HQ59","v":0},{"$f":"Sécurité!HR59","v":0},{"$f":"Sécurité!HS59","v":0},{"$f":"Sécurité!HT59","v":0},{"$f":"Sécurité!HU59","v":0},{"$f":"Sécurité!HV59","v":0},{"$f":"Sécurité!HW59","v":0},{"$f":"Sécurité!HX59","v":0},{"$f":"Sécurité!HY59","v":0},{"$f":"Sécurité!HZ59","v":0},{"$f":"Sécurité!IA59","v":0},{"$f":"Sécurité!IB59","v":0},{"$f":"Sécurité!IC59","v":0},{"$f":"Sécurité!ID59","v":0},{"$f":"Sécurité!IE59","v":0},{"$f":"Sécurité!IF59","v":0},{"$f":"Sécurité!IG59","v":0},{"$f":"Sécurité!IH59","v":0},{"$f":"Sécurité!II59","v":0},{"$f":"Sécurité!IJ59","v":0}]
[null,null,{"$f":"Sécurité!$C$60","v":0},{"$f":"Sécurité!$D$60","v":0},{"$f":"Sécurité!HM60","v":0},{"$f":"Sécurité!HN60","v":0},{"$f":"Sécurité!HO60","v":0},{"$f":"Sécurité!HP60","v":0},{"$f":"Sécurité!HQ60","v":0},{"$f":"Sécurité!HR60","v":0},{"$f":"Sécurité!HS60","v":0},{"$f":"Sécurité!HT60","v":0},{"$f":"Sécurité!HU60","v":0},{"$f":"Sécurité!HV60","v":0},{"$f":"Sécurité!HW60","v":0},{"$f":"Sécurité!HX60","v":0},{"$f":"Sécurité!HY60","v":0},{"$f":"Sécurité!HZ60","v":0},{"$f":"Sécurité!IA60","v":0},{"$f":"Sécurité!IB60","v":0},{"$f":"Sécurité!IC60","v":0},{"$f":"Sécurité!ID60","v":0},{"$f":"Sécurité!IE60","v":0},{"$f":"Sécurité!IF60","v":0},{"$f":"Sécurité!IG60","v":0},{"$f":"Sécurité!IH60","v":0},{"$f":"Sécurité!II60","v":0},{"$f":"Sécurité!IJ60","v":0}]
[null,null,{"$f":"Sécurité!$C$61","v":0},{"$f":"Sécurité!$D$61","v":0},{"$f":"Sécurité!HM61","v":0},{"$f":"Sécurité!HN61","v":0},{"$f":"Sécurité!HO61","v":0},{"$f":"Sécurité!HP61","v":0},{"$f":"Sécurité!HQ61","v":0},{"$f":"Sécurité!HR61","v":0},{"$f":"Sécurité!HS61","v":0},{"$f":"Sécurité!HT61","v":0},{"$f":"Sécurité!HU61","v":0},{"$f":"Sécurité!HV61","v":0},{"$f":"Sécurité!HW61","v":0},{"$f":"Sécurité!HX61","v":0},{"$f":"Sécurité!HY61","v":0},{"$f":"Sécurité!HZ61","v":0},{"$f":"Sécurité!IA61","v":0},{"$f":"Sécurité!IB61","v":0},{"$f":"Sécurité!IC61","v":0},{"$f":"Sécurité!ID61","v":0},{"$f":"Sécurité!IE61","v":0},{"$f":"Sécurité!IF61","v":0},{"$f":"Sécurité!IG61","v":0},{"$f":"Sécurité!IH61","v":0},{"$f":"Sécurité!II61","v":0},{"$f":"Sécurité!IJ61","v":0}]
[null,null,{"$f":"Sécurité!$C$62","v":0},{"$f":"Sécurité!$D$62","v":0},{"$f":"Sécurité!HM62","v":0},{"$f":"Sécurité!HN62","v":0},{"$f":"Sécurité!HO62","v":0},{"$f":"Sécurité!HP62","v":0},{"$f":"Sécurité!HQ62","v":0},{"$f":"Sécurité!HR62","v":0},{"$f":"Sécurité!HS62","v":0},{"$f":"Sécurité!HT62","v":0},{"$f":"Sécurité!HU62","v":0},{"$f":"Sécurité!HV62","v":0},{"$f":"Sécurité!HW62","v":0},{"$f":"Sécurité!HX62","v":0},{"$f":"Sécurité!HY62","v":0},{"$f":"Sécurité!HZ62","v":0},{"$f":"Sécurité!IA62","v":0},{"$f":"Sécurité!IB62","v":0},{"$f":"Sécurité!IC62","v":0},{"$f":"Sécurité!ID62","v":0},{"$f":"Sécurité!IE62","v":0},{"$f":"Sécurité!IF62","v":0},{"$f":"Sécurité!IG62","v":0},{"$f":"Sécurité!IH62","v":0},{"$f":"Sécurité!II62","v":0},{"$f":"Sécurité!IJ62","v":0}]
[null,null,{"$f":"Sécurité!$C$63","v":0},{"$f":"Sécurité!$D$63","v":0},{"$f":"Sécurité!HM63","v":0},{"$f":"Sécurité!HN63","v":0},{"$f":"Sécurité!HO63","v":0},{"$f":"Sécurité!HP63","v":0},{"$f":"Sécurité!HQ63","v":0},{"$f":"Sécurité!HR63","v":0},{"$f":"Sécurité!HS63","v":0},{"$f":"Sécurité!HT63","v":0},{"$f":"Sécurité!HU63","v":0},{"$f":"Sécurité!HV63","v":0},{"$f":"Sécurité!HW63","v":0},{"$f":"Sécurité!HX63","v":0},{"$f":"Sécurité!HY63","v":0},{"$f":"Sécurité!HZ63","v":0},{"$f":"Sécurité!IA63","v":0},{"$f":"Sécurité!IB63","v":0},{"$f":"Sécurité!IC63","v":0},{"$f":"Sécurité!ID63","v":0},{"$f":"Sécurité!IE63","v":0},{"$f":"Sécurité!IF63","v":0},{"$f":"Sécurité!IG63","v":0},{"$f":"Sécurité!IH63","v":0},{"$f":"Sécurité!II63","v":0},{"$f":"Sécurité!IJ63","v":0}]
[null,null,null,null,{"$f":"Identification!$A$39","v":"2016-06-01"}]
[null,null,{"$f":"Sécurité!$C$53","v":"tableau mensuel"},{"$f":"Sécurité!$D$53","v":"Nature des faits"},{"$f":"Sécurité!HM53","v":"Nb total d'incidents par nature"},{"$f":"Sécurité!HN65","v":0},null,null,{"$f":"Sécurité!HQ53","v":"Nb d'incidents par niveau"},null,null,null,null,null,null,null,null,null,{"$f":"Sécurité!IA53","v":"Nb d'élèves concernés"}]
[null,null,null,null,null,null,null,null,{"$f":"Sécurité!HQ54","v":0},{"$f":"Sécurité!HR54","v":0},{"$f":"Sécurité!HS54","v":0},{"$f":"Sécurité!HT54","v":0},{"$f":"Sécurité!HU54","v":0},{"$f":"Sécurité!HV54","v":0},{"$f":"Sécurité!HW54","v":0},{"$f":"Sécurité!HX54","v":0},{"$f":"Sécurité!HY54","v":0},{"$f":"Sécurité!HZ54","v":0},{"$f":"Sécurité!IA54","v":0},{"$f":"Sécurité!IB54","v":0},{"$f":"Sécurité!IC54","v":0},{"$f":"Sécurité!ID54","v":0},{"$f":"Sécurité!IE54","v":0},{"$f":"Sécurité!IF54","v":0},{"$f":"Sécurité!IG54","v":0},{"$f":"Sécurité!IH54","v":0},{"$f":"Sécurité!II54","v":0},{"$f":"Sécurité!IJ54","v":0}]
[null,null,null,null,null,{"$f":"Sécurité!HN55","v":0},{"$f":"Sécurité!HO55","v":0},{"$f":"Sécurité!HP55","v":0},{"$f":"Sécurité!HQ55","v":0},{"$f":"Sécurité!HR55","v":0},{"$f":"Sécurité!HS55","v":0},{"$f":"Sécurité!HT55","v":0},{"$f":"Sécurité!HU55","v":0},{"$f":"Sécurité!HV55","v":0},{"$f":"Sécurité!HW55","v":0},{"$f":"Sécurité!HX55","v":0},{"$f":"Sécurité!HY55","v":0},{"$f":"Sécurité!HZ55","v":0},{"$f":"Sécurité!IA55","v":0},{"$f":"Sécurité!IB55","v":0},{"$f":"Sécurité!IC55","v":0},{"$f":"Sécurité!ID55","v":0},{"$f":"Sécurité!IE55","v":0},{"$f":"Sécurité!IF55","v":0},{"$f":"Sécurité!IG55","v":0},{"$f":"Sécurité!IH55","v":0},{"$f":"Sécurité!II55","v":0},{"$f":"Sécurité!IJ55","v":0}]
[null,null,{"$f":"Sécurité!$C$56","v":"Nature des incidents (sanctions registre)\n(à décliner)"},{"$f":"Sécurité!$D$56","v":0},{"$f":"Sécurité!HM56","v":0},{"$f":"Sécurité!HN56","v":0},{"$f":"Sécurité!HO56","v":0},{"$f":"Sécurité!HP56","v":0},{"$f":"Sécurité!HQ56","v":0},{"$f":"Sécurité!HR56","v":0},{"$f":"Sécurité!HS56","v":0},{"$f":"Sécurité!HT56","v":0},{"$f":"Sécurité!HU56","v":0},{"$f":"Sécurité!HV56","v":0},{"$f":"Sécurité!HW56","v":0},{"$f":"Sécurité!HX56","v":0},{"$f":"Sécurité!HY56","v":0},{"$f":"Sécurité!HZ56","v":0},{"$f":"Sécurité!IA56","v":0},{"$f":"Sécurité!IB56","v":0},{"$f":"Sécurité!IC56","v":0},{"$f":"Sécurité!ID56","v":0},{"$f":"Sécurité!IE56","v":0},{"$f":"Sécurité!IF56","v":0},{"$f":"Sécurité!IG56","v":0},{"$f":"Sécurité!IH56","v":0},{"$f":"Sécurité!II56","v":0},{"$f":"Sécurité!IJ56","v":0}]
[null,null,{"$f":"Sécurité!$C$57","v":0},{"$f":"Sécurité!$D$57","v":0},{"$f":"Sécurité!HM57","v":0},{"$f":"Sécurité!HN57","v":0},{"$f":"Sécurité!HO57","v":0},{"$f":"Sécurité!HP57","v":0},{"$f":"Sécurité!HQ57","v":0},{"$f":"Sécurité!HR57","v":0},{"$f":"Sécurité!HS57","v":0},{"$f":"Sécurité!HT57","v":0},{"$f":"Sécurité!HU57","v":0},{"$f":"Sécurité!HV57","v":0},{"$f":"Sécurité!HW57","v":0},{"$f":"Sécurité!HX57","v":0},{"$f":"Sécurité!HY57","v":0},{"$f":"Sécurité!HZ57","v":0},{"$f":"Sécurité!IA57","v":0},{"$f":"Sécurité!IB57","v":0},{"$f":"Sécurité!IC57","v":0},{"$f":"Sécurité!ID57","v":0},{"$f":"Sécurité!IE57","v":0},{"$f":"Sécurité!IF57","v":0},{"$f":"Sécurité!IG57","v":0},{"$f":"Sécurité!IH57","v":0},{"$f":"Sécurité!II57","v":0},{"$f":"Sécurité!IJ57","v":0}]
[null,null,{"$f":"Sécurité!$C$58","v":0},{"$f":"Sécurité!$D$58","v":0},{"$f":"Sécurité!HM58","v":0},{"$f":"Sécurité!HN58","v":0},{"$f":"Sécurité!HO58","v":0},{"$f":"Sécurité!HP58","v":0},{"$f":"Sécurité!HQ58","v":0},{"$f":"Sécurité!HR58","v":0},{"$f":"Sécurité!HS58","v":0},{"$f":"Sécurité!HT58","v":0},{"$f":"Sécurité!HU58","v":0},{"$f":"Sécurité!HV58","v":0},{"$f":"Sécurité!HW58","v":0},{"$f":"Sécurité!HX58","v":0},{"$f":"Sécurité!HY58","v":0},{"$f":"Sécurité!HZ58","v":0},{"$f":"Sécurité!IA58","v":0},{"$f":"Sécurité!IB58","v":0},{"$f":"Sécurité!IC58","v":0},{"$f":"Sécurité!ID58","v":0},{"$f":"Sécurité!IE58","v":0},{"$f":"Sécurité!IF58","v":0},{"$f":"Sécurité!IG58","v":0},{"$f":"Sécurité!IH58","v":0},{"$f":"Sécurité!II58","v":0},{"$f":"Sécurité!IJ58","v":0}]
[null,null,{"$f":"Sécurité!$C$59","v":0},{"$f":"Sécurité!$D$59","v":0},{"$f":"Sécurité!HM59","v":0},{"$f":"Sécurité!HN59","v":0},{"$f":"Sécurité!HO59","v":0},{"$f":"Sécurité!HP59","v":0},{"$f":"Sécurité!HQ59","v":0},{"$f":"Sécurité!HR59","v":0},{"$f":"Sécurité!HS59","v":0},{"$f":"Sécurité!HT59","v":0},{"$f":"Sécurité!HU59","v":0},{"$f":"Sécurité!HV59","v":0},{"$f":"Sécurité!HW59","v":0},{"$f":"Sécurité!HX59","v":0},{"$f":"Sécurité!HY59","v":0},{"$f":"Sécurité!HZ59","v":0},{"$f":"Sécurité!IA59","v":0},{"$f":"Sécurité!IB59","v":0},{"$f":"Sécurité!IC59","v":0},{"$f":"Sécurité!ID59","v":0},{"$f":"Sécurité!IE59","v":0},{"$f":"Sécurité!IF59","v":0},{"$f":"Sécurité!IG59","v":0},{"$f":"Sécurité!IH59","v":0},{"$f":"Sécurité!II59","v":0},{"$f":"Sécurité!IJ59","v":0}]
[null,null,{"$f":"Sécurité!$C$60","v":0},{"$f":"Sécurité!$D$60","v":0},{"$f":"Sécurité!HM60","v":0},{"$f":"Sécurité!HN60","v":0},{"$f":"Sécurité!HO60","v":0},{"$f":"Sécurité!HP60","v":0},{"$f":"Sécurité!HQ60","v":0},{"$f":"Sécurité!HR60","v":0},{"$f":"Sécurité!HS60","v":0},{"$f":"Sécurité!HT60","v":0},{"$f":"Sécurité!HU60","v":0},{"$f":"Sécurité!HV60","v":0},{"$f":"Sécurité!HW60","v":0},{"$f":"Sécurité!HX60","v":0},{"$f":"Sécurité!HY60","v":0},{"$f":"Sécurité!HZ60","v":0},{"$f":"Sécurité!IA60","v":0},{"$f":"Sécurité!IB60","v":0},{"$f":"Sécurité!IC60","v":0},{"$f":"Sécurité!ID60","v":0},{"$f":"Sécurité!IE60","v":0},{"$f":"Sécurité!IF60","v":0},{"$f":"Sécurité!IG60","v":0},{"$f":"Sécurité!IH60","v":0},{"$f":"Sécurité!II60","v":0},{"$f":"Sécurité!IJ60","v":0}]
[null,null,{"$f":"Sécurité!$C$61","v":0},{"$f":"Sécurité!$D$61","v":0},{"$f":"Sécurité!HM61","v":0},{"$f":"Sécurité!HN61","v":0},{"$f":"Sécurité!HO61","v":0},{"$f":"Sécurité!HP61","v":0},{"$f":"Sécurité!HQ61","v":0},{"$f":"Sécurité!HR61","v":0},{"$f":"Sécurité!HS61","v":0},{"$f":"Sécurité!HT61","v":0},{"$f":"Sécurité!HU61","v":0},{"$f":"Sécurité!HV61","v":0},{"$f":"Sécurité!HW61","v":0},{"$f":"Sécurité!HX61","v":0},{"$f":"Sécurité!HY61","v":0},{"$f":"Sécurité!HZ61","v":0},{"$f":"Sécurité!IA61","v":0},{"$f":"Sécurité!IB61","v":0},{"$f":"Sécurité!IC61","v":0},{"$f":"Sécurité!ID61","v":0},{"$f":"Sécurité!IE61","v":0},{"$f":"Sécurité!IF61","v":0},{"$f":"Sécurité!IG61","v":0},{"$f":"Sécurité!IH61","v":0},{"$f":"Sécurité!II61","v":0},{"$f":"Sécurité!IJ61","v":0}]
[null,null,{"$f":"Sécurité!$C$62","v":0},{"$f":"Sécurité!$D$62","v":0},{"$f":"Sécurité!HM62","v":0},{"$f":"Sécurité!HN62","v":0},{"$f":"Sécurité!HO62","v":0},{"$f":"Sécurité!HP62","v":0},{"$f":"Sécurité!HQ62","v":0},{"$f":"Sécurité!HR62","v":0},{"$f":"Sécurité!HS62","v":0},{"$f":"Sécurité!HT62","v":0},{"$f":"Sécurité!HU62","v":0},{"$f":"Sécurité!HV62","v":0},{"$f":"Sécurité!HW62","v":0},{"$f":"Sécurité!HX62","v":0},{"$f":"Sécurité!HY62","v":0},{"$f":"Sécurité!HZ62","v":0},{"$f":"Sécurité!IA62","v":0},{"$f":"Sécurité!IB62","v":0},{"$f":"Sécurité!IC62","v":0},{"$f":"Sécurité!ID62","v":0},{"$f":"Sécurité!IE62","v":0},{"$f":"Sécurité!IF62","v":0},{"$f":"Sécurité!IG62","v":0},{"$f":"Sécurité!IH62","v":0},{"$f":"Sécurité!II62","v":0},{"$f":"Sécurité!IJ62","v":0}]
[null,null,{"$f":"Sécurité!$C$63","v":0},{"$f":"Sécurité!$D$63","v":0},{"$f":"Sécurité!HM63","v":0},{"$f":"Sécurité!HN63","v":0},{"$f":"Sécurité!HO63","v":0},{"$f":"Sécurité!HP63","v":0},{"$f":"Sécurité!HQ63","v":0},{"$f":"Sécurité!HR63","v":0},{"$f":"Sécurité!HS63","v":0},{"$f":"Sécurité!HT63","v":0},{"$f":"Sécurité!HU63","v":0},{"$f":"Sécurité!HV63","v":0},{"$f":"Sécurité!HW63","v":0},{"$f":"Sécurité!HX63","v":0},{"$f":"Sécurité!HY63","v":0},{"$f":"Sécurité!HZ63","v":0},{"$f":"Sécurité!IA63","v":0},{"$f":"Sécurité!IB63","v":0},{"$f":"Sécurité!IC63","v":0},{"$f":"Sécurité!ID63","v":0},{"$f":"Sécurité!IE63","v":0},{"$f":"Sécurité!IF63","v":0},{"$f":"Sécurité!IG63","v":0},{"$f":"Sécurité!IH63","v":0},{"$f":"Sécurité!II63","v":0},{"$f":"Sécurité!IJ63","v":0}]
[]
[]
[null,"Respect des personnes"]
[]
[null,null,null,null,{"$f":"Identification!$A$29","v":"2015-08-01"}]
[null,null,{"$f":"Sécurité!$C$72","v":"tableau mensuel"},{"$f":"Sécurité!$D$72","v":"Nature des faits"},{"$f":"Sécurité!E72","v":"Nb total d'incidents par nature"},{"$f":"Sécurité!F72","v":"Type de punition"},null,null,{"$f":"Sécurité!I72","v":"Nb d'incidents par niveau"},null,null,null,null,null,null,null,null,null,{"$f":"Sécurité!S72","v":"Nb d'élèves concernés"}]
[null,null,null,null,null,null,null,null,{"$f":"Sécurité!I73","v":0},{"$f":"Sécurité!J73","v":0},{"$f":"Sécurité!K73","v":0},{"$f":"Sécurité!L73","v":0},{"$f":"Sécurité!M73","v":0},{"$f":"Sécurité!N73","v":0},{"$f":"Sécurité!O73","v":0},{"$f":"Sécurité!P73","v":0},{"$f":"Sécurité!Q73","v":0},{"$f":"Sécurité!R73","v":0},{"$f":"Sécurité!S73","v":0},{"$f":"Sécurité!T73","v":0},{"$f":"Sécurité!U73","v":0},{"$f":"Sécurité!V73","v":0},{"$f":"Sécurité!W73","v":0},{"$f":"Sécurité!X73","v":0},{"$f":"Sécurité!Y73","v":0},{"$f":"Sécurité!Z73","v":0},{"$f":"Sécurité!AA73","v":0},{"$f":"Sécurité!AB73","v":0}]
[null,null,null,null,null,{"$f":"Sécurité!F74","v":0},{"$f":"Sécurité!G74","v":0},{"$f":"Sécurité!H74","v":0},{"$f":"Sécurité!I74","v":0},{"$f":"Sécurité!J74","v":0},{"$f":"Sécurité!K74","v":0},{"$f":"Sécurité!L74","v":0},{"$f":"Sécurité!M74","v":0},{"$f":"Sécurité!N74","v":0},{"$f":"Sécurité!O74","v":0},{"$f":"Sécurité!P74","v":0},{"$f":"Sécurité!Q74","v":0},{"$f":"Sécurité!R74","v":0},{"$f":"Sécurité!S74","v":0},{"$f":"Sécurité!T74","v":0},{"$f":"Sécurité!U74","v":0},{"$f":"Sécurité!V74","v":0},{"$f":"Sécurité!W74","v":0},{"$f":"Sécurité!X74","v":0},{"$f":"Sécurité!Y74","v":0},{"$f":"Sécurité!Z74","v":0},{"$f":"Sécurité!AA74","v":0},{"$f":"Sécurité!AB74","v":0}]
[null,null,{"$f":"Sécurité!$C$75","v":"Nature des incidents (sanctions registre)(à décliner)"},{"$f":"Sécurité!$D$75","v":0},{"$f":"Sécurité!E75","v":0},{"$f":"Sécurité!F75","v":0},{"$f":"Sécurité!G75","v":0},{"$f":"Sécurité!H75","v":0},{"$f":"Sécurité!I75","v":0},{"$f":"Sécurité!J75","v":0},{"$f":"Sécurité!K75","v":0},{"$f":"Sécurité!L75","v":0},{"$f":"Sécurité!M75","v":0},{"$f":"Sécurité!N75","v":0},{"$f":"Sécurité!O75","v":0},{"$f":"Sécurité!P75","v":0},{"$f":"Sécurité!Q75","v":0},{"$f":"Sécurité!R75","v":0},{"$f":"Sécurité!S75","v":0},{"$f":"Sécurité!T75","v":0},{"$f":"Sécurité!U75","v":0},{"$f":"Sécurité!V75","v":0},{"$f":"Sécurité!W75","v":0},{"$f":"Sécurité!X75","v":0},{"$f":"Sécurité!Y75","v":0},{"$f":"Sécurité!Z75","v":0},{"$f":"Sécurité!AA75","v":0},{"$f":"Sécurité!AB75","v":0}]
[null,null,{"$f":"Sécurité!$C$76","v":0},{"$f":"Sécurité!$D$76","v":0},{"$f":"Sécurité!E76","v":0},{"$f":"Sécurité!F76","v":0},{"$f":"Sécurité!G76","v":0},{"$f":"Sécurité!H76","v":0},{"$f":"Sécurité!I76","v":0},{"$f":"Sécurité!J76","v":0},{"$f":"Sécurité!K76","v":0},{"$f":"Sécurité!L76","v":0},{"$f":"Sécurité!M76","v":0},{"$f":"Sécurité!N76","v":0},{"$f":"Sécurité!O76","v":0},{"$f":"Sécurité!P76","v":0},{"$f":"Sécurité!Q76","v":0},{"$f":"Sécurité!R76","v":0},{"$f":"Sécurité!S76","v":0},{"$f":"Sécurité!T76","v":0},{"$f":"Sécurité!U76","v":0},{"$f":"Sécurité!V76","v":0},{"$f":"Sécurité!W76","v":0},{"$f":"Sécurité!X76","v":0},{"$f":"Sécurité!Y76","v":0},{"$f":"Sécurité!Z76","v":0},{"$f":"Sécurité!AA76","v":0},{"$f":"Sécurité!AB76","v":0}]
[null,null,{"$f":"Sécurité!$C$77","v":0},{"$f":"Sécurité!$D$77","v":0},{"$f":"Sécurité!E77","v":0},{"$f":"Sécurité!F77","v":0},{"$f":"Sécurité!G77","v":0},{"$f":"Sécurité!H77","v":0},{"$f":"Sécurité!I77","v":0},{"$f":"Sécurité!J77","v":0},{"$f":"Sécurité!K77","v":0},{"$f":"Sécurité!L77","v":0},{"$f":"Sécurité!M77","v":0},{"$f":"Sécurité!N77","v":0},{"$f":"Sécurité!O77","v":0},{"$f":"Sécurité!P77","v":0},{"$f":"Sécurité!Q77","v":0},{"$f":"Sécurité!R77","v":0},{"$f":"Sécurité!S77","v":0},{"$f":"Sécurité!T77","v":0},{"$f":"Sécurité!U77","v":0},{"$f":"Sécurité!V77","v":0},{"$f":"Sécurité!W77","v":0},{"$f":"Sécurité!X77","v":0},{"$f":"Sécurité!Y77","v":0},{"$f":"Sécurité!Z77","v":0},{"$f":"Sécurité!AA77","v":0},{"$f":"Sécurité!AB77","v":0}]
[null,null,{"$f":"Sécurité!$C$78","v":0},{"$f":"Sécurité!$D$78","v":0},{"$f":"Sécurité!E78","v":0},{"$f":"Sécurité!F78","v":0},{"$f":"Sécurité!G78","v":0},{"$f":"Sécurité!H78","v":0},{"$f":"Sécurité!I78","v":0},{"$f":"Sécurité!J78","v":0},{"$f":"Sécurité!K78","v":0},{"$f":"Sécurité!L78","v":0},{"$f":"Sécurité!M78","v":0},{"$f":"Sécurité!N78","v":0},{"$f":"Sécurité!O78","v":0},{"$f":"Sécurité!P78","v":0},{"$f":"Sécurité!Q78","v":0},{"$f":"Sécurité!R78","v":0},{"$f":"Sécurité!S78","v":0},{"$f":"Sécurité!T78","v":0},{"$f":"Sécurité!U78","v":0},{"$f":"Sécurité!V78","v":0},{"$f":"Sécurité!W78","v":0},{"$f":"Sécurité!X78","v":0},{"$f":"Sécurité!Y78","v":0},{"$f":"Sécurité!Z78","v":0},{"$f":"Sécurité!AA78","v":0},{"$f":"Sécurité!AB78","v":0}]
[null,null,{"$f":"Sécurité!$C$79","v":0},{"$f":"Sécurité!$D$79","v":0},{"$f":"Sécurité!E79","v":0},{"$f":"Sécurité!F79","v":0},{"$f":"Sécurité!G79","v":0},{"$f":"Sécurité!H79","v":0},{"$f":"Sécurité!I79","v":0},{"$f":"Sécurité!J79","v":0},{"$f":"Sécurité!K79","v":0},{"$f":"Sécurité!L79","v":0},{"$f":"Sécurité!M79","v":0},{"$f":"Sécurité!N79","v":0},{"$f":"Sécurité!O79","v":0},{"$f":"Sécurité!P79","v":0},{"$f":"Sécurité!Q79","v":0},{"$f":"Sécurité!R79","v":0},{"$f":"Sécurité!S79","v":0},{"$f":"Sécurité!T79","v":0},{"$f":"Sécurité!U79","v":0},{"$f":"Sécurité!V79","v":0},{"$f":"Sécurité!W79","v":0},{"$f":"Sécurité!X79","v":0},{"$f":"Sécurité!Y79","v":0},{"$f":"Sécurité!Z79","v":0},{"$f":"Sécurité!AA79","v":0},{"$f":"Sécurité!AB79","v":0}]
[null,null,{"$f":"Sécurité!$C$80","v":0},{"$f":"Sécurité!$D$80","v":0},{"$f":"Sécurité!E80","v":0},{"$f":"Sécurité!F80","v":0},{"$f":"Sécurité!G80","v":0},{"$f":"Sécurité!H80","v":0},{"$f":"Sécurité!I80","v":0},{"$f":"Sécurité!J80","v":0},{"$f":"Sécurité!K80","v":0},{"$f":"Sécurité!L80","v":0},{"$f":"Sécurité!M80","v":0},{"$f":"Sécurité!N80","v":0},{"$f":"Sécurité!O80","v":0},{"$f":"Sécurité!P80","v":0},{"$f":"Sécurité!Q80","v":0},{"$f":"Sécurité!R80","v":0},{"$f":"Sécurité!S80","v":0},{"$f":"Sécurité!T80","v":0},{"$f":"Sécurité!U80","v":0},{"$f":"Sécurité!V80","v":0},{"$f":"Sécurité!W80","v":0},{"$f":"Sécurité!X80","v":0},{"$f":"Sécurité!Y80","v":0},{"$f":"Sécurité!Z80","v":0},{"$f":"Sécurité!AA80","v":0},{"$f":"Sécurité!AB80","v":0}]
[null,null,{"$f":"Sécurité!$C$81","v":0},{"$f":"Sécurité!$D$81","v":0},{"$f":"Sécurité!E81","v":0},{"$f":"Sécurité!F81","v":0},{"$f":"Sécurité!G81","v":0},{"$f":"Sécurité!H81","v":0},{"$f":"Sécurité!I81","v":0},{"$f":"Sécurité!J81","v":0},{"$f":"Sécurité!K81","v":0},{"$f":"Sécurité!L81","v":0},{"$f":"Sécurité!M81","v":0},{"$f":"Sécurité!N81","v":0},{"$f":"Sécurité!O81","v":0},{"$f":"Sécurité!P81","v":0},{"$f":"Sécurité!Q81","v":0},{"$f":"Sécurité!R81","v":0},{"$f":"Sécurité!S81","v":0},{"$f":"Sécurité!T81","v":0},{"$f":"Sécurité!U81","v":0},{"$f":"Sécurité!V81","v":0},{"$f":"Sécurité!W81","v":0},{"$f":"Sécurité!X81","v":0},{"$f":"Sécurité!Y81","v":0},{"$f":"Sécurité!Z81","v":0},{"$f":"Sécurité!AA81","v":0},{"$f":"Sécurité!AB81","v":0}]
[null,null,{"$f":"Sécurité!$C$82","v":0},{"$f":"Sécurité!$D$82","v":0},{"$f":"Sécurité!E82","v":0},{"$f":"Sécurité!F82","v":0},{"$f":"Sécurité!G82","v":0},{"$f":"Sécurité!H82","v":0},{"$f":"Sécurité!I82","v":0},{"$f":"Sécurité!J82","v":0},{"$f":"Sécurité!K82","v":0},{"$f":"Sécurité!L82","v":0},{"$f":"Sécurité!M82","v":0},{"$f":"Sécurité!N82","v":0},{"$f":"Sécurité!O82","v":0},{"$f":"Sécurité!P82","v":0},{"$f":"Sécurité!Q82","v":0},{"$f":"Sécurité!R82","v":0},{"$f":"Sécurité!S82","v":0},{"$f":"Sécurité!T82","v":0},{"$f":"Sécurité!U82","v":0},{"$f":"Sécurité!V82","v":0},{"$f":"Sécurité!W82","v":0},{"$f":"Sécurité!X82","v":0},{"$f":"Sécurité!Y82","v":0},{"$f":"Sécurité!Z82","v":0},{"$f":"Sécurité!AA82","v":0},{"$f":"Sécurité!AB82","v":0}]
[null,null,null,null,{"$f":"Identification!$A$30","v":"2015-09-01"}]
[null,null,{"$f":"Sécurité!$C$72","v":"tableau mensuel"},{"$f":"Sécurité!$D$72","v":"Nature des faits"},{"$f":"Sécurité!AC72","v":"Nb total d'incidents par nature"},{"$f":"Sécurité!AD72","v":"Type de punition"},null,null,{"$f":"Sécurité!AG72","v":"Nb d'incidents par niveau"},null,null,null,null,null,null,null,null,null,{"$f":"Sécurité!AQ72","v":"Nb d'élèves concernés"}]
[null,null,null,null,null,null,null,null,{"$f":"Sécurité!AG73","v":0},{"$f":"Sécurité!AH73","v":0},{"$f":"Sécurité!AI73","v":0},{"$f":"Sécurité!AJ73","v":0},{"$f":"Sécurité!AK73","v":0},{"$f":"Sécurité!AL73","v":0},{"$f":"Sécurité!AM73","v":0},{"$f":"Sécurité!AN73","v":0},{"$f":"Sécurité!AO73","v":0},{"$f":"Sécurité!AP73","v":0},{"$f":"Sécurité!AQ73","v":0},{"$f":"Sécurité!AR73","v":0},{"$f":"Sécurité!AS73","v":0},{"$f":"Sécurité!AT73","v":0},{"$f":"Sécurité!AU73","v":0},{"$f":"Sécurité!AV73","v":0},{"$f":"Sécurité!AW73","v":0},{"$f":"Sécurité!AX73","v":0},{"$f":"Sécurité!AY73","v":0},{"$f":"Sécurité!AZ73","v":0}]
[null,null,null,null,null,{"$f":"Sécurité!AD74","v":0},{"$f":"Sécurité!AE74","v":0},{"$f":"Sécurité!AF74","v":0},{"$f":"Sécurité!AG74","v":0},{"$f":"Sécurité!AH74","v":0},{"$f":"Sécurité!AI74","v":0},{"$f":"Sécurité!AJ74","v":0},{"$f":"Sécurité!AK74","v":0},{"$f":"Sécurité!AL74","v":0},{"$f":"Sécurité!AM74","v":0},{"$f":"Sécurité!AN74","v":0},{"$f":"Sécurité!AO74","v":0},{"$f":"Sécurité!AP74","v":0},{"$f":"Sécurité!AQ74","v":0},{"$f":"Sécurité!AR74","v":0},{"$f":"Sécurité!AS74","v":0},{"$f":"Sécurité!AT74","v":0},{"$f":"Sécurité!AU74","v":0},{"$f":"Sécurité!AV74","v":0},{"$f":"Sécurité!AW74","v":0},{"$f":"Sécurité!AX74","v":0},{"$f":"Sécurité!AY74","v":0},{"$f":"Sécurité!AZ74","v":0}]
[null,null,{"$f":"Sécurité!$C$75","v":"Nature des incidents (sanctions registre)(à décliner)"},{"$f":"Sécurité!$D$75","v":0},{"$f":"Sécurité!AC75","v":0},{"$f":"Sécurité!AD75","v":0},{"$f":"Sécurité!AE75","v":0},{"$f":"Sécurité!AF75","v":0},{"$f":"Sécurité!AG75","v":0},{"$f":"Sécurité!AH75","v":0},{"$f":"Sécurité!AI75","v":0},{"$f":"Sécurité!AJ75","v":0},{"$f":"Sécurité!AK75","v":0},{"$f":"Sécurité!AL75","v":0},{"$f":"Sécurité!AM75","v":0},{"$f":"Sécurité!AN75","v":0},{"$f":"Sécurité!AO75","v":0},{"$f":"Sécurité!AP75","v":0},{"$f":"Sécurité!AQ75","v":0},{"$f":"Sécurité!AR75","v":0},{"$f":"Sécurité!AS75","v":0},{"$f":"Sécurité!AT75","v":0},{"$f":"Sécurité!AU75","v":0},{"$f":"Sécurité!AV75","v":0},{"$f":"Sécurité!AW75","v":0},{"$f":"Sécurité!AX75","v":0},{"$f":"Sécurité!AY75","v":0},{"$f":"Sécurité!AZ75","v":0}]
[null,null,{"$f":"Sécurité!$C$76","v":0},{"$f":"Sécurité!$D$76","v":0},{"$f":"Sécurité!AC76","v":0},{"$f":"Sécurité!AD76","v":0},{"$f":"Sécurité!AE76","v":0},{"$f":"Sécurité!AF76","v":0},{"$f":"Sécurité!AG76","v":0},{"$f":"Sécurité!AH76","v":0},{"$f":"Sécurité!AI76","v":0},{"$f":"Sécurité!AJ76","v":0},{"$f":"Sécurité!AK76","v":0},{"$f":"Sécurité!AL76","v":0},{"$f":"Sécurité!AM76","v":0},{"$f":"Sécurité!AN76","v":0},{"$f":"Sécurité!AO76","v":0},{"$f":"Sécurité!AP76","v":0},{"$f":"Sécurité!AQ76","v":0},{"$f":"Sécurité!AR76","v":0},{"$f":"Sécurité!AS76","v":0},{"$f":"Sécurité!AT76","v":0},{"$f":"Sécurité!AU76","v":0},{"$f":"Sécurité!AV76","v":0},{"$f":"Sécurité!AW76","v":0},{"$f":"Sécurité!AX76","v":0},{"$f":"Sécurité!AY76","v":0},{"$f":"Sécurité!AZ76","v":0}]
[null,null,{"$f":"Sécurité!$C$77","v":0},{"$f":"Sécurité!$D$77","v":0},{"$f":"Sécurité!AC77","v":0},{"$f":"Sécurité!AD77","v":0},{"$f":"Sécurité!AE77","v":0},{"$f":"Sécurité!AF77","v":0},{"$f":"Sécurité!AG77","v":0},{"$f":"Sécurité!AH77","v":0},{"$f":"Sécurité!AI77","v":0},{"$f":"Sécurité!AJ77","v":0},{"$f":"Sécurité!AK77","v":0},{"$f":"Sécurité!AL77","v":0},{"$f":"Sécurité!AM77","v":0},{"$f":"Sécurité!AN77","v":0},{"$f":"Sécurité!AO77","v":0},{"$f":"Sécurité!AP77","v":0},{"$f":"Sécurité!AQ77","v":0},{"$f":"Sécurité!AR77","v":0},{"$f":"Sécurité!AS77","v":0},{"$f":"Sécurité!AT77","v":0},{"$f":"Sécurité!AU77","v":0},{"$f":"Sécurité!AV77","v":0},{"$f":"Sécurité!AW77","v":0},{"$f":"Sécurité!AX77","v":0},{"$f":"Sécurité!AY77","v":0},{"$f":"Sécurité!AZ77","v":0}]
[null,null,{"$f":"Sécurité!$C$78","v":0},{"$f":"Sécurité!$D$78","v":0},{"$f":"Sécurité!AC78","v":0},{"$f":"Sécurité!AD78","v":0},{"$f":"Sécurité!AE78","v":0},{"$f":"Sécurité!AF78","v":0},{"$f":"Sécurité!AG78","v":0},{"$f":"Sécurité!AH78","v":0},{"$f":"Sécurité!AI78","v":0},{"$f":"Sécurité!AJ78","v":0},{"$f":"Sécurité!AK78","v":0},{"$f":"Sécurité!AL78","v":0},{"$f":"Sécurité!AM78","v":0},{"$f":"Sécurité!AN78","v":0},{"$f":"Sécurité!AO78","v":0},{"$f":"Sécurité!AP78","v":0},{"$f":"Sécurité!AQ78","v":0},{"$f":"Sécurité!AR78","v":0},{"$f":"Sécurité!AS78","v":0},{"$f":"Sécurité!AT78","v":0},{"$f":"Sécurité!AU78","v":0},{"$f":"Sécurité!AV78","v":0},{"$f":"Sécurité!AW78","v":0},{"$f":"Sécurité!AX78","v":0},{"$f":"Sécurité!AY78","v":0},{"$f":"Sécurité!AZ78","v":0}]
[null,null,{"$f":"Sécurité!$C$79","v":0},{"$f":"Sécurité!$D$79","v":0},{"$f":"Sécurité!AC79","v":0},{"$f":"Sécurité!AD79","v":0},{"$f":"Sécurité!AE79","v":0},{"$f":"Sécurité!AF79","v":0},{"$f":"Sécurité!AG79","v":0},{"$f":"Sécurité!AH79","v":0},{"$f":"Sécurité!AI79","v":0},{"$f":"Sécurité!AJ79","v":0},{"$f":"Sécurité!AK79","v":0},{"$f":"Sécurité!AL79","v":0},{"$f":"Sécurité!AM79","v":0},{"$f":"Sécurité!AN79","v":0},{"$f":"Sécurité!AO79","v":0},{"$f":"Sécurité!AP79","v":0},{"$f":"Sécurité!AQ79","v":0},{"$f":"Sécurité!AR79","v":0},{"$f":"Sécurité!AS79","v":0},{"$f":"Sécurité!AT79","v":0},{"$f":"Sécurité!AU79","v":0},{"$f":"Sécurité!AV79","v":0},{"$f":"Sécurité!AW79","v":0},{"$f":"Sécurité!AX79","v":0},{"$f":"Sécurité!AY79","v":0},{"$f":"Sécurité!AZ79","v":0}]
[null,null,{"$f":"Sécurité!$C$80","v":0},{"$f":"Sécurité!$D$80","v":0},{"$f":"Sécurité!AC80","v":0},{"$f":"Sécurité!AD80","v":0},{"$f":"Sécurité!AE80","v":0},{"$f":"Sécurité!AF80","v":0},{"$f":"Sécurité!AG80","v":0},{"$f":"Sécurité!AH80","v":0},{"$f":"Sécurité!AI80","v":0},{"$f":"Sécurité!AJ80","v":0},{"$f":"Sécurité!AK80","v":0},{"$f":"Sécurité!AL80","v":0},{"$f":"Sécurité!AM80","v":0},{"$f":"Sécurité!AN80","v":0},{"$f":"Sécurité!AO80","v":0},{"$f":"Sécurité!AP80","v":0},{"$f":"Sécurité!AQ80","v":0},{"$f":"Sécurité!AR80","v":0},{"$f":"Sécurité!AS80","v":0},{"$f":"Sécurité!AT80","v":0},{"$f":"Sécurité!AU80","v":0},{"$f":"Sécurité!AV80","v":0},{"$f":"Sécurité!AW80","v":0},{"$f":"Sécurité!AX80","v":0},{"$f":"Sécurité!AY80","v":0},{"$f":"Sécurité!AZ80","v":0}]
[null,null,{"$f":"Sécurité!$C$81","v":0},{"$f":"Sécurité!$D$81","v":0},{"$f":"Sécurité!AC81","v":0},{"$f":"Sécurité!AD81","v":0},{"$f":"Sécurité!AE81","v":0},{"$f":"Sécurité!AF81","v":0},{"$f":"Sécurité!AG81","v":0},{"$f":"Sécurité!AH81","v":0},{"$f":"Sécurité!AI81","v":0},{"$f":"Sécurité!AJ81","v":0},{"$f":"Sécurité!AK81","v":0},{"$f":"Sécurité!AL81","v":0},{"$f":"Sécurité!AM81","v":0},{"$f":"Sécurité!AN81","v":0},{"$f":"Sécurité!AO81","v":0},{"$f":"Sécurité!AP81","v":0},{"$f":"Sécurité!AQ81","v":0},{"$f":"Sécurité!AR81","v":0},{"$f":"Sécurité!AS81","v":0},{"$f":"Sécurité!AT81","v":0},{"$f":"Sécurité!AU81","v":0},{"$f":"Sécurité!AV81","v":0},{"$f":"Sécurité!AW81","v":0},{"$f":"Sécurité!AX81","v":0},{"$f":"Sécurité!AY81","v":0},{"$f":"Sécurité!AZ81","v":0}]
[null,null,{"$f":"Sécurité!$C$82","v":0},{"$f":"Sécurité!$D$82","v":0},{"$f":"Sécurité!AC82","v":0},{"$f":"Sécurité!AD82","v":0},{"$f":"Sécurité!AE82","v":0},{"$f":"Sécurité!AF82","v":0},{"$f":"Sécurité!AG82","v":0},{"$f":"Sécurité!AH82","v":0},{"$f":"Sécurité!AI82","v":0},{"$f":"Sécurité!AJ82","v":0},{"$f":"Sécurité!AK82","v":0},{"$f":"Sécurité!AL82","v":0},{"$f":"Sécurité!AM82","v":0},{"$f":"Sécurité!AN82","v":0},{"$f":"Sécurité!AO82","v":0},{"$f":"Sécurité!AP82","v":0},{"$f":"Sécurité!AQ82","v":0},{"$f":"Sécurité!AR82","v":0},{"$f":"Sécurité!AS82","v":0},{"$f":"Sécurité!AT82","v":0},{"$f":"Sécurité!AU82","v":0},{"$f":"Sécurité!AV82","v":0},{"$f":"Sécurité!AW82","v":0},{"$f":"Sécurité!AX82","v":0},{"$f":"Sécurité!AY82","v":0},{"$f":"Sécurité!AZ82","v":0}]
[null,null,null,null,{"$f":"Identification!$A$31","v":"2015-10-01"}]
[null,null,{"$f":"Sécurité!$C$72","v":"tableau mensuel"},{"$f":"Sécurité!$D$72","v":"Nature des faits"},{"$f":"Sécurité!BA72","v":"Nb total d'incidents par nature"},{"$f":"Sécurité!BB72","v":"Type de punition"},null,null,{"$f":"Sécurité!BE72","v":"Nb d'incidents par niveau"},null,null,null,null,null,null,null,null,null,{"$f":"Sécurité!BO72","v":"Nb d'élèves concernés"}]
[null,null,null,null,null,null,null,null,{"$f":"Sécurité!BE73","v":0},{"$f":"Sécurité!BF73","v":0},{"$f":"Sécurité!BG73","v":0},{"$f":"Sécurité!BH73","v":0},{"$f":"Sécurité!BI73","v":0},{"$f":"Sécurité!BJ73","v":0},{"$f":"Sécurité!BK73","v":0},{"$f":"Sécurité!BL73","v":0},{"$f":"Sécurité!BM73","v":0},{"$f":"Sécurité!BN73","v":0},{"$f":"Sécurité!BO73","v":0},{"$f":"Sécurité!BP73","v":0},{"$f":"Sécurité!BQ73","v":0},{"$f":"Sécurité!BR73","v":0},{"$f":"Sécurité!BS73","v":0},{"$f":"Sécurité!BT73","v":0},{"$f":"Sécurité!BU73","v":0},{"$f":"Sécurité!BV73","v":0},{"$f":"Sécurité!BW73","v":0},{"$f":"Sécurité!BX73","v":0}]
[null,null,null,null,null,{"$f":"Sécurité!BB74","v":0},{"$f":"Sécurité!BC74","v":0},{"$f":"Sécurité!BD74","v":0},{"$f":"Sécurité!BE74","v":0},{"$f":"Sécurité!BF74","v":0},{"$f":"Sécurité!BG74","v":0},{"$f":"Sécurité!BH74","v":0},{"$f":"Sécurité!BI74","v":0},{"$f":"Sécurité!BJ74","v":0},{"$f":"Sécurité!BK74","v":0},{"$f":"Sécurité!BL74","v":0},{"$f":"Sécurité!BM74","v":0},{"$f":"Sécurité!BN74","v":0},{"$f":"Sécurité!BO74","v":0},{"$f":"Sécurité!BP74","v":0},{"$f":"Sécurité!BQ74","v":0},{"$f":"Sécurité!BR74","v":0},{"$f":"Sécurité!BS74","v":0},{"$f":"Sécurité!BT74","v":0},{"$f":"Sécurité!BU74","v":0},{"$f":"Sécurité!BV74","v":0},{"$f":"Sécurité!BW74","v":0},{"$f":"Sécurité!BX74","v":0}]
[null,null,{"$f":"Sécurité!$C$75","v":"Nature des incidents (sanctions registre)(à décliner)"},{"$f":"Sécurité!$D$75","v":0},{"$f":"Sécurité!BA75","v":0},{"$f":"Sécurité!BB75","v":0},{"$f":"Sécurité!BC75","v":0},{"$f":"Sécurité!BD75","v":0},{"$f":"Sécurité!BE75","v":0},{"$f":"Sécurité!BF75","v":0},{"$f":"Sécurité!BG75","v":0},{"$f":"Sécurité!BH75","v":0},{"$f":"Sécurité!BI75","v":0},{"$f":"Sécurité!BJ75","v":0},{"$f":"Sécurité!BK75","v":0},{"$f":"Sécurité!BL75","v":0},{"$f":"Sécurité!BM75","v":0},{"$f":"Sécurité!BN75","v":0},{"$f":"Sécurité!BO75","v":0},{"$f":"Sécurité!BP75","v":0},{"$f":"Sécurité!BQ75","v":0},{"$f":"Sécurité!BR75","v":0},{"$f":"Sécurité!BS75","v":0},{"$f":"Sécurité!BT75","v":0},{"$f":"Sécurité!BU75","v":0},{"$f":"Sécurité!BV75","v":0},{"$f":"Sécurité!BW75","v":0},{"$f":"Sécurité!BX75","v":0}]
[null,null,{"$f":"Sécurité!$C$76","v":0},{"$f":"Sécurité!$D$76","v":0},{"$f":"Sécurité!BA76","v":0},{"$f":"Sécurité!BB76","v":0},{"$f":"Sécurité!BC76","v":0},{"$f":"Sécurité!BD76","v":0},{"$f":"Sécurité!BE76","v":0},{"$f":"Sécurité!BF76","v":0},{"$f":"Sécurité!BG76","v":0},{"$f":"Sécurité!BH76","v":0},{"$f":"Sécurité!BI76","v":0},{"$f":"Sécurité!BJ76","v":0},{"$f":"Sécurité!BK76","v":0},{"$f":"Sécurité!BL76","v":0},{"$f":"Sécurité!BM76","v":0},{"$f":"Sécurité!BN76","v":0},{"$f":"Sécurité!BO76","v":0},{"$f":"Sécurité!BP76","v":0},{"$f":"Sécurité!BQ76","v":0},{"$f":"Sécurité!BR76","v":0},{"$f":"Sécurité!BS76","v":0},{"$f":"Sécurité!BT76","v":0},{"$f":"Sécurité!BU76","v":0},{"$f":"Sécurité!BV76","v":0},{"$f":"Sécurité!BW76","v":0},{"$f":"Sécurité!BX76","v":0}]
[null,null,{"$f":"Sécurité!$C$77","v":0},{"$f":"Sécurité!$D$77","v":0},{"$f":"Sécurité!BA77","v":0},{"$f":"Sécurité!BB77","v":0},{"$f":"Sécurité!BC77","v":0},{"$f":"Sécurité!BD77","v":0},{"$f":"Sécurité!BE77","v":0},{"$f":"Sécurité!BF77","v":0},{"$f":"Sécurité!BG77","v":0},{"$f":"Sécurité!BH77","v":0},{"$f":"Sécurité!BI77","v":0},{"$f":"Sécurité!BJ77","v":0},{"$f":"Sécurité!BK77","v":0},{"$f":"Sécurité!BL77","v":0},{"$f":"Sécurité!BM77","v":0},{"$f":"Sécurité!BN77","v":0},{"$f":"Sécurité!BO77","v":0},{"$f":"Sécurité!BP77","v":0},{"$f":"Sécurité!BQ77","v":0},{"$f":"Sécurité!BR77","v":0},{"$f":"Sécurité!BS77","v":0},{"$f":"Sécurité!BT77","v":0},{"$f":"Sécurité!BU77","v":0},{"$f":"Sécurité!BV77","v":0},{"$f":"Sécurité!BW77","v":0},{"$f":"Sécurité!BX77","v":0}]
[null,null,{"$f":"Sécurité!$C$78","v":0},{"$f":"Sécurité!$D$78","v":0},{"$f":"Sécurité!BA78","v":0},{"$f":"Sécurité!BB78","v":0},{"$f":"Sécurité!BC78","v":0},{"$f":"Sécurité!BD78","v":0},{"$f":"Sécurité!BE78","v":0},{"$f":"Sécurité!BF78","v":0},{"$f":"Sécurité!BG78","v":0},{"$f":"Sécurité!BH78","v":0},{"$f":"Sécurité!BI78","v":0},{"$f":"Sécurité!BJ78","v":0},{"$f":"Sécurité!BK78","v":0},{"$f":"Sécurité!BL78","v":0},{"$f":"Sécurité!BM78","v":0},{"$f":"Sécurité!BN78","v":0},{"$f":"Sécurité!BO78","v":0},{"$f":"Sécurité!BP78","v":0},{"$f":"Sécurité!BQ78","v":0},{"$f":"Sécurité!BR78","v":0},{"$f":"Sécurité!BS78","v":0},{"$f":"Sécurité!BT78","v":0},{"$f":"Sécurité!BU78","v":0},{"$f":"Sécurité!BV78","v":0},{"$f":"Sécurité!BW78","v":0},{"$f":"Sécurité!BX78","v":0}]
[null,null,{"$f":"Sécurité!$C$79","v":0},{"$f":"Sécurité!$D$79","v":0},{"$f":"Sécurité!BA79","v":0},{"$f":"Sécurité!BB79","v":0},{"$f":"Sécurité!BC79","v":0},{"$f":"Sécurité!BD79","v":0},{"$f":"Sécurité!BE79","v":0},{"$f":"Sécurité!BF79","v":0},{"$f":"Sécurité!BG79","v":0},{"$f":"Sécurité!BH79","v":0},{"$f":"Sécurité!BI79","v":0},{"$f":"Sécurité!BJ79","v":0},{"$f":"Sécurité!BK79","v":0},{"$f":"Sécurité!BL79","v":0},{"$f":"Sécurité!BM79","v":0},{"$f":"Sécurité!BN79","v":0},{"$f":"Sécurité!BO79","v":0},{"$f":"Sécurité!BP79","v":0},{"$f":"Sécurité!BQ79","v":0},{"$f":"Sécurité!BR79","v":0},{"$f":"Sécurité!BS79","v":0},{"$f":"Sécurité!BT79","v":0},{"$f":"Sécurité!BU79","v":0},{"$f":"Sécurité!BV79","v":0},{"$f":"Sécurité!BW79","v":0},{"$f":"Sécurité!BX79","v":0}]
[null,null,{"$f":"Sécurité!$C$80","v":0},{"$f":"Sécurité!$D$80","v":0},{"$f":"Sécurité!BA80","v":0},{"$f":"Sécurité!BB80","v":0},{"$f":"Sécurité!BC80","v":0},{"$f":"Sécurité!BD80","v":0},{"$f":"Sécurité!BE80","v":0},{"$f":"Sécurité!BF80","v":0},{"$f":"Sécurité!BG80","v":0},{"$f":"Sécurité!BH80","v":0},{"$f":"Sécurité!BI80","v":0},{"$f":"Sécurité!BJ80","v":0},{"$f":"Sécurité!BK80","v":0},{"$f":"Sécurité!BL80","v":0},{"$f":"Sécurité!BM80","v":0},{"$f":"Sécurité!BN80","v":0},{"$f":"Sécurité!BO80","v":0},{"$f":"Sécurité!BP80","v":0},{"$f":"Sécurité!BQ80","v":0},{"$f":"Sécurité!BR80","v":0},{"$f":"Sécurité!BS80","v":0},{"$f":"Sécurité!BT80","v":0},{"$f":"Sécurité!BU80","v":0},{"$f":"Sécurité!BV80","v":0},{"$f":"Sécurité!BW80","v":0},{"$f":"Sécurité!BX80","v":0}]
[null,null,{"$f":"Sécurité!$C$81","v":0},{"$f":"Sécurité!$D$81","v":0},{"$f":"Sécurité!BA81","v":0},{"$f":"Sécurité!BB81","v":0},{"$f":"Sécurité!BC81","v":0},{"$f":"Sécurité!BD81","v":0},{"$f":"Sécurité!BE81","v":0},{"$f":"Sécurité!BF81","v":0},{"$f":"Sécurité!BG81","v":0},{"$f":"Sécurité!BH81","v":0},{"$f":"Sécurité!BI81","v":0},{"$f":"Sécurité!BJ81","v":0},{"$f":"Sécurité!BK81","v":0},{"$f":"Sécurité!BL81","v":0},{"$f":"Sécurité!BM81","v":0},{"$f":"Sécurité!BN81","v":0},{"$f":"Sécurité!BO81","v":0},{"$f":"Sécurité!BP81","v":0},{"$f":"Sécurité!BQ81","v":0},{"$f":"Sécurité!BR81","v":0},{"$f":"Sécurité!BS81","v":0},{"$f":"Sécurité!BT81","v":0},{"$f":"Sécurité!BU81","v":0},{"$f":"Sécurité!BV81","v":0},{"$f":"Sécurité!BW81","v":0},{"$f":"Sécurité!BX81","v":0}]
[null,null,{"$f":"Sécurité!$C$82","v":0},{"$f":"Sécurité!$D$82","v":0},{"$f":"Sécurité!BA82","v":0},{"$f":"Sécurité!BB82","v":0},{"$f":"Sécurité!BC82","v":0},{"$f":"Sécurité!BD82","v":0},{"$f":"Sécurité!BE82","v":0},{"$f":"Sécurité!BF82","v":0},{"$f":"Sécurité!BG82","v":0},{"$f":"Sécurité!BH82","v":0},{"$f":"Sécurité!BI82","v":0},{"$f":"Sécurité!BJ82","v":0},{"$f":"Sécurité!BK82","v":0},{"$f":"Sécurité!BL82","v":0},{"$f":"Sécurité!BM82","v":0},{"$f":"Sécurité!BN82","v":0},{"$f":"Sécurité!BO82","v":0},{"$f":"Sécurité!BP82","v":0},{"$f":"Sécurité!BQ82","v":0},{"$f":"Sécurité!BR82","v":0},{"$f":"Sécurité!BS82","v":0},{"$f":"Sécurité!BT82","v":0},{"$f":"Sécurité!BU82","v":0},{"$f":"Sécurité!BV82","v":0},{"$f":"Sécurité!BW82","v":0},{"$f":"Sécurité!BX82","v":0}]
[null,null,null,null,{"$f":"Identification!$A$32","v":"2015-11-01"}]
[null,null,{"$f":"Sécurité!$C$72","v":"tableau mensuel"},{"$f":"Sécurité!$D$72","v":"Nature des faits"},{"$f":"Sécurité!BY72","v":"Nb total d'incidents par nature"},{"$f":"Sécurité!BZ72","v":"Type de punition"},null,null,{"$f":"Sécurité!CC72","v":"Nb d'incidents par niveau"},null,null,null,null,null,null,null,null,null,{"$f":"Sécurité!CM72","v":"Nb d'élèves concernés"}]
[null,null,null,null,null,null,null,null,{"$f":"Sécurité!CC73","v":0},{"$f":"Sécurité!CD73","v":0},{"$f":"Sécurité!CE73","v":0},{"$f":"Sécurité!CF73","v":0},{"$f":"Sécurité!CG73","v":0},{"$f":"Sécurité!CH73","v":0},{"$f":"Sécurité!CI73","v":0},{"$f":"Sécurité!CJ73","v":0},{"$f":"Sécurité!CK73","v":0},{"$f":"Sécurité!CL73","v":0},{"$f":"Sécurité!CM73","v":0},{"$f":"Sécurité!CN73","v":0},{"$f":"Sécurité!CO73","v":0},{"$f":"Sécurité!CP73","v":0},{"$f":"Sécurité!CQ73","v":0},{"$f":"Sécurité!CR73","v":0},{"$f":"Sécurité!CS73","v":0},{"$f":"Sécurité!CT73","v":0},{"$f":"Sécurité!CU73","v":0},{"$f":"Sécurité!CV73","v":0}]
[null,null,null,null,null,{"$f":"Sécurité!BZ74","v":0},{"$f":"Sécurité!CA74","v":0},{"$f":"Sécurité!CB74","v":0},{"$f":"Sécurité!CC74","v":0},{"$f":"Sécurité!CD74","v":0},{"$f":"Sécurité!CE74","v":0},{"$f":"Sécurité!CF74","v":0},{"$f":"Sécurité!CG74","v":0},{"$f":"Sécurité!CH74","v":0},{"$f":"Sécurité!CI74","v":0},{"$f":"Sécurité!CJ74","v":0},{"$f":"Sécurité!CK74","v":0},{"$f":"Sécurité!CL74","v":0},{"$f":"Sécurité!CM74","v":0},{"$f":"Sécurité!CN74","v":0},{"$f":"Sécurité!CO74","v":0},{"$f":"Sécurité!CP74","v":0},{"$f":"Sécurité!CQ74","v":0},{"$f":"Sécurité!CR74","v":0},{"$f":"Sécurité!CS74","v":0},{"$f":"Sécurité!CT74","v":0},{"$f":"Sécurité!CU74","v":0},{"$f":"Sécurité!CV74","v":0}]
[null,null,{"$f":"Sécurité!$C$75","v":"Nature des incidents (sanctions registre)(à décliner)"},{"$f":"Sécurité!$D$75","v":0},{"$f":"Sécurité!BY75","v":0},{"$f":"Sécurité!BZ75","v":0},{"$f":"Sécurité!CA75","v":0},{"$f":"Sécurité!CB75","v":0},{"$f":"Sécurité!CC75","v":0},{"$f":"Sécurité!CD75","v":0},{"$f":"Sécurité!CE75","v":0},{"$f":"Sécurité!CF75","v":0},{"$f":"Sécurité!CG75","v":0},{"$f":"Sécurité!CH75","v":0},{"$f":"Sécurité!CI75","v":0},{"$f":"Sécurité!CJ75","v":0},{"$f":"Sécurité!CK75","v":0},{"$f":"Sécurité!CL75","v":0},{"$f":"Sécurité!CM75","v":0},{"$f":"Sécurité!CN75","v":0},{"$f":"Sécurité!CO75","v":0},{"$f":"Sécurité!CP75","v":0},{"$f":"Sécurité!CQ75","v":0},{"$f":"Sécurité!CR75","v":0},{"$f":"Sécurité!CS75","v":0},{"$f":"Sécurité!CT75","v":0},{"$f":"Sécurité!CU75","v":0},{"$f":"Sécurité!CV75","v":0}]
[null,null,{"$f":"Sécurité!$C$76","v":0},{"$f":"Sécurité!$D$76","v":0},{"$f":"Sécurité!BY76","v":0},{"$f":"Sécurité!BZ76","v":0},{"$f":"Sécurité!CA76","v":0},{"$f":"Sécurité!CB76","v":0},{"$f":"Sécurité!CC76","v":0},{"$f":"Sécurité!CD76","v":0},{"$f":"Sécurité!CE76","v":0},{"$f":"Sécurité!CF76","v":0},{"$f":"Sécurité!CG76","v":0},{"$f":"Sécurité!CH76","v":0},{"$f":"Sécurité!CI76","v":0},{"$f":"Sécurité!CJ76","v":0},{"$f":"Sécurité!CK76","v":0},{"$f":"Sécurité!CL76","v":0},{"$f":"Sécurité!CM76","v":0},{"$f":"Sécurité!CN76","v":0},{"$f":"Sécurité!CO76","v":0},{"$f":"Sécurité!CP76","v":0},{"$f":"Sécurité!CQ76","v":0},{"$f":"Sécurité!CR76","v":0},{"$f":"Sécurité!CS76","v":0},{"$f":"Sécurité!CT76","v":0},{"$f":"Sécurité!CU76","v":0},{"$f":"Sécurité!CV76","v":0}]
[null,null,{"$f":"Sécurité!$C$77","v":0},{"$f":"Sécurité!$D$77","v":0},{"$f":"Sécurité!BY77","v":0},{"$f":"Sécurité!BZ77","v":0},{"$f":"Sécurité!CA77","v":0},{"$f":"Sécurité!CB77","v":0},{"$f":"Sécurité!CC77","v":0},{"$f":"Sécurité!CD77","v":0},{"$f":"Sécurité!CE77","v":0},{"$f":"Sécurité!CF77","v":0},{"$f":"Sécurité!CG77","v":0},{"$f":"Sécurité!CH77","v":0},{"$f":"Sécurité!CI77","v":0},{"$f":"Sécurité!CJ77","v":0},{"$f":"Sécurité!CK77","v":0},{"$f":"Sécurité!CL77","v":0},{"$f":"Sécurité!CM77","v":0},{"$f":"Sécurité!CN77","v":0},{"$f":"Sécurité!CO77","v":0},{"$f":"Sécurité!CP77","v":0},{"$f":"Sécurité!CQ77","v":0},{"$f":"Sécurité!CR77","v":0},{"$f":"Sécurité!CS77","v":0},{"$f":"Sécurité!CT77","v":0},{"$f":"Sécurité!CU77","v":0},{"$f":"Sécurité!CV77","v":0}]
[null,null,{"$f":"Sécurité!$C$78","v":0},{"$f":"Sécurité!$D$78","v":0},{"$f":"Sécurité!BY78","v":0},{"$f":"Sécurité!BZ78","v":0},{"$f":"Sécurité!CA78","v":0},{"$f":"Sécurité!CB78","v":0},{"$f":"Sécurité!CC78","v":0},{"$f":"Sécurité!CD78","v":0},{"$f":"Sécurité!CE78","v":0},{"$f":"Sécurité!CF78","v":0},{"$f":"Sécurité!CG78","v":0},{"$f":"Sécurité!CH78","v":0},{"$f":"Sécurité!CI78","v":0},{"$f":"Sécurité!CJ78","v":0},{"$f":"Sécurité!CK78","v":0},{"$f":"Sécurité!CL78","v":0},{"$f":"Sécurité!CM78","v":0},{"$f":"Sécurité!CN78","v":0},{"$f":"Sécurité!CO78","v":0},{"$f":"Sécurité!CP78","v":0},{"$f":"Sécurité!CQ78","v":0},{"$f":"Sécurité!CR78","v":0},{"$f":"Sécurité!CS78","v":0},{"$f":"Sécurité!CT78","v":0},{"$f":"Sécurité!CU78","v":0},{"$f":"Sécurité!CV78","v":0}]
[null,null,{"$f":"Sécurité!$C$79","v":0},{"$f":"Sécurité!$D$79","v":0},{"$f":"Sécurité!BY79","v":0},{"$f":"Sécurité!BZ79","v":0},{"$f":"Sécurité!CA79","v":0},{"$f":"Sécurité!CB79","v":0},{"$f":"Sécurité!CC79","v":0},{"$f":"Sécurité!CD79","v":0},{"$f":"Sécurité!CE79","v":0},{"$f":"Sécurité!CF79","v":0},{"$f":"Sécurité!CG79","v":0},{"$f":"Sécurité!CH79","v":0},{"$f":"Sécurité!CI79","v":0},{"$f":"Sécurité!CJ79","v":0},{"$f":"Sécurité!CK79","v":0},{"$f":"Sécurité!CL79","v":0},{"$f":"Sécurité!CM79","v":0},{"$f":"Sécurité!CN79","v":0},{"$f":"Sécurité!CO79","v":0},{"$f":"Sécurité!CP79","v":0},{"$f":"Sécurité!CQ79","v":0},{"$f":"Sécurité!CR79","v":0},{"$f":"Sécurité!CS79","v":0},{"$f":"Sécurité!CT79","v":0},{"$f":"Sécurité!CU79","v":0},{"$f":"Sécurité!CV79","v":0}]
[null,null,{"$f":"Sécurité!$C$80","v":0},{"$f":"Sécurité!$D$80","v":0},{"$f":"Sécurité!BY80","v":0},{"$f":"Sécurité!BZ80","v":0},{"$f":"Sécurité!CA80","v":0},{"$f":"Sécurité!CB80","v":0},{"$f":"Sécurité!CC80","v":0},{"$f":"Sécurité!CD80","v":0},{"$f":"Sécurité!CE80","v":0},{"$f":"Sécurité!CF80","v":0},{"$f":"Sécurité!CG80","v":0},{"$f":"Sécurité!CH80","v":0},{"$f":"Sécurité!CI80","v":0},{"$f":"Sécurité!CJ80","v":0},{"$f":"Sécurité!CK80","v":0},{"$f":"Sécurité!CL80","v":0},{"$f":"Sécurité!CM80","v":0},{"$f":"Sécurité!CN80","v":0},{"$f":"Sécurité!CO80","v":0},{"$f":"Sécurité!CP80","v":0},{"$f":"Sécurité!CQ80","v":0},{"$f":"Sécurité!CR80","v":0},{"$f":"Sécurité!CS80","v":0},{"$f":"Sécurité!CT80","v":0},{"$f":"Sécurité!CU80","v":0},{"$f":"Sécurité!CV80","v":0}]
[null,null,{"$f":"Sécurité!$C$81","v":0},{"$f":"Sécurité!$D$81","v":0},{"$f":"Sécurité!BY81","v":0},{"$f":"Sécurité!BZ81","v":0},{"$f":"Sécurité!CA81","v":0},{"$f":"Sécurité!CB81","v":0},{"$f":"Sécurité!CC81","v":0},{"$f":"Sécurité!CD81","v":0},{"$f":"Sécurité!CE81","v":0},{"$f":"Sécurité!CF81","v":0},{"$f":"Sécurité!CG81","v":0},{"$f":"Sécurité!CH81","v":0},{"$f":"Sécurité!CI81","v":0},{"$f":"Sécurité!CJ81","v":0},{"$f":"Sécurité!CK81","v":0},{"$f":"Sécurité!CL81","v":0},{"$f":"Sécurité!CM81","v":0},{"$f":"Sécurité!CN81","v":0},{"$f":"Sécurité!CO81","v":0},{"$f":"Sécurité!CP81","v":0},{"$f":"Sécurité!CQ81","v":0},{"$f":"Sécurité!CR81","v":0},{"$f":"Sécurité!CS81","v":0},{"$f":"Sécurité!CT81","v":0},{"$f":"Sécurité!CU81","v":0},{"$f":"Sécurité!CV81","v":0}]
[null,null,{"$f":"Sécurité!$C$82","v":0},{"$f":"Sécurité!$D$82","v":0},{"$f":"Sécurité!BY82","v":0},{"$f":"Sécurité!BZ82","v":0},{"$f":"Sécurité!CA82","v":0},{"$f":"Sécurité!CB82","v":0},{"$f":"Sécurité!CC82","v":0},{"$f":"Sécurité!CD82","v":0},{"$f":"Sécurité!CE82","v":0},{"$f":"Sécurité!CF82","v":0},{"$f":"Sécurité!CG82","v":0},{"$f":"Sécurité!CH82","v":0},{"$f":"Sécurité!CI82","v":0},{"$f":"Sécurité!CJ82","v":0},{"$f":"Sécurité!CK82","v":0},{"$f":"Sécurité!CL82","v":0},{"$f":"Sécurité!CM82","v":0},{"$f":"Sécurité!CN82","v":0},{"$f":"Sécurité!CO82","v":0},{"$f":"Sécurité!CP82","v":0},{"$f":"Sécurité!CQ82","v":0},{"$f":"Sécurité!CR82","v":0},{"$f":"Sécurité!CS82","v":0},{"$f":"Sécurité!CT82","v":0},{"$f":"Sécurité!CU82","v":0},{"$f":"Sécurité!CV82","v":0}]
[null,null,null,null,{"$f":"Identification!$A$33","v":"2015-12-01"}]
[null,null,{"$f":"Sécurité!$C$72","v":"tableau mensuel"},{"$f":"Sécurité!$D$72","v":"Nature des faits"},{"$f":"Sécurité!CW72","v":"Nb total d'incidents par nature"},{"$f":"Sécurité!CX72","v":"Type de punition"},null,null,{"$f":"Sécurité!DA72","v":"Nb d'incidents par niveau"},null,null,null,null,null,null,null,null,null,{"$f":"Sécurité!DK72","v":"Nb d'élèves concernés"}]
[null,null,null,null,null,null,null,null,{"$f":"Sécurité!DA73","v":0},{"$f":"Sécurité!DB73","v":0},{"$f":"Sécurité!DC73","v":0},{"$f":"Sécurité!DD73","v":0},{"$f":"Sécurité!DE73","v":0},{"$f":"Sécurité!DF73","v":0},{"$f":"Sécurité!DG73","v":0},{"$f":"Sécurité!DH73","v":0},{"$f":"Sécurité!DI73","v":0},{"$f":"Sécurité!DJ73","v":0},{"$f":"Sécurité!DK73","v":0},{"$f":"Sécurité!DL73","v":0},{"$f":"Sécurité!DM73","v":0},{"$f":"Sécurité!DN73","v":0},{"$f":"Sécurité!DO73","v":0},{"$f":"Sécurité!DP73","v":0},{"$f":"Sécurité!DQ73","v":0},{"$f":"Sécurité!DR73","v":0},{"$f":"Sécurité!DS73","v":0},{"$f":"Sécurité!DT73","v":0}]
[null,null,null,null,null,{"$f":"Sécurité!CX74","v":0},{"$f":"Sécurité!CY74","v":0},{"$f":"Sécurité!CZ74","v":0},{"$f":"Sécurité!DA74","v":0},{"$f":"Sécurité!DB74","v":0},{"$f":"Sécurité!DC74","v":0},{"$f":"Sécurité!DD74","v":0},{"$f":"Sécurité!DE74","v":0},{"$f":"Sécurité!DF74","v":0},{"$f":"Sécurité!DG74","v":0},{"$f":"Sécurité!DH74","v":0},{"$f":"Sécurité!DI74","v":0},{"$f":"Sécurité!DJ74","v":0},{"$f":"Sécurité!DK74","v":0},{"$f":"Sécurité!DL74","v":0},{"$f":"Sécurité!DM74","v":0},{"$f":"Sécurité!DN74","v":0},{"$f":"Sécurité!DO74","v":0},{"$f":"Sécurité!DP74","v":0},{"$f":"Sécurité!DQ74","v":0},{"$f":"Sécurité!DR74","v":0},{"$f":"Sécurité!DS74","v":0},{"$f":"Sécurité!DT74","v":0}]
[null,null,{"$f":"Sécurité!$C$75","v":"Nature des incidents (sanctions registre)(à décliner)"},{"$f":"Sécurité!$D$75","v":0},{"$f":"Sécurité!CW75","v":0},{"$f":"Sécurité!CX75","v":0},{"$f":"Sécurité!CY75","v":0},{"$f":"Sécurité!CZ75","v":0},{"$f":"Sécurité!DA75","v":0},{"$f":"Sécurité!DB75","v":0},{"$f":"Sécurité!DC75","v":0},{"$f":"Sécurité!DD75","v":0},{"$f":"Sécurité!DE75","v":0},{"$f":"Sécurité!DF75","v":0},{"$f":"Sécurité!DG75","v":0},{"$f":"Sécurité!DH75","v":0},{"$f":"Sécurité!DI75","v":0},{"$f":"Sécurité!DJ75","v":0},{"$f":"Sécurité!DK75","v":0},{"$f":"Sécurité!DL75","v":0},{"$f":"Sécurité!DM75","v":0},{"$f":"Sécurité!DN75","v":0},{"$f":"Sécurité!DO75","v":0},{"$f":"Sécurité!DP75","v":0},{"$f":"Sécurité!DQ75","v":0},{"$f":"Sécurité!DR75","v":0},{"$f":"Sécurité!DS75","v":0},{"$f":"Sécurité!DT75","v":0}]
[null,null,{"$f":"Sécurité!$C$76","v":0},{"$f":"Sécurité!$D$76","v":0},{"$f":"Sécurité!CW76","v":0},{"$f":"Sécurité!CX76","v":0},{"$f":"Sécurité!CY76","v":0},{"$f":"Sécurité!CZ76","v":0},{"$f":"Sécurité!DA76","v":0},{"$f":"Sécurité!DB76","v":0},{"$f":"Sécurité!DC76","v":0},{"$f":"Sécurité!DD76","v":0},{"$f":"Sécurité!DE76","v":0},{"$f":"Sécurité!DF76","v":0},{"$f":"Sécurité!DG76","v":0},{"$f":"Sécurité!DH76","v":0},{"$f":"Sécurité!DI76","v":0},{"$f":"Sécurité!DJ76","v":0},{"$f":"Sécurité!DK76","v":0},{"$f":"Sécurité!DL76","v":0},{"$f":"Sécurité!DM76","v":0},{"$f":"Sécurité!DN76","v":0},{"$f":"Sécurité!DO76","v":0},{"$f":"Sécurité!DP76","v":0},{"$f":"Sécurité!DQ76","v":0},{"$f":"Sécurité!DR76","v":0},{"$f":"Sécurité!DS76","v":0},{"$f":"Sécurité!DT76","v":0}]
[null,null,{"$f":"Sécurité!$C$77","v":0},{"$f":"Sécurité!$D$77","v":0},{"$f":"Sécurité!CW77","v":0},{"$f":"Sécurité!CX77","v":0},{"$f":"Sécurité!CY77","v":0},{"$f":"Sécurité!CZ77","v":0},{"$f":"Sécurité!DA77","v":0},{"$f":"Sécurité!DB77","v":0},{"$f":"Sécurité!DC77","v":0},{"$f":"Sécurité!DD77","v":0},{"$f":"Sécurité!DE77","v":0},{"$f":"Sécurité!DF77","v":0},{"$f":"Sécurité!DG77","v":0},{"$f":"Sécurité!DH77","v":0},{"$f":"Sécurité!DI77","v":0},{"$f":"Sécurité!DJ77","v":0},{"$f":"Sécurité!DK77","v":0},{"$f":"Sécurité!DL77","v":0},{"$f":"Sécurité!DM77","v":0},{"$f":"Sécurité!DN77","v":0},{"$f":"Sécurité!DO77","v":0},{"$f":"Sécurité!DP77","v":0},{"$f":"Sécurité!DQ77","v":0},{"$f":"Sécurité!DR77","v":0},{"$f":"Sécurité!DS77","v":0},{"$f":"Sécurité!DT77","v":0}]
[null,null,{"$f":"Sécurité!$C$78","v":0},{"$f":"Sécurité!$D$78","v":0},{"$f":"Sécurité!CW78","v":0},{"$f":"Sécurité!CX78","v":0},{"$f":"Sécurité!CY78","v":0},{"$f":"Sécurité!CZ78","v":0},{"$f":"Sécurité!DA78","v":0},{"$f":"Sécurité!DB78","v":0},{"$f":"Sécurité!DC78","v":0},{"$f":"Sécurité!DD78","v":0},{"$f":"Sécurité!DE78","v":0},{"$f":"Sécurité!DF78","v":0},{"$f":"Sécurité!DG78","v":0},{"$f":"Sécurité!DH78","v":0},{"$f":"Sécurité!DI78","v":0},{"$f":"Sécurité!DJ78","v":0},{"$f":"Sécurité!DK78","v":0},{"$f":"Sécurité!DL78","v":0},{"$f":"Sécurité!DM78","v":0},{"$f":"Sécurité!DN78","v":0},{"$f":"Sécurité!DO78","v":0},{"$f":"Sécurité!DP78","v":0},{"$f":"Sécurité!DQ78","v":0},{"$f":"Sécurité!DR78","v":0},{"$f":"Sécurité!DS78","v":0},{"$f":"Sécurité!DT78","v":0}]
[null,null,{"$f":"Sécurité!$C$79","v":0},{"$f":"Sécurité!$D$79","v":0},{"$f":"Sécurité!CW79","v":0},{"$f":"Sécurité!CX79","v":0},{"$f":"Sécurité!CY79","v":0},{"$f":"Sécurité!CZ79","v":0},{"$f":"Sécurité!DA79","v":0},{"$f":"Sécurité!DB79","v":0},{"$f":"Sécurité!DC79","v":0},{"$f":"Sécurité!DD79","v":0},{"$f":"Sécurité!DE79","v":0},{"$f":"Sécurité!DF79","v":0},{"$f":"Sécurité!DG79","v":0},{"$f":"Sécurité!DH79","v":0},{"$f":"Sécurité!DI79","v":0},{"$f":"Sécurité!DJ79","v":0},{"$f":"Sécurité!DK79","v":0},{"$f":"Sécurité!DL79","v":0},{"$f":"Sécurité!DM79","v":0},{"$f":"Sécurité!DN79","v":0},{"$f":"Sécurité!DO79","v":0},{"$f":"Sécurité!DP79","v":0},{"$f":"Sécurité!DQ79","v":0},{"$f":"Sécurité!DR79","v":0},{"$f":"Sécurité!DS79","v":0},{"$f":"Sécurité!DT79","v":0}]
[null,null,{"$f":"Sécurité!$C$80","v":0},{"$f":"Sécurité!$D$80","v":0},{"$f":"Sécurité!CW80","v":0},{"$f":"Sécurité!CX80","v":0},{"$f":"Sécurité!CY80","v":0},{"$f":"Sécurité!CZ80","v":0},{"$f":"Sécurité!DA80","v":0},{"$f":"Sécurité!DB80","v":0},{"$f":"Sécurité!DC80","v":0},{"$f":"Sécurité!DD80","v":0},{"$f":"Sécurité!DE80","v":0},{"$f":"Sécurité!DF80","v":0},{"$f":"Sécurité!DG80","v":0},{"$f":"Sécurité!DH80","v":0},{"$f":"Sécurité!DI80","v":0},{"$f":"Sécurité!DJ80","v":0},{"$f":"Sécurité!DK80","v":0},{"$f":"Sécurité!DL80","v":0},{"$f":"Sécurité!DM80","v":0},{"$f":"Sécurité!DN80","v":0},{"$f":"Sécurité!DO80","v":0},{"$f":"Sécurité!DP80","v":0},{"$f":"Sécurité!DQ80","v":0},{"$f":"Sécurité!DR80","v":0},{"$f":"Sécurité!DS80","v":0},{"$f":"Sécurité!DT80","v":0}]
[null,null,{"$f":"Sécurité!$C$81","v":0},{"$f":"Sécurité!$D$81","v":0},{"$f":"Sécurité!CW81","v":0},{"$f":"Sécurité!CX81","v":0},{"$f":"Sécurité!CY81","v":0},{"$f":"Sécurité!CZ81","v":0},{"$f":"Sécurité!DA81","v":0},{"$f":"Sécurité!DB81","v":0},{"$f":"Sécurité!DC81","v":0},{"$f":"Sécurité!DD81","v":0},{"$f":"Sécurité!DE81","v":0},{"$f":"Sécurité!DF81","v":0},{"$f":"Sécurité!DG81","v":0},{"$f":"Sécurité!DH81","v":0},{"$f":"Sécurité!DI81","v":0},{"$f":"Sécurité!DJ81","v":0},{"$f":"Sécurité!DK81","v":0},{"$f":"Sécurité!DL81","v":0},{"$f":"Sécurité!DM81","v":0},{"$f":"Sécurité!DN81","v":0},{"$f":"Sécurité!DO81","v":0},{"$f":"Sécurité!DP81","v":0},{"$f":"Sécurité!DQ81","v":0},{"$f":"Sécurité!DR81","v":0},{"$f":"Sécurité!DS81","v":0},{"$f":"Sécurité!DT81","v":0}]
[null,null,{"$f":"Sécurité!$C$82","v":0},{"$f":"Sécurité!$D$82","v":0},{"$f":"Sécurité!CW82","v":0},{"$f":"Sécurité!CX82","v":0},{"$f":"Sécurité!CY82","v":0},{"$f":"Sécurité!CZ82","v":0},{"$f":"Sécurité!DA82","v":0},{"$f":"Sécurité!DB82","v":0},{"$f":"Sécurité!DC82","v":0},{"$f":"Sécurité!DD82","v":0},{"$f":"Sécurité!DE82","v":0},{"$f":"Sécurité!DF82","v":0},{"$f":"Sécurité!DG82","v":0},{"$f":"Sécurité!DH82","v":0},{"$f":"Sécurité!DI82","v":0},{"$f":"Sécurité!DJ82","v":0},{"$f":"Sécurité!DK82","v":0},{"$f":"Sécurité!DL82","v":0},{"$f":"Sécurité!DM82","v":0},{"$f":"Sécurité!DN82","v":0},{"$f":"Sécurité!DO82","v":0},{"$f":"Sécurité!DP82","v":0},{"$f":"Sécurité!DQ82","v":0},{"$f":"Sécurité!DR82","v":0},{"$f":"Sécurité!DS82","v":0},{"$f":"Sécurité!DT82","v":0}]
[null,null,null,null,{"$f":"Identification!$A$34","v":"2016-01-01"}]
[null,null,{"$f":"Sécurité!$C$72","v":"tableau mensuel"},{"$f":"Sécurité!$D$72","v":"Nature des faits"},{"$f":"Sécurité!DU72","v":"Nb total d'incidents par nature"},{"$f":"Sécurité!DV72","v":"Type de punition"},null,null,{"$f":"Sécurité!DY72","v":"Nb d'incidents par niveau"},null,null,null,null,null,null,null,null,null,{"$f":"Sécurité!EI72","v":"Nb d'élèves concernés"}]
[null,null,null,null,null,null,null,null,{"$f":"Sécurité!DY73","v":0},{"$f":"Sécurité!DZ73","v":0},{"$f":"Sécurité!EA73","v":0},{"$f":"Sécurité!EB73","v":0},{"$f":"Sécurité!EC73","v":0},{"$f":"Sécurité!ED73","v":0},{"$f":"Sécurité!EE73","v":0},{"$f":"Sécurité!EF73","v":0},{"$f":"Sécurité!EG73","v":0},{"$f":"Sécurité!EH73","v":0},{"$f":"Sécurité!EI73","v":0},{"$f":"Sécurité!EJ73","v":0},{"$f":"Sécurité!EK73","v":0},{"$f":"Sécurité!EL73","v":0},{"$f":"Sécurité!EM73","v":0},{"$f":"Sécurité!EN73","v":0},{"$f":"Sécurité!EO73","v":0},{"$f":"Sécurité!EP73","v":0},{"$f":"Sécurité!EQ73","v":0},{"$f":"Sécurité!ER73","v":0}]
[null,null,null,null,null,{"$f":"Sécurité!DV74","v":0},{"$f":"Sécurité!DW74","v":0},{"$f":"Sécurité!DX74","v":0},{"$f":"Sécurité!DY74","v":0},{"$f":"Sécurité!DZ74","v":0},{"$f":"Sécurité!EA74","v":0},{"$f":"Sécurité!EB74","v":0},{"$f":"Sécurité!EC74","v":0},{"$f":"Sécurité!ED74","v":0},{"$f":"Sécurité!EE74","v":0},{"$f":"Sécurité!EF74","v":0},{"$f":"Sécurité!EG74","v":0},{"$f":"Sécurité!EH74","v":0},{"$f":"Sécurité!EI74","v":0},{"$f":"Sécurité!EJ74","v":0},{"$f":"Sécurité!EK74","v":0},{"$f":"Sécurité!EL74","v":0},{"$f":"Sécurité!EM74","v":0},{"$f":"Sécurité!EN74","v":0},{"$f":"Sécurité!EO74","v":0},{"$f":"Sécurité!EP74","v":0},{"$f":"Sécurité!EQ74","v":0},{"$f":"Sécurité!ER74","v":0}]
[null,null,{"$f":"Sécurité!$C$75","v":"Nature des incidents (sanctions registre)(à décliner)"},{"$f":"Sécurité!$D$75","v":0},{"$f":"Sécurité!DU75","v":0},{"$f":"Sécurité!DV75","v":0},{"$f":"Sécurité!DW75","v":0},{"$f":"Sécurité!DX75","v":0},{"$f":"Sécurité!DY75","v":0},{"$f":"Sécurité!DZ75","v":0},{"$f":"Sécurité!EA75","v":0},{"$f":"Sécurité!EB75","v":0},{"$f":"Sécurité!EC75","v":0},{"$f":"Sécurité!ED75","v":0},{"$f":"Sécurité!EE75","v":0},{"$f":"Sécurité!EF75","v":0},{"$f":"Sécurité!EG75","v":0},{"$f":"Sécurité!EH75","v":0},{"$f":"Sécurité!EI75","v":0},{"$f":"Sécurité!EJ75","v":0},{"$f":"Sécurité!EK75","v":0},{"$f":"Sécurité!EL75","v":0},{"$f":"Sécurité!EM75","v":0},{"$f":"Sécurité!EN75","v":0},{"$f":"Sécurité!EO75","v":0},{"$f":"Sécurité!EP75","v":0},{"$f":"Sécurité!EQ75","v":0},{"$f":"Sécurité!ER75","v":0}]
[null,null,{"$f":"Sécurité!$C$76","v":0},{"$f":"Sécurité!$D$76","v":0},{"$f":"Sécurité!DU76","v":0},{"$f":"Sécurité!DV76","v":0},{"$f":"Sécurité!DW76","v":0},{"$f":"Sécurité!DX76","v":0},{"$f":"Sécurité!DY76","v":0},{"$f":"Sécurité!DZ76","v":0},{"$f":"Sécurité!EA76","v":0},{"$f":"Sécurité!EB76","v":0},{"$f":"Sécurité!EC76","v":0},{"$f":"Sécurité!ED76","v":0},{"$f":"Sécurité!EE76","v":0},{"$f":"Sécurité!EF76","v":0},{"$f":"Sécurité!EG76","v":0},{"$f":"Sécurité!EH76","v":0},{"$f":"Sécurité!EI76","v":0},{"$f":"Sécurité!EJ76","v":0},{"$f":"Sécurité!EK76","v":0},{"$f":"Sécurité!EL76","v":0},{"$f":"Sécurité!EM76","v":0},{"$f":"Sécurité!EN76","v":0},{"$f":"Sécurité!EO76","v":0},{"$f":"Sécurité!EP76","v":0},{"$f":"Sécurité!EQ76","v":0},{"$f":"Sécurité!ER76","v":0}]
[null,null,{"$f":"Sécurité!$C$77","v":0},{"$f":"Sécurité!$D$77","v":0},{"$f":"Sécurité!DU77","v":0},{"$f":"Sécurité!DV77","v":0},{"$f":"Sécurité!DW77","v":0},{"$f":"Sécurité!DX77","v":0},{"$f":"Sécurité!DY77","v":0},{"$f":"Sécurité!DZ77","v":0},{"$f":"Sécurité!EA77","v":0},{"$f":"Sécurité!EB77","v":0},{"$f":"Sécurité!EC77","v":0},{"$f":"Sécurité!ED77","v":0},{"$f":"Sécurité!EE77","v":0},{"$f":"Sécurité!EF77","v":0},{"$f":"Sécurité!EG77","v":0},{"$f":"Sécurité!EH77","v":0},{"$f":"Sécurité!EI77","v":0},{"$f":"Sécurité!EJ77","v":0},{"$f":"Sécurité!EK77","v":0},{"$f":"Sécurité!EL77","v":0},{"$f":"Sécurité!EM77","v":0},{"$f":"Sécurité!EN77","v":0},{"$f":"Sécurité!EO77","v":0},{"$f":"Sécurité!EP77","v":0},{"$f":"Sécurité!EQ77","v":0},{"$f":"Sécurité!ER77","v":0}]
[null,null,{"$f":"Sécurité!$C$78","v":0},{"$f":"Sécurité!$D$78","v":0},{"$f":"Sécurité!DU78","v":0},{"$f":"Sécurité!DV78","v":0},{"$f":"Sécurité!DW78","v":0},{"$f":"Sécurité!DX78","v":0},{"$f":"Sécurité!DY78","v":0},{"$f":"Sécurité!DZ78","v":0},{"$f":"Sécurité!EA78","v":0},{"$f":"Sécurité!EB78","v":0},{"$f":"Sécurité!EC78","v":0},{"$f":"Sécurité!ED78","v":0},{"$f":"Sécurité!EE78","v":0},{"$f":"Sécurité!EF78","v":0},{"$f":"Sécurité!EG78","v":0},{"$f":"Sécurité!EH78","v":0},{"$f":"Sécurité!EI78","v":0},{"$f":"Sécurité!EJ78","v":0},{"$f":"Sécurité!EK78","v":0},{"$f":"Sécurité!EL78","v":0},{"$f":"Sécurité!EM78","v":0},{"$f":"Sécurité!EN78","v":0},{"$f":"Sécurité!EO78","v":0},{"$f":"Sécurité!EP78","v":0},{"$f":"Sécurité!EQ78","v":0},{"$f":"Sécurité!ER78","v":0}]
[null,null,{"$f":"Sécurité!$C$79","v":0},{"$f":"Sécurité!$D$79","v":0},{"$f":"Sécurité!DU79","v":0},{"$f":"Sécurité!DV79","v":0},{"$f":"Sécurité!DW79","v":0},{"$f":"Sécurité!DX79","v":0},{"$f":"Sécurité!DY79","v":0},{"$f":"Sécurité!DZ79","v":0},{"$f":"Sécurité!EA79","v":0},{"$f":"Sécurité!EB79","v":0},{"$f":"Sécurité!EC79","v":0},{"$f":"Sécurité!ED79","v":0},{"$f":"Sécurité!EE79","v":0},{"$f":"Sécurité!EF79","v":0},{"$f":"Sécurité!EG79","v":0},{"$f":"Sécurité!EH79","v":0},{"$f":"Sécurité!EI79","v":0},{"$f":"Sécurité!EJ79","v":0},{"$f":"Sécurité!EK79","v":0},{"$f":"Sécurité!EL79","v":0},{"$f":"Sécurité!EM79","v":0},{"$f":"Sécurité!EN79","v":0},{"$f":"Sécurité!EO79","v":0},{"$f":"Sécurité!EP79","v":0},{"$f":"Sécurité!EQ79","v":0},{"$f":"Sécurité!ER79","v":0}]
[null,null,{"$f":"Sécurité!$C$80","v":0},{"$f":"Sécurité!$D$80","v":0},{"$f":"Sécurité!DU80","v":0},{"$f":"Sécurité!DV80","v":0},{"$f":"Sécurité!DW80","v":0},{"$f":"Sécurité!DX80","v":0},{"$f":"Sécurité!DY80","v":0},{"$f":"Sécurité!DZ80","v":0},{"$f":"Sécurité!EA80","v":0},{"$f":"Sécurité!EB80","v":0},{"$f":"Sécurité!EC80","v":0},{"$f":"Sécurité!ED80","v":0},{"$f":"Sécurité!EE80","v":0},{"$f":"Sécurité!EF80","v":0},{"$f":"Sécurité!EG80","v":0},{"$f":"Sécurité!EH80","v":0},{"$f":"Sécurité!EI80","v":0},{"$f":"Sécurité!EJ80","v":0},{"$f":"Sécurité!EK80","v":0},{"$f":"Sécurité!EL80","v":0},{"$f":"Sécurité!EM80","v":0},{"$f":"Sécurité!EN80","v":0},{"$f":"Sécurité!EO80","v":0},{"$f":"Sécurité!EP80","v":0},{"$f":"Sécurité!EQ80","v":0},{"$f":"Sécurité!ER80","v":0}]
[null,null,{"$f":"Sécurité!$C$81","v":0},{"$f":"Sécurité!$D$81","v":0},{"$f":"Sécurité!DU81","v":0},{"$f":"Sécurité!DV81","v":0},{"$f":"Sécurité!DW81","v":0},{"$f":"Sécurité!DX81","v":0},{"$f":"Sécurité!DY81","v":0},{"$f":"Sécurité!DZ81","v":0},{"$f":"Sécurité!EA81","v":0},{"$f":"Sécurité!EB81","v":0},{"$f":"Sécurité!EC81","v":0},{"$f":"Sécurité!ED81","v":0},{"$f":"Sécurité!EE81","v":0},{"$f":"Sécurité!EF81","v":0},{"$f":"Sécurité!EG81","v":0},{"$f":"Sécurité!EH81","v":0},{"$f":"Sécurité!EI81","v":0},{"$f":"Sécurité!EJ81","v":0},{"$f":"Sécurité!EK81","v":0},{"$f":"Sécurité!EL81","v":0},{"$f":"Sécurité!EM81","v":0},{"$f":"Sécurité!EN81","v":0},{"$f":"Sécurité!EO81","v":0},{"$f":"Sécurité!EP81","v":0},{"$f":"Sécurité!EQ81","v":0},{"$f":"Sécurité!ER81","v":0}]
[null,null,{"$f":"Sécurité!$C$82","v":0},{"$f":"Sécurité!$D$82","v":0},{"$f":"Sécurité!DU82","v":0},{"$f":"Sécurité!DV82","v":0},{"$f":"Sécurité!DW82","v":0},{"$f":"Sécurité!DX82","v":0},{"$f":"Sécurité!DY82","v":0},{"$f":"Sécurité!DZ82","v":0},{"$f":"Sécurité!EA82","v":0},{"$f":"Sécurité!EB82","v":0},{"$f":"Sécurité!EC82","v":0},{"$f":"Sécurité!ED82","v":0},{"$f":"Sécurité!EE82","v":0},{"$f":"Sécurité!EF82","v":0},{"$f":"Sécurité!EG82","v":0},{"$f":"Sécurité!EH82","v":0},{"$f":"Sécurité!EI82","v":0},{"$f":"Sécurité!EJ82","v":0},{"$f":"Sécurité!EK82","v":0},{"$f":"Sécurité!EL82","v":0},{"$f":"Sécurité!EM82","v":0},{"$f":"Sécurité!EN82","v":0},{"$f":"Sécurité!EO82","v":0},{"$f":"Sécurité!EP82","v":0},{"$f":"Sécurité!EQ82","v":0},{"$f":"Sécurité!ER82","v":0}]
[]
[]
[]
[]
[]
[]
[]
[]
[]
[]
[null,"Respect des personnes"]
[]
[null,null,null,null,{"$f":"Identification!$A$35","v":"2016-02-01"}]
[null,null,{"$f":"Sécurité!$C$72","v":"tableau mensuel"},{"$f":"Sécurité!$D$72","v":"Nature des faits"},{"$f":"Sécurité!ES72","v":"Nb total d'incidents par nature"},{"$f":"Sécurité!ET72","v":"Type de punition"},null,null,{"$f":"Sécurité!EW72","v":"Nb d'incidents par niveau"},null,null,null,null,null,null,null,null,null,{"$f":"Sécurité!FG72","v":"Nb d'élèves concernés"}]
[null,null,null,null,null,null,null,null,{"$f":"Sécurité!EW73","v":0},{"$f":"Sécurité!EX73","v":0},{"$f":"Sécurité!EY73","v":0},{"$f":"Sécurité!EZ73","v":0},{"$f":"Sécurité!FA73","v":0},{"$f":"Sécurité!FB73","v":0},{"$f":"Sécurité!FC73","v":0},{"$f":"Sécurité!FD73","v":0},{"$f":"Sécurité!FE73","v":0},{"$f":"Sécurité!FF73","v":0},{"$f":"Sécurité!FG73","v":0},{"$f":"Sécurité!FH73","v":0},{"$f":"Sécurité!FI73","v":0},{"$f":"Sécurité!FJ73","v":0},{"$f":"Sécurité!FK73","v":0},{"$f":"Sécurité!FL73","v":0},{"$f":"Sécurité!FM73","v":0},{"$f":"Sécurité!FN73","v":0},{"$f":"Sécurité!FO73","v":0},{"$f":"Sécurité!FP73","v":0}]
[null,null,null,null,null,{"$f":"Sécurité!ET74","v":0},{"$f":"Sécurité!EU74","v":0},{"$f":"Sécurité!EV74","v":0},{"$f":"Sécurité!EW74","v":0},{"$f":"Sécurité!EX74","v":0},{"$f":"Sécurité!EY74","v":0},{"$f":"Sécurité!EZ74","v":0},{"$f":"Sécurité!FA74","v":0},{"$f":"Sécurité!FB74","v":0},{"$f":"Sécurité!FC74","v":0},{"$f":"Sécurité!FD74","v":0},{"$f":"Sécurité!FE74","v":0},{"$f":"Sécurité!FF74","v":0},{"$f":"Sécurité!FG74","v":0},{"$f":"Sécurité!FH74","v":0},{"$f":"Sécurité!FI74","v":0},{"$f":"Sécurité!FJ74","v":0},{"$f":"Sécurité!FK74","v":0},{"$f":"Sécurité!FL74","v":0},{"$f":"Sécurité!FM74","v":0},{"$f":"Sécurité!FN74","v":0},{"$f":"Sécurité!FO74","v":0},{"$f":"Sécurité!FP74","v":0}]
[null,null,{"$f":"Sécurité!$C$75","v":"Nature des incidents (sanctions registre)(à décliner)"},{"$f":"Sécurité!$D$75","v":0},{"$f":"Sécurité!ES75","v":0},{"$f":"Sécurité!ET75","v":0},{"$f":"Sécurité!EU75","v":0},{"$f":"Sécurité!EV75","v":0},{"$f":"Sécurité!EW75","v":0},{"$f":"Sécurité!EX75","v":0},{"$f":"Sécurité!EY75","v":0},{"$f":"Sécurité!EZ75","v":0},{"$f":"Sécurité!FA75","v":0},{"$f":"Sécurité!FB75","v":0},{"$f":"Sécurité!FC75","v":0},{"$f":"Sécurité!FD75","v":0},{"$f":"Sécurité!FE75","v":0},{"$f":"Sécurité!FF75","v":0},{"$f":"Sécurité!FG75","v":0},{"$f":"Sécurité!FH75","v":0},{"$f":"Sécurité!FI75","v":0},{"$f":"Sécurité!FJ75","v":0},{"$f":"Sécurité!FK75","v":0},{"$f":"Sécurité!FL75","v":0},{"$f":"Sécurité!FM75","v":0},{"$f":"Sécurité!FN75","v":0},{"$f":"Sécurité!FO75","v":0},{"$f":"Sécurité!FP75","v":0}]
[null,null,{"$f":"Sécurité!$C$76","v":0},{"$f":"Sécurité!$D$76","v":0},{"$f":"Sécurité!ES76","v":0},{"$f":"Sécurité!ET76","v":0},{"$f":"Sécurité!EU76","v":0},{"$f":"Sécurité!EV76","v":0},{"$f":"Sécurité!EW76","v":0},{"$f":"Sécurité!EX76","v":0},{"$f":"Sécurité!EY76","v":0},{"$f":"Sécurité!EZ76","v":0},{"$f":"Sécurité!FA76","v":0},{"$f":"Sécurité!FB76","v":0},{"$f":"Sécurité!FC76","v":0},{"$f":"Sécurité!FD76","v":0},{"$f":"Sécurité!FE76","v":0},{"$f":"Sécurité!FF76","v":0},{"$f":"Sécurité!FG76","v":0},{"$f":"Sécurité!FH76","v":0},{"$f":"Sécurité!FI76","v":0},{"$f":"Sécurité!FJ76","v":0},{"$f":"Sécurité!FK76","v":0},{"$f":"Sécurité!FL76","v":0},{"$f":"Sécurité!FM76","v":0},{"$f":"Sécurité!FN76","v":0},{"$f":"Sécurité!FO76","v":0},{"$f":"Sécurité!FP76","v":0}]
[null,null,{"$f":"Sécurité!$C$77","v":0},{"$f":"Sécurité!$D$77","v":0},{"$f":"Sécurité!ES77","v":0},{"$f":"Sécurité!ET77","v":0},{"$f":"Sécurité!EU77","v":0},{"$f":"Sécurité!EV77","v":0},{"$f":"Sécurité!EW77","v":0},{"$f":"Sécurité!EX77","v":0},{"$f":"Sécurité!EY77","v":0},{"$f":"Sécurité!EZ77","v":0},{"$f":"Sécurité!FA77","v":0},{"$f":"Sécurité!FB77","v":0},{"$f":"Sécurité!FC77","v":0},{"$f":"Sécurité!FD77","v":0},{"$f":"Sécurité!FE77","v":0},{"$f":"Sécurité!FF77","v":0},{"$f":"Sécurité!FG77","v":0},{"$f":"Sécurité!FH77","v":0},{"$f":"Sécurité!FI77","v":0},{"$f":"Sécurité!FJ77","v":0},{"$f":"Sécurité!FK77","v":0},{"$f":"Sécurité!FL77","v":0},{"$f":"Sécurité!FM77","v":0},{"$f":"Sécurité!FN77","v":0},{"$f":"Sécurité!FO77","v":0},{"$f":"Sécurité!FP77","v":0}]
[null,null,{"$f":"Sécurité!$C$78","v":0},{"$f":"Sécurité!$D$78","v":0},{"$f":"Sécurité!ES78","v":0},{"$f":"Sécurité!ET78","v":0},{"$f":"Sécurité!EU78","v":0},{"$f":"Sécurité!EV78","v":0},{"$f":"Sécurité!EW78","v":0},{"$f":"Sécurité!EX78","v":0},{"$f":"Sécurité!EY78","v":0},{"$f":"Sécurité!EZ78","v":0},{"$f":"Sécurité!FA78","v":0},{"$f":"Sécurité!FB78","v":0},{"$f":"Sécurité!FC78","v":0},{"$f":"Sécurité!FD78","v":0},{"$f":"Sécurité!FE78","v":0},{"$f":"Sécurité!FF78","v":0},{"$f":"Sécurité!FG78","v":0},{"$f":"Sécurité!FH78","v":0},{"$f":"Sécurité!FI78","v":0},{"$f":"Sécurité!FJ78","v":0},{"$f":"Sécurité!FK78","v":0},{"$f":"Sécurité!FL78","v":0},{"$f":"Sécurité!FM78","v":0},{"$f":"Sécurité!FN78","v":0},{"$f":"Sécurité!FO78","v":0},{"$f":"Sécurité!FP78","v":0}]
[null,null,{"$f":"Sécurité!$C$79","v":0},{"$f":"Sécurité!$D$79","v":0},{"$f":"Sécurité!ES79","v":0},{"$f":"Sécurité!ET79","v":0},{"$f":"Sécurité!EU79","v":0},{"$f":"Sécurité!EV79","v":0},{"$f":"Sécurité!EW79","v":0},{"$f":"Sécurité!EX79","v":0},{"$f":"Sécurité!EY79","v":0},{"$f":"Sécurité!EZ79","v":0},{"$f":"Sécurité!FA79","v":0},{"$f":"Sécurité!FB79","v":0},{"$f":"Sécurité!FC79","v":0},{"$f":"Sécurité!FD79","v":0},{"$f":"Sécurité!FE79","v":0},{"$f":"Sécurité!FF79","v":0},{"$f":"Sécurité!FG79","v":0},{"$f":"Sécurité!FH79","v":0},{"$f":"Sécurité!FI79","v":0},{"$f":"Sécurité!FJ79","v":0},{"$f":"Sécurité!FK79","v":0},{"$f":"Sécurité!FL79","v":0},{"$f":"Sécurité!FM79","v":0},{"$f":"Sécurité!FN79","v":0},{"$f":"Sécurité!FO79","v":0},{"$f":"Sécurité!FP79","v":0}]
[null,null,{"$f":"Sécurité!$C$80","v":0},{"$f":"Sécurité!$D$80","v":0},{"$f":"Sécurité!ES80","v":0},{"$f":"Sécurité!ET80","v":0},{"$f":"Sécurité!EU80","v":0},{"$f":"Sécurité!EV80","v":0},{"$f":"Sécurité!EW80","v":0},{"$f":"Sécurité!EX80","v":0},{"$f":"Sécurité!EY80","v":0},{"$f":"Sécurité!EZ80","v":0},{"$f":"Sécurité!FA80","v":0},{"$f":"Sécurité!FB80","v":0},{"$f":"Sécurité!FC80","v":0},{"$f":"Sécurité!FD80","v":0},{"$f":"Sécurité!FE80","v":0},{"$f":"Sécurité!FF80","v":0},{"$f":"Sécurité!FG80","v":0},{"$f":"Sécurité!FH80","v":0},{"$f":"Sécurité!FI80","v":0},{"$f":"Sécurité!FJ80","v":0},{"$f":"Sécurité!FK80","v":0},{"$f":"Sécurité!FL80","v":0},{"$f":"Sécurité!FM80","v":0},{"$f":"Sécurité!FN80","v":0},{"$f":"Sécurité!FO80","v":0},{"$f":"Sécurité!FP80","v":0}]
[null,null,{"$f":"Sécurité!$C$81","v":0},{"$f":"Sécurité!$D$81","v":0},{"$f":"Sécurité!ES81","v":0},{"$f":"Sécurité!ET81","v":0},{"$f":"Sécurité!EU81","v":0},{"$f":"Sécurité!EV81","v":0},{"$f":"Sécurité!EW81","v":0},{"$f":"Sécurité!EX81","v":0},{"$f":"Sécurité!EY81","v":0},{"$f":"Sécurité!EZ81","v":0},{"$f":"Sécurité!FA81","v":0},{"$f":"Sécurité!FB81","v":0},{"$f":"Sécurité!FC81","v":0},{"$f":"Sécurité!FD81","v":0},{"$f":"Sécurité!FE81","v":0},{"$f":"Sécurité!FF81","v":0},{"$f":"Sécurité!FG81","v":0},{"$f":"Sécurité!FH81","v":0},{"$f":"Sécurité!FI81","v":0},{"$f":"Sécurité!FJ81","v":0},{"$f":"Sécurité!FK81","v":0},{"$f":"Sécurité!FL81","v":0},{"$f":"Sécurité!FM81","v":0},{"$f":"Sécurité!FN81","v":0},{"$f":"Sécurité!FO81","v":0},{"$f":"Sécurité!FP81","v":0}]
[null,null,{"$f":"Sécurité!$C$82","v":0},{"$f":"Sécurité!$D$82","v":0},{"$f":"Sécurité!ES82","v":0},{"$f":"Sécurité!ET82","v":0},{"$f":"Sécurité!EU82","v":0},{"$f":"Sécurité!EV82","v":0},{"$f":"Sécurité!EW82","v":0},{"$f":"Sécurité!EX82","v":0},{"$f":"Sécurité!EY82","v":0},{"$f":"Sécurité!EZ82","v":0},{"$f":"Sécurité!FA82","v":0},{"$f":"Sécurité!FB82","v":0},{"$f":"Sécurité!FC82","v":0},{"$f":"Sécurité!FD82","v":0},{"$f":"Sécurité!FE82","v":0},{"$f":"Sécurité!FF82","v":0},{"$f":"Sécurité!FG82","v":0},{"$f":"Sécurité!FH82","v":0},{"$f":"Sécurité!FI82","v":0},{"$f":"Sécurité!FJ82","v":0},{"$f":"Sécurité!FK82","v":0},{"$f":"Sécurité!FL82","v":0},{"$f":"Sécurité!FM82","v":0},{"$f":"Sécurité!FN82","v":0},{"$f":"Sécurité!FO82","v":0},{"$f":"Sécurité!FP82","v":0}]
[null,null,null,null,{"$f":"Identification!$A$36","v":"2016-03-01"}]
[null,null,{"$f":"Sécurité!$C$72","v":"tableau mensuel"},{"$f":"Sécurité!$D$72","v":"Nature des faits"},{"$f":"Sécurité!FQ72","v":"Nb total d'incidents par nature"},{"$f":"Sécurité!FR72","v":"Type de punition"},null,null,{"$f":"Sécurité!FU72","v":"Nb d'incidents par niveau"},null,null,null,null,null,null,null,null,null,{"$f":"Sécurité!GE72","v":"Nb d'élèves concernés"}]
[null,null,null,null,null,null,null,null,{"$f":"Sécurité!FU73","v":0},{"$f":"Sécurité!FV73","v":0},{"$f":"Sécurité!FW73","v":0},{"$f":"Sécurité!FX73","v":0},{"$f":"Sécurité!FY73","v":0},{"$f":"Sécurité!FZ73","v":0},{"$f":"Sécurité!GA73","v":0},{"$f":"Sécurité!GB73","v":0},{"$f":"Sécurité!GC73","v":0},{"$f":"Sécurité!GD73","v":0},{"$f":"Sécurité!GE73","v":0},{"$f":"Sécurité!GF73","v":0},{"$f":"Sécurité!GG73","v":0},{"$f":"Sécurité!GH73","v":0},{"$f":"Sécurité!GI73","v":0},{"$f":"Sécurité!GJ73","v":0},{"$f":"Sécurité!GK73","v":0},{"$f":"Sécurité!GL73","v":0},{"$f":"Sécurité!GM73","v":0},{"$f":"Sécurité!GN73","v":0}]
[null,null,null,null,null,{"$f":"Sécurité!FR74","v":0},{"$f":"Sécurité!FS74","v":0},{"$f":"Sécurité!FT74","v":0},{"$f":"Sécurité!FU74","v":0},{"$f":"Sécurité!FV74","v":0},{"$f":"Sécurité!FW74","v":0},{"$f":"Sécurité!FX74","v":0},{"$f":"Sécurité!FY74","v":0},{"$f":"Sécurité!FZ74","v":0},{"$f":"Sécurité!GA74","v":0},{"$f":"Sécurité!GB74","v":0},{"$f":"Sécurité!GC74","v":0},{"$f":"Sécurité!GD74","v":0},{"$f":"Sécurité!GE74","v":0},{"$f":"Sécurité!GF74","v":0},{"$f":"Sécurité!GG74","v":0},{"$f":"Sécurité!GH74","v":0},{"$f":"Sécurité!GI74","v":0},{"$f":"Sécurité!GJ74","v":0},{"$f":"Sécurité!GK74","v":0},{"$f":"Sécurité!GL74","v":0},{"$f":"Sécurité!GM74","v":0},{"$f":"Sécurité!GN74","v":0}]
[null,null,{"$f":"Sécurité!$C$75","v":"Nature des incidents (sanctions registre)(à décliner)"},{"$f":"Sécurité!$D$75","v":0},{"$f":"Sécurité!FQ75","v":0},{"$f":"Sécurité!FR75","v":0},{"$f":"Sécurité!FS75","v":0},{"$f":"Sécurité!FT75","v":0},{"$f":"Sécurité!FU75","v":0},{"$f":"Sécurité!FV75","v":0},{"$f":"Sécurité!FW75","v":0},{"$f":"Sécurité!FX75","v":0},{"$f":"Sécurité!FY75","v":0},{"$f":"Sécurité!FZ75","v":0},{"$f":"Sécurité!GA75","v":0},{"$f":"Sécurité!GB75","v":0},{"$f":"Sécurité!GC75","v":0},{"$f":"Sécurité!GD75","v":0},{"$f":"Sécurité!GE75","v":0},{"$f":"Sécurité!GF75","v":0},{"$f":"Sécurité!GG75","v":0},{"$f":"Sécurité!GH75","v":0},{"$f":"Sécurité!GI75","v":0},{"$f":"Sécurité!GJ75","v":0},{"$f":"Sécurité!GK75","v":0},{"$f":"Sécurité!GL75","v":0},{"$f":"Sécurité!GM75","v":0},{"$f":"Sécurité!GN75","v":0}]
[null,null,{"$f":"Sécurité!$C$76","v":0},{"$f":"Sécurité!$D$76","v":0},{"$f":"Sécurité!FQ76","v":0},{"$f":"Sécurité!FR76","v":0},{"$f":"Sécurité!FS76","v":0},{"$f":"Sécurité!FT76","v":0},{"$f":"Sécurité!FU76","v":0},{"$f":"Sécurité!FV76","v":0},{"$f":"Sécurité!FW76","v":0},{"$f":"Sécurité!FX76","v":0},{"$f":"Sécurité!FY76","v":0},{"$f":"Sécurité!FZ76","v":0},{"$f":"Sécurité!GA76","v":0},{"$f":"Sécurité!GB76","v":0},{"$f":"Sécurité!GC76","v":0},{"$f":"Sécurité!GD76","v":0},{"$f":"Sécurité!GE76","v":0},{"$f":"Sécurité!GF76","v":0},{"$f":"Sécurité!GG76","v":0},{"$f":"Sécurité!GH76","v":0},{"$f":"Sécurité!GI76","v":0},{"$f":"Sécurité!GJ76","v":0},{"$f":"Sécurité!GK76","v":0},{"$f":"Sécurité!GL76","v":0},{"$f":"Sécurité!GM76","v":0},{"$f":"Sécurité!GN76","v":0}]
[null,null,{"$f":"Sécurité!$C$77","v":0},{"$f":"Sécurité!$D$77","v":0},{"$f":"Sécurité!FQ77","v":0},{"$f":"Sécurité!FR77","v":0},{"$f":"Sécurité!FS77","v":0},{"$f":"Sécurité!FT77","v":0},{"$f":"Sécurité!FU77","v":0},{"$f":"Sécurité!FV77","v":0},{"$f":"Sécurité!FW77","v":0},{"$f":"Sécurité!FX77","v":0},{"$f":"Sécurité!FY77","v":0},{"$f":"Sécurité!FZ77","v":0},{"$f":"Sécurité!GA77","v":0},{"$f":"Sécurité!GB77","v":0},{"$f":"Sécurité!GC77","v":0},{"$f":"Sécurité!GD77","v":0},{"$f":"Sécurité!GE77","v":0},{"$f":"Sécurité!GF77","v":0},{"$f":"Sécurité!GG77","v":0},{"$f":"Sécurité!GH77","v":0},{"$f":"Sécurité!GI77","v":0},{"$f":"Sécurité!GJ77","v":0},{"$f":"Sécurité!GK77","v":0},{"$f":"Sécurité!GL77","v":0},{"$f":"Sécurité!GM77","v":0},{"$f":"Sécurité!GN77","v":0}]
[null,null,{"$f":"Sécurité!$C$78","v":0},{"$f":"Sécurité!$D$78","v":0},{"$f":"Sécurité!FQ78","v":0},{"$f":"Sécurité!FR78","v":0},{"$f":"Sécurité!FS78","v":0},{"$f":"Sécurité!FT78","v":0},{"$f":"Sécurité!FU78","v":0},{"$f":"Sécurité!FV78","v":0},{"$f":"Sécurité!FW78","v":0},{"$f":"Sécurité!FX78","v":0},{"$f":"Sécurité!FY78","v":0},{"$f":"Sécurité!FZ78","v":0},{"$f":"Sécurité!GA78","v":0},{"$f":"Sécurité!GB78","v":0},{"$f":"Sécurité!GC78","v":0},{"$f":"Sécurité!GD78","v":0},{"$f":"Sécurité!GE78","v":0},{"$f":"Sécurité!GF78","v":0},{"$f":"Sécurité!GG78","v":0},{"$f":"Sécurité!GH78","v":0},{"$f":"Sécurité!GI78","v":0},{"$f":"Sécurité!GJ78","v":0},{"$f":"Sécurité!GK78","v":0},{"$f":"Sécurité!GL78","v":0},{"$f":"Sécurité!GM78","v":0},{"$f":"Sécurité!GN78","v":0}]
[null,null,{"$f":"Sécurité!$C$79","v":0},{"$f":"Sécurité!$D$79","v":0},{"$f":"Sécurité!FQ79","v":0},{"$f":"Sécurité!FR79","v":0},{"$f":"Sécurité!FS79","v":0},{"$f":"Sécurité!FT79","v":0},{"$f":"Sécurité!FU79","v":0},{"$f":"Sécurité!FV79","v":0},{"$f":"Sécurité!FW79","v":0},{"$f":"Sécurité!FX79","v":0},{"$f":"Sécurité!FY79","v":0},{"$f":"Sécurité!FZ79","v":0},{"$f":"Sécurité!GA79","v":0},{"$f":"Sécurité!GB79","v":0},{"$f":"Sécurité!GC79","v":0},{"$f":"Sécurité!GD79","v":0},{"$f":"Sécurité!GE79","v":0},{"$f":"Sécurité!GF79","v":0},{"$f":"Sécurité!GG79","v":0},{"$f":"Sécurité!GH79","v":0},{"$f":"Sécurité!GI79","v":0},{"$f":"Sécurité!GJ79","v":0},{"$f":"Sécurité!GK79","v":0},{"$f":"Sécurité!GL79","v":0},{"$f":"Sécurité!GM79","v":0},{"$f":"Sécurité!GN79","v":0}]
[null,null,{"$f":"Sécurité!$C$80","v":0},{"$f":"Sécurité!$D$80","v":0},{"$f":"Sécurité!FQ80","v":0},{"$f":"Sécurité!FR80","v":0},{"$f":"Sécurité!FS80","v":0},{"$f":"Sécurité!FT80","v":0},{"$f":"Sécurité!FU80","v":0},{"$f":"Sécurité!FV80","v":0},{"$f":"Sécurité!FW80","v":0},{"$f":"Sécurité!FX80","v":0},{"$f":"Sécurité!FY80","v":0},{"$f":"Sécurité!FZ80","v":0},{"$f":"Sécurité!GA80","v":0},{"$f":"Sécurité!GB80","v":0},{"$f":"Sécurité!GC80","v":0},{"$f":"Sécurité!GD80","v":0},{"$f":"Sécurité!GE80","v":0},{"$f":"Sécurité!GF80","v":0},{"$f":"Sécurité!GG80","v":0},{"$f":"Sécurité!GH80","v":0},{"$f":"Sécurité!GI80","v":0},{"$f":"Sécurité!GJ80","v":0},{"$f":"Sécurité!GK80","v":0},{"$f":"Sécurité!GL80","v":0},{"$f":"Sécurité!GM80","v":0},{"$f":"Sécurité!GN80","v":0}]
[null,null,{"$f":"Sécurité!$C$81","v":0},{"$f":"Sécurité!$D$81","v":0},{"$f":"Sécurité!FQ81","v":0},{"$f":"Sécurité!FR81","v":0},{"$f":"Sécurité!FS81","v":0},{"$f":"Sécurité!FT81","v":0},{"$f":"Sécurité!FU81","v":0},{"$f":"Sécurité!FV81","v":0},{"$f":"Sécurité!FW81","v":0},{"$f":"Sécurité!FX81","v":0},{"$f":"Sécurité!FY81","v":0},{"$f":"Sécurité!FZ81","v":0},{"$f":"Sécurité!GA81","v":0},{"$f":"Sécurité!GB81","v":0},{"$f":"Sécurité!GC81","v":0},{"$f":"Sécurité!GD81","v":0},{"$f":"Sécurité!GE81","v":0},{"$f":"Sécurité!GF81","v":0},{"$f":"Sécurité!GG81","v":0},{"$f":"Sécurité!GH81","v":0},{"$f":"Sécurité!GI81","v":0},{"$f":"Sécurité!GJ81","v":0},{"$f":"Sécurité!GK81","v":0},{"$f":"Sécurité!GL81","v":0},{"$f":"Sécurité!GM81","v":0},{"$f":"Sécurité!GN81","v":0}]
[null,null,{"$f":"Sécurité!$C$82","v":0},{"$f":"Sécurité!$D$82","v":0},{"$f":"Sécurité!FQ82","v":0},{"$f":"Sécurité!FR82","v":0},{"$f":"Sécurité!FS82","v":0},{"$f":"Sécurité!FT82","v":0},{"$f":"Sécurité!FU82","v":0},{"$f":"Sécurité!FV82","v":0},{"$f":"Sécurité!FW82","v":0},{"$f":"Sécurité!FX82","v":0},{"$f":"Sécurité!FY82","v":0},{"$f":"Sécurité!FZ82","v":0},{"$f":"Sécurité!GA82","v":0},{"$f":"Sécurité!GB82","v":0},{"$f":"Sécurité!GC82","v":0},{"$f":"Sécurité!GD82","v":0},{"$f":"Sécurité!GE82","v":0},{"$f":"Sécurité!GF82","v":0},{"$f":"Sécurité!GG82","v":0},{"$f":"Sécurité!GH82","v":0},{"$f":"Sécurité!GI82","v":0},{"$f":"Sécurité!GJ82","v":0},{"$f":"Sécurité!GK82","v":0},{"$f":"Sécurité!GL82","v":0},{"$f":"Sécurité!GM82","v":0},{"$f":"Sécurité!GN82","v":0}]
[null,null,null,null,{"$f":"Identification!$A$37","v":"2016-04-01"}]
[null,null,{"$f":"Sécurité!$C$72","v":"tableau mensuel"},{"$f":"Sécurité!$D$72","v":"Nature des faits"},{"$f":"Sécurité!GO72","v":"Nb total d'incidents par nature"},{"$f":"Sécurité!GP72","v":"Type de punition"},null,null,{"$f":"Sécurité!GS72","v":"Nb d'incidents par niveau"},null,null,null,null,null,null,null,null,null,{"$f":"Sécurité!HC72","v":"Nb d'élèves concernés"}]
[null,null,null,null,null,null,null,null,{"$f":"Sécurité!GS73","v":0},{"$f":"Sécurité!GT73","v":0},{"$f":"Sécurité!GU73","v":0},{"$f":"Sécurité!GV73","v":0},{"$f":"Sécurité!GW73","v":0},{"$f":"Sécurité!GX73","v":0},{"$f":"Sécurité!GY73","v":0},{"$f":"Sécurité!GZ73","v":0},{"$f":"Sécurité!HA73","v":0},{"$f":"Sécurité!HB73","v":0},{"$f":"Sécurité!HC73","v":0},{"$f":"Sécurité!HD73","v":0},{"$f":"Sécurité!HE73","v":0},{"$f":"Sécurité!HF73","v":0},{"$f":"Sécurité!HG73","v":0},{"$f":"Sécurité!HH73","v":0},{"$f":"Sécurité!HI73","v":0},{"$f":"Sécurité!HJ73","v":0},{"$f":"Sécurité!HK73","v":0},{"$f":"Sécurité!HL73","v":0}]
[null,null,null,null,null,{"$f":"Sécurité!GP74","v":0},{"$f":"Sécurité!GQ74","v":0},{"$f":"Sécurité!GR74","v":0},{"$f":"Sécurité!GS74","v":0},{"$f":"Sécurité!GT74","v":0},{"$f":"Sécurité!GU74","v":0},{"$f":"Sécurité!GV74","v":0},{"$f":"Sécurité!GW74","v":0},{"$f":"Sécurité!GX74","v":0},{"$f":"Sécurité!GY74","v":0},{"$f":"Sécurité!GZ74","v":0},{"$f":"Sécurité!HA74","v":0},{"$f":"Sécurité!HB74","v":0},{"$f":"Sécurité!HC74","v":0},{"$f":"Sécurité!HD74","v":0},{"$f":"Sécurité!HE74","v":0},{"$f":"Sécurité!HF74","v":0},{"$f":"Sécurité!HG74","v":0},{"$f":"Sécurité!HH74","v":0},{"$f":"Sécurité!HI74","v":0},{"$f":"Sécurité!HJ74","v":0},{"$f":"Sécurité!HK74","v":0},{"$f":"Sécurité!HL74","v":0}]
[null,null,{"$f":"Sécurité!$C$75","v":"Nature des incidents (sanctions registre)(à décliner)"},{"$f":"Sécurité!$D$75","v":0},{"$f":"Sécurité!GO75","v":0},{"$f":"Sécurité!GP75","v":0},{"$f":"Sécurité!GQ75","v":0},{"$f":"Sécurité!GR75","v":0},{"$f":"Sécurité!GS75","v":0},{"$f":"Sécurité!GT75","v":0},{"$f":"Sécurité!GU75","v":0},{"$f":"Sécurité!GV75","v":0},{"$f":"Sécurité!GW75","v":0},{"$f":"Sécurité!GX75","v":0},{"$f":"Sécurité!GY75","v":0},{"$f":"Sécurité!GZ75","v":0},{"$f":"Sécurité!HA75","v":0},{"$f":"Sécurité!HB75","v":0},{"$f":"Sécurité!HC75","v":0},{"$f":"Sécurité!HD75","v":0},{"$f":"Sécurité!HE75","v":0},{"$f":"Sécurité!HF75","v":0},{"$f":"Sécurité!HG75","v":0},{"$f":"Sécurité!HH75","v":0},{"$f":"Sécurité!HI75","v":0},{"$f":"Sécurité!HJ75","v":0},{"$f":"Sécurité!HK75","v":0},{"$f":"Sécurité!HL75","v":0}]
[null,null,{"$f":"Sécurité!$C$76","v":0},{"$f":"Sécurité!$D$76","v":0},{"$f":"Sécurité!GO76","v":0},{"$f":"Sécurité!GP76","v":0},{"$f":"Sécurité!GQ76","v":0},{"$f":"Sécurité!GR76","v":0},{"$f":"Sécurité!GS76","v":0},{"$f":"Sécurité!GT76","v":0},{"$f":"Sécurité!GU76","v":0},{"$f":"Sécurité!GV76","v":0},{"$f":"Sécurité!GW76","v":0},{"$f":"Sécurité!GX76","v":0},{"$f":"Sécurité!GY76","v":0},{"$f":"Sécurité!GZ76","v":0},{"$f":"Sécurité!HA76","v":0},{"$f":"Sécurité!HB76","v":0},{"$f":"Sécurité!HC76","v":0},{"$f":"Sécurité!HD76","v":0},{"$f":"Sécurité!HE76","v":0},{"$f":"Sécurité!HF76","v":0},{"$f":"Sécurité!HG76","v":0},{"$f":"Sécurité!HH76","v":0},{"$f":"Sécurité!HI76","v":0},{"$f":"Sécurité!HJ76","v":0},{"$f":"Sécurité!HK76","v":0},{"$f":"Sécurité!HL76","v":0}]
[null,null,{"$f":"Sécurité!$C$77","v":0},{"$f":"Sécurité!$D$77","v":0},{"$f":"Sécurité!GO77","v":0},{"$f":"Sécurité!GP77","v":0},{"$f":"Sécurité!GQ77","v":0},{"$f":"Sécurité!GR77","v":0},{"$f":"Sécurité!GS77","v":0},{"$f":"Sécurité!GT77","v":0},{"$f":"Sécurité!GU77","v":0},{"$f":"Sécurité!GV77","v":0},{"$f":"Sécurité!GW77","v":0},{"$f":"Sécurité!GX77","v":0},{"$f":"Sécurité!GY77","v":0},{"$f":"Sécurité!GZ77","v":0},{"$f":"Sécurité!HA77","v":0},{"$f":"Sécurité!HB77","v":0},{"$f":"Sécurité!HC77","v":0},{"$f":"Sécurité!HD77","v":0},{"$f":"Sécurité!HE77","v":0},{"$f":"Sécurité!HF77","v":0},{"$f":"Sécurité!HG77","v":0},{"$f":"Sécurité!HH77","v":0},{"$f":"Sécurité!HI77","v":0},{"$f":"Sécurité!HJ77","v":0},{"$f":"Sécurité!HK77","v":0},{"$f":"Sécurité!HL77","v":0}]
[null,null,{"$f":"Sécurité!$C$78","v":0},{"$f":"Sécurité!$D$78","v":0},{"$f":"Sécurité!GO78","v":0},{"$f":"Sécurité!GP78","v":0},{"$f":"Sécurité!GQ78","v":0},{"$f":"Sécurité!GR78","v":0},{"$f":"Sécurité!GS78","v":0},{"$f":"Sécurité!GT78","v":0},{"$f":"Sécurité!GU78","v":0},{"$f":"Sécurité!GV78","v":0},{"$f":"Sécurité!GW78","v":0},{"$f":"Sécurité!GX78","v":0},{"$f":"Sécurité!GY78","v":0},{"$f":"Sécurité!GZ78","v":0},{"$f":"Sécurité!HA78","v":0},{"$f":"Sécurité!HB78","v":0},{"$f":"Sécurité!HC78","v":0},{"$f":"Sécurité!HD78","v":0},{"$f":"Sécurité!HE78","v":0},{"$f":"Sécurité!HF78","v":0},{"$f":"Sécurité!HG78","v":0},{"$f":"Sécurité!HH78","v":0},{"$f":"Sécurité!HI78","v":0},{"$f":"Sécurité!HJ78","v":0},{"$f":"Sécurité!HK78","v":0},{"$f":"Sécurité!HL78","v":0}]
[null,null,{"$f":"Sécurité!$C$79","v":0},{"$f":"Sécurité!$D$79","v":0},{"$f":"Sécurité!GO79","v":0},{"$f":"Sécurité!GP79","v":0},{"$f":"Sécurité!GQ79","v":0},{"$f":"Sécurité!GR79","v":0},{"$f":"Sécurité!GS79","v":0},{"$f":"Sécurité!GT79","v":0},{"$f":"Sécurité!GU79","v":0},{"$f":"Sécurité!GV79","v":0},{"$f":"Sécurité!GW79","v":0},{"$f":"Sécurité!GX79","v":0},{"$f":"Sécurité!GY79","v":0},{"$f":"Sécurité!GZ79","v":0},{"$f":"Sécurité!HA79","v":0},{"$f":"Sécurité!HB79","v":0},{"$f":"Sécurité!HC79","v":0},{"$f":"Sécurité!HD79","v":0},{"$f":"Sécurité!HE79","v":0},{"$f":"Sécurité!HF79","v":0},{"$f":"Sécurité!HG79","v":0},{"$f":"Sécurité!HH79","v":0},{"$f":"Sécurité!HI79","v":0},{"$f":"Sécurité!HJ79","v":0},{"$f":"Sécurité!HK79","v":0},{"$f":"Sécurité!HL79","v":0}]
[null,null,{"$f":"Sécurité!$C$80","v":0},{"$f":"Sécurité!$D$80","v":0},{"$f":"Sécurité!GO80","v":0},{"$f":"Sécurité!GP80","v":0},{"$f":"Sécurité!GQ80","v":0},{"$f":"Sécurité!GR80","v":0},{"$f":"Sécurité!GS80","v":0},{"$f":"Sécurité!GT80","v":0},{"$f":"Sécurité!GU80","v":0},{"$f":"Sécurité!GV80","v":0},{"$f":"Sécurité!GW80","v":0},{"$f":"Sécurité!GX80","v":0},{"$f":"Sécurité!GY80","v":0},{"$f":"Sécurité!GZ80","v":0},{"$f":"Sécurité!HA80","v":0},{"$f":"Sécurité!HB80","v":0},{"$f":"Sécurité!HC80","v":0},{"$f":"Sécurité!HD80","v":0},{"$f":"Sécurité!HE80","v":0},{"$f":"Sécurité!HF80","v":0},{"$f":"Sécurité!HG80","v":0},{"$f":"Sécurité!HH80","v":0},{"$f":"Sécurité!HI80","v":0},{"$f":"Sécurité!HJ80","v":0},{"$f":"Sécurité!HK80","v":0},{"$f":"Sécurité!HL80","v":0}]
[null,null,{"$f":"Sécurité!$C$81","v":0},{"$f":"Sécurité!$D$81","v":0},{"$f":"Sécurité!GO81","v":0},{"$f":"Sécurité!GP81","v":0},{"$f":"Sécurité!GQ81","v":0},{"$f":"Sécurité!GR81","v":0},{"$f":"Sécurité!GS81","v":0},{"$f":"Sécurité!GT81","v":0},{"$f":"Sécurité!GU81","v":0},{"$f":"Sécurité!GV81","v":0},{"$f":"Sécurité!GW81","v":0},{"$f":"Sécurité!GX81","v":0},{"$f":"Sécurité!GY81","v":0},{"$f":"Sécurité!GZ81","v":0},{"$f":"Sécurité!HA81","v":0},{"$f":"Sécurité!HB81","v":0},{"$f":"Sécurité!HC81","v":0},{"$f":"Sécurité!HD81","v":0},{"$f":"Sécurité!HE81","v":0},{"$f":"Sécurité!HF81","v":0},{"$f":"Sécurité!HG81","v":0},{"$f":"Sécurité!HH81","v":0},{"$f":"Sécurité!HI81","v":0},{"$f":"Sécurité!HJ81","v":0},{"$f":"Sécurité!HK81","v":0},{"$f":"Sécurité!HL81","v":0}]
[null,null,{"$f":"Sécurité!$C$82","v":0},{"$f":"Sécurité!$D$82","v":0},{"$f":"Sécurité!GO82","v":0},{"$f":"Sécurité!GP82","v":0},{"$f":"Sécurité!GQ82","v":0},{"$f":"Sécurité!GR82","v":0},{"$f":"Sécurité!GS82","v":0},{"$f":"Sécurité!GT82","v":0},{"$f":"Sécurité!GU82","v":0},{"$f":"Sécurité!GV82","v":0},{"$f":"Sécurité!GW82","v":0},{"$f":"Sécurité!GX82","v":0},{"$f":"Sécurité!GY82","v":0},{"$f":"Sécurité!GZ82","v":0},{"$f":"Sécurité!HA82","v":0},{"$f":"Sécurité!HB82","v":0},{"$f":"Sécurité!HC82","v":0},{"$f":"Sécurité!HD82","v":0},{"$f":"Sécurité!HE82","v":0},{"$f":"Sécurité!HF82","v":0},{"$f":"Sécurité!HG82","v":0},{"$f":"Sécurité!HH82","v":0},{"$f":"Sécurité!HI82","v":0},{"$f":"Sécurité!HJ82","v":0},{"$f":"Sécurité!HK82","v":0},{"$f":"Sécurité!HL82","v":0}]
[null,null,null,null,{"$f":"Identification!$A$38","v":"2016-05-01"}]
[null,null,{"$f":"Sécurité!$C$72","v":"tableau mensuel"},{"$f":"Sécurité!$D$72","v":"Nature des faits"},{"$f":"Sécurité!HM72","v":"Nb total d'incidents par nature"},{"$f":"Sécurité!HN72","v":"Type de punition"},null,null,{"$f":"Sécurité!HQ72","v":"Nb d'incidents par niveau"},null,null,null,null,null,null,null,null,null,{"$f":"Sécurité!IA72","v":"Nb d'élèves concernés"}]
[null,null,null,null,null,null,null,null,{"$f":"Sécurité!HQ73","v":0},{"$f":"Sécurité!HR73","v":0},{"$f":"Sécurité!HS73","v":0},{"$f":"Sécurité!HT73","v":0},{"$f":"Sécurité!HU73","v":0},{"$f":"Sécurité!HV73","v":0},{"$f":"Sécurité!HW73","v":0},{"$f":"Sécurité!HX73","v":0},{"$f":"Sécurité!HY73","v":0},{"$f":"Sécurité!HZ73","v":0},{"$f":"Sécurité!IA73","v":0},{"$f":"Sécurité!IB73","v":0},{"$f":"Sécurité!IC73","v":0},{"$f":"Sécurité!ID73","v":0},{"$f":"Sécurité!IE73","v":0},{"$f":"Sécurité!IF73","v":0},{"$f":"Sécurité!IG73","v":0},{"$f":"Sécurité!IH73","v":0},{"$f":"Sécurité!II73","v":0},{"$f":"Sécurité!IJ73","v":0}]
[null,null,null,null,null,{"$f":"Sécurité!HN74","v":0},{"$f":"Sécurité!HO74","v":0},{"$f":"Sécurité!HP74","v":0},{"$f":"Sécurité!HQ74","v":0},{"$f":"Sécurité!HR74","v":0},{"$f":"Sécurité!HS74","v":0},{"$f":"Sécurité!HT74","v":0},{"$f":"Sécurité!HU74","v":0},{"$f":"Sécurité!HV74","v":0},{"$f":"Sécurité!HW74","v":0},{"$f":"Sécurité!HX74","v":0},{"$f":"Sécurité!HY74","v":0},{"$f":"Sécurité!HZ74","v":0},{"$f":"Sécurité!IA74","v":0},{"$f":"Sécurité!IB74","v":0},{"$f":"Sécurité!IC74","v":0},{"$f":"Sécurité!ID74","v":0},{"$f":"Sécurité!IE74","v":0},{"$f":"Sécurité!IF74","v":0},{"$f":"Sécurité!IG74","v":0},{"$f":"Sécurité!IH74","v":0},{"$f":"Sécurité!II74","v":0},{"$f":"Sécurité!IJ74","v":0}]
[null,null,{"$f":"Sécurité!$C$75","v":"Nature des incidents (sanctions registre)(à décliner)"},{"$f":"Sécurité!$D$75","v":0},{"$f":"Sécurité!HM75","v":0},{"$f":"Sécurité!HN75","v":0},{"$f":"Sécurité!HO75","v":0},{"$f":"Sécurité!HP75","v":0},{"$f":"Sécurité!HQ75","v":0},{"$f":"Sécurité!HR75","v":0},{"$f":"Sécurité!HS75","v":0},{"$f":"Sécurité!HT75","v":0},{"$f":"Sécurité!HU75","v":0},{"$f":"Sécurité!HV75","v":0},{"$f":"Sécurité!HW75","v":0},{"$f":"Sécurité!HX75","v":0},{"$f":"Sécurité!HY75","v":0},{"$f":"Sécurité!HZ75","v":0},{"$f":"Sécurité!IA75","v":0},{"$f":"Sécurité!IB75","v":0},{"$f":"Sécurité!IC75","v":0},{"$f":"Sécurité!ID75","v":0},{"$f":"Sécurité!IE75","v":0},{"$f":"Sécurité!IF75","v":0},{"$f":"Sécurité!IG75","v":0},{"$f":"Sécurité!IH75","v":0},{"$f":"Sécurité!II75","v":0},{"$f":"Sécurité!IJ75","v":0}]
[null,null,{"$f":"Sécurité!$C$76","v":0},{"$f":"Sécurité!$D$76","v":0},{"$f":"Sécurité!HM76","v":0},{"$f":"Sécurité!HN76","v":0},{"$f":"Sécurité!HO76","v":0},{"$f":"Sécurité!HP76","v":0},{"$f":"Sécurité!HQ76","v":0},{"$f":"Sécurité!HR76","v":0},{"$f":"Sécurité!HS76","v":0},{"$f":"Sécurité!HT76","v":0},{"$f":"Sécurité!HU76","v":0},{"$f":"Sécurité!HV76","v":0},{"$f":"Sécurité!HW76","v":0},{"$f":"Sécurité!HX76","v":0},{"$f":"Sécurité!HY76","v":0},{"$f":"Sécurité!HZ76","v":0},{"$f":"Sécurité!IA76","v":0},{"$f":"Sécurité!IB76","v":0},{"$f":"Sécurité!IC76","v":0},{"$f":"Sécurité!ID76","v":0},{"$f":"Sécurité!IE76","v":0},{"$f":"Sécurité!IF76","v":0},{"$f":"Sécurité!IG76","v":0},{"$f":"Sécurité!IH76","v":0},{"$f":"Sécurité!II76","v":0},{"$f":"Sécurité!IJ76","v":0}]
[null,null,{"$f":"Sécurité!$C$77","v":0},{"$f":"Sécurité!$D$77","v":0},{"$f":"Sécurité!HM77","v":0},{"$f":"Sécurité!HN77","v":0},{"$f":"Sécurité!HO77","v":0},{"$f":"Sécurité!HP77","v":0},{"$f":"Sécurité!HQ77","v":0},{"$f":"Sécurité!HR77","v":0},{"$f":"Sécurité!HS77","v":0},{"$f":"Sécurité!HT77","v":0},{"$f":"Sécurité!HU77","v":0},{"$f":"Sécurité!HV77","v":0},{"$f":"Sécurité!HW77","v":0},{"$f":"Sécurité!HX77","v":0},{"$f":"Sécurité!HY77","v":0},{"$f":"Sécurité!HZ77","v":0},{"$f":"Sécurité!IA77","v":0},{"$f":"Sécurité!IB77","v":0},{"$f":"Sécurité!IC77","v":0},{"$f":"Sécurité!ID77","v":0},{"$f":"Sécurité!IE77","v":0},{"$f":"Sécurité!IF77","v":0},{"$f":"Sécurité!IG77","v":0},{"$f":"Sécurité!IH77","v":0},{"$f":"Sécurité!II77","v":0},{"$f":"Sécurité!IJ77","v":0}]
[null,null,{"$f":"Sécurité!$C$78","v":0},{"$f":"Sécurité!$D$78","v":0},{"$f":"Sécurité!HM78","v":0},{"$f":"Sécurité!HN78","v":0},{"$f":"Sécurité!HO78","v":0},{"$f":"Sécurité!HP78","v":0},{"$f":"Sécurité!HQ78","v":0},{"$f":"Sécurité!HR78","v":0},{"$f":"Sécurité!HS78","v":0},{"$f":"Sécurité!HT78","v":0},{"$f":"Sécurité!HU78","v":0},{"$f":"Sécurité!HV78","v":0},{"$f":"Sécurité!HW78","v":0},{"$f":"Sécurité!HX78","v":0},{"$f":"Sécurité!HY78","v":0},{"$f":"Sécurité!HZ78","v":0},{"$f":"Sécurité!IA78","v":0},{"$f":"Sécurité!IB78","v":0},{"$f":"Sécurité!IC78","v":0},{"$f":"Sécurité!ID78","v":0},{"$f":"Sécurité!IE78","v":0},{"$f":"Sécurité!IF78","v":0},{"$f":"Sécurité!IG78","v":0},{"$f":"Sécurité!IH78","v":0},{"$f":"Sécurité!II78","v":0},{"$f":"Sécurité!IJ78","v":0}]
[null,null,{"$f":"Sécurité!$C$79","v":0},{"$f":"Sécurité!$D$79","v":0},{"$f":"Sécurité!HM79","v":0},{"$f":"Sécurité!HN79","v":0},{"$f":"Sécurité!HO79","v":0},{"$f":"Sécurité!HP79","v":0},{"$f":"Sécurité!HQ79","v":0},{"$f":"Sécurité!HR79","v":0},{"$f":"Sécurité!HS79","v":0},{"$f":"Sécurité!HT79","v":0},{"$f":"Sécurité!HU79","v":0},{"$f":"Sécurité!HV79","v":0},{"$f":"Sécurité!HW79","v":0},{"$f":"Sécurité!HX79","v":0},{"$f":"Sécurité!HY79","v":0},{"$f":"Sécurité!HZ79","v":0},{"$f":"Sécurité!IA79","v":0},{"$f":"Sécurité!IB79","v":0},{"$f":"Sécurité!IC79","v":0},{"$f":"Sécurité!ID79","v":0},{"$f":"Sécurité!IE79","v":0},{"$f":"Sécurité!IF79","v":0},{"$f":"Sécurité!IG79","v":0},{"$f":"Sécurité!IH79","v":0},{"$f":"Sécurité!II79","v":0},{"$f":"Sécurité!IJ79","v":0}]
[null,null,{"$f":"Sécurité!$C$80","v":0},{"$f":"Sécurité!$D$80","v":0},{"$f":"Sécurité!HM80","v":0},{"$f":"Sécurité!HN80","v":0},{"$f":"Sécurité!HO80","v":0},{"$f":"Sécurité!HP80","v":0},{"$f":"Sécurité!HQ80","v":0},{"$f":"Sécurité!HR80","v":0},{"$f":"Sécurité!HS80","v":0},{"$f":"Sécurité!HT80","v":0},{"$f":"Sécurité!HU80","v":0},{"$f":"Sécurité!HV80","v":0},{"$f":"Sécurité!HW80","v":0},{"$f":"Sécurité!HX80","v":0},{"$f":"Sécurité!HY80","v":0},{"$f":"Sécurité!HZ80","v":0},{"$f":"Sécurité!IA80","v":0},{"$f":"Sécurité!IB80","v":0},{"$f":"Sécurité!IC80","v":0},{"$f":"Sécurité!ID80","v":0},{"$f":"Sécurité!IE80","v":0},{"$f":"Sécurité!IF80","v":0},{"$f":"Sécurité!IG80","v":0},{"$f":"Sécurité!IH80","v":0},{"$f":"Sécurité!II80","v":0},{"$f":"Sécurité!IJ80","v":0}]
[null,null,{"$f":"Sécurité!$C$81","v":0},{"$f":"Sécurité!$D$81","v":0},{"$f":"Sécurité!HM81","v":0},{"$f":"Sécurité!HN81","v":0},{"$f":"Sécurité!HO81","v":0},{"$f":"Sécurité!HP81","v":0},{"$f":"Sécurité!HQ81","v":0},{"$f":"Sécurité!HR81","v":0},{"$f":"Sécurité!HS81","v":0},{"$f":"Sécurité!HT81","v":0},{"$f":"Sécurité!HU81","v":0},{"$f":"Sécurité!HV81","v":0},{"$f":"Sécurité!HW81","v":0},{"$f":"Sécurité!HX81","v":0},{"$f":"Sécurité!HY81","v":0},{"$f":"Sécurité!HZ81","v":0},{"$f":"Sécurité!IA81","v":0},{"$f":"Sécurité!IB81","v":0},{"$f":"Sécurité!IC81","v":0},{"$f":"Sécurité!ID81","v":0},{"$f":"Sécurité!IE81","v":0},{"$f":"Sécurité!IF81","v":0},{"$f":"Sécurité!IG81","v":0},{"$f":"Sécurité!IH81","v":0},{"$f":"Sécurité!II81","v":0},{"$f":"Sécurité!IJ81","v":0}]
[null,null,{"$f":"Sécurité!$C$82","v":0},{"$f":"Sécurité!$D$82","v":0},{"$f":"Sécurité!HM82","v":0},{"$f":"Sécurité!HN82","v":0},{"$f":"Sécurité!HO82","v":0},{"$f":"Sécurité!HP82","v":0},{"$f":"Sécurité!HQ82","v":0},{"$f":"Sécurité!HR82","v":0},{"$f":"Sécurité!HS82","v":0},{"$f":"Sécurité!HT82","v":0},{"$f":"Sécurité!HU82","v":0},{"$f":"Sécurité!HV82","v":0},{"$f":"Sécurité!HW82","v":0},{"$f":"Sécurité!HX82","v":0},{"$f":"Sécurité!HY82","v":0},{"$f":"Sécurité!HZ82","v":0},{"$f":"Sécurité!IA82","v":0},{"$f":"Sécurité!IB82","v":0},{"$f":"Sécurité!IC82","v":0},{"$f":"Sécurité!ID82","v":0},{"$f":"Sécurité!IE82","v":0},{"$f":"Sécurité!IF82","v":0},{"$f":"Sécurité!IG82","v":0},{"$f":"Sécurité!IH82","v":0},{"$f":"Sécurité!II82","v":0},{"$f":"Sécurité!IJ82","v":0}]
[]
[null,"Conseils de discipline"]
[]
[]
[null,null,null,"Nb par niveau",null,null,null,null,null,null,null,null,null,"Nb d'élèves concernés"]
[null,null,"tableau mensuel",{"$f":"Sécurité!D92","v":0},{"$f":"Sécurité!E92","v":0},{"$f":"Sécurité!F92","v":0},{"$f":"Sécurité!G92","v":0},{"$f":"Sécurité!H92","v":0},{"$f":"Sécurité!I92","v":0},{"$f":"Sécurité!J92","v":0},{"$f":"Sécurité!K92","v":0},{"$f":"Sécurité!L92","v":0},{"$f":"Sécurité!M92","v":0},{"$f":"Sécurité!N92","v":0},{"$f":"Sécurité!O92","v":0},{"$f":"Sécurité!P92","v":0},{"$f":"Sécurité!Q92","v":0},{"$f":"Sécurité!R92","v":0},{"$f":"Sécurité!S92","v":0},{"$f":"Sécurité!T92","v":0},{"$f":"Sécurité!U92","v":0},{"$f":"Sécurité!V92","v":0},{"$f":"Sécurité!W92","v":0}]
[null,null,"Conseil de discipline",{"$f":"Sécurité!D93","v":0},{"$f":"Sécurité!E93","v":0},{"$f":"Sécurité!F93","v":0},{"$f":"Sécurité!G93","v":0},{"$f":"Sécurité!H93","v":0},{"$f":"Sécurité!I93","v":0},{"$f":"Sécurité!J93","v":0},{"$f":"Sécurité!K93","v":0},{"$f":"Sécurité!L93","v":0},{"$f":"Sécurité!M93","v":0},{"$f":"Sécurité!N93","v":0},{"$f":"Sécurité!O93","v":0},{"$f":"Sécurité!P93","v":0},{"$f":"Sécurité!Q93","v":0},{"$f":"Sécurité!R93","v":0},{"$f":"Sécurité!S93","v":0},{"$f":"Sécurité!T93","v":0},{"$f":"Sécurité!U93","v":0},{"$f":"Sécurité!V93","v":0},{"$f":"Sécurité!W93","v":0}]
[null,null,"Commission alternative au conseil de discipline",{"$f":"Sécurité!D94","v":0},{"$f":"Sécurité!E94","v":0},{"$f":"Sécurité!F94","v":0},{"$f":"Sécurité!G94","v":0},{"$f":"Sécurité!H94","v":0},{"$f":"Sécurité!I94","v":0},{"$f":"Sécurité!J94","v":0},{"$f":"Sécurité!K94","v":0},{"$f":"Sécurité!L94","v":0},{"$f":"Sécurité!M94","v":0},{"$f":"Sécurité!N94","v":0},{"$f":"Sécurité!O94","v":0},{"$f":"Sécurité!P94","v":0},{"$f":"Sécurité!Q94","v":0},{"$f":"Sécurité!R94","v":0},{"$f":"Sécurité!S94","v":0},{"$f":"Sécurité!T94","v":0},{"$f":"Sécurité!U94","v":0},{"$f":"Sécurité!V94","v":0},{"$f":"Sécurité!W94","v":0}]
[null,null,"Nb d'exclusions définitives",{"$f":"Sécurité!D95","v":0},{"$f":"Sécurité!E95","v":0},{"$f":"Sécurité!F95","v":0},{"$f":"Sécurité!G95","v":0},{"$f":"Sécurité!H95","v":0},{"$f":"Sécurité!I95","v":0},{"$f":"Sécurité!J95","v":0},{"$f":"Sécurité!K95","v":0},{"$f":"Sécurité!L95","v":0},{"$f":"Sécurité!M95","v":0},{"$f":"Sécurité!N95","v":0},{"$f":"Sécurité!O95","v":0},{"$f":"Sécurité!P95","v":0},{"$f":"Sécurité!Q95","v":0},{"$f":"Sécurité!R95","v":0},{"$f":"Sécurité!S95","v":0},{"$f":"Sécurité!T95","v":0},{"$f":"Sécurité!U95","v":0},{"$f":"Sécurité!V95","v":0},{"$f":"Sécurité!W95","v":0}]
[]
["Etre éduqué"]
[null,"Développement de la responsabilité de soi et des autres"]
[]
[null,"(un tableau à développer par année scolaire : il s'agit de l'observation des phénomènes et pas des actions conduites au bénéfice des élèves)"]
[]
[]
[null,null,"Tableau annuel",null,null,null,"Effectifs concernés",null,null,null,null,null,null,null,null,null,"Punitions "]
[null,null,null,null,null,null,{"$f":"Education!G9","v":0},{"$f":"Education!H9","v":0},{"$f":"Education!I9","v":0},{"$f":"Education!J9","v":0},{"$f":"Education!K9","v":0},{"$f":"Education!L9","v":0},{"$f":"Education!M9","v":0},{"$f":"Education!N9","v":0},{"$f":"Education!O9","v":0},{"$f":"Education!P9","v":0},{"$f":"Education!Q9","v":0},{"$f":"Education!R9","v":0},{"$f":"Education!S9","v":0},{"$f":"Education!T9","v":0},{"$f":"Education!U9","v":0},{"$f":"Education!V9","v":0},{"$f":"Education!W9","v":0},{"$f":"Education!X9","v":0},{"$f":"Education!Y9","v":0},{"$f":"Education!Z9","v":0}]
[null,"Prévention des conduites addictives",null,null,"Tabac",null,{"$f":"Education!G10","v":0},{"$f":"Education!H10","v":0},{"$f":"Education!I10","v":0},{"$f":"Education!J10","v":0},{"$f":"Education!K10","v":0},{"$f":"Education!L10","v":0},{"$f":"Education!M10","v":0},{"$f":"Education!N10","v":0},{"$f":"Education!O10","v":0},{"$f":"Education!P10","v":0},{"$f":"Education!Q10","v":0},{"$f":"Education!R10","v":0},{"$f":"Education!S10","v":0},{"$f":"Education!T10","v":0},{"$f":"Education!U10","v":0},{"$f":"Education!V10","v":0},{"$f":"Education!W10","v":0},{"$f":"Education!X10","v":0},{"$f":"Education!Y10","v":0},{"$f":"Education!Z10","v":0}]
[null,null,null,null,"Alcool",null,{"$f":"Education!G11","v":0},{"$f":"Education!H11","v":0},{"$f":"Education!I11","v":0},{"$f":"Education!J11","v":0},{"$f":"Education!K11","v":0},{"$f":"Education!L11","v":0},{"$f":"Education!M11","v":0},{"$f":"Education!N11","v":0},{"$f":"Education!O11","v":0},{"$f":"Education!P11","v":0},{"$f":"Education!Q11","v":0},{"$f":"Education!R11","v":0},{"$f":"Education!S11","v":0},{"$f":"Education!T11","v":0},{"$f":"Education!U11","v":0},{"$f":"Education!V11","v":0},{"$f":"Education!W11","v":0},{"$f":"Education!X11","v":0},{"$f":"Education!Y11","v":0},{"$f":"Education!Z11","v":0}]
[null,null,null,null,"Stupéfiant",null,{"$f":"Education!G12","v":0},{"$f":"Education!H12","v":0},{"$f":"Education!I12","v":0},{"$f":"Education!J12","v":0},{"$f":"Education!K12","v":0},{"$f":"Education!L12","v":0},{"$f":"Education!M12","v":0},{"$f":"Education!N12","v":0},{"$f":"Education!O12","v":0},{"$f":"Education!P12","v":0},{"$f":"Education!Q12","v":0},{"$f":"Education!R12","v":0},{"$f":"Education!S12","v":0},{"$f":"Education!T12","v":0},{"$f":"Education!U12","v":0},{"$f":"Education!V12","v":0},{"$f":"Education!W12","v":0},{"$f":"Education!X12","v":0},{"$f":"Education!Y12","v":0},{"$f":"Education!Z12","v":0}]
[null,null,null,null,"Cyberdépendance",null,{"$f":"Education!G13","v":0},{"$f":"Education!H13","v":0},{"$f":"Education!I13","v":0},{"$f":"Education!J13","v":0},{"$f":"Education!K13","v":0},{"$f":"Education!L13","v":0},{"$f":"Education!M13","v":0},{"$f":"Education!N13","v":0},{"$f":"Education!O13","v":0},{"$f":"Education!P13","v":0},{"$f":"Education!Q13","v":0},{"$f":"Education!R13","v":0},{"$f":"Education!S13","v":0},{"$f":"Education!T13","v":0},{"$f":"Education!U13","v":0},{"$f":"Education!V13","v":0},{"$f":"Education!W13","v":0},{"$f":"Education!X13","v":0},{"$f":"Education!Y13","v":0},{"$f":"Education!Z13","v":0}]
[null,"Prévention sécurité routière",null,null,null,null,{"$f":"Education!G14","v":0},{"$f":"Education!H14","v":0},{"$f":"Education!I14","v":0},{"$f":"Education!J14","v":0},{"$f":"Education!K14","v":0},{"$f":"Education!L14","v":0},{"$f":"Education!M14","v":0},{"$f":"Education!N14","v":0},{"$f":"Education!O14","v":0},{"$f":"Education!P14","v":0},{"$f":"Education!Q14","v":0},{"$f":"Education!R14","v":0},{"$f":"Education!S14","v":0},{"$f":"Education!T14","v":0},{"$f":"Education!U14","v":0},{"$f":"Education!V14","v":0},{"$f":"Education!W14","v":0},{"$f":"Education!X14","v":0},{"$f":"Education!Y14","v":0},{"$f":"Education!Z14","v":0}]
[null,null,null,null,"Grossesse",null,{"$f":"Education!G15","v":0},{"$f":"Education!H15","v":0},{"$f":"Education!I15","v":0},{"$f":"Education!J15","v":0},{"$f":"Education!K15","v":0},{"$f":"Education!L15","v":0},{"$f":"Education!M15","v":0},{"$f":"Education!N15","v":0},{"$f":"Education!O15","v":0},{"$f":"Education!P15","v":0},{"$f":"Education!Q15","v":0},{"$f":"Education!R15","v":0},{"$f":"Education!S15","v":0},{"$f":"Education!T15","v":0},{"$f":"Education!U15","v":0},{"$f":"Education!V15","v":0},{"$f":"Education!W15","v":0},{"$f":"Education!X15","v":0},{"$f":"Education!Y15","v":0},{"$f":"Education!Z15","v":0}]
[null,"Prévention santé",null,null,"Hygiène",null,{"$f":"Education!G16","v":0},{"$f":"Education!H16","v":0},{"$f":"Education!I16","v":0},{"$f":"Education!J16","v":0},{"$f":"Education!K16","v":0},{"$f":"Education!L16","v":0},{"$f":"Education!M16","v":0},{"$f":"Education!N16","v":0},{"$f":"Education!O16","v":0},{"$f":"Education!P16","v":0},{"$f":"Education!Q16","v":0},{"$f":"Education!R16","v":0},{"$f":"Education!S16","v":0},{"$f":"Education!T16","v":0},{"$f":"Education!U16","v":0},{"$f":"Education!V16","v":0},{"$f":"Education!W16","v":0},{"$f":"Education!X16","v":0},{"$f":"Education!Y16","v":0},{"$f":"Education!Z16","v":0}]
[null,null,null,null,"Alimentation",null,{"$f":"Education!G17","v":0},{"$f":"Education!H17","v":0},{"$f":"Education!I17","v":0},{"$f":"Education!J17","v":0},{"$f":"Education!K17","v":0},{"$f":"Education!L17","v":0},{"$f":"Education!M17","v":0},{"$f":"Education!N17","v":0},{"$f":"Education!O17","v":0},{"$f":"Education!P17","v":0},{"$f":"Education!Q17","v":0},{"$f":"Education!R17","v":0},{"$f":"Education!S17","v":0},{"$f":"Education!T17","v":0},{"$f":"Education!U17","v":0},{"$f":"Education!V17","v":0},{"$f":"Education!W17","v":0},{"$f":"Education!X17","v":0},{"$f":"Education!Y17","v":0},{"$f":"Education!Z17","v":0}]
[null,null,null,null,"Jeux dangereux",null,{"$f":"Education!G18","v":0},{"$f":"Education!H18","v":0},{"$f":"Education!I18","v":0},{"$f":"Education!J18","v":0},{"$f":"Education!K18","v":0},{"$f":"Education!L18","v":0},{"$f":"Education!M18","v":0},{"$f":"Education!N18","v":0},{"$f":"Education!O18","v":0},{"$f":"Education!P18","v":0},{"$f":"Education!Q18","v":0},{"$f":"Education!R18","v":0},{"$f":"Education!S18","v":0},{"$f":"Education!T18","v":0},{"$f":"Education!U18","v":0},{"$f":"Education!V18","v":0},{"$f":"Education!W18","v":0},{"$f":"Education!X18","v":0},{"$f":"Education!Y18","v":0},{"$f":"Education!Z18","v":0}]
[null,null,null,"Passage à l'infirmerie \nhors pathologie",null,null,{"$f":"Education!G19","v":0},{"$f":"Education!H19","v":0},{"$f":"Education!I19","v":0},{"$f":"Education!J19","v":0},{"$f":"Education!K19","v":0},{"$f":"Education!L19","v":0},{"$f":"Education!M19","v":0},{"$f":"Education!N19","v":0},{"$f":"Education!O19","v":0},{"$f":"Education!P19","v":0},{"$f":"Education!Q19","v":0},{"$f":"Education!R19","v":0},{"$f":"Education!S19","v":0},{"$f":"Education!T19","v":0},{"$f":"Education!U19","v":0},{"$f":"Education!V19","v":0},{"$f":"Education!W19","v":0},{"$f":"Education!X19","v":0},{"$f":"Education!Y19","v":0},{"$f":"Education!Z19","v":0}]
[]
[null,null,"Tableau annuel",null,null,null,"Sanctions"]
[null,null,null,null,null,null,{"$f":"Education!AA9","v":0},{"$f":"Education!AB9","v":0},{"$f":"Education!AC9","v":0},{"$f":"Education!AD9","v":0},{"$f":"Education!AE9","v":0},{"$f":"Education!AF9","v":0},{"$f":"Education!AG9","v":0},{"$f":"Education!AH9","v":0},{"$f":"Education!AI9","v":0},{"$f":"Education!AJ9","v":0}]
[null,"Prévention des conduites addictives",null,null,"Tabac",null,{"$f":"Education!AA10","v":0},{"$f":"Education!AB10","v":0},{"$f":"Education!AC10","v":0},{"$f":"Education!AD10","v":0},{"$f":"Education!AE10","v":0},{"$f":"Education!AF10","v":0},{"$f":"Education!AG10","v":0},{"$f":"Education!AH10","v":0},{"$f":"Education!AI10","v":0},{"$f":"Education!AJ10","v":0}]
[null,null,null,null,"Alcool",null,{"$f":"Education!AA11","v":0},{"$f":"Education!AB11","v":0},{"$f":"Education!AC11","v":0},{"$f":"Education!AD11","v":0},{"$f":"Education!AE11","v":0},{"$f":"Education!AF11","v":0},{"$f":"Education!AG11","v":0},{"$f":"Education!AH11","v":0},{"$f":"Education!AI11","v":0},{"$f":"Education!AJ11","v":0}]
[null,null,null,null,"Stupéfiant",null,{"$f":"Education!AA12","v":0},{"$f":"Education!AB12","v":0},{"$f":"Education!AC12","v":0},{"$f":"Education!AD12","v":0},{"$f":"Education!AE12","v":0},{"$f":"Education!AF12","v":0},{"$f":"Education!AG12","v":0},{"$f":"Education!AH12","v":0},{"$f":"Education!AI12","v":0},{"$f":"Education!AJ12","v":0}]
[null,null,null,null,"Cyberdépendance",null,{"$f":"Education!AA13","v":0},{"$f":"Education!AB13","v":0},{"$f":"Education!AC13","v":0},{"$f":"Education!AD13","v":0},{"$f":"Education!AE13","v":0},{"$f":"Education!AF13","v":0},{"$f":"Education!AG13","v":0},{"$f":"Education!AH13","v":0},{"$f":"Education!AI13","v":0},{"$f":"Education!AJ13","v":0}]
[null,"Prévention sécurité routière",null,null,null,null,{"$f":"Education!AA14","v":0},{"$f":"Education!AB14","v":0},{"$f":"Education!AC14","v":0},{"$f":"Education!AD14","v":0},{"$f":"Education!AE14","v":0},{"$f":"Education!AF14","v":0},{"$f":"Education!AG14","v":0},{"$f":"Education!AH14","v":0},{"$f":"Education!AI14","v":0},{"$f":"Education!AJ14","v":0}]
[null,null,null,null,"Grossesse",null,{"$f":"Education!AA15","v":0},{"$f":"Education!AB15","v":0},{"$f":"Education!AC15","v":0},{"$f":"Education!AD15","v":0},{"$f":"Education!AE15","v":0},{"$f":"Education!AF15","v":0},{"$f":"Education!AG15","v":0},{"$f":"Education!AH15","v":0},{"$f":"Education!AI15","v":0},{"$f":"Education!AJ15","v":0}]
[null,"Prévention santé",null,null,"Hygiène",null,{"$f":"Education!AA16","v":0},{"$f":"Education!AB16","v":0},{"$f":"Education!AC16","v":0},{"$f":"Education!AD16","v":0},{"$f":"Education!AE16","v":0},{"$f":"Education!AF16","v":0},{"$f":"Education!AG16","v":0},{"$f":"Education!AH16","v":0},{"$f":"Education!AI16","v":0},{"$f":"Education!AJ16","v":0}]
[null,null,null,null,"Alimentation",null,{"$f":"Education!AA17","v":0},{"$f":"Education!AB17","v":0},{"$f":"Education!AC17","v":0},{"$f":"Education!AD17","v":0},{"$f":"Education!AE17","v":0},{"$f":"Education!AF17","v":0},{"$f":"Education!AG17","v":0},{"$f":"Education!AH17","v":0},{"$f":"Education!AI17","v":0},{"$f":"Education!AJ17","v":0}]
[null,null,null,null,"Jeux dangereux",null,{"$f":"Education!AA18","v":0},{"$f":"Education!AB18","v":0},{"$f":"Education!AC18","v":0},{"$f":"Education!AD18","v":0},{"$f":"Education!AE18","v":0},{"$f":"Education!AF18","v":0},{"$f":"Education!AG18","v":0},{"$f":"Education!AH18","v":0},{"$f":"Education!AI18","v":0},{"$f":"Education!AJ18","v":0}]
[null,null,null,"Passage à l'infirmerie \nhors pathologie",null,null,{"$f":"Education!AA19","v":0},{"$f":"Education!AB19","v":0},{"$f":"Education!AC19","v":0},{"$f":"Education!AD19","v":0},{"$f":"Education!AE19","v":0},{"$f":"Education!AF19","v":0},{"$f":"Education!AG19","v":0},{"$f":"Education!AH19","v":0},{"$f":"Education!AI19","v":0},{"$f":"Education!AJ19","v":0}]
[]
[]
[]
["Etre éduqué"]
[null,"Développement de la citoyenneté et apprentissage de la démocratie"]
[null,"(un tableau par année scolaire)"]
[]
[null,null,"Tableau annuel",null,"Nombre de candidats",null,null,null,null,null,null,null,null,null,"Nombre de votant"]
[null,null,null,null,{"$f":"Education!E26","v":0},{"$f":"Education!F26","v":0},{"$f":"Education!G26","v":0},{"$f":"Education!H26","v":0},{"$f":"Education!I26","v":0},{"$f":"Education!J26","v":0},{"$f":"Education!K26","v":0},{"$f":"Education!L26","v":0},{"$f":"Education!M26","v":0},{"$f":"Education!N26","v":0},{"$f":"Education!O26","v":0},{"$f":"Education!P26","v":0},{"$f":"Education!Q26","v":0},{"$f":"Education!R26","v":0},{"$f":"Education!S26","v":0},{"$f":"Education!T26","v":0},{"$f":"Education!U26","v":0},{"$f":"Education!V26","v":0},{"$f":"Education!W26","v":0},{"$f":"Education!X26","v":0}]
[null,"Elections",null,"Nb candidats",{"$f":"Education!E27","v":0},{"$f":"Education!F27","v":0},{"$f":"Education!G27","v":0},{"$f":"Education!H27","v":0},{"$f":"Education!I27","v":0},{"$f":"Education!J27","v":0},{"$f":"Education!K27","v":0},{"$f":"Education!L27","v":0},{"$f":"Education!M27","v":0},{"$f":"Education!N27","v":0},{"$f":"Education!O27","v":0},{"$f":"Education!P27","v":0},{"$f":"Education!Q27","v":0},{"$f":"Education!R27","v":0},{"$f":"Education!S27","v":0},{"$f":"Education!T27","v":0},{"$f":"Education!U27","v":0},{"$f":"Education!V27","v":0},{"$f":"Education!W27","v":0},{"$f":"Education!X27","v":0}]
[null,null,null,"%",{"$f":"Education!E28","v":0},{"$f":"Education!F28","v":0},{"$f":"Education!G28","v":0},{"$f":"Education!H28","v":0},{"$f":"Education!I28","v":0},{"$f":"Education!J28","v":0},{"$f":"Education!K28","v":0},{"$f":"Education!L28","v":0},{"$f":"Education!M28","v":0},{"$f":"Education!N28","v":0},{"$f":"Education!O28","v":0},{"$f":"Education!P28","v":0},{"$f":"Education!Q28","v":0},{"$f":"Education!R28","v":0},{"$f":"Education!S28","v":0},{"$f":"Education!T28","v":0},{"$f":"Education!U28","v":0},{"$f":"Education!V28","v":0},{"$f":"Education!W28","v":0},{"$f":"Education!X28","v":0}]
[]
[]
[]
[]
[]
[]
["Etre éduqué"]
[]
[null,null,"Implication des délégués",null,null,"Nb de réunions (en 1/2 j)",null,"Effectif",null,"%"]
[null,null,"Formation des délégués",null,null,{"$f":"Education!F38","v":0},null,{"$f":"Education!H38","v":0},null,{"$f":"Education!J38","v":0}]
[null,null,"Conférence des délégués",null,null,{"$f":"Education!F39","v":0},null,{"$f":"Education!H39","v":0},null,{"$f":"Education!J39","v":0}]
[null,null,"CVL",null,null,{"$f":"Education!F40","v":0},null,{"$f":"Education!H40","v":0},null,{"$f":"Education!J40","v":0}]
[]
[]
[]
[null,null,"Actions",null,null,"Nb d'actions délégués/ CVL",null,null,null,"Nb d'actions en Hvie classe ",null,"Autre"]
[null,null,"Education à la démocratie",null,null,{"$f":"Education!F45","v":0},null,null,null,{"$f":"Education!J45","v":0},null,{"$f":"Education!L45","v":0}]
[]
[]
[null,"Développement de l'autonomie, de la responsabilité, de l'engagement, et de l'ouverture culturelle"]
[]
[null,null,"Tableau annuel"]
[null,null,null,null,null,{"$f":"Education!F51","v":"Nb total"},{"$f":"Education!G51","v":"Nb d'élèves inscrits par niveau"},null,null,null,null,null,null,null,null,null,{"$f":"Education!Q51","v":"%"},{"$f":"Education!R51","v":"Nombre d'enseignants impliqués"},null,{"$f":"Education!T51","v":"%"},{"$f":"Education!U51","v":"Autre"}]
[null,null,"Elèves inscrits",null,null,null,{"$f":"Education!G52","v":0},{"$f":"Education!H52","v":0},{"$f":"Education!I52","v":0},{"$f":"Education!J52","v":0},{"$f":"Education!K52","v":0},{"$f":"Education!L52","v":0},{"$f":"Education!M52","v":0},{"$f":"Education!N52","v":0},{"$f":"Education!O52","v":0},{"$f":"Education!P52","v":0}]
[null,null,"MDL, FSE",null,null,{"$f":"Education!F53","v":0},{"$f":"Education!G53","v":0},{"$f":"Education!H53","v":0},{"$f":"Education!I53","v":0},{"$f":"Education!J53","v":0},{"$f":"Education!K53","v":0},{"$f":"Education!L53","v":0},{"$f":"Education!M53","v":0},{"$f":"Education!N53","v":0},{"$f":"Education!O53","v":0},{"$f":"Education!P53","v":0},{"$f":"Education!Q53","v":0},{"$f":"Education!R53","v":0},null,{"$f":"Education!T53","v":0},{"$f":"Education!U53","v":0}]
[null,null,"Clubs",null,null,{"$f":"Education!F54","v":0},{"$f":"Education!G54","v":0},{"$f":"Education!H54","v":0},{"$f":"Education!I54","v":0},{"$f":"Education!J54","v":0},{"$f":"Education!K54","v":0},{"$f":"Education!L54","v":0},{"$f":"Education!M54","v":0},{"$f":"Education!N54","v":0},{"$f":"Education!O54","v":0},{"$f":"Education!P54","v":0},{"$f":"Education!Q54","v":0},{"$f":"Education!R54","v":0},null,{"$f":"Education!T54","v":0},{"$f":"Education!U54","v":0}]
[null,null,"UNSS",null,null,{"$f":"Education!F55","v":0},{"$f":"Education!G55","v":0},{"$f":"Education!H55","v":0},{"$f":"Education!I55","v":0},{"$f":"Education!J55","v":0},{"$f":"Education!K55","v":0},{"$f":"Education!L55","v":0},{"$f":"Education!M55","v":0},{"$f":"Education!N55","v":0},{"$f":"Education!O55","v":0},{"$f":"Education!P55","v":0},{"$f":"Education!Q55","v":0},{"$f":"Education!R55","v":0},null,{"$f":"Education!T55","v":0},{"$f":"Education!U55","v":0}]
[null,null,"Sorties scolaires",null,null,{"$f":"Education!F56","v":0},{"$f":"Education!G56","v":0},{"$f":"Education!H56","v":0},{"$f":"Education!I56","v":0},{"$f":"Education!J56","v":0},{"$f":"Education!K56","v":0},{"$f":"Education!L56","v":0},{"$f":"Education!M56","v":0},{"$f":"Education!N56","v":0},{"$f":"Education!O56","v":0},{"$f":"Education!P56","v":0},{"$f":"Education!Q56","v":0},{"$f":"Education!R56","v":0},null,{"$f":"Education!T56","v":0},{"$f":"Education!U56","v":0}]
[null,null,"Ateliers",null,null,{"$f":"Education!F57","v":0},{"$f":"Education!G57","v":0},{"$f":"Education!H57","v":0},{"$f":"Education!I57","v":0},{"$f":"Education!J57","v":0},{"$f":"Education!K57","v":0},{"$f":"Education!L57","v":0},{"$f":"Education!M57","v":0},{"$f":"Education!N57","v":0},{"$f":"Education!O57","v":0},{"$f":"Education!P57","v":0},{"$f":"Education!Q57","v":0},{"$f":"Education!R57","v":0},null,{"$f":"Education!T57","v":0},{"$f":"Education!U57","v":0}]
[]
[]
[]
[]
[]
[]
[]
[]
[]
[]
[]
["Etre formé"]
[null,"Accompagnement de la scolarité par l'établissement"]
[null,null,null,null,null,null,null,null,null,null,null,null,null,null,"(un tableau à développer par année scolaire)"]
[null,"Tableau annuel",null,null,{"$f":"Identification!$B$29","v":"2015-2016"}]
[null,"Accompagnement éducatif ",null,null,{"$f":"Formation!E6","v":"Nb d'activités ou d'actions"},null,{"$f":"Formation!G6","v":"Nombre d'élèves concernés"},null,null,null,null,null,null,null,null,null,{"$f":"Formation!Q6","v":"Nb d'enseignants impliqués"},null,{"$f":"Formation!S6","v":"Nb d'AED impliqués"},null,{"$f":"Formation!U6","v":"Autres intervenants"}]
[null,null,null,null,null,null,{"$f":"Formation!G7","v":0},{"$f":"Formation!H7","v":0},{"$f":"Formation!I7","v":0},{"$f":"Formation!J7","v":0},{"$f":"Formation!K7","v":0},{"$f":"Formation!L7","v":0},{"$f":"Formation!M7","v":0},{"$f":"Formation!N7","v":0},{"$f":"Formation!O7","v":0},{"$f":"Formation!P7","v":0}]
[null,null,"Soutien",null,{"$f":"Formation!E8","v":0},null,{"$f":"Formation!G8","v":0},{"$f":"Formation!H8","v":0},{"$f":"Formation!I8","v":0},{"$f":"Formation!J8","v":0},{"$f":"Formation!K8","v":0},{"$f":"Formation!L8","v":0},{"$f":"Formation!M8","v":0},{"$f":"Formation!N8","v":0},{"$f":"Formation!O8","v":0},{"$f":"Formation!P8","v":0},{"$f":"Formation!Q8","v":0},null,{"$f":"Formation!S8","v":0},null,{"$f":"Formation!U8","v":0}]
[null,null,"ATPE",null,{"$f":"Formation!E9","v":0},null,{"$f":"Formation!G9","v":0},{"$f":"Formation!H9","v":0},{"$f":"Formation!I9","v":0},{"$f":"Formation!J9","v":0},{"$f":"Formation!K9","v":0},{"$f":"Formation!L9","v":0},{"$f":"Formation!M9","v":0},{"$f":"Formation!N9","v":0},{"$f":"Formation!O9","v":0},{"$f":"Formation!P9","v":0},{"$f":"Formation!Q9","v":0},null,{"$f":"Formation!S9","v":0},null,{"$f":"Formation!U9","v":0}]
[null,null,"Tutorat",null,{"$f":"Formation!E10","v":0},null,{"$f":"Formation!G10","v":0},{"$f":"Formation!H10","v":0},{"$f":"Formation!I10","v":0},{"$f":"Formation!J10","v":0},{"$f":"Formation!K10","v":0},{"$f":"Formation!L10","v":0},{"$f":"Formation!M10","v":0},{"$f":"Formation!N10","v":0},{"$f":"Formation!O10","v":0},{"$f":"Formation!P10","v":0},{"$f":"Formation!Q10","v":0},null,{"$f":"Formation!S10","v":0},null,{"$f":"Formation!U10","v":0}]
[null,null,"PPRE",null,{"$f":"Formation!E11","v":0},null,{"$f":"Formation!G11","v":0},{"$f":"Formation!H11","v":0},{"$f":"Formation!I11","v":0},{"$f":"Formation!J11","v":0},{"$f":"Formation!K11","v":0},{"$f":"Formation!L11","v":0},{"$f":"Formation!M11","v":0},{"$f":"Formation!N11","v":0},{"$f":"Formation!O11","v":0},{"$f":"Formation!P11","v":0},{"$f":"Formation!Q11","v":0},null,{"$f":"Formation!S11","v":0},null,{"$f":"Formation!U11","v":0}]
[null,null,"Autres ateliers (à décliner)",null,{"$f":"Formation!E12","v":0},null,{"$f":"Formation!G12","v":0},{"$f":"Formation!H12","v":0},{"$f":"Formation!I12","v":0},{"$f":"Formation!J12","v":0},{"$f":"Formation!K12","v":0},{"$f":"Formation!L12","v":0},{"$f":"Formation!M12","v":0},{"$f":"Formation!N12","v":0},{"$f":"Formation!O12","v":0},{"$f":"Formation!P12","v":0},{"$f":"Formation!Q12","v":0},null,{"$f":"Formation!S12","v":0},null,{"$f":"Formation!U12","v":0}]
[]
[]
[null,"Commission de suivi \nou GAIN",null,null,{"$f":"Identification!$B$29","v":"2015-2016"}]
[null,null,null,null,null,null,{"$f":"Formation!G16","v":0},{"$f":"Formation!H16","v":0},{"$f":"Formation!I16","v":0},{"$f":"Formation!J16","v":0},{"$f":"Formation!K16","v":0},{"$f":"Formation!L16","v":0},{"$f":"Formation!M16","v":0},{"$f":"Formation!N16","v":0},{"$f":"Formation!O16","v":0},{"$f":"Formation!P16","v":0},{"$f":"Formation!Q16","v":"Total"}]
[null,null,"Nb d'élèves suivis",null,null,null,{"$f":"Formation!G17","v":0},{"$f":"Formation!H17","v":0},{"$f":"Formation!I17","v":0},{"$f":"Formation!J17","v":0},{"$f":"Formation!K17","v":0},{"$f":"Formation!L17","v":0},{"$f":"Formation!M17","v":0},{"$f":"Formation!N17","v":0},{"$f":"Formation!O17","v":0},{"$f":"Formation!P17","v":0},{"$f":"Formation!Q17","v":0}]
[]
["Etre formé"]
[null,"Accompagnement de la scolarité par les parents"]
[]
[null,null,"Tableau trimestriel",null,null,{"$f":"Formation!F34","v":"PREMIER TRIMESTRE"},null,null,null,null,null,null,null,null,null,null,{"$f":"Formation!Q34","v":"SECOND TRIMESTRE"}]
[null,null,"Nb de familles représentées",null,null,{"$f":"Formation!F35","v":0},{"$f":"Formation!G35","v":0},{"$f":"Formation!H35","v":0},{"$f":"Formation!I35","v":0},{"$f":"Formation!J35","v":0},{"$f":"Formation!K35","v":0},{"$f":"Formation!L35","v":0},{"$f":"Formation!M35","v":0},{"$f":"Formation!N35","v":0},{"$f":"Formation!O35","v":0},null,{"$f":"Formation!Q35","v":0},{"$f":"Formation!R35","v":0},{"$f":"Formation!S35","v":0},{"$f":"Formation!T35","v":0},{"$f":"Formation!U35","v":0},{"$f":"Formation!V35","v":0},{"$f":"Formation!W35","v":0},{"$f":"Formation!X35","v":0},{"$f":"Formation!Y35","v":0},{"$f":"Formation!Z35","v":0}]
[null,null,"Réunion de rentrée",null,null,{"$f":"Formation!F36","v":0},{"$f":"Formation!G36","v":0},{"$f":"Formation!H36","v":0},{"$f":"Formation!I36","v":0},{"$f":"Formation!J36","v":0},{"$f":"Formation!K36","v":0},{"$f":"Formation!L36","v":0},{"$f":"Formation!M36","v":0},{"$f":"Formation!N36","v":0},{"$f":"Formation!O36","v":0},null,{"$f":"Formation!Q36","v":0},{"$f":"Formation!R36","v":0},{"$f":"Formation!S36","v":0},{"$f":"Formation!T36","v":0},{"$f":"Formation!U36","v":0},{"$f":"Formation!V36","v":0},{"$f":"Formation!W36","v":0},{"$f":"Formation!X36","v":0},{"$f":"Formation!Y36","v":0},{"$f":"Formation!Z36","v":0}]
[null,null,"Réunions parents / professeurs",null,null,{"$f":"Formation!F37","v":0},{"$f":"Formation!G37","v":0},{"$f":"Formation!H37","v":0},{"$f":"Formation!I37","v":0},{"$f":"Formation!J37","v":0},{"$f":"Formation!K37","v":0},{"$f":"Formation!L37","v":0},{"$f":"Formation!M37","v":0},{"$f":"Formation!N37","v":0},{"$f":"Formation!O37","v":0},null,{"$f":"Formation!Q37","v":0},{"$f":"Formation!R37","v":0},{"$f":"Formation!S37","v":0},{"$f":"Formation!T37","v":0},{"$f":"Formation!U37","v":0},{"$f":"Formation!V37","v":0},{"$f":"Formation!W37","v":0},{"$f":"Formation!X37","v":0},{"$f":"Formation!Y37","v":0},{"$f":"Formation!Z37","v":0}]
[null,null,null,null,null,{"$f":"Formation!F38","v":0},{"$f":"Formation!G38","v":0},{"$f":"Formation!H38","v":0},{"$f":"Formation!I38","v":0},{"$f":"Formation!J38","v":0},{"$f":"Formation!K38","v":0},{"$f":"Formation!L38","v":0},{"$f":"Formation!M38","v":0},{"$f":"Formation!N38","v":0},{"$f":"Formation!O38","v":0},null,{"$f":"Formation!Q38","v":0},{"$f":"Formation!R38","v":0},{"$f":"Formation!S38","v":0},{"$f":"Formation!T38","v":0},{"$f":"Formation!U38","v":0},{"$f":"Formation!V38","v":0},{"$f":"Formation!W38","v":0},{"$f":"Formation!X38","v":0},{"$f":"Formation!Y38","v":0},{"$f":"Formation!Z38","v":0}]
[null,null,null,null,null,{"$f":"Formation!F39","v":0},{"$f":"Formation!G39","v":0},{"$f":"Formation!H39","v":0},{"$f":"Formation!I39","v":0},{"$f":"Formation!J39","v":0},{"$f":"Formation!K39","v":0},{"$f":"Formation!L39","v":0},{"$f":"Formation!M39","v":0},{"$f":"Formation!N39","v":0},{"$f":"Formation!O39","v":0},{"$f":"Formation!P39","v":0},{"$f":"Formation!Q39","v":0},{"$f":"Formation!R39","v":0},{"$f":"Formation!S39","v":0},{"$f":"Formation!T39","v":0},{"$f":"Formation!U39","v":0},{"$f":"Formation!V39","v":0},{"$f":"Formation!W39","v":0},{"$f":"Formation!X39","v":0},{"$f":"Formation!Y39","v":0},{"$f":"Formation!Z39","v":0},{"$f":"Formation!AA39","v":0}]
[null,null,"Rencontres parents",null,null,{"$f":"Formation!F40","v":0},{"$f":"Formation!G40","v":0},{"$f":"Formation!H40","v":0},{"$f":"Formation!I40","v":0},{"$f":"Formation!J40","v":0},{"$f":"Formation!K40","v":0},{"$f":"Formation!L40","v":0},{"$f":"Formation!M40","v":0},{"$f":"Formation!N40","v":0},{"$f":"Formation!O40","v":0},null,{"$f":"Formation!Q40","v":0},{"$f":"Formation!R40","v":0},{"$f":"Formation!S40","v":0},{"$f":"Formation!T40","v":0},{"$f":"Formation!U40","v":0},{"$f":"Formation!V40","v":0},{"$f":"Formation!W40","v":0},{"$f":"Formation!X40","v":0},{"$f":"Formation!Y40","v":0},{"$f":"Formation!Z40","v":0}]
[null,null,"Sur demande des parents",null,null,{"$f":"Formation!F41","v":0},{"$f":"Formation!G41","v":0},{"$f":"Formation!H41","v":0},{"$f":"Formation!I41","v":0},{"$f":"Formation!J41","v":0},{"$f":"Formation!K41","v":0},{"$f":"Formation!L41","v":0},{"$f":"Formation!M41","v":0},{"$f":"Formation!N41","v":0},{"$f":"Formation!O41","v":0},null,{"$f":"Formation!Q41","v":0},{"$f":"Formation!R41","v":0},{"$f":"Formation!S41","v":0},{"$f":"Formation!T41","v":0},{"$f":"Formation!U41","v":0},{"$f":"Formation!V41","v":0},{"$f":"Formation!W41","v":0},{"$f":"Formation!X41","v":0},{"$f":"Formation!Y41","v":0},{"$f":"Formation!Z41","v":0}]
[null,null,"Sur convocation des enseignants",null,null,{"$f":"Formation!F42","v":0},{"$f":"Formation!G42","v":0},{"$f":"Formation!H42","v":0},{"$f":"Formation!I42","v":0},{"$f":"Formation!J42","v":0},{"$f":"Formation!K42","v":0},{"$f":"Formation!L42","v":0},{"$f":"Formation!M42","v":0},{"$f":"Formation!N42","v":0},{"$f":"Formation!O42","v":0},null,{"$f":"Formation!Q42","v":0},{"$f":"Formation!R42","v":0},{"$f":"Formation!S42","v":0},{"$f":"Formation!T42","v":0},{"$f":"Formation!U42","v":0},{"$f":"Formation!V42","v":0},{"$f":"Formation!W42","v":0},{"$f":"Formation!X42","v":0},{"$f":"Formation!Y42","v":0},{"$f":"Formation!Z42","v":0}]
[null,null,"Sur convocation des personnels de direction",null,null,{"$f":"Formation!F43","v":0},{"$f":"Formation!G43","v":0},{"$f":"Formation!H43","v":0},{"$f":"Formation!I43","v":0},{"$f":"Formation!J43","v":0},{"$f":"Formation!K43","v":0},{"$f":"Formation!L43","v":0},{"$f":"Formation!M43","v":0},{"$f":"Formation!N43","v":0},{"$f":"Formation!O43","v":0},null,{"$f":"Formation!Q43","v":0},{"$f":"Formation!R43","v":0},{"$f":"Formation!S43","v":0},{"$f":"Formation!T43","v":0},{"$f":"Formation!U43","v":0},{"$f":"Formation!V43","v":0},{"$f":"Formation!W43","v":0},{"$f":"Formation!X43","v":0},{"$f":"Formation!Y43","v":0},{"$f":"Formation!Z43","v":0}]
[null,null,"Sur convocation du CPE",null,null,{"$f":"Formation!F44","v":0},{"$f":"Formation!G44","v":0},{"$f":"Formation!H44","v":0},{"$f":"Formation!I44","v":0},{"$f":"Formation!J44","v":0},{"$f":"Formation!K44","v":0},{"$f":"Formation!L44","v":0},{"$f":"Formation!M44","v":0},{"$f":"Formation!N44","v":0},{"$f":"Formation!O44","v":0},null,{"$f":"Formation!Q44","v":0},{"$f":"Formation!R44","v":0},{"$f":"Formation!S44","v":0},{"$f":"Formation!T44","v":0},{"$f":"Formation!U44","v":0},{"$f":"Formation!V44","v":0},{"$f":"Formation!W44","v":0},{"$f":"Formation!X44","v":0},{"$f":"Formation!Y44","v":0},{"$f":"Formation!Z44","v":0}]
[null,null,"Tableau trimestriel",null,null,{"$f":"Formation!AB34","v":"TROISIEME TRIMESTRE"}]
[null,null,"Nb de familles représentées",null,null,{"$f":"Formation!AB35","v":0},{"$f":"Formation!AC35","v":0},{"$f":"Formation!AD35","v":0},{"$f":"Formation!AE35","v":0},{"$f":"Formation!AF35","v":0},{"$f":"Formation!AG35","v":0},{"$f":"Formation!AH35","v":0},{"$f":"Formation!AI35","v":0},{"$f":"Formation!AJ35","v":0},{"$f":"Formation!AK35","v":0}]
[null,null,"Réunion de rentrée",null,null,{"$f":"Formation!AB36","v":0},{"$f":"Formation!AC36","v":0},{"$f":"Formation!AD36","v":0},{"$f":"Formation!AE36","v":0},{"$f":"Formation!AF36","v":0},{"$f":"Formation!AG36","v":0},{"$f":"Formation!AH36","v":0},{"$f":"Formation!AI36","v":0},{"$f":"Formation!AJ36","v":0},{"$f":"Formation!AK36","v":0}]
[null,null,"Réunions parents / professeurs",null,null,{"$f":"Formation!AB37","v":0},{"$f":"Formation!AC37","v":0},{"$f":"Formation!AD37","v":0},{"$f":"Formation!AE37","v":0},{"$f":"Formation!AF37","v":0},{"$f":"Formation!AG37","v":0},{"$f":"Formation!AH37","v":0},{"$f":"Formation!AI37","v":0},{"$f":"Formation!AJ37","v":0},{"$f":"Formation!AK37","v":0}]
[null,null,null,null,null,{"$f":"Formation!AB38","v":0},{"$f":"Formation!AC38","v":0},{"$f":"Formation!AD38","v":0},{"$f":"Formation!AE38","v":0},{"$f":"Formation!AF38","v":0},{"$f":"Formation!AG38","v":0},{"$f":"Formation!AH38","v":0},{"$f":"Formation!AI38","v":0},{"$f":"Formation!AJ38","v":0},{"$f":"Formation!AK38","v":0}]
[null,null,null,null,null,{"$f":"Formation!AB39","v":0},{"$f":"Formation!AC39","v":0},{"$f":"Formation!AD39","v":0},{"$f":"Formation!AE39","v":0},{"$f":"Formation!AF39","v":0},{"$f":"Formation!AG39","v":0},{"$f":"Formation!AH39","v":0},{"$f":"Formation!AI39","v":0},{"$f":"Formation!AJ39","v":0},{"$f":"Formation!AK39","v":0},{"$f":"Formation!AL39","v":0}]
[null,null,"Rencontres parents",null,null,{"$f":"Formation!AB40","v":0},{"$f":"Formation!AC40","v":0},{"$f":"Formation!AD40","v":0},{"$f":"Formation!AE40","v":0},{"$f":"Formation!AF40","v":0},{"$f":"Formation!AG40","v":0},{"$f":"Formation!AH40","v":0},{"$f":"Formation!AI40","v":0},{"$f":"Formation!AJ40","v":0},{"$f":"Formation!AK40","v":0}]
[null,null,"Sur demande des parents",null,null,{"$f":"Formation!AB41","v":0},{"$f":"Formation!AC41","v":0},{"$f":"Formation!AD41","v":0},{"$f":"Formation!AE41","v":0},{"$f":"Formation!AF41","v":0},{"$f":"Formation!AG41","v":0},{"$f":"Formation!AH41","v":0},{"$f":"Formation!AI41","v":0},{"$f":"Formation!AJ41","v":0},{"$f":"Formation!AK41","v":0}]
[null,null,"Sur convocation des enseignants",null,null,{"$f":"Formation!AB42","v":0},{"$f":"Formation!AC42","v":0},{"$f":"Formation!AD42","v":0},{"$f":"Formation!AE42","v":0},{"$f":"Formation!AF42","v":0},{"$f":"Formation!AG42","v":0},{"$f":"Formation!AH42","v":0},{"$f":"Formation!AI42","v":0},{"$f":"Formation!AJ42","v":0},{"$f":"Formation!AK42","v":0}]
[null,null,"Sur convocation des personnels de direction",null,null,{"$f":"Formation!AB43","v":0},{"$f":"Formation!AC43","v":0},{"$f":"Formation!AD43","v":0},{"$f":"Formation!AE43","v":0},{"$f":"Formation!AF43","v":0},{"$f":"Formation!AG43","v":0},{"$f":"Formation!AH43","v":0},{"$f":"Formation!AI43","v":0},{"$f":"Formation!AJ43","v":0},{"$f":"Formation!AK43","v":0}]
[null,null,"Sur convocation du CPE",null,null,{"$f":"Formation!AB44","v":0},{"$f":"Formation!AC44","v":0},{"$f":"Formation!AD44","v":0},{"$f":"Formation!AE44","v":0},{"$f":"Formation!AF44","v":0},{"$f":"Formation!AG44","v":0},{"$f":"Formation!AH44","v":0},{"$f":"Formation!AI44","v":0},{"$f":"Formation!AJ44","v":0},{"$f":"Formation!AK44","v":0}]