{"text_format":"1","workbook":"xlsx","n_sheets":6,"sheets":["Caractéristiques test","Classe","Calculs pour VMA","Vitesses de Travail","Feuille Observation","TUTORIEL"],"not_rendered":{"charts":0,"images":8,"macros":1,"external_links":0,"defined_names":4,"comments":0,"pivot_tables":0},"unopened":[],"bounds":{"document_bytes":16777216,"sheet_cells":100000,"rows_first":2000,"rows_last":500,"rows_between":2000,"halvings":0,"cell_chars":16384,"cell_head_chars":4096},"cells_cut":0,"cells_raw":0,"read":"whole","date_system":"1900"}

{"sheet":"Caractéristiques test","index":0,"n_rows":34,"n_cols":4,"rows_kept":34,"cut":false,"hidden":false,"merged":[[0,0,0,1]]}
["Caractéristiques de la piste et du test                                                                                             remplissez les cases bleues"]
[]
["Longueur de la piste",240]
["Nombre de plots à dépasser pour faire 1 tour ",10]
["Vitesse de départ (en Km/h)",9]
["Distance entre les plots (en m)",{"$f":"B3/B4","v":24}]
["Durée des paliers (en secondes)",60]
["Accélération (en km/h)",0.5]
[]
[]
[]
[]
[]
[]
[]
[null,null,null,2]
[null,null,null,3]
[null,null,null,4]
[null,null,null,5]
[null,null,null,6]
[null,null,null,7]
[null,null,null,8]
[null,null,null,9]
[null,null,null,10]
[null,null,null,11]
[null,null,null,12]
[null,null,null,13]
[null,null,null,14]
[null,null,null,15]
[null,null,null,16]
[null,null,null,17]
[null,null,null,18]
[null,null,null,19]
[null,null,null,20]

{"sheet":"Classe","index":1,"n_rows":29,"n_cols":8,"rows_kept":29,"cut":false,"hidden":false,"merged":[[0,0,2,0]]}
[303]
[]
[null,null,null,null,"TEMPS DE COURSE","TOURS DE PISTE","DISTANCE PARCOURUE","VMA"]
["AHMED Rouchdati"]
["ALAMELE Emeline"]
["ALLAMELE Gregory"]
["BABIN Estelle"]
["BERNOT Rachel"]
["BOINA Clifford"]
["BOURLY Marie-Lise"]
["BOURLY Nicolas"]
["CHAN-WING-YEN Xavier"]
["DE GUIGNE Alexandre"]
["DUBART Benoit"]
["DUCHEMANN Gregory"]
["EVRIN Yann"]
["GRONDIN Laurene"]
["HOAREAU M-Samantha"]
["JEAN-JACQUES Oceane"]
["LAVANILLE Lorraine"]
["MAILLOT Samuel"]
["MOMBRUN Rene"]
["MULOT Laetitia"]
["PAUSE Jean Mathieu"]
["RAZAKARIVONY  Anthony"]
["SAVIGNAN Loriane"]
["TATEYA Bryan"]
["VIDOT Frederique"]
["VOISIN Kathy"]

{"sheet":"Calculs pour VMA","index":2,"n_rows":215,"n_cols":70,"rows_kept":215,"cut":false,"hidden":false,"merged":[[3,23,3,25],[3,26,3,28],[3,29,3,31],[3,11,3,13],[3,14,3,16],[0,7,1,7],[3,59,3,61],[3,62,3,64],[2,8,2,64],[3,47,3,49],[3,50,3,52],[3,53,3,55],[3,56,3,58],[3,35,3,37],[3,38,3,40],[3,17,3,19],[3,41,3,43],[3,44,3,46],[3,8,3,10],[3,32,3,34],[3,20,3,22]]}
["Longueur de la piste",{"$f":"'Caractéristiques test'!B3","v":240},"Paliers               (en s)",{"$f":"'Caractéristiques test'!B7","v":60},"A =",{"$f":"0.5*D2*(1/3.6)*(1/D1)","v":1.1574074074074073E-3},null,"00:00:00"]
["Nombre de plots           à dépasser                  pour faire 1 tour",{"$f":"'Caractéristiques test'!B4","v":10},"Accélération         (en Km/h)",{"$f":"'Caractéristiques test'!B8","v":0.5}]
["Vitesse de départ               (en Km/h)",{"$f":"'Caractéristiques test'!B5","v":9},{"$f":"B3/3.6","v":2.5},"Distance entre les plots (en m)",{"$f":"'Caractéristiques test'!B6","v":24},null,null,null,"Valeur de \" B2 \" et correspondance en nombre de tours et de plots dépassés"]
[null,null,null,null,null,null,null,null,2,null,null,3,null,null,4,null,null,5,null,null,6,null,null,7,null,null,8,null,null,9,null,null,10,null,null,11,null,null,12,null,null,13,null,null,14,null,null,15,null,null,16,null,null,17,null,null,18,null,null,19,null,null,20,null,null,null,null,"Arrondi colonne B",{"$f":"MINUTE(H1)","v":0},{"$f":"SECOND(H1)","v":0}]
[null,"Temps de passage             (en s)","VMA                 (en m/s)","Temps de passage aux plots            (min:sec)","VMA          (en Km/h)","Distance                                       en tour et plots ","Distance                                           parcourue",null,null,null,null,null,null,null,null,null,null,null,null,null,null,null,null,null,null,null,null,null,null,null,null,null,null,null,null,null,null,null,null,null,null,null,null,null,null,null,null,null,null,null,null,null,null,null,null,null,null,null,null,null,null,null,null,null,null,null,null,"Secondes","Minutes","Secondes"]
[{"$f":"E3","v":24},{"$f":"(-$C$3+SQRT($C$3*$C$3+(4*$F$1*A6)))/(2*$F$1)","v":9.557708430352065},{"$f":"$E$3/B6","v":2.5110621625351195},{"$f":"B6*0.0000115740740740741","v":"00:00:09.558"},{"$f":"C6*3.6","v":9.0398237851264298},{"$f":"INDEX(F6:BM214, 1,$B$2*3)","v":"1 plot"},{"$f":"A6","v":24},null,null,null,"1 plot",1,0,{"$f":"L6&\" \"&\"plot\"","v":"1 plot"},1,0,{"$f":"O6&\" \"&\"plot\"","v":"1 plot"},1,0,"1 plot",1,0,"1 plot",1,0,"1 plot",1,0,"1 plot",1,0,"1 plot",1,0,"1 plot",1,0,"1 plot",1,0,"1 plot",1,0,"1 plot",1,0,"1 plot",1,0,"1 plot",1,0,"1 plot",1,0,"1 plot",1,0,"1 plot",1,0,"1 plot",1,0,"1 plot",null,null,{"$f":"ROUND(B6,0)","v":10},{"$f":"QUOTIENT(BP6,60)","v":0},{"$f":"MOD(BP6,60)","v":10}]
[{"$f":"A6+$A$6","v":48},19.032301618109926,{"$f":"$E$3/(B7-B6)","v":2.5330902894079341},{"$f":"B7*0.0000115740740740741","v":"00:00:19.032"},{"$f":"C7*3.6","v":9.1191250418685623},"2 plots",{"$f":"A7","v":48},null,1,"aller-retour","1 aller-retour ",2,0,{"$f":"L7&\" \"&\"plots\"","v":"2 plots"},2,0,{"$f":"O7&\" \"&\"plots\"","v":"2 plots"},2,0,{"$f":"R7&\" \"&\"plots\"","v":"2 plots"},2,0,{"$f":"U7&\" \"&\"plots\"","v":"2 plots"},2,0,{"$f":"X7&\" \"&\"plots\"","v":"2 plots"},2,0,{"$f":"AA7&\" \"&\"plots\"","v":"2 plots"},2,0,{"$f":"AD7&\" \"&\"plots\"","v":"2 plots"},2,0,{"$f":"AG7&\" \"&\"plots\"","v":"2 plots"},2,0,{"$f":"AJ7&\" \"&\"plots\"","v":"2 plots"},2,0,{"$f":"AM7&\" \"&\"plots\"","v":"2 plots"},2,0,{"$f":"AP7&\" \"&\"plots\"","v":"2 plots"},2,0,{"$f":"AS7&\" \"&\"plots\"","v":"2 plots"},2,0,{"$f":"AV7&\" \"&\"plots\"","v":"2 plots"},2,0,{"$f":"AY7&\" \"&\"plots\"","v":"2 plots"},2,0,{"$f":"BB7&\" \"&\"plots\"","v":"2 plots"},2,0,{"$f":"BE7&\" \"&\"plots\"","v":"2 plots"},2,0,{"$f":"BH7&\" \"&\"plots\"","v":"2 plots"},2,0,{"$f":"BK7&\" \"&\"plots\"","v":"2 plots"},null,null,{"$f":"ROUND(B7,0)","v":19},{"$f":"QUOTIENT(BP7,60)","v":0},{"$f":"MOD(BP7,60)","v":19}]
[{"$f":"A7+$A$6","v":72},28.42591092052696,{"$f":"$E$3/(B8-B7)","v":2.5549284867345561},{"$f":"B8*0.0000115740740740741","v":"00:00:28.426"},9.197742552244403,"3 plots",72,null,null,"1 plot",{"$f":"IF(I8=\"\",K7 & J8,IF(I8>0,I8& J8))","v":"1 aller-retour 1 plot"},0,1,"1 tour ",3,0,{"$f":"O8&\" \"&\"plots\"","v":"3 plots"},3,0,{"$f":"R8&\" \"&\"plots\"","v":"3 plots"},3,0,{"$f":"U8&\" \"&\"plots\"","v":"3 plots"},3,0,{"$f":"X8&\" \"&\"plots\"","v":"3 plots"},3,0,"3 plots",3,0,{"$f":"AD8&\" \"&\"plots\"","v":"3 plots"},3,0,{"$f":"AG8&\" \"&\"plots\"","v":"3 plots"},3,0,{"$f":"AJ8&\" \"&\"plots\"","v":"3 plots"},3,0,{"$f":"AM8&\" \"&\"plots\"","v":"3 plots"},3,0,{"$f":"AP8&\" \"&\"plots\"","v":"3 plots"},3,0,{"$f":"AS8&\" \"&\"plots\"","v":"3 plots"},3,0,{"$f":"AV8&\" \"&\"plots\"","v":"3 plots"},3,0,{"$f":"AY8&\" \"&\"plots\"","v":"3 plots"},3,0,{"$f":"BB8&\" \"&\"plots\"","v":"3 plots"},3,0,{"$f":"BE8&\" \"&\"plots\"","v":"3 plots"},3,0,{"$f":"BH8&\" \"&\"plots\"","v":"3 plots"},3,0,{"$f":"BK8&\" \"&\"plots\"","v":"3 plots"},null,null,{"$f":"ROUND(B8,0)","v":28},0,{"$f":"MOD(BP8,60)","v":28}]
[96,37.740578130721744,{"$f":"$E$3/(B9-B8)","v":2.5765815845500426},"00:00:37.741",9.2756937043801528,"4 plots",96,null,2,"aller-retours ",{"$f":"IF(I9=\"\",K8&J9,IF(I9>0,I9&\" \"&J9))","v":"2 aller-retours "},1,1,"1 tour 1plot",0,1,"1 tour ",4,0,{"$f":"R9&\" \"&\"plots\"","v":"4 plots"},4,0,{"$f":"U9&\" \"&\"plots\"","v":"4 plots"},4,0,{"$f":"X9&\" \"&\"plots\"","v":"4 plots"},4,0,"4 plots",4,0,"4 plots",4,0,"4 plots",4,0,"4 plots",4,0,"4 plots",4,0,"4 plots",4,0,"4 plots",4,0,"4 plots",4,0,"4 plots",4,0,"4 plots",4,0,"4 plots",4,0,"4 plots",4,0,"4 plots",null,null,38,0,{"$f":"MOD(BP9,60)","v":38}]
[120,46.978260659893934,2.5980542115632432,"00:00:46.978",9.3529951616276765,"5 plots",120,null,null,"1 plot",{"$f":"IF(I10=\"\",K9&J10,IF(I10>0,I10&\" \"&J10))","v":"2 aller-retours 1 plot"},2,1,"1 tour 2 plots",1,1,"1 tour 1plot",0,1,"1 tour ",5,0,{"$f":"U10&\" \"&\"plots\"","v":"5 plots"},5,0,{"$f":"X10&\" \"&\"plots\"","v":"5 plots"},5,0,"5 plots",5,0,"5 plots",5,0,"5 plots",5,0,"5 plots",5,0,"5 plots",5,0,"5 plots",5,0,"5 plots",5,0,"5 plots",5,0,"5 plots",5,0,"5 plots",5,0,"5 plots",5,0,"5 plots",5,0,"5 plots",null,null,47,0,47]
[144,56.140836340284082,2.6193508067131255,"00:00:56.141",9.4296629041672517,"6 plots",144,null,3,"aller-retours ",{"$f":"IF(I11=\"\",K10&J11,IF(I11>0,I11&\" \"&J11))","v":"3 aller-retours "},0,2,"2 tours ",2,1,"1 tour 2 plots",1,1,"1 tour 1plot",0,1,"1 tour ",6,0,{"$f":"X11&\" \"&\"plots\"","v":"6 plots"},6,0,"6 plots",6,0,"6 plots",6,0,"6 plots",6,0,"6 plots",6,0,"6 plots",6,0,"6 plots",6,0,"6 plots",6,0,"6 plots",6,0,"6 plots",6,0,"6 plots",6,0,"6 plots",6,0,"6 plots",6,0,"6 plots",null,null,56,0,56]
[168,65.230107882254302,2.6404756298872418,"00:01:05.230",9.5057122675940704,"7 plots",168,null,null,"1 plot",{"$f":"IF(I12=\"\",K11&J12,IF(I12>0,I12&\" \"&J12))","v":"3 aller-retours 1 plot"},1,2,"2 tours 1plot",3,1,"1 tour 3 plots",2,1,"1 tour 2 plots",1,1,"1 tour 1plot",0,1,"1 tour ",7,0,"7 plots",7,0,"7 plots",7,0,"7 plots",7,0,"7 plots",7,0,"7 plots",7,0,"7 plots",7,0,"7 plots",7,0,"7 plots",7,0,"7 plots",7,0,"7 plots",7,0,"7 plots",7,0,"7 plots",7,0,"7 plots",null,null,65,1,5]
[192,74.247807015460566,2.6614327718723461,{"$f":"B13*0.0000115740740740741","v":"00:01:14.248"},9.5811579787404462,"8 plots",{"$f":"A13","v":192},null,4,"aller-retours ","4 aller-retours ",2,2,"2 tours 2 plots",0,2,"2 tours ",3,1,"1 tour 3 plots",2,1,"1 tour 2 plots",1,1,"1 tour 1plot",0,1,"1 tour ",8,0,"8 plots",8,0,"8 plots",8,0,"8 plots",8,0,"8 plots",8,0,"8 plots",8,0,"8 plots",8,0,"8 plots",8,0,"8 plots",8,0,"8 plots",8,0,"8 plots",8,0,"8 plots",8,0,"8 plots",null,null,74,1,14]
[216,83.195598341052815,2.6822261636070794,"00:01:23.196",9.6560141889854858,"9 plots",216,null,null,"1plot","4 aller-retours 1plot",0,3,"3 tours ",1,2,"2 tours 1plot",4,1,"1 tour 4 plots",3,1,"1 tour 3 plots",2,1,"1 tour 2 plots",1,1,"1 tour 1plot",0,1,"1 tour ",9,0,"9 plots",9,0,"9 plots",9,0,"9 plots",9,0,"9 plots",9,0,"9 plots",9,0,"9 plots",9,0,"9 plots",9,0,"9 plots",9,0,"9 plots",9,0,"9 plots",9,0,"9 plots",null,null,83,1,23]
[240,92.07508291917884,2.7028595847919239,"00:01:32.075",9.7302945052509262,"1 tour ",240,null,5,"aller-retours ","5 aller-retours ",1,3,"3 tours 1plot",2,2,"2 tours 2 plots",0,2,"2 tours ",4,1,"1 tour 4 plots",3,1,"1 tour 3 plots",2,1,"1 tour 2 plots",1,1,"1 tour 1plot",0,1,"1 tour ",10,0,{"$f":"AJ15&\" \"&\"plots\"","v":"10 plots"},10,0,"10 plots",10,0,"10 plots",10,0,"10 plots",10,0,"10 plots",10,0,"10 plots",10,0,"10 plots",10,0,"10 plots",10,0,"10 plots",10,0,"10 plots",null,null,92,1,32]
[264,100.88780161368415,2.7233366719130498,"00:01:40.888",9.8040120188869793,"1 tour 1plot",264,null,null,"1 plot","5 aller-retours 1 plot",2,3,"3 tours 2 plots",3,2,"2 tours 3 plots",1,2,"2 tours 1plot",5,1,"1 tour 5 plots",4,1,"1 tour 4 plots",3,1,"1 tour 3 plots",2,1,"1 tour 2 plots",1,1,"1 tour 1plot",0,1,{"$f":"IF(AK16=0,\"\",IF(AND(AJ16=0,AK16=1),AK16&\" \"&\"tour\",IF(AND(AJ16=0,AK16>1),AK16&\" \"&\"tours\",IF(AND(AK16>1,AJ16=1),AK16&\" \"&\"tours\"&\" \"&AJ16&\" \"&\"plot\",IF(AND(AK16=1,AJ16=1),AK16&\" \"&\"tour\"&\" \"&AJ16&\" \"&\"plot\",IF(AND(AK16=1,AJ16>0),AK16&\" \"&\"tour\"&\" \"&AJ16&\" \"&\"plots\",IF(AND(AK16>1,AJ16>1),AK16&\" \"&\"tours\"&\" \"&AJ16&\" \"&\"plots\")))))))","v":"1 tour"},11,0,"11 plots",11,0,"11 plots",11,0,"11 plots",11,0,"11 plots",11,0,"11 plots",11,0,"11 plots",11,0,"11 plots",11,0,"11 plots",11,0,"11 plots",null,null,101,{"$f":"QUOTIENT(BP16,60)","v":1},41]
[288,109.63523821379805,2.7436609257262288,"00:01:49.635",9.877179332614423,"1 tour 2 plots",288,null,6,"aller-retours ","6 aller-retours ",0,4,"4 tours ",0,3,"3 tours ",2,2,"2 tours 2 plots",0,2,"2 tours ",5,1,"1 tour 5 plots",4,1,"1 tour 4 plots",3,1,"1 tour 3 plots",2,1,"1 tour 2 plots",1,1,"1 tour 1 plot",0,1,{"$f":"IF(AN17=0,\"\",IF(AND(AM17=0,AN17=1),AN17&\" \"&\"tour\",IF(AND(AM17=0,AN17>1),AN17&\" \"&\"tours\",IF(AND(AN17>1,AM17=1),AN17&\" \"&\"tours\"&\" \"&AM17&\" \"&\"plot\",IF(AND(AN17=1,AM17=1),AN17&\" \"&\"tour\"&\" \"&AM17&\" \"&\"plot\",IF(AND(AN17=1,AM17>0),AN17&\" \"&\"tour\"&\" \"&AM17&\" \"&\"plots\",IF(AND(AN17>1,AM17>1),AN17&\" \"&\"tours\"&\" \"&AM17&\" \"&\"plots\")))))))","v":"1 tour"},12,0,"12 plots",12,0,"12 plots",12,0,"12 plots",12,0,"12 plots",12,0,"12 plots",12,0,"12 plots",12,0,"12 plots",12,0,"12 plots",null,null,110,1,50]
[312,118.31882235071319,2.7638357182459496,{"$f":"B18*0.0000115740740740741","v":"00:01:58.319"},9.9498085856854193,"1 tour 3 plots",312,null,null,"1 plot","6 aller-retours 1 plot",1,4,"4 tours 1plot",1,3,"3 tours 1plot",3,2,"2 tours 3 plots",1,2,"2 tours 1plot",6,1,"1 tour 6 plots",5,1,"1 tour 5 plots",4,1,"1 tour 4 plots",3,1,"1 tour 3 plots",2,1,"1 tour 2 plots",1,1,"1 tour 1 plot",0,1,{"$f":"IF(AQ18=0,\"\",IF(AND(AP18=0,AQ18=1),AQ18&\" \"&\"tour\",IF(AND(AP18=0,AQ18>1),AQ18&\" \"&\"tours\",IF(AND(AQ18>1,AP18=1),AQ18&\" \"&\"tours\"&\" \"&AP18&\" \"&\"plot\",IF(AND(AQ18=1,AP18=1),AQ18&\" \"&\"tour\"&\" \"&AP18&\" \"&\"plot\",IF(AND(AQ18=1,AP18>0),AQ18&\" \"&\"tour\"&\" \"&AP18&\" \"&\"plots\",IF(AND(AQ18>1,AP18>1),AQ18&\" \"&\"tours\"&\" \"&AP18&\" \"&\"plots\")))))))","v":"1 tour"},13,0,"13 plots",13,0,"13 plots",13,0,"13 plots",13,0,"13 plots",13,0,"13 plots",13,0,"13 plots",13,0,"13 plots",null,null,118,1,58]
[336,126.93993222529507,2.7838642992778238,"00:02:06.940",10.021911477400165,"1 tour 4 plots",336,null,7,"aller-retours ","7 aller-retours ",2,4,"4 tours 2 plots",2,3,"3 tours 2 plots",4,2,"2 tours 4 plots",2,2,"2 tours 2 plots",0,2,"2 tours ",6,1,"1 tour 6 plots",5,1,"1 tour 5 plots",4,1,"1 tour 4 plots",3,1,"1 tour 3 plots",2,1,"1 tour 2 plots",1,1,"1 tour 1 plot",0,1,{"$f":"IF(AT19=0,\"\",IF(AND(AS19=0,AT19=1),AT19&\" \"&\"tour\",IF(AND(AS19=0,AT19>1),AT19&\" \"&\"tours\",IF(AND(AT19>1,AS19=1),AT19&\" \"&\"tours\"&\" \"&AS19&\" \"&\"plot\",IF(AND(AT19=1,AS19=1),AT19&\" \"&\"tour\"&\" \"&AS19&\" \"&\"plot\",IF(AND(AT19=1,AS19>0),AT19&\" \"&\"tour\"&\" \"&AS19&\" \"&\"plots\",IF(AND(AT19>1,AS19>1),AT19&\" \"&\"tours\"&\" \"&AS19&\" \"&\"plots\")))))))","v":"1 tour"},14,0,{"$f":"AV19&\" \"&\"plots\"","v":"14 plots"},14,0,"14 plots",14,0,"14 plots",14,0,"14 plots",14,0,"14 plots",14,0,"14 plots",null,null,127,2,7]
[360,135.49989716165751,2.8037498025311756,"00:02:15.500",10.093499289112232,"1 tour 5 plots",360,null,null,"1 plot","7 aller-retours 1 plot",0,5,"5 tours ",3,3,"3 tours 3 plots",0,3,"3 tours ",3,2,"2 tours 3 plots",1,2,"2 tours 1plot",7,1,"1 tour 7 plots",6,1,"1 tour 6 plots",5,1,"1 tour 5 plots",4,1,"1 tour 4 plots",3,1,"1 tour 3 plots",2,1,"1 tour 2 plots",1,1,"1 tour 1 plot",0,1,{"$f":"IF(AW20=0,\"\",IF(AND(AV20=0,AW20=1),AW20&\" \"&\"tour\",IF(AND(AV20=0,AW20>1),AW20&\" \"&\"tours\",IF(AND(AW20>1,AV20=1),AW20&\" \"&\"tours\"&\" \"&AV20&\" \"&\"plot\",IF(AND(AW20=1,AV20=1),AW20&\" \"&\"tour\"&\" \"&AV20&\" \"&\"plot\",IF(AND(AW20=1,AV20>0),AW20&\" \"&\"tour\"&\" \"&AV20&\" \"&\"plots\",IF(AND(AW20>1,AV20>1),AW20&\" \"&\"tours\"&\" \"&AV20&\" \"&\"plots\")))))))","v":"1 tour"},15,0,"15 plots",15,0,"15 plots",15,0,"15 plots",15,0,"15 plots",15,0,"15 plots",null,null,135,2,15]
[384,144.00000000000009,2.823495251344482,"00:02:24",10.164582904840135,"1 tour 6 plots",384,null,8,"aller-retours ","8 aller-retours ",1,5,"5 tours 1plot",0,4,"4 tours ",1,3,"3 tours 1plot",4,2,"2 tours 4 plots",2,2,"2 tours 2 plots",0,2,"2 tours ",7,1,"1 tour 7 plots",6,1,"1 tour 6 plots",5,1,"1 tour 5 plots",4,1,"1 tour 4 plots",3,1,"1 tour 3 plots",2,1,"1 tour 2 plots",1,1,"1 tour 1 plot",0,1,{"$f":"IF(AZ21=0,\"\",IF(AND(AY21=0,AZ21=1),AZ21&\" \"&\"tour\",IF(AND(AY21=0,AZ21>1),AZ21&\" \"&\"tours\",IF(AND(AZ21>1,AY21=1),AZ21&\" \"&\"tours\"&\" \"&AY21&\" \"&\"plot\",IF(AND(AZ21=1,AY21=1),AZ21&\" \"&\"tour\"&\" \"&AY21&\" \"&\"plot\",IF(AND(AZ21=1,AY21>0),AZ21&\" \"&\"tour\"&\" \"&AY21&\" \"&\"plots\",IF(AND(AZ21>1,AY21>1),AZ21&\" \"&\"tours\"&\" \"&AY21&\" \"&\"plots\")))))))","v":"1 tour"},16,0,"16 plots",16,0,"16 plots",16,0,"16 plots",16,0,"16 plots",null,null,144,2,24]
[408,152.44147934090563,2.8431035640520137,"00:02:32.441",10.235172830587249,"1 tour 7 plots",408,null,null,"1 plot","8 aller-retours 1 plot",2,5,"5 tours 2 plots",1,4,"4 tours 1plot",2,3,"3 tours 2 plots",5,2,"2 tours 5 plots",3,2,"2 tours 3 plots",1,2,"2 tours 1plot",8,1,"1 tour 8 plots",7,1,"1 tour 7 plots",6,1,"1 tour 6 plots",5,1,"1 tour 5 plots",4,1,"1 tour 4 plots",3,1,"1 tour 3 plots",2,1,"1 tour 2 plots",1,1,"1 tour 1 plot",0,1,{"$f":"IF(BC22=0,\"\",IF(AND(BB22=0,BC22=1),BC22&\" \"&\"tour\",IF(AND(BB22=0,BC22>1),BC22&\" \"&\"tours\",IF(AND(BC22>1,BB22=1),BC22&\" \"&\"tours\"&\" \"&BB22&\" \"&\"plot\",IF(AND(BC22=1,BB22=1),BC22&\" \"&\"tour\"&\" \"&BB22&\" \"&\"plot\",IF(AND(BC22=1,BB22>0),BC22&\" \"&\"tour\"&\" \"&BB22&\" \"&\"plots\",IF(AND(BC22>1,BB22>1),BC22&\" \"&\"tours\"&\" \"&BB22&\" \"&\"plots\")))))))","v":"1 tour"},17,0,"17 plots",17,0,"17 plots",17,0,"17 plots",null,null,152,2,32]
[432,160.82553165221418,2.8625775590198068,"00:02:40.826",10.305279212471305,"1 tour 8 plots",432,null,9,"aller-retours ","9 aller-retours ",0,6,"6 tours ",2,4,"4 tours 2 plots",3,3,"3 tours 3 plots",0,3,"3 tours ",4,2,"2 tours 4 plots",2,2,"2 tours 2 plots",0,2,"2 tours ",8,1,"1 tour 8 plots",7,1,"1 tour 7 plots",6,1,"1 tour 6 plots",5,1,"1 tour 5 plots",4,1,"1 tour 4 plots",3,1,"1 tour 3 plots",2,1,"1 tour 2 plots",1,1,"1 tour 1 plot",0,1,{"$f":"IF(BF23=0,\"\",IF(AND(BE23=0,BF23=1),BF23&\" \"&\"tour\",IF(AND(BE23=0,BF23>1),BF23&\" \"&\"tours\",IF(AND(BF23>1,BE23=1),BF23&\" \"&\"tours\"&\" \"&BE23&\" \"&\"plot\",IF(AND(BF23=1,BE23=1),BF23&\" \"&\"tour\"&\" \"&BE23&\" \"&\"plot\",IF(AND(BF23=1,BE23>0),BF23&\" \"&\"tour\"&\" \"&BE23&\" \"&\"plots\",IF(AND(BF23>1,BE23>1),BF23&\" \"&\"tours\"&\" \"&BE23&\" \"&\"plots\")))))))","v":"1 tour"},18,0,"18 plots",18,0,"18 plots",null,null,161,2,41]
[456,169.15331324861808,2.8819199593759381,"00:02:49.153",10.374911853753378,"1 tour 9 plots",456,null,null,"1 plot","9 aller-retours 1 plot",1,6,"6 tours 1plot",3,4,"4 tours 3 plots",4,3,"3 tours 4 plots",1,3,"3 tours 1plot",5,2,"2 tours 5 plots",3,2,"2 tours 3 plots",1,2,"2 tours 1plot",9,1,"1 tour 9 plots",8,1,"1 tour 8 plots",7,1,"1 tour 7 plots",6,1,"1 tour 6 plots",5,1,"1 tour 5 plots",4,1,"1 tour 4 plots",3,1,"1 tour 3 plots",2,1,"1 tour 2 plots",1,1,"1 tour 1 plot",0,1,{"$f":"IF(BI24=0,\"\",IF(AND(BH24=0,BI24=1),BI24&\" \"&\"tour\",IF(AND(BH24=0,BI24>1),BI24&\" \"&\"tours\",IF(AND(BI24>1,BH24=1),BI24&\" \"&\"tours\"&\" \"&BH24&\" \"&\"plot\",IF(AND(BI24=1,BH24=1),BI24&\" \"&\"tour\"&\" \"&BH24&\" \"&\"plot\",IF(AND(BI24=1,BH24>0),BI24&\" \"&\"tour\"&\" \"&BH24&\" \"&\"plots\",IF(AND(BI24>1,BH24>1),BI24&\" \"&\"tours\"&\" \"&BH24&\" \"&\"plots\")))))))","v":"1 tour"},19,0,"19 plots",null,null,169,2,49]
[480,177.42594215325457,2.9011333974559066,"00:02:57.426",10.444080230841264,"2 tours ",480,null,10,"aller-retours ","10 aller-retours ",2,6,"6 tours 2 plots",0,5,"5 tours ",0,4,"4 tours ",2,3,"3 tours 2 plots",6,2,"2 tours 6 plots",4,2,"2 tours 4 plots",2,2,"2 tours 2 plots",0,2,"2 tours ",9,1,"1 tour 9 plots",8,1,"1 tour 8 plots",7,1,"1 tour 7 plots",6,1,"1 tour 6 plots",5,1,"1 tour 5 plots",4,1,"1 tour 4 plots",3,1,"1 tour 3 plots",2,1,"1 tour 2 plots",1,1,"1 tour 1 plot",0,1,{"$f":"IF(BL25=0,\"\",IF(AND(BK25=0,BL25=1),BL25&\" \"&\"tour\",IF(AND(BK25=0,BL25>1),BL25&\" \"&\"tours\",IF(AND(BL25>1,BK25=1),BL25&\" \"&\"tours\"&\" \"&BK25&\" \"&\"plot\",IF(AND(BL25=1,BK25=1),BL25&\" \"&\"tour\"&\" \"&BK25&\" \"&\"plot\",IF(AND(BL25=1,BK25>0),BL25&\" \"&\"tour\"&\" \"&BK25&\" \"&\"plots\",IF(AND(BL25>1,BK25>1),BL25&\" \"&\"tours\"&\" \"&BK25&\" \"&\"plots\")))))))","v":"1 tour"},null,null,177,2,57]
[504,185.64449984977995,2.9202204189850316,"00:03:05.644",10.512793508346114,"2 tours 1plot",504,null,null,"1 plot","10 aller-retours 1 plot",0,7,"7 tours ",1,5,"5 tours 1plot",1,4,"4 tours 1plot",3,3,"3 tours 3 plots",0,3,"3 tours ",5,2,"2 tours 5 plots",3,2,"2 tours 3 plots",1,2,"2 tours 1plot",10,1,"1 tour 10 plots",9,1,"1 tour 9 plots",8,1,"1 tour 8 plots",7,1,"1 tour 7 plots",6,1,"1 tour 6 plots",5,1,"1 tour 5 plots",4,1,"1 tour 4 plots",3,1,"1 tour 3 plots",2,1,"1 tour 2 plots",1,1,"1 tour 1 plot",null,null,186,3,6]
[528,193.81003293269757,2.9391834870166957,"00:03:13.810",10.581060553260105,"2 tours 2 plots",528,null,11,"aller-retours ","11 aller-retours ",1,7,"7 tours 1plot",2,5,"5 tours 2 plots",2,4,"4 tours 2 plots",4,3,"3 tours 4 plots",1,3,"3 tours 1plot",6,2,"2 tours 6 plots",4,2,"2 tours 4 plots",2,2,"2 tours 2 plots",0,2,"2 tours",10,1,"1 tour 10 plots",9,1,"1 tour 9 plots",8,1,"1 tour 8 plots",7,1,"1 tour 7 plots",6,1,"1 tour 6 plots",5,1,"1 tour 5 plots",4,1,"1 tour 4 plots",3,1,"1 tour 3 plots",2,1,"1 tour 2 plots",null,null,194,3,14]
[552,201.92355466306961,2.9580249856432554,"00:03:21.924",10.64888994831572,"2 tours 3 plots",552,null,null,"1 plot","11 aller-retours 1 plot",2,7,"7 tours 2 plots",3,5,"5 tours 3 plots",3,4,"4 tours 3 plots",5,3,"3 tours 5 plots",2,3,"3 tours 2 plots",7,2,"2 tours 7 plots",5,2,"2 tours 5 plots",3,2,"2 tours 3 plots",1,2,"2 tours 1 plot",11,1,"1 tour 11 plots",10,1,"1 tour 10 plots",9,1,"1 tour 9 plots",8,1,"1 tour 8 plots",7,1,"1 tour 7 plots",6,1,"1 tour 6 plots",5,1,"1 tour 5 plots",4,1,"1 tour 4 plots",3,1,"1 tour 3 plots",null,null,202,3,22]
[576,209.98604643616196,2.9767472234945132,"00:03:29.986",10.716290004580248,"2 tours 4 plots",576,null,12,"aller-retours ","12 aller-retours ",0,8,"8 tours ",0,6,"6 tours ",4,4,"4 tours 4 plots",0,4,"4 tours ",3,3,"3 tours 3 plots",0,3,"3 tours ",6,2,"2 tours 6 plots",4,2,"2 tours 4 plots",2,2,"2 tours 2 plots",0,2,"2 tours",11,1,"1 tour 11 plots",10,1,"1 tour 10 plots",9,1,"1 tour 9 plots",8,1,"1 tour 8 plots",7,1,"1 tour 7 plots",6,1,"1 tour 6 plots",5,1,"1 tour 5 plots",4,1,"1 tour 4 plots",null,null,210,3,30]
[600,217.99845916703612,2.9953524370407192,"00:03:37.998",10.78326877334659,"2 tours 5 plots",600,null,null,"1 plot","12 aller-retours 1 plot",1,8,"8 tours 1plot",1,6,"6 tours 1plot",0,5,"5 tours ",1,4,"4 tours 1plot",4,3,"3 tours 4 plots",1,3,"3 tours 1plot",7,2,"2 tours 7 plots",5,2,"2 tours 5 plots",3,2,"2 tours 3 plots",1,2,"2 tours 1 plot",12,1,"1 tour 12 plots",11,1,"1 tour 11 plots",10,1,"1 tour 10 plots",9,1,"1 tour 9 plots",8,1,"1 tour 8 plots",7,1,"1 tour 7 plots",6,1,"1 tour 6 plots",5,1,"1 tour 5 plots",null,null,218,3,38]
[624,225.96171459962795,3.0138427937113921,"00:03:45.962",10.849834057361011,"2 tours 6 plots",624,null,13,"aller-retours ","13 aller-retours ",2,8,"8 tours 2 plots",2,6,"6 tours 2 plots",1,5,"5 tours 1plot",2,4,"4 tours 2 plots",5,3,"3 tours 5 plots",2,3,"3 tours 2 plots",8,2,"2 tours 8 plots",6,2,"2 tours 6 plots",4,2,"2 tours 4 plots",2,2,"2 tours 2 plots",0,2,"2 tours",12,1,"1 tour 12 plots",11,1,"1 tour 11 plots",10,1,"1 tour 10 plots",9,1,"1 tour 9 plots",8,1,"1 tour 8 plots",7,1,"1 tour 7 plots",6,1,"1 tour 6 plots",null,null,226,3,46]
[648,233.87670654441538,3.0322203948426831,"00:03:53.877",10.91599342143366,"2 tours 7 plots",648,null,null,"1 plot","13 aller-retours 1 plot",0,9,"9 tours ",3,6,"6 tours 3 plots",2,5,"5 tours 2 plots",3,4,"4 tours 3 plots",6,3,"3 tours 6 plots",3,3,"3 tours 3 plots",0,3,"3 tours ",7,2,"2 tours 7 plots",5,2,"2 tours 5 plots",3,2,"2 tours 3 plots",1,2,"2 tours 1 plot",13,1,"1 tour 13 plots",12,1,"1 tour 12 plots",11,1,"1 tour 11 plots",10,1,"1 tour 10 plots",9,1,"1 tour 9 plots",8,1,"1 tour 8 plots",7,1,"1 tour 7 plots",null,null,234,3,54]
[672,241.74430204937889,3.0504872784650527,"00:04:01.744",10.981754202474191,"2 tours 8 plots",672,null,14,"aller-retour","14 aller-retour",1,9,"9 tours 1plot",0,7,"7 tours ",3,5,"5 tours 3 plots",4,4,"4 tours 4 plots",0,4,"4 tours ",4,3,"3 tours 4 plots",1,3,"3 tours 1plot",8,2,"2 tours 8 plots",6,2,"2 tours 6 plots",4,2,"2 tours 4 plots",2,2,"2 tours 2 plots",0,2,"2 tours",13,1,"1 tour 13 plots",12,1,"1 tour 12 plots",11,1,"1 tour 11 plots",10,1,"1 tour 10 plots",9,1,"1 tour 9 plots",8,1,"1 tour 8 plots",null,null,242,4,2]
[696,249.5653425085959,3.0686454219420698,"00:04:09.565",11.047123518991452,"2 tours 9 plots",696,null,null,"1 plot","14 aller-retour1 plot",2,9,"9 tours 2 plots",1,7,"7 tours 1plot",4,5,"5 tours 4 plots",5,4,"4 tours 5 plots",1,4,"4 tours 1plot",5,3,"3 tours 5 plots",2,3,"3 tours 2 plots",9,2,"2 tours 9 plots",7,2,"2 tours 7 plots",5,2,"2 tours 5 plots",3,2,"2 tours 3 plots",1,2,"2 tours 1 plot",14,1,"1 tour 14 plots",13,1,"1 tour 13 plots",12,1,"1 tour 12 plots",11,1,"1 tour 11 plots",10,1,"1 tour 10 plots",9,1,"1 tour 9 plots",null,null,250,4,10]
[720,257.34064471248303,3.0866967444688687,"00:04:17.341",11.112108280087927,"3 tours ",720,null,15,"aller-retours ","15 aller-retours ",0,10,"10 tours ",2,7,"7 tours 2 plots",0,6,"6 tours ",0,5,"5 tours ",2,4,"4 tours 2 plots",6,3,"3 tours 6 plots",3,3,"3 tours 3 plots",0,3,"3 tours ",8,2,"2 tours 8 plots",6,2,"2 tours 6 plots",4,2,"2 tours 4 plots",2,2,"2 tours 2 plots",0,2,"2 tours",14,1,"1 tour 14 plots",13,1,"1 tour 13 plots",12,1,"1 tour 12 plots",11,1,"1 tour 11 plots",10,1,"1 tour 10 plots",null,null,257,4,17]
[744,265.07100184339708,3.1046431094396509,"00:04:25.071",11.176715193982744,"3 tours 1plot",744,null,null,"1 plot","15 aller-retours 1 plot",1,10,"10 tours 1plot",3,7,"7 tours 3 plots",1,6,"6 tours 1plot",1,5,"5 tours 1plot",3,4,"4 tours 3 plots",7,3,"3 tours 7 plots",4,3,"3 tours 4 plots",1,3,"3 tours 1plot",9,2,"2 tours 9 plots",7,2,"2 tours 7 plots",5,2,"2 tours 5 plots",3,2,"2 tours 3 plots",1,2,"2 tours 1 plot",15,1,"1 tour 15 plots",14,1,"1 tour 14 plots",13,1,"1 tour 13 plots",12,1,"1 tour 12 plots",11,1,"1 tour 11 plots",null,null,265,4,25]
[768,272.75718442002744,3.1224863266937462,"00:04:32.757",11.240950776097486,"3 tours 2 plots",768,null,16,"aller-retours ","16 aller-retours ",2,10,"10 tours 2 plots",0,8,"8 tours ",2,6,"6 tours 2 plots",2,5,"5 tours 2 plots",4,4,"4 tours 4 plots",0,4,"4 tours ",5,3,"3 tours 5 plots",2,3,"3 tours 2 plots",10,2,"2 tours 10 plots",8,2,"2 tours 8 plots",6,2,"2 tours 6 plots",4,2,"2 tours 4 plots",2,2,"2 tours 2 plots",0,2,"2 tours",15,1,"1 tour 15 plots",14,1,"1 tour 14 plots",13,1,"1 tour 13 plots",12,1,"1 tour 12 plots",null,null,273,4,33]
[792,280.39994119376513,3.140228154645671,"00:04:40.400",11.304821356724416,"3 tours 3 plots",792,null,null,"1 plot","16 aller-retours 1 plot",0,11,"11 tours ",1,8,"8 tours 1plot",3,6,"6 tours 3 plots",3,5,"5 tours 3 plots",5,4,"4 tours 5 plots",1,4,"4 tours 1plot",6,3,"3 tours 6 plots",3,3,"3 tours 3 plots",0,3,"3 tours",9,2,"2 tours 9 plots",7,2,"2 tours 7 plots",5,2,"2 tours 5 plots",3,2,"2 tours 3 plots",1,2,"2 tours 1 plot",16,1,"1 tour 16 plots",15,1,"1 tour 15 plots",14,1,"1 tour 14 plots",13,1,"1 tour 13 plots",null,null,280,4,40]
[816,288.00000000000017,3.1578703023074706,"00:04:48",11.368333088306894,"3 tours 4 plots",816,null,17,"aller-retours ","17 aller-retours ",1,11,"11 tours 1plot",2,8,"8 tours 2 plots",4,6,"6 tours 4 plots",4,5,"5 tours 4 plots",6,4,"4 tours 6 plots",2,4,"4 tours 2 plots",7,3,"3 tours 7 plots",4,3,"3 tours 4 plots",1,3,"3 tours 1 plot",10,2,"2 tours 10 plots",8,2,"2 tours 8 plots",6,2,"2 tours 6 plots",4,2,"2 tours 4 plots",2,2,"2 tours 2 plots",0,2,"2 tours",16,1,"1 tour 16 plots",15,1,"1 tour 15 plots",14,1,"1 tour 14 plots",null,null,288,4,48]
[840,295.55806856708159,3.1754144312119807,"00:04:55.558",11.431491952363132,"3 tours 5 plots",840,null,null,"1 plot","17 aller-retours 1 plot",2,11,"11 tours 2 plots",3,8,"8 tours 3 plots",0,7,"7 tours ",5,5,"5 tours 5 plots",0,5,"5 tours ",3,4,"4 tours 3 plots",8,3,"3 tours 8 plots",5,3,"3 tours 5 plots",2,3,"3 tours 2 plots",11,2,"2 tours 11 plots",9,2,"2 tours 9 plots",7,2,"2 tours 7 plots",5,2,"2 tours 5 plots",3,2,"2 tours 3 plots",1,2,"2 tours 1 plot",17,1,"1 tour 17 plots",16,1,"1 tour 16 plots",15,1,"1 tour 15 plots",null,null,296,4,56]
[864,303.07483528549528,3.1928621572367839,"00:05:03.075",11.494303766052422,"3 tours 6 plots",864,null,18,"aller-retours ","18 aller-retours ",0,12,"12 tours ",0,9,"9 tours ",1,7,"7 tours 1plot",0,6,"6 tours ",1,5,"5 tours 1plot",4,4,"4 tours 4 plots",0,4,"4 tours ",6,3,"3 tours 6 plots",3,3,"3 tours 3 plots",0,3,"3 tours",10,2,"2 tours 10 plots",8,2,"2 tours 8 plots",6,2,"2 tours 6 plots",4,2,"2 tours 4 plots",2,2,"2 tours 2 plots",0,2,"2 tours",17,1,"1 tour 17 plots",16,1,"1 tour 16 plots",null,null,303,5,3]
[888,310.55096993961354,3.2102150523438628,"00:05:10.551",11.556774188437906,"3 tours 7 plots",888,null,null,"1 plot","18 aller-retours 1 plot",1,12,"12 tours 1plot",1,9,"9 tours 1plot",2,7,"7 tours 2 plots",1,6,"6 tours 1plot",2,5,"5 tours 2 plots",5,4,"4 tours 5 plots",1,4,"4 tours 1plot",7,3,"3 tours 7 plots",4,3,"3 tours 4 plots",1,3,"3 tours 1 plot",11,2,"2 tours 11 plots",9,2,"2 tours 9 plots",7,2,"2 tours 7 plots",5,2,"2 tours 5 plots",3,2,"2 tours 3 plots",1,2,"2 tours 1 plot",18,1,"1 tour 18 plots",17,1,"1 tour 17 plots",null,null,311,5,11]
[912,317.98712440422719,3.2274746462312671,"00:05:17.987",11.618908726432561,"3 tours 8 plots",912,null,19,"aller-retours ","19 aller-retours ",2,12,"12 tours 2 plots",2,9,"9 tours 2 plots",3,7,"7 tours 3 plots",2,6,"6 tours 2 plots",3,5,"5 tours 3 plots",6,4,"4 tours 6 plots",2,4,"4 tours 2 plots",8,3,"3 tours 8 plots",5,3,"3 tours 5 plots",2,3,"3 tours 2 plots",12,2,"2 tours 12 plots",10,2,"2 tours 10 plots",8,2,"2 tours 8 plots",6,2,"2 tours 6 plots",4,2,"2 tours 4 plots",2,2,"2 tours 2 plots",0,2,"2 tours",18,1,"1 tour 18 plots",null,null,318,5,18]
[936,325.38393330790575,3.2446424279075785,"00:05:25.384",11.680712740467284,"3 tours 9 plots",936,null,null,"1 plot","19 aller-retours 1 plot",0,13,"13 tours ",3,9,"9 tours 3 plots",4,7,"7 tours 4 plots",3,6,"6 tours 3 plots",4,5,"5 tours 4 plots",7,4,"4 tours 7 plots",3,4,"4 tours 3 plots",9,3,"3 tours 9 plots",6,3,"3 tours 6 plots",3,3,"3 tours 3 plots",0,3,"3 tours",11,2,"2 tours 11 plots",9,2,"2 tours 9 plots",7,2,"2 tours 7 plots",5,2,"2 tours 5 plots",3,2,"2 tours 3 plots",1,2,"2 tours 1 plot",19,1,"1 tour 19 plots",null,null,325,5,25]
[960,332.742014665098,3.2617198471909941,"00:05:32.742",11.74219144988758,"4 tours ",960,null,20,"aller-retours ","20 aller-retours ",1,13,"13 tours 1plot",0,10,"10 tours ",0,8,"8 tours ",4,6,"6 tours 4 plots",5,5,"5 tours 5 plots",0,5,"5 tours ",4,4,"4 tours 4 plots",0,4,"4 tours ",7,3,"3 tours 7 plots",4,3,"3 tours 4 plots",1,3,"3 tours 1 plot",12,2,"2 tours 12 plots",10,2,"2 tours 10 plots",8,2,"2 tours 8 plots",6,2,"2 tours 6 plots",4,2,"2 tours 4 plots",2,2,"2 tours 2 plots",0,2,"2 tours",null,null,333,5,33]
[984,340.06197047875344,3.2787083161387116,"00:05:40.062",11.803349938099363,"4 tours 1plot",984,null,null,"1 plot","20 aller-retours 1 plot",2,13,"13 tours 2 plots",1,10,"10 tours 1plot",1,8,"8 tours 1plot",5,6,"6 tours 5 plots",6,5,"5 tours 6 plots",1,5,"5 tours 1plot",5,4,"4 tours 5 plots",1,4,"4 tours 1plot",8,3,"3 tours 8 plots",5,3,"3 tours 5 plots",2,3,"3 tours 2 plots",13,2,"2 tours 13 plots",11,2,"2 tours 11 plots",9,2,"2 tours 9 plots",7,2,"2 tours 7 plots",5,2,"2 tours 5 plots",3,2,"2 tours 3 plots",1,2,"2 tours 1 plot",null,null,340,5,40]
[1008,347.3443873151287,3.2956092104095651,"00:05:47.344",11.864193157474435,"4 tours 2 plots",1008,null,21,"aller-retours ","21 aller-retours ",0,14,"14 tours ",2,10,"10 tours 2 plots",2,8,"8 tours 2 plots",0,7,"7 tours ",0,6,"6 tours ",2,5,"5 tours 2 plots",6,4,"4 tours 6 plots",2,4,"4 tours 2 plots",9,3,"3 tours 9 plots",6,3,"3 tours 6 plots",3,3,"3 tours 3 plots",0,3,"3 tours",12,2,"2 tours 12 plots",10,2,"2 tours 10 plots",8,2,"2 tours 8 plots",6,2,"2 tours 6 plots",4,2,"2 tours 4 plots",2,2,"2 tours 2 plots",null,null,347,{"$f":"QUOTIENT(BP47,60)","v":5},47]
[1032,354.58983685233187,3.3124238705641833,"00:05:54.590",11.924725934031061,"4 tours 3 plots",1032,null,null,"1 plot","21 aller-retours 1 plot",1,14,"14 tours 1plot",3,10,"10 tours 3 plots",3,8,"8 tours 3 plots",1,7,"7 tours 1plot",1,6,"6 tours 1plot",3,5,"5 tours 3 plots",7,4,"4 tours 7 plots",3,4,"4 tours 3 plots",10,3,"3 tours 10 plots",7,3,"3 tours 7 plots",4,3,"3 tours 4 plots",1,3,"3 tours 1 plot",13,2,"2 tours 13 plots",11,2,"2 tours 11 plots",9,2,"2 tours 9 plots",7,2,"2 tours 7 plots",5,2,"2 tours 5 plots",3,2,"2 tours 3 plots",null,null,355,5,55]
[1056,361.79887640405667,3.3291536033059876,"00:06:01.799",11.984952971901556,"4 tours 4 plots",1056,null,22,"aller-retours ","22 aller-retours ",2,14,"14 tours 2 plots",0,11,"11 tours ",4,8,"8 tours 4 plots",2,7,"7 tours 2 plots",2,6,"6 tours 2 plots",4,5,"5 tours 4 plots",8,4,"4 tours 8 plots",4,4,"4 tours 4 plots",0,4,"4 tours",8,3,"3 tours 8 plots",5,3,"3 tours 5 plots",2,3,"3 tours 2 plots",14,2,"2 tours 14 plots",12,2,"2 tours 12 plots",10,2,"2 tours 10 plots",8,2,"2 tours 8 plots",6,2,"2 tours 6 plots",4,2,"2 tours 4 plots",null,null,362,6,2]
[1080,368.97204941986382,3.3457996826665743,"00:06:08.972",12.044878857599668,"4 tours 5 plots",1080,null,null,"1 plot","22 aller-retours 1 plot",0,15,"15 tours ",1,11,"11 tours 1plot",0,9,"9 tours ",3,7,"7 tours 3 plots",3,6,"6 tours 3 plots",5,5,"5 tours 5 plots",0,5,"5 tours ",5,4,"4 tours 5 plots",1,4,"4 tours 1 plot",9,3,"3 tours 9 plots",6,3,"3 tours 6 plots",3,3,"3 tours 3 plots",0,3,"3 tours",13,2,"2 tours 13 plots",11,2,"2 tours 11 plots",9,2,"2 tours 9 plots",7,2,"2 tours 7 plots",5,2,"2 tours 5 plots",null,null,369,6,9]
[1104,376.10988596328133,3.3623633511379207,"00:06:16.110",12.104508064096516,"4 tours 6 plots",1104,null,23,"aller-retours ","23 aller-retours ",1,15,"15 tours 1plot",2,11,"11 tours 2 plots",1,9,"9 tours 1plot",4,7,"7 tours 4 plots",4,6,"6 tours 4 plots",6,5,"5 tours 6 plots",1,5,"5 tours 1plot",6,4,"4 tours 6 plots",2,4,"4 tours 2 plots",10,3,"3 tours 10 plots",7,3,"3 tours 7 plots",4,3,"3 tours 4 plots",1,3,"3 tours 1 plot",14,2,"2 tours 14 plots",12,2,"2 tours 12 plots",10,2,"2 tours 10 plots",8,2,"2 tours 8 plots",6,2,"2 tours 6 plots",null,null,376,6,16]
[1128,383.21290316891333,3.3788458207549237,"00:06:23.213",12.163844954717726,"4 tours 7 plots",1128,null,null,"1 plot","23 aller-retours 1 plot",2,15,"15 tours 2 plots",3,11,"11 tours 3 plots",2,9,"9 tours 2 plots",5,7,"7 tours 5 plots",5,6,"6 tours 5 plots",7,5,"5 tours 7 plots",2,5,"5 tours 2 plots",7,4,"4 tours 7 plots",3,4,"4 tours 3 plots",11,3,"3 tours 11 plots",8,3,"3 tours 8 plots",5,3,"3 tours 5 plots",2,3,"3 tours 2 plots",15,2,"2 tours 15 plots",13,2,"2 tours 13 plots",11,2,"2 tours 11 plots",9,2,"2 tours 9 plots",7,2,"2 tours 7 plots",null,null,383,6,23]
[1152,390.28160567967387,3.3952482741302634,"00:06:30.282",12.222893786868948,"4 tours 8 plots",1152,null,24,"aller-retours ","24 aller-retours ",0,16,"16 tours ",0,12,"12 tours ",3,9,"9 tours 3 plots",0,8,"8 tours ",6,6,"6 tours 6 plots",0,6,"6 tours ",3,5,"5 tours 3 plots",8,4,"4 tours 8 plots",4,4,"4 tours 4 plots",0,4,"4 tours",9,3,"3 tours 9 plots",6,3,"3 tours 6 plots",3,3,"3 tours 3 plots",0,2,"2 tours",14,2,"2 tours 14 plots",12,2,"2 tours 12 plots",10,2,"2 tours 10 plots",8,2,"2 tours 8 plots",null,null,390,6,30]
[1176,397.31648606518974,3.4115718654454561,"00:06:37.316",12.281658715603642,"4 tours 9 plots",1176,null,null,"1 plot","24 aller-retours 1 plot",1,16,"16 tours 1plot",1,12,"12 tours 1plot",4,9,"9 tours 4 plots",1,8,"8 tours 1plot",0,7,"7 tours ",1,6,"6 tours 1plot",4,5,"5 tours 4 plots",9,4,"4 tours 9 plots",5,4,"4 tours 5 plots",1,4,"4 tours 1 plot",10,3,"3 tours 10 plots",7,3,"3 tours 7 plots",4,3,"3 tours 4 plots",1,3,"3 tours 1 plot",15,2,"2 tours 15 plots",13,2,"2 tours 13 plots",11,2,"2 tours 11 plots",9,2,"2 tours 9 plots",null,null,397,6,37]
[1200,404.31802522235785,3.4278177213975907,"00:06:44.318",12.340143797031327,"5 tours ",1200,null,25,"aller-retours ","25 aller-retours ",2,16,"16 tours 2 plots",2,12,"12 tours 2 plots",0,10,"10 tours ",2,8,"8 tours 2 plots",1,7,"7 tours 1plot",2,6,"6 tours 2 plots",5,5,"5 tours 5 plots",0,5,"5 tours ",6,4,"4 tours 6 plots",2,4,"4 tours 2 plots",11,3,"3 tours 11 plots",8,3,"3 tours 8 plots",5,3,"3 tours 5 plots",2,3,"3 tours 2 plots",16,2,"2 tours 16 plots",14,2,"2 tours 14 plots",12,2,"2 tours 12 plots",10,2,"2 tours 10 plots",null,null,404,6,44]
[1224,411.28669275897443,3.4439869421080833,"00:06:51.287",12.3983529915891,"5 tours 1plot",1224,null,null,"1 plot","25 aller-retours 1 plot",0,17,"17 tours ",3,12,"12 tours 3 plots",1,10,"10 tours 1plot",3,8,"8 tours 3 plots",2,7,"7 tours 2 plots",3,6,"6 tours 3 plots",6,5,"5 tours 6 plots",1,5,"5 tours 1plot",7,4,"4 tours 7 plots",3,4,"4 tours 3 plots",12,3,"3 tours 12 plots",9,3,"3 tours 9 plots",6,3,"3 tours 6 plots",3,3,"3 tours 3 plots",0,3,"3 tours",15,2,"2 tours 15 plots",13,2,"2 tours 13 plots",11,2,"2 tours 11 plots",null,null,411,6,51]
[1248,418.22294736130641,3.4600806019910433,"00:06:58.223",12.456290167167756,"5 tours 2 plots",1248,null,26,"aller-retours ","26 aller-retours ",1,17,"17 tours 1plot",0,13,"13 tours ",2,10,"10 tours 2 plots",4,8,"8 tours 4 plots",3,7,"7 tours 3 plots",4,6,"6 tours 4 plots",7,5,"5 tours 7 plots",2,5,"5 tours 2 plots",8,4,"4 tours 8 plots",4,4,"4 tours 4 plots",0,4,"4 tours",10,3,"3 tours 10 plots",7,3,"3 tours 7 plots",4,3,"3 tours 4 plots",1,3,"3 tours 1 plot",16,2,"2 tours 16 plots",14,2,"2 tours 14 plots",12,2,"2 tours 12 plots",null,null,418,6,58]
[1272,425.12723714641487,3.4760997505875952,"00:07:05.127",12.513959102115344,"5 tours 3 plots",1272,null,null,"1 plot","26 aller-retours 1 plot",2,17,"17 tours 2 plots",1,13,"13 tours 1plot",3,10,"10 tours 3 plots",5,8,"8 tours 5 plots",4,7,"7 tours 4 plots",5,6,"6 tours 5 plots",8,5,"5 tours 8 plots",3,5,"5 tours 3 plots",9,4,"4 tours 9 plots",5,4,"4 tours 5 plots",1,4,"4 tours 1 plot",11,3,"3 tours 11 plots",8,3,"3 tours 8 plots",5,3,"3 tours 5 plots",2,3,"3 tours 2 plots",17,2,"2 tours 17 plots",15,2,"2 tours 15 plots",13,2,"2 tours 13 plots",null,null,425,7,5]
[1296,432,3.4920454133639378,"00:07:12",12.571363488110176,"5 tours 4 plots",1296,null,27,"aller-retour","27 aller-retour",0,18,"18 tours ",2,13,"13 tours 2 plots",4,10,"10 tours 4 plots",0,9,"9 tours ",5,7,"7 tours 5 plots",6,6,"6 tours 6 plots",0,6,"6 tours ",4,5,"5 tours 4 plots",10,4,"4 tours 10 plots",6,4,"4 tours 6 plots",2,4,"4 tours 2 plots",12,3,"3 tours 12 plots",9,3,"3 tours 9 plots",6,3,"3 tours 6 plots",3,3,"3 tours 3 plots",0,3,"3 tours",16,2,"2 tours 16 plots",14,2,"2 tours 14 plots",null,null,432,7,12]
[1320,438.84166390048699,3.5079185924774339,"00:07:18.842",12.628506932918762,"5 tours 5 plots",1320,null,null,"1 plot","27 aller-retour1 plot",1,18,"18 tours 1plot",3,13,"13 tours 3 plots",0,11,"11 tours ",1,9,"9 tours 1plot",6,7,"7 tours 6 plots",7,6,"6 tours 7 plots",1,6,"6 tours 1plot",5,5,"5 tours 5 plots",0,5,"5 tours",7,4,"4 tours 7 plots",3,4,"4 tours 3 plots",13,3,"3 tours 13 plots",10,3,"3 tours 10 plots",7,3,"3 tours 7 plots",4,3,"3 tours 4 plots",1,3,"3 tours 1 plot",17,2,"2 tours 17 plots",15,2,"2 tours 15 plots",null,null,439,7,19]
[1344,445.6526472300306,3.5237202675121235,"00:07:25.653",12.685392963043645,"5 tours 6 plots",1344,null,28,"aller-retours ","28 aller-retours ",2,18,"18 tours 2 plots",0,14,"14 tours ",1,11,"11 tours 1plot",2,9,"9 tours 2 plots",0,8,"8 tours ",0,7,"7 tours ",2,6,"6 tours 2 plots",6,5,"5 tours 6 plots",1,5,"5 tours 1 plot",8,4,"4 tours 8 plots",4,4,"4 tours 4 plots",0,4,"4 tours",11,3,"3 tours 11 plots",8,3,"3 tours 8 plots",5,3,"3 tours 5 plots",2,3,"3 tours 2 plots",18,2,"2 tours 18 plots",16,2,"2 tours 16 plots",null,null,446,7,26]
[1368,452.43335907307892,3.5394513961841811,"00:07:32.433",12.742025026263052,"5 tours 7 plots",1368,null,null,"1 plot","28 aller-retours 1 plot",0,19,"19 tours ",1,14,"14 tours 1plot",2,11,"11 tours 2 plots",3,9,"9 tours 3 plots",1,8,"8 tours 1plot",1,7,"7 tours 1plot",3,6,"6 tours 3 plots",7,5,"5 tours 7 plots",2,5,"5 tours 2 plots",9,4,"4 tours 9 plots",5,4,"4 tours 5 plots",1,4,"4 tours 1 plot",12,3,"3 tours 12 plots",9,3,"3 tours 9 plots",6,3,"3 tours 6 plots",3,3,"3 tours 3 plots",0,3,"3 tours",17,2,"2 tours 17 plots",null,null,452,7,32]
[1392,459.18419950310033,3.5551129150187712,"00:07:39.184",12.798406494067576,"5 tours 8 plots",1392,null,29,"aller-retours ","29 aller-retours ",1,19,"19 tours 1plot",2,14,"14 tours 2 plots",3,11,"11 tours 3 plots",4,9,"9 tours 4 plots",2,8,"8 tours 2 plots",2,7,"7 tours 2 plots",4,6,"6 tours 4 plots",8,5,"5 tours 8 plots",3,5,"5 tours 3 plots",10,4,"4 tours 10 plots",6,4,"4 tours 6 plots",2,4,"4 tours 2 plots",13,3,"3 tours 13 plots",10,3,"3 tours 10 plots",7,3,"3 tours 7 plots",4,3,"3 tours 4 plots",1,3,"3 tours 1 plot",18,2,"2 tours 18 plots",null,null,459,7,39]
[1416,465.90555985804002,3.5707057400012512,"00:07:45.906",12.854540664004505,"5 tours 9 plots",1416,null,null,"1 plot","29 aller-retours 1 plot",2,19,"19 tours 2 plots",3,14,"14 tours 3 plots",4,11,"11 tours 4 plots",5,9,"9 tours 5 plots",3,8,"8 tours 3 plots",3,7,"7 tours 3 plots",5,6,"6 tours 5 plots",9,5,"5 tours 9 plots",4,5,"5 tours 4 plots",11,4,"4 tours 11 plots",7,4,"4 tours 7 plots",3,4,"4 tours 3 plots",14,3,"3 tours 14 plots",11,3,"3 tours 11 plots",8,3,"3 tours 8 plots",5,3,"3 tours 5 plots",2,3,"3 tours 2 plots",19,2,"2 tours 19 plots",null,null,466,7,46]
[1440,472.59782300504338,3.5862307672026681,"00:07:52.598",12.910430761929605,"6 tours ",1440,null,30,"aller-retours ","30 aller-retours ",0,20,"20 tours ",0,15,"15 tours ",0,12,"12 tours ",0,10,"10 tours ",4,8,"8 tours 4 plots",4,7,"7 tours 4 plots",6,6,"6 tours 6 plots",0,6,"6 tours ",5,5,"5 tours 5 plots",0,5,"5 tours",8,4,"4 tours 8 plots",4,4,"4 tours 4 plots",0,4,"4 tours",12,3,"3 tours 12 plots",9,3,"3 tours 9 plots",6,3,"3 tours 6 plots",3,3,"3 tours 3 plots",0,3,"3 tours",null,null,473,7,53]
[1464,479.26136359495558,3.6016888733795831,"00:07:59.261",12.9660799441665,"6 tours 1plot",1464,null,null,"1 plot","30 aller-retours 1 plot",1,20,"20 tours 1plot",1,15,"15 tours 1plot",1,12,"12 tours 1plot",1,10,"10 tours 1plot",5,8,"8 tours 5 plots",5,7,"7 tours 5 plots",7,6,"6 tours 7 plots",1,6,"6 tours 1plot",6,5,"5 tours 6 plots",1,5,"5 tours 1 plot",9,4,"4 tours 9 plots",5,4,"4 tours 5 plots",1,4,"4 tours 1 plot",13,3,"3 tours 13 plots",10,3,"3 tours 10 plots",7,3,"3 tours 7 plots",4,3,"3 tours 4 plots",1,3,"3 tours 1 plot",null,null,479,7,59]
[1488,485.89654830707127,3.6170809165533218,"00:08:05.897",13.021491299591959,"6 tours 2 plots",1488,null,31,"aller-retours ","31 aller-retours ",2,20,"20 tours 2 plots",2,15,"15 tours 2 plots",2,12,"12 tours 2 plots",2,10,"10 tours 2 plots",6,8,"8 tours 6 plots",6,7,"7 tours 6 plots",8,6,"6 tours 8 plots",2,6,"6 tours 2 plots",7,5,"5 tours 7 plots",2,5,"5 tours 2 plots",10,4,"4 tours 10 plots",6,4,"4 tours 6 plots",2,4,"4 tours 2 plots",14,3,"3 tours 14 plots",11,3,"3 tours 11 plots",8,3,"3 tours 8 plots",5,3,"3 tours 5 plots",2,3,"3 tours 2 plots",null,null,486,8,6]
[1512,492.50373608459194,3.6324077365644296,"00:08:12.504",13.076667851631948,"6 tours 3 plots",1512,null,null,"1 plot","31 aller-retours 1 plot",0,21,"21 tours ",3,15,"15 tours 3 plots",3,12,"12 tours 3 plots",3,10,"10 tours 3 plots",0,9,"9 tours ",7,7,"7 tours 7 plots",0,7,"7 tours ",3,6,"6 tours 3 plots",8,5,"5 tours 8 plots",3,5,"5 tours 3 plots",11,4,"4 tours 11 plots",7,4,"4 tours 7 plots",3,4,"4 tours 3 plots",15,3,"3 tours 15 plots",12,3,"3 tours 12 plots",9,3,"3 tours 9 plots",6,3,"3 tours 6 plots",3,3,"3 tours 3 plots",null,null,493,8,13]
[1536,499.08327836121435,3.6476701556084992,"00:08:19.083",13.131612560190597,"6 tours 4 plots",1536,null,32,"aller-retours ","32 aller-retours ",1,21,"21 tours 1plot",0,16,"16 tours ",4,12,"12 tours 4 plots",4,10,"10 tours 4 plots",1,9,"9 tours 1plot",0,8,"8 tours ",1,7,"7 tours 1plot",4,6,"6 tours 4 plots",9,5,"5 tours 9 plots",4,5,"5 tours 4 plots",12,4,"4 tours 12 plots",8,4,"4 tours 8 plots",4,4,"4 tours 4 plots",0,3,"3 tours",13,3,"3 tours 13 plots",10,3,"3 tours 10 plots",7,3,"3 tours 7 plots",4,3,"3 tours 4 plots",null,null,499,8,19]
[1560,505.63551927925721,3.6628689787506721,"00:08:25.636",13.186328323502419,{"$f":"INDEX(F70:BM278, 1,$B$2*3)","v":"6 tours 5 plots"},1560,null,null,"1 plot","32 aller-retours 1 plot",2,21,"21 tours 2 plots",1,16,"16 tours 1plot",0,13,"13 tours ",5,10,"10 tours 5 plots",2,9,"9 tours 2 plots",1,8,"8 tours 1plot",2,7,"7 tours 2 plots",5,6,"6 tours 5 plots",10,5,{"$f":"IF(AK70=0,\"\",IF(AND(AJ70=0,AK70=1),AK70&\" \"&\"tour\",IF(AND(AJ70=0,AK70>1),AK70&\" \"&\"tours\",IF(AND(AK70>1,AJ70=1),AK70&\" \"&\"tours\"&\" \"&AJ70&\" \"&\"plot\",IF(AND(AK70=1,AJ70=1),AK70&\" \"&\"tour\"&\" \"&AJ70&\" \"&\"plot\",IF(AND(AK70=1,AJ70>0),AK70&\" \"&\"tour\"&\" \"&AJ70&\" \"&\"plots\",IF(AND(AK70>1,AJ70>1),AK70&\" \"&\"tours\"&\" \"&AJ70&\" \"&\"plots\")))))))","v":"5 tours 10 plots"},5,5,"5 tours 5 plots",0,5,"5 tours",9,4,"4 tours 9 plots",5,4,"4 tours 5 plots",1,4,"4 tours 1 plot",14,3,"3 tours 14 plots",11,3,"3 tours 11 plots",8,3,"3 tours 8 plots",5,3,"3 tours 5 plots",null,null,506,8,26]
[1584,512.16079589971059,3.678004994420061,{"$f":"B71*0.0000115740740740741","v":"00:08:32.161"},{"$f":"C71*3.6","v":13.240817979912221},"6 tours 6 plots",1584,null,33,"aller-retours ","33 aller-retours ",0,22,"22 tours ",2,16,"16 tours 2 plots",1,13,"13 tours 1plot",0,11,"11 tours ",3,9,"9 tours 3 plots",2,8,"8 tours 2 plots",3,7,"7 tours 3 plots",6,6,"6 tours 6 plots",0,6,"6 tours",6,5,"5 tours 6 plots",1,5,"5 tours 1 plot",10,4,"4 tours 10 plots",6,4,"4 tours 6 plots",2,4,"4 tours 2 plots",15,3,"3 tours 15 plots",12,3,"3 tours 12 plots",9,3,"3 tours 9 plots",6,3,"3 tours 6 plots",null,null,512,{"$f":"QUOTIENT(BP71,60)","v":8},32]
[{"$f":"A71+$A$6","v":1608},{"$f":"(-$C$3+SQRT($C$3*$C$3+(4*$F$1*A72)))/(2*$F$1)","v":518.65943840456521},3.6930789748892208,"00:08:38.659",13.295084309601195,"6 tours 7 plots",1608,null,null,"1 plot","33 aller-retours 1 plot",1,22,"22 tours 1plot",3,16,"16 tours 3 plots",2,13,"13 tours 2 plots",1,11,"11 tours 1plot",4,9,"9 tours 4 plots",3,8,"8 tours 3 plots",4,7,"7 tours 4 plots",7,6,"6 tours 7 plots",1,6,"6 tours 1 plot",7,5,"5 tours 7 plots",2,5,"5 tours 2 plots",11,4,"4 tours 11 plots",7,4,"4 tours 7 plots",3,4,"4 tours 3 plots",16,3,"3 tours 16 plots",13,3,"3 tours 13 plots",10,3,"3 tours 10 plots",7,3,"3 tours 7 plots",null,null,{"$f":"ROUND(B72,0)","v":519},8,39]
[1632,525.13177029177268,{"$f":"$E$3/(B73-B72)","v":3.7080916767318217},"00:08:45.132",13.349130036234559,"6 tours 8 plots",1632,null,34,"aller-retours ","34 aller-retours ",2,22,"22 tours 2 plots",0,17,"17 tours ",3,13,"13 tours 3 plots",2,11,"11 tours 2 plots",5,9,"9 tours 5 plots",4,8,"8 tours 4 plots",5,7,"7 tours 5 plots",8,6,"6 tours 8 plots",2,6,"6 tours 2 plots",8,5,"5 tours 8 plots",3,5,"5 tours 3 plots",12,4,"4 tours 12 plots",8,4,"4 tours 8 plots",4,4,"4 tours 4 plots",0,4,"4 tours",14,3,"3 tours 14 plots",11,3,"3 tours 11 plots",8,3,"3 tours 8 plots",null,null,525,8,{"$f":"MOD(BP73,60)","v":45}]
[1656,531.57810856315621,3.7230438412672808,"00:08:51.578",13.402957828562212,"6 tours 9 plots",1656,null,null,"1 plot","34 aller-retours 1 plot",0,23,"23 tours ",1,17,"17 tours 1plot",4,13,"13 tours 4 plots",3,11,"11 tours 3 plots",6,9,"9 tours 6 plots",5,8,"8 tours 5 plots",6,7,"7 tours 6 plots",9,6,"6 tours 9 plots",3,6,"6 tours 3 plots",9,5,"5 tours 9 plots",4,5,"5 tours 4 plots",13,4,"4 tours 13 plots",9,4,"4 tours 9 plots",5,4,"4 tours 5 plots",1,4,"4 tours 1 plot",15,3,"3 tours 15 plots",12,3,"3 tours 12 plots",9,3,"3 tours 9 plots",null,null,532,8,52]
[1680,537.99876390558484,3.7379361949869017,"00:08:57.999",13.456570301952846,"7 tours ",1680,null,35,"aller-retours ","35 aller-retours ",1,23,"23 tours 1plot",2,17,"17 tours 2 plots",0,14,"14 tours ",4,11,"11 tours 4 plots",0,10,"10 tours ",6,8,"8 tours 6 plots",7,7,"7 tours 7 plots",0,7,"7 tours ",4,6,"6 tours 4 plots",10,5,"5 tours 10 plots",5,5,"5 tours 5 plots",0,5,"5 tours",10,4,"4 tours 10 plots",6,4,"4 tours 6 plots",2,4,"4 tours 2 plots",16,3,"3 tours 16 plots",13,3,"3 tours 13 plots",10,3,"3 tours 10 plots",null,null,538,8,58]
[1704,544.39404086570073,3.7527694499668827,"00:09:04.394",13.509970019880777,"7 tours 1plot",1704,null,null,"1 plot",{"$f":"IF(I76=\"\",K75&J76,IF(I76>0,I76&\" \"&J76))","v":"35 aller-retours 1 plot"},2,23,"23 tours 2 plots",3,17,"17 tours 3 plots",1,14,"14 tours 1plot",5,11,"11 tours 5 plots",1,10,"10 tours 1plot",7,8,"8 tours 7 plots",8,7,"7 tours 8 plots",1,7,"7 tours 1plot",5,6,"6 tours 5 plots",11,5,"5 tours 11 plots",6,5,"5 tours 6 plots",1,5,"5 tours 1 plot",11,4,"4 tours 11 plots",7,4,"4 tours 7 plots",3,4,"4 tours 3 plots",17,3,"3 tours 17 plots",14,3,"3 tours 14 plots",11,3,"3 tours 11 plots",null,null,544,9,4]
[1728,550.76423801848205,3.7675443042640007,"00:09:10.764",13.563159495350403,"7 tours 2 plots",{"$f":"A77","v":1728},null,36,"aller-retours ","36 aller-retours ",0,24,"24 tours ",0,18,"18 tours ",2,14,"14 tours 2 plots",0,12,"12 tours ",2,10,"10 tours 2 plots",0,9,"9 tours ",0,8,"8 tours ",2,7,"7 tours 2 plots",6,6,"6 tours 6 plots",0,6,"6 tours",7,5,"5 tours 7 plots",2,5,"5 tours 2 plots",12,4,"4 tours 12 plots",8,4,"4 tours 8 plots",4,4,"4 tours 4 plots",0,4,"4 tours",15,3,"3 tours 15 plots",12,3,"3 tours 12 plots",null,null,551,9,11]
[1752,557.10964812989857,3.7822614423013747,"00:09:17.110",13.61614119228495,"7 tours 3 plots",1752,null,null,"1 plot","36 aller-retours 1 plot",1,24,"24 tours 1plot",1,18,"18 tours 1plot",3,14,"14 tours 3 plots",1,12,"12 tours 1plot",3,10,"10 tours 3 plots",1,9,"9 tours 1plot",1,8,"8 tours 1plot",3,7,"7 tours 3 plots",7,6,"6 tours 7 plots",1,6,"6 tours 1 plot",8,5,"5 tours 8 plots",3,5,"5 tours 3 plots",13,4,"4 tours 13 plots",9,4,"4 tours 9 plots",5,4,"4 tours 5 plots",1,4,"4 tours 1 plot",16,3,"3 tours 16 plots",13,3,"3 tours 13 plots",null,null,557,9,17]
[1776,563.43055831391916,3.7969215352359482,"00:09:23.431",13.668917526849414,"7 tours 4 plots",1776,null,37,"aller-retours ","37 aller-retours ",2,24,"24 tours 2 plots",2,18,"18 tours 2 plots",4,14,"14 tours 4 plots",2,12,"12 tours 2 plots",4,10,"10 tours 4 plots",2,9,"9 tours 2 plots",2,8,"8 tours 2 plots",4,7,"7 tours 4 plots",8,6,"6 tours 8 plots",2,6,"6 tours 2 plots",9,5,"5 tours 9 plots",4,5,"5 tours 4 plots",14,4,"4 tours 14 plots",10,4,"4 tours 10 plots",6,4,"4 tours 6 plots",2,4,"4 tours 2 plots",17,3,"3 tours 17 plots",14,3,"3 tours 14 plots",null,null,563,9,23]
[1800,569.72725018410245,3.8115252413171392,"00:09:29.727",13.721490868741702,"7 tours 5 plots",1800,null,null,"1 plot","37 aller-retours 1 plot",0,25,"25 tours ",3,18,"18 tours 3 plots",0,15,"15 tours ",3,12,"12 tours 3 plots",5,10,"10 tours 5 plots",3,9,"9 tours 3 plots",3,8,"8 tours 3 plots",5,7,"7 tours 5 plots",9,6,"6 tours 9 plots",3,6,"6 tours 3 plots",10,5,"5 tours 10 plots",5,5,"5 tours 5 plots",0,5,"5 tours",11,4,"4 tours 11 plots",7,4,"4 tours 7 plots",3,4,"4 tours 3 plots",18,3,"3 tours 18 plots",15,3,"3 tours 15 plots",null,null,570,9,30]
[1824,576.00000000000011,3.8260732062315568,"00:09:36",13.773863542433604,"7 tours 6 plots",1824,null,38,"aller-retours ","38 aller-retours ",1,25,"25 tours 1plot",0,19,"19 tours ",1,15,"15 tours 1plot",4,12,"12 tours 4 plots",6,10,"10 tours 6 plots",4,9,"9 tours 4 plots",4,8,"8 tours 4 plots",6,7,"7 tours 6 plots",10,6,"6 tours 10 plots",4,6,{"$f":"IF(AN81=0,\"\",IF(AND(AM81=0,AN81=1),AN81&\" \"&\"tour\",IF(AND(AM81=0,AN81>1),AN81&\" \"&\"tours\",IF(AND(AN81>1,AM81=1),AN81&\" \"&\"tours\"&\" \"&AM81&\" \"&\"plot\",IF(AND(AN81=1,AM81=1),AN81&\" \"&\"tour\"&\" \"&AM81&\" \"&\"plot\",IF(AND(AN81=1,AM81>0),AN81&\" \"&\"tour\"&\" \"&AM81&\" \"&\"plots\",IF(AND(AN81>1,AM81>1),AN81&\" \"&\"tours\"&\" \"&AM81&\" \"&\"plots\")))))))","v":"6 tours 4 plots"},11,5,"5 tours 11 plots",6,5,"5 tours 6 plots",1,5,"5 tours 1 plot",12,4,"4 tours 12 plots",8,4,"4 tours 8 plots",4,4,"4 tours 4 plots",0,4,"4 tours",16,3,"3 tours 16 plots",null,null,576,9,36]
[1848,582.24907880858825,3.8405660634358925,"00:09:42.249",13.826037828369213,"7 tours 7 plots",1848,null,null,"1 plot","38 aller-retours 1 plot",2,25,"25 tours 2 plots",1,19,"19 tours 1plot",2,15,"15 tours 2 plots",5,12,"12 tours 5 plots",0,11,"11 tours ",5,9,"9 tours 5 plots",5,8,"8 tours 5 plots",7,7,"7 tours 7 plots",0,7,"7 tours",5,6,"6 tours 5 plots",12,5,{"$f":"IF(AQ82=0,\"\",IF(AND(AP82=0,AQ82=1),AQ82&\" \"&\"tour\",IF(AND(AP82=0,AQ82>1),AQ82&\" \"&\"tours\",IF(AND(AQ82>1,AP82=1),AQ82&\" \"&\"tours\"&\" \"&AP82&\" \"&\"plot\",IF(AND(AQ82=1,AP82=1),AQ82&\" \"&\"tour\"&\" \"&AP82&\" \"&\"plot\",IF(AND(AQ82=1,AP82>0),AQ82&\" \"&\"tour\"&\" \"&AP82&\" \"&\"plots\",IF(AND(AQ82>1,AP82>1),AQ82&\" \"&\"tours\"&\" \"&AP82&\" \"&\"plots\")))))))","v":"5 tours 12 plots"},7,5,"5 tours 7 plots",2,5,"5 tours 2 plots",13,4,"4 tours 13 plots",9,4,"4 tours 9 plots",5,4,"4 tours 5 plots",1,4,"4 tours 1 plot",17,3,"3 tours 17 plots",null,null,582,9,42]
[1872,588.47475258093129,3.8550044344786731,"00:09:48.475",13.878015964123223,"7 tours 8 plots",1872,null,39,"aller-retours ","39 aller-retours ",0,26,"26 tours ",2,19,"19 tours 2 plots",3,15,"15 tours 3 plots",0,13,"13 tours ",1,11,"11 tours 1plot",6,9,"9 tours 6 plots",6,8,"8 tours 6 plots",8,7,"7 tours 8 plots",1,7,"7 tours 1 plot",6,6,"6 tours 6 plots",0,6,"6 tours",8,5,{"$f":"IF(AT83=0,\"\",IF(AND(AS83=0,AT83=1),AT83&\" \"&\"tour\",IF(AND(AS83=0,AT83>1),AT83&\" \"&\"tours\",IF(AND(AT83>1,AS83=1),AT83&\" \"&\"tours\"&\" \"&AS83&\" \"&\"plot\",IF(AND(AT83=1,AS83=1),AT83&\" \"&\"tour\"&\" \"&AS83&\" \"&\"plot\",IF(AND(AT83=1,AS83>0),AT83&\" \"&\"tour\"&\" \"&AS83&\" \"&\"plots\",IF(AND(AT83>1,AS83>1),AT83&\" \"&\"tours\"&\" \"&AS83&\" \"&\"plots\")))))))","v":"5 tours 8 plots"},3,5,"5 tours 3 plots",14,4,"4 tours 14 plots",10,4,"4 tours 10 plots",6,4,"4 tours 6 plots",2,4,"4 tours 2 plots",18,3,"3 tours 18 plots",null,null,588,9,48]
[1896,594.67728234427307,3.8693889293115431,"00:09:54.677",13.929800145521556,"7 tours 9 plots",1896,null,null,"1 plot","39 aller-retours 1 plot",1,26,"26 tours 1plot",3,19,"19 tours 3 plots",4,15,"15 tours 4 plots",1,13,"13 tours 1plot",2,11,"11 tours 2 plots",7,9,"9 tours 7 plots",7,8,"8 tours 7 plots",9,7,"7 tours 9 plots",2,7,"7 tours 2 plots",7,6,"6 tours 7 plots",1,6,"6 tours 1 plot",9,5,"5 tours 9 plots",4,5,{"$f":"IF(AW84=0,\"\",IF(AND(AV84=0,AW84=1),AW84&\" \"&\"tour\",IF(AND(AV84=0,AW84>1),AW84&\" \"&\"tours\",IF(AND(AW84>1,AV84=1),AW84&\" \"&\"tours\"&\" \"&AV84&\" \"&\"plot\",IF(AND(AW84=1,AV84=1),AW84&\" \"&\"tour\"&\" \"&AV84&\" \"&\"plot\",IF(AND(AW84=1,AV84>0),AW84&\" \"&\"tour\"&\" \"&AV84&\" \"&\"plots\",IF(AND(AW84>1,AV84>1),AW84&\" \"&\"tours\"&\" \"&AV84&\" \"&\"plots\")))))))","v":"5 tours 4 plots"},15,4,"4 tours 15 plots",11,4,"4 tours 11 plots",7,4,"4 tours 7 plots",3,4,"4 tours 3 plots",19,3,"3 tours 19 plots",null,null,595,9,55]
[1920,600.85692430974041,3.8837201465902371,"00:10:00.857",13.981392527724854,"8 tours ",1920,null,40,"aller-retours ","40 aller-retours ",2,26,"26 tours 2 plots",0,20,"20 tours ",0,16,"16 tours ",2,13,"13 tours 2 plots",3,11,"11 tours 3 plots",0,10,"10 tours ",8,8,"8 tours 8 plots",0,8,"8 tours ",3,7,"7 tours 3 plots",8,6,"6 tours 8 plots",2,6,"6 tours 2 plots",10,5,"5 tours 10 plots",5,5,"5 tours 5 plots",0,5,{"$f":"IF(AZ85=0,\"\",IF(AND(AY85=0,AZ85=1),AZ85&\" \"&\"tour\",IF(AND(AY85=0,AZ85>1),AZ85&\" \"&\"tours\",IF(AND(AZ85>1,AY85=1),AZ85&\" \"&\"tours\"&\" \"&AY85&\" \"&\"plot\",IF(AND(AZ85=1,AY85=1),AZ85&\" \"&\"tour\"&\" \"&AY85&\" \"&\"plot\",IF(AND(AZ85=1,AY85>0),AZ85&\" \"&\"tour\"&\" \"&AY85&\" \"&\"plots\",IF(AND(AZ85>1,AY85>1),AZ85&\" \"&\"tours\"&\" \"&AY85&\" \"&\"plots\")))))))","v":"5 tours"},12,4,"4 tours 12 plots",8,4,"4 tours 8 plots",4,4,"4 tours 4 plots",0,4,"4 tours",null,null,601,10,1]
[1944,607.01392999583732,3.8979986739648838,"00:10:07.014",14.032795226273581,"8 tours 1plot",1944,null,null,"1 plot","40 aller-retours 1 plot",0,27,"27 tours ",1,20,"20 tours 1plot",1,16,"16 tours 1plot",3,13,"13 tours 3 plots",4,11,"11 tours 4 plots",1,10,"10 tours 1plot",0,9,"9 tours ",1,8,"8 tours 1plot",4,7,"7 tours 4 plots",9,6,"6 tours 9 plots",3,6,"6 tours 3 plots",11,5,"5 tours 11 plots",6,5,"5 tours 6 plots",1,5,"5 tours 1 plot",13,4,{"$f":"IF(BC86=0,\"\",IF(AND(BB86=0,BC86=1),BC86&\" \"&\"tour\",IF(AND(BB86=0,BC86>1),BC86&\" \"&\"tours\",IF(AND(BC86>1,BB86=1),BC86&\" \"&\"tours\"&\" \"&BB86&\" \"&\"plot\",IF(AND(BC86=1,BB86=1),BC86&\" \"&\"tour\"&\" \"&BB86&\" \"&\"plot\",IF(AND(BC86=1,BB86>0),BC86&\" \"&\"tour\"&\" \"&BB86&\" \"&\"plots\",IF(AND(BC86>1,BB86>1),BC86&\" \"&\"tours\"&\" \"&BB86&\" \"&\"plots\")))))))","v":"4 tours 13 plots"},9,4,"4 tours 9 plots",5,4,"4 tours 5 plots",1,4,"4 tours 1 plot",null,null,607,10,7]
[1968,613.1485463478981,3.9122250883606977,"00:10:13.149",14.084010318098512,"8 tours 2 plots",1968,null,41,"aller-retours ","41 aller-retours ",1,27,"27 tours 1plot",2,20,"20 tours 2 plots",2,16,"16 tours 2 plots",4,13,"13 tours 4 plots",5,11,"11 tours 5 plots",2,10,"10 tours 2 plots",1,9,"9 tours 1plot",2,8,"8 tours 2 plots",5,7,"7 tours 5 plots",10,6,"6 tours 10 plots",4,6,"6 tours 4 plots",12,5,"5 tours 12 plots",7,5,"5 tours 7 plots",2,5,"5 tours 2 plots",14,4,"4 tours 14 plots",10,4,{"$f":"IF(BF87=0,\"\",IF(AND(BE87=0,BF87=1),BF87&\" \"&\"tour\",IF(AND(BE87=0,BF87>1),BF87&\" \"&\"tours\",IF(AND(BF87>1,BE87=1),BF87&\" \"&\"tours\"&\" \"&BE87&\" \"&\"plot\",IF(AND(BF87=1,BE87=1),BF87&\" \"&\"tour\"&\" \"&BE87&\" \"&\"plot\",IF(AND(BF87=1,BE87>0),BF87&\" \"&\"tour\"&\" \"&BE87&\" \"&\"plots\",IF(AND(BF87>1,BE87>1),BF87&\" \"&\"tours\"&\" \"&BE87&\" \"&\"plots\")))))))","v":"4 tours 10 plots"},6,4,"4 tours 6 plots",2,4,"4 tours 2 plots",null,null,613,10,13]
[1992,619.26101585365643,3.9263999562518075,"00:10:19.261",14.135039842506508,"8 tours 3 plots",1992,null,null,"1 plot","41 aller-retours 1 plot",2,27,"27 tours 2 plots",3,20,"20 tours 3 plots",3,16,"16 tours 3 plots",5,13,"13 tours 5 plots",6,11,"11 tours 6 plots",3,10,"10 tours 3 plots",2,9,"9 tours 2 plots",3,8,"8 tours 3 plots",6,7,"7 tours 6 plots",11,6,"6 tours 11 plots",5,6,"6 tours 5 plots",13,5,"5 tours 13 plots",8,5,"5 tours 8 plots",3,5,"5 tours 3 plots",15,4,"4 tours 15 plots",11,4,"4 tours 11 plots",7,4,{"$f":"IF(BI88=0,\"\",IF(AND(BH88=0,BI88=1),BI88&\" \"&\"tour\",IF(AND(BH88=0,BI88>1),BI88&\" \"&\"tours\",IF(AND(BI88>1,BH88=1),BI88&\" \"&\"tours\"&\" \"&BH88&\" \"&\"plot\",IF(AND(BI88=1,BH88=1),BI88&\" \"&\"tour\"&\" \"&BH88&\" \"&\"plot\",IF(AND(BI88=1,BH88>0),BI88&\" \"&\"tour\"&\" \"&BH88&\" \"&\"plots\",IF(AND(BI88>1,BH88>1),BI88&\" \"&\"tours\"&\" \"&BH88&\" \"&\"plots\")))))))","v":"4 tours 7 plots"},3,4,"4 tours 3 plots",null,null,619,10,19]
[2016,625.3515766550895,3.9405238339223128,"00:10:25.352",14.185885802120326,"8 tours 4 plots",2016,null,42,"aller-retours ","42 aller-retours ",0,28,"28 tours ",0,21,"21 tours ",4,16,"16 tours 4 plots",0,14,"14 tours ",0,12,"12 tours ",4,10,"10 tours 4 plots",3,9,"9 tours 3 plots",4,8,"8 tours 4 plots",7,7,"7 tours 7 plots",0,7,"7 tours",6,6,"6 tours 6 plots",0,6,"6 tours",9,5,"5 tours 9 plots",4,5,"5 tours 4 plots",16,4,"4 tours 16 plots",12,4,"4 tours 12 plots",8,4,"4 tours 8 plots",4,4,{"$f":"IF(BL89=0,\"\",IF(AND(BK89=0,BL89=1),BL89&\" \"&\"tour\",IF(AND(BK89=0,BL89>1),BL89&\" \"&\"tours\",IF(AND(BL89>1,BK89=1),BL89&\" \"&\"tours\"&\" \"&BK89&\" \"&\"plot\",IF(AND(BL89=1,BK89=1),BL89&\" \"&\"tour\"&\" \"&BK89&\" \"&\"plot\",IF(AND(BL89=1,BK89>0),BL89&\" \"&\"tour\"&\" \"&BK89&\" \"&\"plots\",IF(AND(BL89>1,BK89>1),BL89&\" \"&\"tours\"&\" \"&BK89&\" \"&\"plots\")))))))","v":"4 tours 4 plots"},null,null,625,10,25]
[2040,631.42046265667864,3.954597267721887,"00:10:31.420",14.236550163798794,"8 tours 5 plots",2040,null,null,"1 plot","42 aller-retours 1 plot",1,28,"28 tours 1plot",1,21,"21 tours 1plot",0,17,"17 tours ",1,14,"14 tours 1plot",1,12,"12 tours 1plot",5,10,"10 tours 5 plots",4,9,"9 tours 4 plots",5,8,"8 tours 5 plots",8,7,"7 tours 8 plots",1,7,"7 tours 1 plot",7,6,"6 tours 7 plots",1,6,"6 tours 1 plot",10,5,"5 tours 10 plots",5,5,"5 tours 5 plots",0,5,"5 tours",13,4,"4 tours 13 plots",9,4,"4 tours 9 plots",5,4,"4 tours 5 plots",null,null,631,10,31]
[2064,637.46790363022501,3.9686207943135643,"00:10:37.468",14.287034859528832,"8 tours 6 plots",2064,null,43,"aller-retours ","43 aller-retours ",2,28,"28 tours 2 plots",2,21,"21 tours 2 plots",1,17,"17 tours 1plot",2,14,"14 tours 2 plots",2,12,"12 tours 2 plots",6,10,"10 tours 6 plots",5,9,"9 tours 5 plots",6,8,"8 tours 6 plots",9,7,"7 tours 9 plots",2,7,"7 tours 2 plots",8,6,"6 tours 8 plots",2,6,"6 tours 2 plots",11,5,"5 tours 11 plots",6,5,"5 tours 6 plots",1,5,"5 tours 1 plot",14,4,"4 tours 14 plots",10,4,"4 tours 10 plots",6,4,"4 tours 6 plots",null,null,637,10,37]
[2088,643.49412531635858,3.9825949409103858,"00:10:43.494",14.337341787277389,"8 tours 7 plots",2088,null,null,"1 plot","43 aller-retours 1 plot",0,29,"29 tours ",3,21,"21 tours 3 plots",2,17,"17 tours 2 plots",3,14,"14 tours 3 plots",3,12,"12 tours 3 plots",7,10,"10 tours 7 plots",6,9,"9 tours 6 plots",7,8,"8 tours 7 plots",10,7,"7 tours 10 plots",3,7,"7 tours 3 plots",9,6,"6 tours 9 plots",3,6,"6 tours 3 plots",12,5,"5 tours 12 plots",7,5,"5 tours 7 plots",2,5,"5 tours 2 plots",15,4,"4 tours 15 plots",11,4,"4 tours 11 plots",7,4,"4 tours 7 plots",null,null,643,10,43]
[2112,649.49934952286117,3.9965202255083616,"00:10:49.499",14.387472811830103,"8 tours 8 plots",2112,null,45,"aller-retours ","45 aller-retours ",1,29,"29 tours 1plot",0,22,"22 tours ",3,17,"17 tours 3 plots",4,14,"14 tours 4 plots",4,12,"12 tours 4 plots",0,11,"11 tours ",7,9,"9 tours 7 plots",8,8,"8 tours 8 plots",0,8,"8 tours",4,7,"7 tours 4 plots",10,6,"6 tours 10 plots",4,6,"6 tours 4 plots",13,5,"5 tours 13 plots",8,5,"5 tours 8 plots",3,5,"5 tours 3 plots",16,4,"4 tours 16 plots",12,4,"4 tours 12 plots",8,4,"4 tours 8 plots",null,null,649,10,49]
[2136,655.48379421992865,4.0103971571097548,"00:10:55.484",14.437429765595118,"8 tours 9 plots",2136,null,null,"1 plot","45 aller-retours 1 plot",2,29,"29 tours 2 plots",1,22,"22 tours 1plot",4,17,"17 tours 4 plots",5,14,"14 tours 5 plots",5,12,"12 tours 5 plots",1,11,"11 tours 1plot",8,9,"9 tours 8 plots",9,8,"8 tours 9 plots",1,8,"8 tours 1 plot",5,7,"7 tours 5 plots",11,6,"6 tours 11 plots",5,6,"6 tours 5 plots",14,5,"5 tours 14 plots",9,5,"5 tours 9 plots",4,5,"5 tours 4 plots",17,4,"4 tours 17 plots",13,4,"4 tours 13 plots",9,4,"4 tours 9 plots",null,null,655,10,55]
[2160,661.44767363248661,4.0242262359403069,"00:11:01.448",14.487214449385105,"9 tours ",2160,null,46,"aller-retours ","46 aller-retours ",0,30,"30 tours ",2,22,"22 tours 2 plots",0,18,"18 tours ",0,15,"15 tours ",6,12,"12 tours 6 plots",2,11,"11 tours 2 plots",0,10,"10 tours ",0,9,"9 tours ",2,8,"8 tours 2 plots",6,7,"7 tours 6 plots",12,6,"6 tours 12 plots",6,6,"6 tours 6 plots",0,6,"6 tours",10,5,"5 tours 10 plots",5,5,"5 tours 5 plots",0,5,"5 tours",14,4,"4 tours 14 plots",10,4,"4 tours 10 plots",null,null,661,11,1]
[2184,667.39119832966992,4.0380079536598599,"00:11:07.391",14.536828633175496,"9 tours 1plot",2184,null,null,"1 plot","46 aller-retours 1 plot",1,30,"30 tours 1plot",3,22,"22 tours 3 plots",1,18,"18 tours 1plot",1,15,"15 tours 1plot",0,13,"13 tours ",3,11,"11 tours 3 plots",1,10,"10 tours 1plot",1,9,"9 tours 1plot",3,8,"8 tours 3 plots",7,7,"7 tours 7 plots",0,7,"7 tours",7,6,"6 tours 7 plots",1,6,"6 tours 1 plot",11,5,"5 tours 11 plots",6,5,"5 tours 6 plots",1,5,"5 tours 1 plot",15,4,"4 tours 15 plots",11,4,"4 tours 11 plots",null,null,667,11,7]
[2208,673.31457531157241,4.0517427935663131,"00:11:13.315",14.586274056838727,"9 tours 2 plots",2208,null,47,"aller-retours ","47 aller-retours ",2,30,"30 tours 2 plots",0,23,"23 tours ",2,18,"18 tours 2 plots",2,15,"15 tours 2 plots",1,13,"13 tours 1plot",4,11,"11 tours 4 plots",2,10,"10 tours 2 plots",2,9,"9 tours 2 plots",4,8,"8 tours 4 plots",8,7,"7 tours 8 plots",1,7,"7 tours 1 plot",8,6,"6 tours 8 plots",2,6,"6 tours 2 plots",12,5,"5 tours 12 plots",7,5,"5 tours 7 plots",2,5,"5 tours 2 plots",16,4,"4 tours 16 plots",12,4,"4 tours 12 plots",null,null,673,11,13]
[2232,679.21800809336867,4.0654312307927132,"00:11:19.218",14.635552430853767,"9 tours 3 plots",2232,null,null,"1 plot","47 aller-retours 1 plot",0,31,"31 tours ",1,23,"23 tours 1plot",3,18,"18 tours 3 plots",3,15,"15 tours 3 plots",2,13,"13 tours 2 plots",5,11,"11 tours 5 plots",3,10,"10 tours 3 plots",3,9,"9 tours 3 plots",5,8,"8 tours 5 plots",9,7,"7 tours 9 plots",2,7,"7 tours 2 plots",9,6,"6 tours 9 plots",3,6,"6 tours 3 plots",13,5,"5 tours 13 plots",8,5,"5 tours 8 plots",3,5,"5 tours 3 plots",17,4,"4 tours 17 plots",13,4,"4 tours 13 plots",null,null,679,11,19]
[2256,685.10169678690181,4.0790737325002899,"00:11:25.102",14.684665437001044,"9 tours 4 plots",2256,null,48,"aller-retours ","48 aller-retours ",1,31,"31 tours 1plot",2,23,"23 tours 2 plots",4,18,"18 tours 4 plots",4,15,"15 tours 4 plots",3,13,"13 tours 3 plots",6,11,"11 tours 6 plots",4,10,"10 tours 4 plots",4,9,"9 tours 4 plots",6,8,"8 tours 6 plots",10,7,"7 tours 10 plots",3,7,"7 tours 3 plots",10,6,"6 tours 10 plots",4,6,"6 tours 4 plots",14,5,"5 tours 14 plots",9,5,"5 tours 9 plots",4,5,"5 tours 4 plots",18,4,"4 tours 18 plots",14,4,"4 tours 14 plots",null,null,685,11,25]
[2280,690.96583817983367,4.0926707580631643,"00:11:30.966",14.733614729027392,"9 tours 5 plots",2280,null,null,"1 plot","48 aller-retours 1 plot",2,31,"31 tours 2 plots",3,23,"23 tours 3 plots",0,19,"19 tours ",5,15,"15 tours 5 plots",4,13,"13 tours 4 plots",7,11,"11 tours 7 plots",5,10,"10 tours 5 plots",5,9,"9 tours 5 plots",7,8,"8 tours 7 plots",11,7,"7 tours 11 plots",4,7,"7 tours 4 plots",11,6,"6 tours 11 plots",5,6,"6 tours 5 plots",15,5,"5 tours 15 plots",10,5,"5 tours 10 plots",5,5,"5 tours 5 plots",0,5,"5 tours",15,4,"4 tours 15 plots",null,null,691,11,31]
[2304,696.81062581244146,4.1062227592505067,"00:11:36.811",14.782401933301825,"9 tours 6 plots",2304,null,49,"aller-retours ","49 aller-retours ",0,32,"32 tours ",0,24,"24 tours ",1,19,"19 tours 1plot",0,16,"16 tours ",5,13,"13 tours 5 plots",0,12,"12 tours ",6,10,"10 tours 6 plots",6,9,"9 tours 6 plots",8,8,"8 tours 8 plots",0,8,"8 tours",5,7,"7 tours 5 plots",12,6,"6 tours 12 plots",6,6,"6 tours 6 plots",0,6,"6 tours",11,5,"5 tours 11 plots",6,5,"5 tours 6 plots",1,5,"5 tours 1 plot",16,4,"4 tours 16 plots",null,null,697,11,37]
[2328,702.63625005215249,4.1197301803987392,"00:11:42.636",14.831028649435462,"9 tours 7 plots",2328,null,null,"1 plot","49 aller-retours 1 plot",1,32,"32 tours 1plot",1,24,"24 tours 1plot",2,19,"19 tours 2 plots",1,16,"16 tours 1plot",6,13,"13 tours 6 plots",1,12,"12 tours 1plot",7,10,"10 tours 7 plots",7,9,"9 tours 7 plots",9,8,"8 tours 9 plots",1,8,"8 tours 1 plot",6,7,"7 tours 6 plots",13,6,"6 tours 13 plots",7,6,"6 tours 7 plots",1,6,"6 tours 1 plot",12,5,"5 tours 12 plots",7,5,"5 tours 7 plots",2,5,"5 tours 2 plots",17,4,"4 tours 17 plots",null,null,703,11,43]
[2352,708.44289816588775,4.1331934585857715,"00:11:48.443",14.879496450908778,"9 tours 8 plots",2352,null,50,"aller-retours ","50 aller-retours ",2,32,"32 tours 2 plots",2,24,"24 tours 2 plots",3,19,"19 tours 3 plots",2,16,"16 tours 2 plots",0,14,"14 tours ",2,12,"12 tours 2 plots",8,10,"10 tours 8 plots",8,9,"9 tours 8 plots",10,8,"8 tours 10 plots",2,8,"8 tours 2 plots",7,7,"7 tours 7 plots",0,7,"7 tours",8,6,"6 tours 8 plots",2,6,"6 tours 2 plots",13,5,"5 tours 13 plots",8,5,"5 tours 8 plots",3,5,"5 tours 3 plots",18,4,"4 tours 18 plots",null,null,708,11,48]
[2376,714.23075439030424,4.1466130237918275,"00:11:54.231",14.927806885650579,"9 tours 9 plots",2376,null,null,"1 plot","50 aller-retours 1 plot",0,33,"33 tours ",3,24,"24 tours 3 plots",4,19,"19 tours 4 plots",3,16,"16 tours 3 plots",1,14,"14 tours 1plot",3,12,"12 tours 3 plots",0,11,"11 tours ",9,9,"9 tours 9 plots",0,9,"9 tours",3,8,"8 tours 3 plots",8,7,"7 tours 8 plots",1,7,"7 tours 1 plot",9,6,"6 tours 9 plots",3,6,"6 tours 3 plots",14,5,"5 tours 14 plots",9,5,"5 tours 9 plots",4,5,"5 tours 4 plots",19,4,"4 tours 19 plots",null,null,714,11,54]
[2400,720.00000000000011,4.1599892990628229,"00:12:00",14.975961476626162,"10 tours ",2400,null,51,"aller-retours ","51 aller-retours ",1,33,"33 tours 1plot",0,25,"25 tours ",0,20,"20 tours ",4,16,"16 tours 4 plots",2,14,"14 tours 2 plots",4,12,"12 tours 4 plots",1,11,"11 tours 1plot",0,10,"10 tours ",1,9,"9 tours 1 plot",4,8,"8 tours 4 plots",9,7,"7 tours 9 plots",2,7,"7 tours 2 plots",10,6,"6 tours 10 plots",4,6,"6 tours 4 plots",15,5,"5 tours 15 plots",10,5,"5 tours 10 plots",5,5,"5 tours 5 plots",0,5,"5 tours",null,null,720,12,0]
[2424,725.75081337376105,4.1733227006642384,"00:12:05.751",15.023961722391258,"10 tours 1plot",2424,null,null,"1 plot","51 aller-retours 1 plot",2,33,"33 tours 2 plots",1,25,"25 tours 1plot",1,20,"20 tours 1plot",5,16,"16 tours 5 plots",3,14,"14 tours 3 plots",5,12,"12 tours 5 plots",2,11,"11 tours 2 plots",1,10,"10 tours 1plot",2,9,"9 tours 2 plots",5,8,"8 tours 5 plots",10,7,"7 tours 10 plots",3,7,"7 tours 3 plots",11,6,"6 tours 11 plots",5,6,"6 tours 5 plots",16,5,"5 tours 16 plots",11,5,"5 tours 11 plots",6,5,"5 tours 6 plots",1,5,"5 tours 1 plot",null,null,726,12,6]
[2448,731.48337005891381,4.1866136382322505,"00:12:11.483",15.071809097636102,"10 tours 2 plots",2448,null,52,"aller-retour","52 aller-retour",0,34,"34 tours ",2,25,"25 tours 2 plots",2,20,"20 tours 2 plots",0,17,"17 tours ",4,14,"14 tours 4 plots",6,12,"12 tours 6 plots",3,11,"11 tours 3 plots",2,10,"10 tours 2 plots",3,9,"9 tours 3 plots",6,8,"8 tours 6 plots",11,7,"7 tours 11 plots",4,7,"7 tours 4 plots",12,6,"6 tours 12 plots",6,6,"6 tours 6 plots",0,6,"6 tours",12,5,"5 tours 12 plots",7,5,"5 tours 7 plots",2,5,"5 tours 2 plots",null,null,731,12,11]
[2472,737.19784283385047,4.1998625149222084,"00:12:17.198",15.119505053719951,"10 tours 3 plots",2472,null,null,"1 plot","52 aller-retour1 plot",1,34,"34 tours 1plot",3,25,"25 tours 3 plots",3,20,"20 tours 3 plots",1,17,"17 tours 1plot",5,14,"14 tours 5 plots",7,12,"12 tours 7 plots",4,11,"11 tours 4 plots",3,10,"10 tours 3 plots",4,9,"9 tours 4 plots",7,8,"8 tours 7 plots",12,7,"7 tours 12 plots",5,7,"7 tours 5 plots",13,6,"6 tours 13 plots",7,6,"6 tours 7 plots",1,6,"6 tours 1 plot",13,5,"5 tours 13 plots",8,5,"5 tours 8 plots",3,5,"5 tours 3 plots",null,null,737,12,17]
[2496,742.89440176879145,4.2130697275492421,"00:12:22.894",15.167051019177272,"10 tours 4 plots",2496,null,53,"aller-retours ","53 aller-retours ",2,34,"34 tours 2 plots",0,26,"26 tours ",4,20,"20 tours 4 plots",2,17,"17 tours 2 plots",6,14,"14 tours 6 plots",0,13,"13 tours ",5,11,"11 tours 5 plots",4,10,"10 tours 4 plots",5,9,"9 tours 5 plots",8,8,"8 tours 8 plots",0,8,"8 tours",6,7,"7 tours 6 plots",14,6,"6 tours 14 plots",8,6,"6 tours 8 plots",2,6,"6 tours 2 plots",14,5,"5 tours 14 plots",9,5,"5 tours 9 plots",4,5,"5 tours 4 plots",null,null,743,12,23]
[2520,748.57321428484249,4.2262356667286562,"00:12:28.573",15.214448400223162,"10 tours 5 plots",2520,null,null,"1 plot","53 aller-retours 1 plot",0,35,"35 tours ",1,26,"26 tours 1plot",0,21,"21 tours ",3,17,"17 tours 3 plots",0,15,"15 tours ",1,13,"13 tours 1plot",6,11,"11 tours 6 plots",5,10,"10 tours 5 plots",6,9,"9 tours 6 plots",9,8,"8 tours 9 plots",1,8,"8 tours 1 plot",7,7,"7 tours 7 plots",0,7,"7 tours",9,6,"6 tours 9 plots",3,6,"6 tours 3 plots",15,5,"5 tours 15 plots",10,5,"5 tours 10 plots",5,5,"5 tours 5 plots",null,null,749,12,29]
[2544,754.23444521140766,4.2393607170095589,"00:12:34.234",15.261698581234413,"10 tours 6 plots",2544,null,54,"aller-retours ","54 aller-retours ",1,35,"35 tours 1plot",2,26,"26 tours 2 plots",1,21,"21 tours 1plot",4,17,"17 tours 4 plots",1,15,"15 tours 1plot",2,13,"13 tours 2 plots",7,11,"11 tours 7 plots",6,10,"10 tours 6 plots",7,9,"9 tours 7 plots",10,8,"8 tours 10 plots",2,8,"8 tours 2 plots",8,7,"7 tours 8 plots",1,7,"7 tours 1 plot",10,6,"6 tours 10 plots",4,6,"6 tours 4 plots",16,5,"5 tours 16 plots",11,5,"5 tours 11 plots",6,5,"5 tours 6 plots",null,null,754,12,34]
[2568,759.87825684201187,4.252445257006328,"00:12:39.878",15.308802925222782,"10 tours 7 plots",2568,null,null,"1 plot","54 aller-retours 1 plot",2,35,"35 tours 2 plots",3,26,"26 tours 3 plots",2,21,"21 tours 2 plots",5,17,"17 tours 5 plots",2,15,"15 tours 2 plots",3,13,"13 tours 3 plots",8,11,"11 tours 8 plots",7,10,"10 tours 7 plots",8,9,"9 tours 8 plots",11,8,"8 tours 11 plots",3,8,"8 tours 3 plots",9,7,"7 tours 9 plots",2,7,"7 tours 2 plots",11,6,"6 tours 11 plots",5,6,"6 tours 5 plots",17,5,"5 tours 17 plots",12,5,"5 tours 12 plots",7,5,"5 tours 7 plots",null,null,760,12,40]
[2592,765.50480898858655,4.2654896595263336,"00:12:45.505",15.355762774294801,"10 tours 8 plots",2592,null,55,"aller-retours ","55 aller-retours ",0,36,"36 tours ",0,27,"27 tours ",3,21,"21 tours 3 plots",0,18,"18 tours ",3,15,"15 tours 3 plots",4,13,"13 tours 4 plots",0,12,"12 tours ",8,10,"10 tours 8 plots",9,9,"9 tours 9 plots",0,9,"9 tours",4,8,"8 tours 4 plots",10,7,"7 tours 10 plots",3,7,"7 tours 3 plots",12,6,"6 tours 12 plots",6,6,"6 tours 6 plots",0,6,"6 tours",13,5,"5 tours 13 plots",8,5,"5 tours 8 plots",null,null,766,12,46]
[2616,771.11425903427153,4.2784942916929598,"00:12:51.114",15.402579450094656,"10 tours 9 plots",2616,null,null,"1 plot","55 aller-retours 1 plot",1,36,"36 tours 1plot",1,27,"27 tours 1plot",4,21,"21 tours 4 plots",1,18,"18 tours 1plot",4,15,"15 tours 4 plots",5,13,"13 tours 5 plots",1,12,"12 tours 1plot",9,10,"10 tours 9 plots",10,9,"9 tours 10 plots",1,9,"9 tours 1 plot",5,8,"8 tours 5 plots",11,7,"7 tours 11 plots",4,7,"7 tours 4 plots",13,6,"6 tours 13 plots",7,6,"6 tours 7 plots",1,6,"6 tours 1 plot",14,5,"5 tours 14 plots",9,5,"5 tours 9 plots",null,null,771,12,51]
[2640,776.70676198477827,4.2914595150683539,"00:12:56.707",15.449254254246075,"11 tours ",2640,null,56,"aller-retours ","56 aller-retours ",2,36,"36 tours 2 plots",2,27,"27 tours 2 plots",0,22,"22 tours ",2,18,"18 tours 2 plots",5,15,"15 tours 5 plots",6,13,"13 tours 6 plots",2,12,"12 tours 2 plots",0,11,"11 tours ",0,10,"10 tours",2,9,"9 tours 2 plots",6,8,"8 tours 6 plots",12,7,"7 tours 12 plots",5,7,"7 tours 5 plots",14,6,"6 tours 14 plots",8,6,"6 tours 8 plots",2,6,"6 tours 2 plots",15,5,"5 tours 15 plots",10,5,"5 tours 10 plots",null,null,777,12,57]
[2664,782.28247051836911,4.3043856857674792,"00:13:02.282",15.495788468762925,"11 tours 1plot",2664,null,null,"1 plot","56 aller-retours 1 plot",0,37,"37 tours ",3,27,"27 tours 3 plots",1,22,"22 tours 1plot",3,18,"18 tours 3 plots",6,15,"15 tours 6 plots",7,13,"13 tours 7 plots",3,12,"12 tours 3 plots",1,11,"11 tours 1plot",1,10,"10 tours 1 plot",3,9,"9 tours 3 plots",7,8,"8 tours 7 plots",13,7,"7 tours 13 plots",6,7,"7 tours 6 plots",15,6,"6 tours 15 plots",9,6,"6 tours 9 plots",3,6,"6 tours 3 plots",16,5,"5 tours 16 plots",11,5,"5 tours 11 plots",null,null,782,13,2]
[2688,787.84153503449011,4.317273154575064,"00:13:07.842",15.542183356470231,"11 tours 2 plots",2688,null,57,"aller-retours ","57 aller-retours ",1,37,"37 tours 1plot",0,28,"28 tours ",2,22,"22 tours 2 plots",4,18,"18 tours 4 plots",0,16,"16 tours ",0,14,"14 tours ",4,12,"12 tours 4 plots",2,11,"11 tours 2 plots",2,10,"10 tours 2 plots",4,9,"9 tours 4 plots",8,8,"8 tours 8 plots",0,8,"8 tours",7,7,"7 tours 7 plots",0,7,"7 tours",10,6,"6 tours 10 plots",4,6,"6 tours 4 plots",17,5,"5 tours 17 plots",12,5,"5 tours 12 plots",null,null,788,13,8]
[2712,793.38410370110728,4.3301222670549357,"00:13:13.384",15.588440161397768,"11 tours 3 plots",2712,null,null,"1 plot","57 aller-retours 1 plot",2,37,"37 tours 2 plots",1,28,"28 tours 1plot",3,22,"22 tours 3 plots",5,18,"18 tours 5 plots",1,16,"16 tours 1plot",1,14,"14 tours 1plot",5,12,"12 tours 5 plots",3,11,"11 tours 3 plots",3,10,"10 tours 3 plots",5,9,"9 tours 5 plots",9,8,"8 tours 9 plots",1,8,"8 tours 1 plot",8,7,"7 tours 8 plots",1,7,"7 tours 1 plot",11,6,"6 tours 11 plots",5,6,"6 tours 5 plots",18,5,"5 tours 18 plots",13,5,"5 tours 13 plots",null,null,793,13,13]
[2736,798.91032250078388,4.3429333636598884,"00:13:18.910",15.634560109175599,"11 tours 4 plots",2736,null,58,"aller-retours ","58 aller-retours ",0,38,"38 tours ",2,28,"28 tours 2 plots",4,22,"22 tours 4 plots",0,19,"19 tours ",2,16,"16 tours 2 plots",2,14,"14 tours 2 plots",6,12,"12 tours 6 plots",4,11,"11 tours 4 plots",4,10,"10 tours 4 plots",6,9,"9 tours 6 plots",10,8,"8 tours 10 plots",2,8,"8 tours 2 plots",9,7,"7 tours 9 plots",2,7,"7 tours 2 plots",12,6,"6 tours 12 plots",6,6,"6 tours 6 plots",0,6,"6 tours",14,5,"5 tours 14 plots",null,null,799,13,19]
[2760,804.42033527554599,4.3557067798334002,"00:13:24.420",15.680544407400241,"11 tours 5 plots",2760,null,null,"1 plot","58 aller-retours 1 plot",1,38,"38 tours 1plot",3,28,"28 tours 3 plots",0,23,"23 tours ",1,19,"19 tours 1plot",3,16,"16 tours 3 plots",3,14,"14 tours 3 plots",7,12,"12 tours 7 plots",5,11,"11 tours 5 plots",5,10,"10 tours 5 plots",7,9,"9 tours 7 plots",11,8,"8 tours 11 plots",3,8,"8 tours 3 plots",10,7,"7 tours 10 plots",3,7,"7 tours 3 plots",13,6,"6 tours 13 plots",7,6,"6 tours 7 plots",1,6,"6 tours 1 plot",15,5,"5 tours 15 plots",null,null,804,13,24]
[2784,809.91428377056275,4.3684428461186036,"00:13:29.914",15.726394246026974,"11 tours 6 plots",2784,null,59,"aller-retours ","59 aller-retours ",2,38,"38 tours 2 plots",0,29,"29 tours ",1,23,"23 tours 1plot",2,19,"19 tours 2 plots",4,16,"16 tours 4 plots",4,14,"14 tours 4 plots",8,12,"12 tours 8 plots",6,11,"11 tours 6 plots",6,10,"10 tours 6 plots",8,9,"9 tours 8 plots",12,8,"8 tours 12 plots",4,8,"8 tours 4 plots",11,7,"7 tours 11 plots",4,7,"7 tours 4 plots",14,6,"6 tours 14 plots",8,6,"6 tours 8 plots",2,6,"6 tours 2 plots",16,5,"5 tours 16 plots",null,null,810,13,30]
[2808,815.39230767669858,4.3811418882487994,"00:13:35.392",15.772110797695678,"11 tours 7 plots",2808,null,null,"1 plot","59 aller-retours 1 plot",0,39,"39 tours ",1,29,"29 tours 1plot",2,23,"23 tours 2 plots",3,19,"19 tours 3 plots",5,16,"16 tours 5 plots",5,14,"14 tours 5 plots",0,13,"13 tours ",7,11,"11 tours 7 plots",7,10,"10 tours 7 plots",9,9,"9 tours 9 plots",0,9,"9 tours",5,8,"8 tours 5 plots",12,7,"7 tours 12 plots",5,7,"7 tours 5 plots",15,6,"6 tours 15 plots",9,6,"6 tours 9 plots",3,6,"6 tours 3 plots",17,5,"5 tours 17 plots",null,null,815,13,35]
[2832,820.85454467194847,4.3938042272554316,"00:13:40.855",15.817695218119555,"11 tours 8 plots",2832,null,60,"aller-retours ","60 aller-retours ",1,39,"39 tours 1plot",2,29,"29 tours 2 plots",3,23,"23 tours 3 plots",4,19,"19 tours 4 plots",6,16,"16 tours 6 plots",6,14,"14 tours 6 plots",1,13,"13 tours 1plot",8,11,"11 tours 8 plots",8,10,"10 tours 8 plots",10,9,"9 tours 10 plots",1,9,"9 tours 1 plot",6,8,"8 tours 6 plots",13,7,"7 tours 13 plots",6,7,"7 tours 6 plots",16,6,"6 tours 16 plots",10,6,"6 tours 10 plots",4,6,"6 tours 4 plots",18,5,"5 tours 18 plots",null,null,821,13,41]
[2856,826.30113046181668,4.4064301795530385,"00:13:46.301",15.86314864639094,"11 tours 9 plots",2856,null,null,"1 plot","60 aller-retours 1 plot",2,39,"39 tours 2 plots",3,29,"29 tours 3 plots",4,23,"23 tours 4 plots",5,19,"19 tours 5 plots",0,17,"17 tours ",7,14,"14 tours 7 plots",2,13,"13 tours 2 plots",9,11,"11 tours 9 plots",9,10,"10 tours 9 plots",11,9,"9 tours 11 plots",2,9,"9 tours 2 plots",7,8,"8 tours 7 plots",14,7,"7 tours 14 plots",7,7,"7 tours 7 plots",0,7,"7 tours",11,6,"6 tours 11 plots",5,6,"6 tours 5 plots",19,5,"5 tours 19 plots",null,null,{"$f":"ROUND(B124,0)","v":826},13,46]
[2880,831.73219881865271,4.4190200570374856,"00:13:51.732",15.908472205334949,"12 tours ",2880,null,61,"aller-retours ","61 aller-retours ",0,40,"40 tours ",0,30,"30 tours ",0,24,"24 tours ",0,20,"20 tours ",1,17,"17 tours 1plot",0,15,"15 tours ",3,13,"13 tours 3 plots",0,12,"12 tours ",10,10,"10 tours 10 plots",0,10,"10 tours",3,9,"9 tours 3 plots",8,8,"8 tours 8 plots",0,8,"8 tours",8,7,"7 tours 8 plots",1,7,"7 tours 1 plot",12,6,"6 tours 12 plots",6,6,"6 tours 6 plots",0,6,"6 tours",null,null,{"$f":"ROUND(B125,0)","v":832},13,52]
[2904,837.14788161998604,4.431574167174495,"00:13:57.148",15.953667001828183,"12 tours 1plot",2904,null,null,"1 plot","61 aller-retours 1 plot",1,40,"40 tours 1plot",1,30,"30 tours 1plot",1,24,"24 tours 1plot",1,20,"20 tours 1plot",2,17,"17 tours 2 plots",1,15,"15 tours 1plot",4,13,"13 tours 4 plots",1,12,"12 tours 1plot",0,11,"11 tours",1,10,"10 tours 1 plot",4,9,"9 tours 4 plots",9,8,"8 tours 9 plots",1,8,"8 tours 1 plot",9,7,"7 tours 9 plots",2,7,"7 tours 2 plots",13,6,"6 tours 13 plots",7,6,"6 tours 7 plots",1,6,"6 tours 1 plot",null,null,{"$f":"ROUND(B126,0)","v":837},13,57]
[2928,842.54830888589117,4.4440928130855006,"00:14:02.548",15.998734127107802,"12 tours 2 plots",2928,null,62,"aller-retours ","62 aller-retours ",2,40,"40 tours 2 plots",2,30,"30 tours 2 plots",2,24,"24 tours 2 plots",2,20,"20 tours 2 plots",3,17,"17 tours 3 plots",2,15,"15 tours 2 plots",5,13,"13 tours 5 plots",2,12,"12 tours 2 plots",1,11,"11 tours 1 plot",2,10,"10 tours 2 plots",5,9,"9 tours 5 plots",10,8,"8 tours 10 plots",2,8,"8 tours 2 plots",10,7,"7 tours 10 plots",3,7,"7 tours 3 plots",14,6,"6 tours 14 plots",8,6,"6 tours 8 plots",2,6,"6 tours 2 plots",null,null,843,14,3]
[2952,847.9336088154073,4.4565762936357824,"00:14:07.934",16.043674657088818,"12 tours 3 plots",2952,null,null,"1 plot","62 aller-retours 1 plot",0,41,"41 tours ",3,30,"30 tours 3 plots",3,24,"24 tours 3 plots",3,20,"20 tours 3 plots",4,17,"17 tours 4 plots",3,15,"15 tours 3 plots",6,13,"13 tours 6 plots",3,12,"12 tours 3 plots",2,11,"11 tours 2 plots",3,10,"10 tours 3 plots",6,9,"9 tours 6 plots",11,8,"8 tours 11 plots",3,8,"8 tours 3 plots",11,7,"7 tours 11 plots",4,7,"7 tours 4 plots",15,6,"6 tours 15 plots",9,6,"6 tours 9 plots",3,6,"6 tours 3 plots",null,null,848,14,8]
[2976,853.30390782204768,4.4690249035154235,"00:14:13.304",16.088489652655525,"12 tours 4 plots",2976,null,63,"aller-retours ","63 aller-retours ",1,41,"41 tours 1plot",0,31,"31 tours ",4,24,"24 tours 4 plots",4,20,"20 tours 4 plots",5,17,"17 tours 5 plots",4,15,"15 tours 4 plots",7,13,"13 tours 7 plots",4,12,"12 tours 4 plots",3,11,"11 tours 3 plots",4,10,"10 tours 4 plots",7,9,"9 tours 7 plots",12,8,"8 tours 12 plots",4,8,"8 tours 4 plots",12,7,"7 tours 12 plots",5,7,"7 tours 5 plots",16,6,"6 tours 16 plots",10,6,"6 tours 10 plots",4,6,"6 tours 4 plots",null,null,853,14,13]
[3000,858.6593305684213,4.4814389333225657,"00:14:18.659",16.133180159961238,"12 tours 5 plots",3000,null,null,"1 plot","63 aller-retours 1 plot",2,41,"41 tours 2 plots",1,31,"31 tours 1plot",0,25,"25 tours ",5,20,"20 tours 5 plots",6,17,"17 tours 6 plots",5,15,"15 tours 5 plots",8,13,"13 tours 8 plots",5,12,"12 tours 5 plots",4,11,"11 tours 4 plots",5,10,"10 tours 5 plots",8,9,"9 tours 8 plots",13,8,"8 tours 13 plots",5,8,"8 tours 5 plots",13,7,"7 tours 13 plots",6,7,"7 tours 6 plots",17,6,"6 tours 17 plots",11,6,"6 tours 11 plots",5,6,"6 tours 5 plots",null,null,859,14,19]
[3024,864,4.4938186696392464,"00:14:24",16.177747210701288,"12 tours 6 plots",3024,null,64,"aller-retours ","64 aller-retours ",0,42,"42 tours ",2,31,"31 tours 2 plots",1,25,"25 tours 1plot",0,21,"21 tours ",0,18,"18 tours ",6,15,"15 tours 6 plots",0,14,"14 tours ",6,12,"12 tours 6 plots",5,11,"11 tours 5 plots",6,10,"10 tours 6 plots",9,9,"9 tours 9 plots",0,9,"9 tours",6,8,"8 tours 6 plots",14,7,"7 tours 14 plots",7,7,"7 tours 7 plots",0,7,"7 tours",12,6,"6 tours 12 plots",6,6,"6 tours 6 plots",null,null,864,14,24]
[3048,869.32603737804732,4.5061643951134096,"00:14:29.326",16.222191822408274,"12 tours 7 plots",3048,null,null,"1 plot","64 aller-retours 1 plot",1,42,"42 tours 1plot",3,31,"31 tours 3 plots",2,25,"25 tours 2 plots",1,21,"21 tours 1plot",1,18,"18 tours 1plot",7,15,"15 tours 7 plots",1,14,"14 tours 1plot",7,12,"12 tours 7 plots",6,11,"11 tours 6 plots",7,10,"10 tours 7 plots",10,9,"9 tours 10 plots",1,9,"9 tours 1 plot",7,8,"8 tours 7 plots",15,7,"7 tours 15 plots",8,7,"7 tours 8 plots",1,7,"7 tours 1 plot",13,6,"6 tours 13 plots",7,6,"6 tours 7 plots",null,null,869,14,29]
[3072,874.63756231174489,4.5184763885298418,"00:14:34.638",16.266514998707432,"12 tours 8 plots",3072,null,65,"aller-retour","65 aller-retour",2,42,"42 tours 2 plots",0,32,"32 tours ",3,25,"25 tours 3 plots",2,21,"21 tours 2 plots",2,18,"18 tours 2 plots",0,16,"16 tours ",2,14,"14 tours 2 plots",8,12,"12 tours 8 plots",7,11,"11 tours 7 plots",8,10,"10 tours 8 plots",11,9,"9 tours 11 plots",2,9,"9 tours 2 plots",8,8,"8 tours 8 plots",0,8,"8 tours",9,7,"7 tours 9 plots",2,7,"7 tours 2 plots",14,6,"6 tours 14 plots",8,6,"6 tours 8 plots",null,null,875,14,35]
[3096,879.93469278953262,4.5307549248859065,"00:14:39.935",16.310717729589264,{"$f":"INDEX(F134:BM342, 1,$B$2*3)","v":"12 tours 9 plots"},3096,null,null,"1 plot","65 aller-retour1 plot",0,43,"43 tours ",1,32,"32 tours 1plot",4,25,"25 tours 4 plots",3,21,"21 tours 3 plots",3,18,"18 tours 3 plots",1,16,"16 tours 1plot",3,14,"14 tours 3 plots",9,12,"12 tours 9 plots",8,11,{"$f":"IF(AK134=0,\"\",IF(AND(AJ134=0,AK134=1),AK134&\" \"&\"tour\",IF(AND(AJ134=0,AK134>1),AK134&\" \"&\"tours\",IF(AND(AK134>1,AJ134=1),AK134&\" \"&\"tours\"&\" \"&AJ134&\" \"&\"plot\",IF(AND(AK134=1,AJ134=1),AK134&\" \"&\"tour\"&\" \"&AJ134&\" \"&\"plot\",IF(AND(AK134=1,AJ134>0),AK134&\" \"&\"tour\"&\" \"&AJ134&\" \"&\"plots\",IF(AND(AK134>1,AJ134>1),AK134&\" \"&\"tours\"&\" \"&AJ134&\" \"&\"plots\")))))))","v":"11 tours 8 plots"},9,10,"10 tours 9 plots",12,9,"9 tours 12 plots",3,9,"9 tours 3 plots",9,8,"8 tours 9 plots",1,8,"8 tours 1 plot",10,7,"7 tours 10 plots",3,7,"7 tours 3 plots",15,6,"6 tours 15 plots",9,6,"6 tours 9 plots",null,null,880,14,40]
[3120,885.21754520969,4.543000275461984,{"$f":"B135*0.0000115740740740741","v":"00:14:45.218"},{"$f":"C135*3.6","v":16.354800991663144},"13 tours ",3120,null,66,"aller-retours ","66 aller-retours ",1,43,"43 tours 1plot",2,32,"32 tours 2 plots",0,26,"26 tours ",4,21,"21 tours 4 plots",4,18,"18 tours 4 plots",2,16,"16 tours 2 plots",4,14,"14 tours 4 plots",0,13,"13 tours ",9,11,"11 tours 9 plots",10,10,"10 tours 10 plots",0,10,"10 tours",4,9,"9 tours 4 plots",10,8,"8 tours 10 plots",2,8,"8 tours 2 plots",11,7,"7 tours 11 plots",4,7,"7 tours 4 plots",16,6,"6 tours 16 plots",10,6,"6 tours 10 plots",null,null,885,{"$f":"QUOTIENT(BP135,60)","v":14},45]
[{"$f":"A135+$A$6","v":3144},{"$f":"(-$C$3+SQRT($C$3*$C$3+(4*$F$1*A136)))/(2*$F$1)","v":890.4862344101773},4.5552127078933102,"00:14:50.486",16.398765748415919,"13 tours 1plot",3144,null,null,"1 plot","66 aller-retours 1 plot",2,43,"43 tours 2 plots",3,32,"32 tours 3 plots",1,26,"26 tours 1plot",5,21,"21 tours 5 plots",5,18,"18 tours 5 plots",3,16,"16 tours 3 plots",5,14,"14 tours 5 plots",1,13,"13 tours 1plot",10,11,"11 tours 10 plots",11,10,"10 tours 11 plots",1,10,"10 tours 1 plot",5,9,"9 tours 5 plots",11,8,"8 tours 11 plots",3,8,"8 tours 3 plots",12,7,"7 tours 12 plots",5,7,"7 tours 5 plots",17,6,"6 tours 17 plots",11,6,"6 tours 11 plots",null,null,890,14,50]
[3168,895.74087369776305,{"$f":"$E$3/(B137-B136)","v":4.5673924862360709},"00:14:55.741",16.442612950449856,"13 tours 2 plots",3168,null,67,"aller-retours ","67 aller-retours ",0,44,"44 tours ",0,33,"33 tours ",2,26,"26 tours 2 plots",0,22,"22 tours ",6,18,"18 tours 6 plots",4,16,"16 tours 4 plots",6,14,"14 tours 6 plots",2,13,"13 tours 2 plots",0,12,"12 tours",0,11,"11 tours",2,10,"10 tours 2 plots",6,9,"9 tours 6 plots",12,8,"8 tours 12 plots",4,8,"8 tours 4 plots",13,7,"7 tours 13 plots",6,7,"7 tours 6 plots",18,6,"6 tours 18 plots",12,6,"6 tours 12 plots",null,null,896,14,{"$f":"MOD(BP137,60)","v":56}]
[3192,900.98157487645528,4.5795398710347701,"00:15:00.982",16.486343535725172,"13 tours 3 plots",3192,null,null,"1 plot","67 aller-retours 1 plot",1,44,"44 tours 1plot",1,33,"33 tours 1plot",3,26,"26 tours 3 plots",1,22,"22 tours 1plot",0,19,"19 tours ",5,16,"16 tours 5 plots",7,14,"14 tours 7 plots",3,13,"13 tours 3 plots",1,12,"12 tours 1 plot",1,11,"11 tours 1 plot",3,10,"10 tours 3 plots",7,9,"9 tours 7 plots",13,8,"8 tours 13 plots",5,8,"8 tours 5 plots",14,7,"7 tours 14 plots",7,7,"7 tours 7 plots",0,7,"7 tours",13,6,"6 tours 13 plots",null,null,901,15,1]
[3216,906.20844827525582,4.5916551193888742,"00:15:06.208",16.529958429799947,"13 tours 4 plots",3216,null,68,"aller-retours ","68 aller-retours ",2,44,"44 tours 2 plots",2,33,"33 tours 2 plots",4,26,"26 tours 4 plots",2,22,"22 tours 2 plots",1,19,"19 tours 1plot",6,16,"16 tours 6 plots",8,14,"14 tours 8 plots",4,13,"13 tours 4 plots",2,12,"12 tours 2 plots",2,11,"11 tours 2 plots",4,10,"10 tours 4 plots",8,9,"9 tours 8 plots",14,8,"8 tours 14 plots",6,8,"8 tours 6 plots",15,7,"7 tours 15 plots",8,7,"7 tours 8 plots",1,7,"7 tours 1 plot",14,6,"6 tours 14 plots",null,null,906,15,6]
[3240,911.42160277526364,4.6037384850120997,"00:15:11.422",16.573458546043561,"13 tours 5 plots",3240,null,null,"1 plot",{"$f":"IF(I140=\"\",K139&J140,IF(I140>0,I140&\" \"&J140))","v":"68 aller-retours 1 plot"},0,45,"45 tours ",3,33,"33 tours 3 plots",0,27,"27 tours ",3,22,"22 tours 3 plots",2,19,"19 tours 2 plots",7,16,"16 tours 7 plots",0,15,"15 tours ",5,13,"13 tours 5 plots",3,12,"12 tours 3 plots",3,11,"11 tours 3 plots",5,10,"10 tours 5 plots",9,9,"9 tours 9 plots",0,9,"9 tours",7,8,"8 tours 7 plots",16,7,"7 tours 16 plots",9,7,"7 tours 9 plots",2,7,"7 tours 2 plots",15,6,"6 tours 15 plots",null,null,911,15,11]
[3264,916.6211458361347,4.6157902183003268,"00:15:16.621",16.616844785881177,"13 tours 6 plots",{"$f":"A141","v":3264},null,69,"aller-retours ","69 aller-retours ",1,45,"45 tours 1plot",0,34,"34 tours ",1,27,"27 tours 1plot",4,22,"22 tours 4 plots",3,19,"19 tours 3 plots",0,17,"17 tours ",1,15,"15 tours 1plot",6,13,"13 tours 6 plots",4,12,"12 tours 4 plots",4,11,"11 tours 4 plots",6,10,"10 tours 6 plots",10,9,"9 tours 10 plots",1,9,"9 tours 1 plot",8,8,"8 tours 8 plots",0,8,"8 tours",10,7,"7 tours 10 plots",3,7,"7 tours 3 plots",16,6,"6 tours 16 plots",null,null,917,15,17]
[3288,921.80718352192957,4.6278105663864801,"00:15:21.807",16.660118038991328,"13 tours 7 plots",3288,null,null,"1 plot","69 aller-retours 1 plot",2,45,"45 tours 2 plots",1,34,"34 tours 1plot",2,27,"27 tours 2 plots",5,22,"22 tours 5 plots",4,19,"19 tours 4 plots",1,17,"17 tours 1plot",2,15,"15 tours 2 plots",7,13,"13 tours 7 plots",5,12,"12 tours 5 plots",5,11,"11 tours 5 plots",7,10,"10 tours 7 plots",11,9,"9 tours 11 plots",2,9,"9 tours 2 plots",9,8,"8 tours 9 plots",1,8,"8 tours 1 plot",11,7,"7 tours 11 plots",4,7,"7 tours 4 plots",17,6,"6 tours 17 plots",null,null,922,15,22]
[3312,926.97982052635484,4.6397997732041967,"00:15:26.980",16.703279183535109,"13 tours 8 plots",3312,null,70,"aller-retours ","70 aller-retours ",0,46,"46 tours ",2,34,"34 tours 2 plots",3,27,"27 tours 3 plots",0,23,"23 tours ",5,19,"19 tours 5 plots",2,17,"17 tours 2 plots",3,15,"15 tours 3 plots",8,13,"13 tours 8 plots",6,12,"12 tours 6 plots",6,11,"11 tours 6 plots",8,10,"10 tours 8 plots",12,9,"9 tours 12 plots",3,9,"9 tours 3 plots",10,8,"8 tours 10 plots",2,8,"8 tours 2 plots",12,7,"7 tours 12 plots",5,7,"7 tours 5 plots",18,6,"6 tours 18 plots",null,null,927,15,27]
[3336,932.13916019742544,4.6517580795411826,"00:15:32.139",16.746329086348258,"13 tours 9 plots",3336,null,null,"1 plot","70 aller-retours 1 plot",1,46,"46 tours 1plot",3,34,"34 tours 3 plots",4,27,"27 tours 4 plots",1,23,"23 tours 1plot",6,19,"19 tours 6 plots",3,17,"17 tours 3 plots",4,15,"15 tours 4 plots",9,13,"13 tours 9 plots",7,12,"12 tours 7 plots",7,11,"11 tours 7 plots",9,10,"10 tours 9 plots",13,9,"9 tours 13 plots",4,9,"9 tours 4 plots",11,8,"8 tours 11 plots",3,8,"8 tours 3 plots",13,7,"7 tours 13 plots",6,7,"7 tours 6 plots",19,6,"6 tours 19 plots",null,null,932,15,32]
[3360,937.28530456155363,4.6636857231007447,"00:15:37.285",16.789268603162682,"14 tours ",3360,null,71,"aller-retours ","71 aller-retours ",2,46,"46 tours 2 plots",0,35,"35 tours ",0,28,"28 tours ",2,23,"23 tours 2 plots",0,20,"20 tours ",4,17,"17 tours 4 plots",5,15,"15 tours 5 plots",0,14,"14 tours ",8,12,"12 tours 8 plots",8,11,{"$f":"IF(AN145=0,\"\",IF(AND(AM145=0,AN145=1),AN145&\" \"&\"tour\",IF(AND(AM145=0,AN145>1),AN145&\" \"&\"tours\",IF(AND(AN145>1,AM145=1),AN145&\" \"&\"tours\"&\" \"&AM145&\" \"&\"plot\",IF(AND(AN145=1,AM145=1),AN145&\" \"&\"tour\"&\" \"&AM145&\" \"&\"plot\",IF(AND(AN145=1,AM145>0),AN145&\" \"&\"tour\"&\" \"&AM145&\" \"&\"plots\",IF(AND(AN145>1,AM145>1),AN145&\" \"&\"tours\"&\" \"&AM145&\" \"&\"plots\")))))))","v":"11 tours 8 plots"},10,10,"10 tours 10 plots",0,10,"10 tours",5,9,"9 tours 5 plots",12,8,"8 tours 12 plots",4,8,"8 tours 4 plots",14,7,"7 tours 14 plots",7,7,"7 tours 7 plots",0,7,"7 tours",null,null,937,15,37]
[3384,942.41835434709208,4.6755829385516954,"00:15:42.418",16.832098578786105,"14 tours 1plot",3384,null,null,"1 plot","71 aller-retours 1 plot",0,47,"47 tours ",1,35,"35 tours 1plot",1,28,"28 tours 1plot",3,23,"23 tours 3 plots",1,20,"20 tours 1plot",5,17,"17 tours 5 plots",6,15,"15 tours 6 plots",1,14,"14 tours 1plot",9,12,"12 tours 9 plots",9,11,"11 tours 9 plots",11,10,{"$f":"IF(AQ146=0,\"\",IF(AND(AP146=0,AQ146=1),AQ146&\" \"&\"tour\",IF(AND(AP146=0,AQ146>1),AQ146&\" \"&\"tours\",IF(AND(AQ146>1,AP146=1),AQ146&\" \"&\"tours\"&\" \"&AP146&\" \"&\"plot\",IF(AND(AQ146=1,AP146=1),AQ146&\" \"&\"tour\"&\" \"&AP146&\" \"&\"plot\",IF(AND(AQ146=1,AP146>0),AQ146&\" \"&\"tour\"&\" \"&AP146&\" \"&\"plots\",IF(AND(AQ146>1,AP146>1),AQ146&\" \"&\"tours\"&\" \"&AP146&\" \"&\"plots\")))))))","v":"10 tours 11 plots"},1,10,"10 tours 1 plot",6,9,"9 tours 6 plots",13,8,"8 tours 13 plots",5,8,"8 tours 5 plots",15,7,"7 tours 15 plots",8,7,"7 tours 8 plots",1,7,"7 tours 1 plot",null,null,{"$f":"ROUND(B146,0)","v":942},15,42]
[3408,947.53840900733621,4.6874499575861215,"00:15:47.538",16.874819847310039,"14 tours 2 plots",3408,null,72,"aller-retours ","72 aller-retours ",1,47,"47 tours 1plot",2,35,"35 tours 2 plots",2,28,"28 tours 2 plots",4,23,"23 tours 4 plots",2,20,"20 tours 2 plots",6,17,"17 tours 6 plots",7,15,"15 tours 7 plots",2,14,"14 tours 2 plots",10,12,"12 tours 10 plots",10,11,"11 tours 10 plots",12,10,"10 tours 12 plots",2,10,{"$f":"IF(AT147=0,\"\",IF(AND(AS147=0,AT147=1),AT147&\" \"&\"tour\",IF(AND(AS147=0,AT147>1),AT147&\" \"&\"tours\",IF(AND(AT147>1,AS147=1),AT147&\" \"&\"tours\"&\" \"&AS147&\" \"&\"plot\",IF(AND(AT147=1,AS147=1),AT147&\" \"&\"tour\"&\" \"&AS147&\" \"&\"plot\",IF(AND(AT147=1,AS147>0),AT147&\" \"&\"tour\"&\" \"&AS147&\" \"&\"plots\",IF(AND(AT147>1,AS147>1),AT147&\" \"&\"tours\"&\" \"&AS147&\" \"&\"plots\")))))))","v":"10 tours 2 plots"},7,9,"9 tours 7 plots",14,8,"8 tours 14 plots",6,8,"8 tours 6 plots",16,7,"7 tours 16 plots",9,7,"7 tours 9 plots",2,7,"7 tours 2 plots",null,null,{"$f":"ROUND(B147,0)","v":948},15,48]
[3432,952.64556674300695,4.6992870089703631,"00:15:52.646",16.917433232293309,"14 tours 3 plots",3432,null,null,"1 plot","72 aller-retours 1 plot",2,47,"47 tours 2 plots",3,35,"35 tours 3 plots",3,28,"28 tours 3 plots",5,23,"23 tours 5 plots",3,20,"20 tours 3 plots",7,17,"17 tours 7 plots",8,15,"15 tours 8 plots",3,14,"14 tours 3 plots",0,13,"13 tours",11,11,"11 tours 11 plots",0,11,"11 tours",3,10,"10 tours 3 plots",8,9,{"$f":"IF(AW148=0,\"\",IF(AND(AV148=0,AW148=1),AW148&\" \"&\"tour\",IF(AND(AV148=0,AW148>1),AW148&\" \"&\"tours\",IF(AND(AW148>1,AV148=1),AW148&\" \"&\"tours\"&\" \"&AV148&\" \"&\"plot\",IF(AND(AW148=1,AV148=1),AW148&\" \"&\"tour\"&\" \"&AV148&\" \"&\"plot\",IF(AND(AW148=1,AV148>0),AW148&\" \"&\"tour\"&\" \"&AV148&\" \"&\"plots\",IF(AND(AW148>1,AV148>1),AW148&\" \"&\"tours\"&\" \"&AV148&\" \"&\"plots\")))))))","v":"9 tours 8 plots"},15,8,"8 tours 15 plots",7,8,"8 tours 7 plots",17,7,"7 tours 17 plots",10,7,"7 tours 10 plots",3,7,"7 tours 3 plots",null,null,{"$f":"ROUND(B148,0)","v":953},15,53]
[3456,957.73992452422635,4.7110943185963841,"00:15:57.740",16.959939546946984,"14 tours 4 plots",3456,null,73,"aller-retours ","73 aller-retours ",0,48,"48 tours ",0,36,"36 tours ",4,28,"28 tours 4 plots",0,24,"24 tours ",4,20,"20 tours 4 plots",0,18,"18 tours ",0,16,"16 tours ",4,14,"14 tours 4 plots",1,13,"13 tours 1 plot",0,12,"12 tours",1,11,"11 tours 1 plot",4,10,"10 tours 4 plots",9,9,"9 tours 9 plots",0,9,{"$f":"IF(AZ149=0,\"\",IF(AND(AY149=0,AZ149=1),AZ149&\" \"&\"tour\",IF(AND(AY149=0,AZ149>1),AZ149&\" \"&\"tours\",IF(AND(AZ149>1,AY149=1),AZ149&\" \"&\"tours\"&\" \"&AY149&\" \"&\"plot\",IF(AND(AZ149=1,AY149=1),AZ149&\" \"&\"tour\"&\" \"&AY149&\" \"&\"plot\",IF(AND(AZ149=1,AY149>0),AZ149&\" \"&\"tour\"&\" \"&AY149&\" \"&\"plots\",IF(AND(AZ149>1,AY149>1),AZ149&\" \"&\"tours\"&\" \"&AY149&\" \"&\"plots\")))))))","v":"9 tours"},8,8,"8 tours 8 plots",0,8,"8 tours",11,7,"7 tours 11 plots",4,7,"7 tours 4 plots",null,null,958,15,58]
[3480,962.82157811199966,4.7228721095324415,"00:16:02.822",17.002339594316791,"14 tours 5 plots",3480,null,null,"1 plot","73 aller-retours 1 plot",1,48,"48 tours 1plot",1,36,"36 tours 1plot",0,29,"29 tours ",1,24,"24 tours 1plot",5,20,"20 tours 5 plots",1,18,"18 tours 1plot",1,16,"16 tours 1plot",5,14,"14 tours 5 plots",2,13,"13 tours 2 plots",1,12,"12 tours 1 plot",2,11,"11 tours 2 plots",5,10,"10 tours 5 plots",10,9,"9 tours 10 plots",1,9,"9 tours 1 plot",9,8,{"$f":"IF(BC150=0,\"\",IF(AND(BB150=0,BC150=1),BC150&\" \"&\"tour\",IF(AND(BB150=0,BC150>1),BC150&\" \"&\"tours\",IF(AND(BC150>1,BB150=1),BC150&\" \"&\"tours\"&\" \"&BB150&\" \"&\"plot\",IF(AND(BC150=1,BB150=1),BC150&\" \"&\"tour\"&\" \"&BB150&\" \"&\"plot\",IF(AND(BC150=1,BB150>0),BC150&\" \"&\"tour\"&\" \"&BB150&\" \"&\"plots\",IF(AND(BC150>1,BB150>1),BC150&\" \"&\"tours\"&\" \"&BB150&\" \"&\"plots\")))))))","v":"8 tours 9 plots"},1,8,"8 tours 1 plot",12,7,"7 tours 12 plots",5,7,"7 tours 5 plots",null,null,963,16,3]
[3504,967.8906220792162,4.734620602073532,"00:16:07.891",17.044634167464714,"14 tours 6 plots",3504,null,74,"aller-retours ","74 aller-retours ",2,48,"48 tours 2 plots",2,36,"36 tours 2 plots",1,29,"29 tours 1plot",2,24,"24 tours 2 plots",6,20,"20 tours 6 plots",2,18,"18 tours 2 plots",2,16,"16 tours 2 plots",6,14,"14 tours 6 plots",3,13,"13 tours 3 plots",2,12,"12 tours 2 plots",3,11,"11 tours 3 plots",6,10,"10 tours 6 plots",11,9,"9 tours 11 plots",2,9,"9 tours 2 plots",10,8,"8 tours 10 plots",2,8,{"$f":"IF(BF151=0,\"\",IF(AND(BE151=0,BF151=1),BF151&\" \"&\"tour\",IF(AND(BE151=0,BF151>1),BF151&\" \"&\"tours\",IF(AND(BF151>1,BE151=1),BF151&\" \"&\"tours\"&\" \"&BE151&\" \"&\"plot\",IF(AND(BF151=1,BE151=1),BF151&\" \"&\"tour\"&\" \"&BE151&\" \"&\"plot\",IF(AND(BF151=1,BE151>0),BF151&\" \"&\"tour\"&\" \"&BE151&\" \"&\"plots\",IF(AND(BF151>1,BE151>1),BF151&\" \"&\"tours\"&\" \"&BE151&\" \"&\"plots\")))))))","v":"8 tours 2 plots"},13,7,"7 tours 13 plots",6,7,"7 tours 6 plots",null,null,968,16,8]
[3528,972.94714983118831,4.7463400137850886,"00:16:12.947",17.086824049626319,"14 tours 7 plots",3528,null,null,"1 plot","74 aller-retours 1 plot",0,49,"49 tours ",3,36,"36 tours 3 plots",2,29,"29 tours 2 plots",3,24,"24 tours 3 plots",0,21,"21 tours ",3,18,"18 tours 3 plots",3,16,"16 tours 3 plots",7,14,"14 tours 7 plots",4,13,"13 tours 4 plots",3,12,"12 tours 3 plots",4,11,"11 tours 4 plots",7,10,"10 tours 7 plots",12,9,"9 tours 12 plots",3,9,"9 tours 3 plots",11,8,"8 tours 11 plots",3,8,"8 tours 3 plots",14,7,{"$f":"IF(BI152=0,\"\",IF(AND(BH152=0,BI152=1),BI152&\" \"&\"tour\",IF(AND(BH152=0,BI152>1),BI152&\" \"&\"tours\",IF(AND(BI152>1,BH152=1),BI152&\" \"&\"tours\"&\" \"&BH152&\" \"&\"plot\",IF(AND(BI152=1,BH152=1),BI152&\" \"&\"tour\"&\" \"&BH152&\" \"&\"plot\",IF(AND(BI152=1,BH152>0),BI152&\" \"&\"tour\"&\" \"&BH152&\" \"&\"plots\",IF(AND(BI152>1,BH152>1),BI152&\" \"&\"tours\"&\" \"&BH152&\" \"&\"plots\")))))))","v":"7 tours 14 plots"},7,7,"7 tours 7 plots",null,null,973,16,13]
[3552,977.99125362572909,4.7580305595565191,"00:16:17.991",17.12891001440347,"14 tours 8 plots",3552,null,75,"aller-retours ","75 aller-retours ",1,49,"49 tours 1plot",0,37,"37 tours ",3,29,"29 tours 3 plots",4,24,"24 tours 4 plots",1,21,"21 tours 1plot",4,18,"18 tours 4 plots",4,16,"16 tours 4 plots",8,14,"14 tours 8 plots",5,13,"13 tours 5 plots",4,12,"12 tours 4 plots",5,11,"11 tours 5 plots",8,10,"10 tours 8 plots",13,9,"9 tours 13 plots",4,9,"9 tours 4 plots",12,8,"8 tours 12 plots",4,8,"8 tours 4 plots",15,7,"7 tours 15 plots",8,7,{"$f":"IF(BL153=0,\"\",IF(AND(BK153=0,BL153=1),BL153&\" \"&\"tour\",IF(AND(BK153=0,BL153>1),BL153&\" \"&\"tours\",IF(AND(BL153>1,BK153=1),BL153&\" \"&\"tours\"&\" \"&BK153&\" \"&\"plot\",IF(AND(BL153=1,BK153=1),BL153&\" \"&\"tour\"&\" \"&BK153&\" \"&\"plot\",IF(AND(BL153=1,BK153>0),BL153&\" \"&\"tour\"&\" \"&BK153&\" \"&\"plots\",IF(AND(BL153>1,BK153>1),BL153&\" \"&\"tours\"&\" \"&BK153&\" \"&\"plots\")))))))","v":"7 tours 8 plots"},null,null,978,16,18]
[3576,983.02302459279383,4.7696924516419843,"00:16:23.023",17.170892825911142,"14 tours 9 plots",3576,null,null,"1 plot","75 aller-retours 1 plot",2,49,"49 tours 2 plots",1,37,"37 tours 1plot",4,29,"29 tours 4 plots",5,24,"24 tours 5 plots",2,21,"21 tours 2 plots",5,18,"18 tours 5 plots",5,16,"16 tours 5 plots",9,14,"14 tours 9 plots",6,13,"13 tours 6 plots",5,12,"12 tours 5 plots",6,11,"11 tours 6 plots",9,10,"10 tours 9 plots",14,9,"9 tours 14 plots",5,9,"9 tours 5 plots",13,8,"8 tours 13 plots",5,8,"8 tours 5 plots",16,7,"7 tours 16 plots",9,7,"7 tours 9 plots",null,null,983,16,23]
[3600,988.0425527536903,4.7813258997064141,"00:16:28.043",17.21277323894309,"15 tours ",3600,null,76,"aller-retours ","76 aller-retours ",0,50,"50 tours ",2,37,"37 tours 2 plots",0,30,"30 tours ",0,25,"25 tours ",3,21,"21 tours 3 plots",6,18,"18 tours 6 plots",6,16,"16 tours 6 plots",0,15,"15 tours ",7,13,"13 tours 7 plots",6,12,"12 tours 6 plots",7,11,"11 tours 7 plots",10,10,"10 tours 10 plots",0,10,"10 tours",6,9,"9 tours 6 plots",14,8,"8 tours 14 plots",6,8,"8 tours 6 plots",17,7,"7 tours 17 plots",10,7,"7 tours 10 plots",null,null,988,16,28]
[3624,993.04992703986761,4.7929311108720594,"00:16:33.050",17.254551999139416,"15 tours 1plot",3624,null,null,"1 plot","76 aller-retours 1 plot",1,50,"50 tours 1plot",3,37,"37 tours 3 plots",1,30,"30 tours 1plot",1,25,"25 tours 1plot",4,21,"21 tours 4 plots",7,18,"18 tours 7 plots",7,16,"16 tours 7 plots",1,15,"15 tours 1plot",8,13,"13 tours 8 plots",7,12,"12 tours 7 plots",8,11,"11 tours 8 plots",11,10,"10 tours 11 plots",1,10,"10 tours 1 plot",7,9,"9 tours 7 plots",15,8,"8 tours 15 plots",7,8,"8 tours 7 plots",18,7,"7 tours 18 plots",11,7,"7 tours 11 plots",null,null,993,16,33]
[3648,998.04523531130076,4.8045082897585498,"00:16:38.045",17.296229843130781,"15 tours 2 plots",3648,null,78,"aller-retours ","78 aller-retours ",2,50,"50 tours 2 plots",0,38,"38 tours ",2,30,"30 tours 2 plots",2,25,"25 tours 2 plots",5,21,"21 tours 5 plots",0,19,"19 tours ",8,16,"16 tours 8 plots",2,15,"15 tours 2 plots",9,13,"13 tours 9 plots",8,12,"12 tours 8 plots",9,11,"11 tours 9 plots",12,10,"10 tours 12 plots",2,10,"10 tours 2 plots",8,9,"9 tours 8 plots",16,8,"8 tours 16 plots",8,8,"8 tours 8 plots",0,8,"8 tours",12,7,"7 tours 12 plots",null,null,998,16,38]
[3672,1003.0285643744783,4.8160576385250673,"00:16:43.029",17.337807498690243,"15 tours 3 plots",3672,null,null,"1 plot","78 aller-retours 1 plot",0,51,"51 tours ",1,38,"38 tours 1plot",3,30,"30 tours 3 plots",3,25,"25 tours 3 plots",6,21,"21 tours 6 plots",1,19,"19 tours 1plot",0,17,"17 tours ",3,15,"15 tours 3 plots",10,13,"13 tours 10 plots",9,12,"12 tours 9 plots",10,11,"11 tours 10 plots",13,10,"10 tours 13 plots",3,10,"10 tours 3 plots",9,9,"9 tours 9 plots",0,9,"9 tours",9,8,"8 tours 9 plots",1,8,"8 tours 1 plot",13,7,"7 tours 13 plots",null,null,1003,16,43]
[3696,1007.9999999999999,4.8275793569150016,"00:16:48",17.379285684894008,"15 tours 4 plots",3696,null,79,"aller-retours ","79 aller-retours ",1,51,"51 tours 1plot",2,38,"38 tours 2 plots",4,30,"30 tours 4 plots",4,25,"25 tours 4 plots",0,22,"22 tours ",2,19,"19 tours 2 plots",1,17,"17 tours 1plot",4,15,"15 tours 4 plots",0,14,"14 tours",10,12,"12 tours 10 plots",11,11,"11 tours 11 plots",0,11,"11 tours",4,10,"10 tours 4 plots",10,9,"9 tours 10 plots",1,9,"9 tours 1 plot",10,8,"8 tours 10 plots",2,8,"8 tours 2 plots",14,7,"7 tours 14 plots",null,null,1008,16,48]
[3720,1012.9596269398032,4.8390736422912566,"00:16:52.960",17.420665112248525,"15 tours 5 plots",3720,null,null,"1 plot","79 aller-retours 1 plot",2,51,"51 tours 2 plots",3,38,"38 tours 3 plots",0,31,"31 tours ",5,25,"25 tours 5 plots",1,22,"22 tours 1plot",3,19,"19 tours 3 plots",2,17,"17 tours 2 plots",5,15,"15 tours 5 plots",1,14,"14 tours 1 plot",11,12,"12 tours 11 plots",12,11,"11 tours 12 plots",1,11,"11 tours 1 plot",5,10,"10 tours 5 plots",11,9,"9 tours 11 plots",2,9,"9 tours 2 plots",11,8,"8 tours 11 plots",3,8,"8 tours 3 plots",15,7,"7 tours 15 plots",null,null,1013,16,53]
[3744,1017.9075289440192,4.8505406896802539,"00:16:57.908",17.461946482848916,"15 tours 6 plots",3744,null,80,"aller-retours ","80 aller-retours ",0,52,"52 tours ",0,39,"39 tours ",1,31,"31 tours 1plot",0,26,"26 tours ",2,22,"22 tours 2 plots",4,19,"19 tours 4 plots",3,17,"17 tours 3 plots",6,15,"15 tours 6 plots",2,14,"14 tours 2 plots",0,13,"13 tours",0,12,"12 tours",2,11,"11 tours 2 plots",6,10,"10 tours 6 plots",12,9,"9 tours 12 plots",3,9,"9 tours 3 plots",12,8,"8 tours 12 plots",4,8,"8 tours 4 plots",16,7,"7 tours 16 plots",null,null,1018,16,58]
[3768,1022.8437887774735,4.8619806918075579,"00:17:02.844",17.50313049050721,"15 tours 7 plots",3768,null,null,"1 plot","80 aller-retours 1 plot",1,52,"52 tours 1plot",1,39,"39 tours 1plot",2,31,"31 tours 2 plots",1,26,"26 tours 1plot",3,22,"22 tours 3 plots",5,19,"19 tours 5 plots",4,17,"17 tours 4 plots",7,15,"15 tours 7 plots",3,14,"14 tours 3 plots",1,13,"13 tours 1 plot",1,12,"12 tours 1 plot",3,11,"11 tours 3 plots",7,10,"10 tours 7 plots",13,9,"9 tours 13 plots",4,9,"9 tours 4 plots",13,8,"8 tours 13 plots",5,8,"8 tours 5 plots",17,7,"7 tours 17 plots",null,null,1023,17,3]
[3792,1027.7684882358403,4.8733938391357334,"00:17:07.768",17.54421782088864,"15 tours 8 plots",3792,null,81,"aller-retours ","81 aller-retours ",2,52,"52 tours 2 plots",2,39,"39 tours 2 plots",3,31,"31 tours 3 plots",2,26,"26 tours 2 plots",4,22,"22 tours 4 plots",6,19,"19 tours 6 plots",5,17,"17 tours 5 plots",8,15,"15 tours 8 plots",4,14,"14 tours 4 plots",2,13,"13 tours 2 plots",2,12,"12 tours 2 plots",4,11,"11 tours 4 plots",8,10,"10 tours 8 plots",14,9,"9 tours 14 plots",5,9,"9 tours 5 plots",14,8,"8 tours 14 plots",6,8,"8 tours 6 plots",18,7,"7 tours 18 plots",null,null,1028,17,8]
[3816,1032.681708161454,4.8847803199044053,"00:17:12.682",17.58520915165586,"15 tours 9 plots",3816,null,null,"1 plot","81 aller-retours 1 plot",0,53,"53 tours ",3,39,"39 tours 3 plots",4,31,"31 tours 4 plots",3,26,"26 tours 3 plots",5,22,"22 tours 5 plots",7,19,"19 tours 7 plots",6,17,"17 tours 6 plots",9,15,"15 tours 9 plots",5,14,"14 tours 5 plots",3,13,"13 tours 3 plots",3,12,"12 tours 3 plots",5,11,"11 tours 5 plots",9,10,"10 tours 9 plots",15,9,"9 tours 15 plots",6,9,"9 tours 6 plots",15,8,"8 tours 15 plots",7,8,"8 tours 7 plots",19,7,"7 tours 19 plots",null,null,1033,17,13]
[3840,1037.5835284587949,4.8961403201621314,"00:17:17.584",17.626105152583673,"16 tours ",3840,null,82,"aller-retours ","82 aller-retours ",1,53,"53 tours 1plot",0,40,"40 tours ",0,32,"32 tours ",4,26,"26 tours 4 plots",6,22,"22 tours 6 plots",0,20,"20 tours ",7,17,"17 tours 7 plots",0,16,"16 tours ",6,14,"14 tours 6 plots",4,13,"13 tours 4 plots",4,12,"12 tours 4 plots",6,11,"11 tours 6 plots",10,10,"10 tours 10 plots",0,10,"10 tours",7,9,"9 tours 7 plots",16,8,"8 tours 16 plots",8,8,"8 tours 8 plots",0,8,"8 tours",null,null,1038,17,18]
[3864,1042.4740281096495,4.9074740238058343,"00:17:22.474",17.666906485701006,"16 tours 1plot",3864,null,null,"1 plot","82 aller-retours 1 plot",2,53,"53 tours 2 plots",1,40,"40 tours 1plot",1,32,"32 tours 1plot",5,26,"26 tours 5 plots",0,23,"23 tours ",1,20,"20 tours 1plot",8,17,"17 tours 8 plots",1,16,"16 tours 1plot",7,14,"14 tours 7 plots",5,13,"13 tours 5 plots",5,12,"12 tours 5 plots",7,11,"11 tours 7 plots",11,10,"10 tours 11 plots",1,10,"10 tours 1 plot",8,9,"9 tours 8 plots",17,8,"8 tours 17 plots",9,8,"8 tours 9 plots",1,8,"8 tours 1 plot",null,null,1042,17,22]
[3888,1047.3532851879586,4.9187816126132429,"00:17:27.353",17.707613805407675,"16 tours 2 plots",3888,null,83,"aller-retours ","83 aller-retours ",0,54,"54 tours ",2,40,"40 tours 2 plots",2,32,"32 tours 2 plots",0,27,"27 tours ",1,23,"23 tours 1plot",2,20,"20 tours 2 plots",0,18,"18 tours ",2,16,"16 tours 2 plots",8,14,"14 tours 8 plots",6,13,"13 tours 6 plots",6,12,"12 tours 6 plots",8,11,"11 tours 8 plots",12,10,"10 tours 12 plots",2,10,"10 tours 2 plots",9,9,"9 tours 9 plots",0,9,"9 tours",10,8,"8 tours 10 plots",2,8,"8 tours 2 plots",null,null,1047,17,27]
[3912,1052.221376874362,4.9300632662757655,"00:17:32.221",17.748227758592755,"16 tours 3 plots",3912,null,null,"1 plot","83 aller-retours 1 plot",1,54,"54 tours 1plot",3,40,"40 tours 3 plots",3,32,"32 tours 3 plots",1,27,"27 tours 1plot",2,23,"23 tours 2 plots",3,20,"20 tours 3 plots",1,18,"18 tours 1plot",3,16,"16 tours 3 plots",9,14,"14 tours 9 plots",7,13,"13 tours 7 plots",7,12,"12 tours 7 plots",9,11,"11 tours 9 plots",13,10,"10 tours 13 plots",3,10,"10 tours 3 plots",10,9,"9 tours 10 plots",1,9,"9 tours 1 plot",11,8,"8 tours 11 plots",3,8,"8 tours 3 plots",null,null,1052,17,32]
[3936,1057.0783794704396,4.9413191624361099,"00:17:37.078",17.788748984769995,"16 tours 4 plots",3936,null,84,"aller-retours ","84 aller-retours ",2,54,"54 tours 2 plots",0,41,"41 tours ",4,32,"32 tours 4 plots",2,27,"27 tours 2 plots",3,23,"23 tours 3 plots",4,20,"20 tours 4 plots",2,18,"18 tours 2 plots",4,16,"16 tours 4 plots",10,14,"14 tours 10 plots",8,13,"13 tours 8 plots",8,12,"12 tours 8 plots",10,11,"11 tours 10 plots",14,10,"10 tours 14 plots",4,10,"10 tours 4 plots",11,9,"9 tours 11 plots",2,9,"9 tours 2 plots",12,8,"8 tours 12 plots",4,8,"8 tours 4 plots",null,null,1057,17,37]
[3960,1061.9243684126664,4.9525494767166807,"00:17:41.924",17.829178116180049,"16 tours 5 plots",3960,null,null,"1 plot","84 aller-retours 1 plot",0,55,"55 tours ",1,41,"41 tours 1plot",0,33,"33 tours ",3,27,"27 tours 3 plots",4,23,"23 tours 4 plots",5,20,"20 tours 5 plots",3,18,"18 tours 3 plots",5,16,"16 tours 5 plots",0,15,"15 tours",9,13,"13 tours 9 plots",9,12,"12 tours 9 plots",11,11,"11 tours 11 plots",0,11,"11 tours",5,10,"10 tours 5 plots",12,9,"9 tours 12 plots",3,9,"9 tours 3 plots",13,8,"8 tours 13 plots",5,8,"8 tours 5 plots",null,null,1062,17,42]
[3984,1066.7594182860826,4.963754382753196,"00:17:46.759",17.869515777911506,"16 tours 6 plots",3984,null,85,"aller-retours ","85 aller-retours ",1,55,"55 tours 1plot",2,41,"41 tours 2 plots",1,33,"33 tours 1plot",4,27,"27 tours 4 plots",5,23,"23 tours 5 plots",6,20,"20 tours 6 plots",4,18,"18 tours 4 plots",6,16,"16 tours 6 plots",1,15,"15 tours 1 plot",10,13,"13 tours 10 plots",10,12,"12 tours 10 plots",12,11,"11 tours 12 plots",1,11,"11 tours 1 plot",6,10,"10 tours 6 plots",13,9,"9 tours 13 plots",4,9,"9 tours 4 plots",14,8,"8 tours 14 plots",6,8,"8 tours 6 plots",null,null,1067,17,47]
[4008,1071.5836028376866,4.974934052226498,"00:17:51.584",17.909762588015393,"16 tours 7 plots",4008,null,null,"1 plot","85 aller-retours 1 plot",2,55,"55 tours 2 plots",3,41,"41 tours 3 plots",2,33,"33 tours 2 plots",5,27,"27 tours 5 plots",6,23,"23 tours 6 plots",7,20,"20 tours 7 plots",5,18,"18 tours 5 plots",7,16,"16 tours 7 plots",2,15,"15 tours 2 plots",11,13,"13 tours 11 plots",11,12,"12 tours 11 plots",13,11,"11 tours 13 plots",2,11,"11 tours 2 plots",7,10,"10 tours 7 plots",14,9,"9 tours 14 plots",5,9,"9 tours 5 plots",15,8,"8 tours 15 plots",7,8,"8 tours 7 plots",null,null,1072,17,52]
[4032,1076.3969949895588,4.9860886548927734,"00:17:56.397",17.949919157613984,"16 tours 8 plots",4032,null,86,"aller-retours ","86 aller-retours ",0,56,"56 tours ",0,42,"42 tours ",3,33,"33 tours 3 plots",0,28,"28 tours ",0,24,"24 tours ",0,21,"21 tours ",6,18,"18 tours 6 plots",8,16,"16 tours 8 plots",3,15,"15 tours 3 plots",0,14,"14 tours",12,12,"12 tours 12 plots",0,12,"12 tours",3,11,"11 tours 3 plots",8,10,"10 tours 8 plots",15,9,"9 tours 15 plots",6,9,"9 tours 6 plots",16,8,"8 tours 16 plots",8,8,"8 tours 8 plots",null,null,1076,17,56]
[4056,1081.1996668517234,4.9972183586124581,"00:18:01.200",17.989986091004848,"16 tours 9 plots",4056,null,null,"1 plot","86 aller-retours 1 plot",1,56,"56 tours 1plot",1,42,"42 tours 1plot",4,33,"33 tours 4 plots",1,28,"28 tours 1plot",1,24,"24 tours 1plot",1,21,"21 tours 1plot",7,18,"18 tours 7 plots",9,16,"16 tours 9 plots",4,15,"15 tours 4 plots",1,14,"14 tours 1 plot",0,13,"13 tours",1,12,"12 tours 1 plot",4,11,"11 tours 4 plots",9,10,"10 tours 9 plots",16,9,"9 tours 16 plots",7,9,"9 tours 7 plots",17,8,"8 tours 17 plots",9,8,"8 tours 9 plots",null,null,1081,18,1]
[4080,1085.9916897347505,5.0083233293825913,"00:18:05.992",18.029963985777329,"17 tours ",4080,null,87,"aller-retours ","87 aller-retours ",2,56,"56 tours 2 plots",2,42,"42 tours 2 plots",0,34,"34 tours ",2,28,"28 tours 2 plots",2,24,"24 tours 2 plots",2,21,"21 tours 2 plots",8,18,"18 tours 8 plots",0,17,"17 tours ",5,15,"15 tours 5 plots",2,14,"14 tours 2 plots",1,13,"13 tours 1 plot",2,12,"12 tours 2 plots",5,11,"11 tours 5 plots",10,10,"10 tours 10 plots",0,10,"10 tours",8,9,"9 tours 8 plots",18,8,"8 tours 18 plots",10,8,"8 tours 10 plots",null,null,1086,18,6]
[4104,1090.7731341621122,5.0194037313620834,"00:18:10.773",18.0698534329035,"17 tours 1plot",4104,null,null,"1 plot","87 aller-retours 1 plot",0,57,"57 tours ",3,42,"42 tours 3 plots",1,34,"34 tours 1plot",3,28,"28 tours 3 plots",3,24,"24 tours 3 plots",3,21,"21 tours 3 plots",0,19,"19 tours ",1,17,"17 tours 1plot",6,15,"15 tours 6 plots",3,14,"14 tours 3 plots",2,13,"13 tours 2 plots",3,12,"12 tours 3 plots",6,11,"11 tours 6 plots",11,10,"10 tours 11 plots",1,10,"10 tours 1 plot",9,9,"9 tours 9 plots",0,9,"9 tours",11,8,"8 tours 11 plots",null,null,1091,18,11]
[4128,1095.5440698822906,5.0304597269029303,"00:18:15.544",18.109655016850549,"17 tours 2 plots",4128,null,88,"aller-retours ","88 aller-retours ",1,57,"57 tours 1plot",0,43,"43 tours ",2,34,"34 tours 2 plots",4,28,"28 tours 4 plots",4,24,"24 tours 4 plots",4,21,"21 tours 4 plots",1,19,"19 tours 1plot",2,17,"17 tours 2 plots",7,15,"15 tours 7 plots",4,14,"14 tours 4 plots",3,13,"13 tours 3 plots",4,12,"12 tours 4 plots",7,11,"11 tours 7 plots",12,10,"10 tours 12 plots",2,10,"10 tours 2 plots",10,9,"9 tours 10 plots",1,9,"9 tours 1 plot",12,8,"8 tours 12 plots",null,null,1096,18,16]
[4152,1100.3045658806479,5.0414914765775496,"00:18:20.305",18.149369315679181,"17 tours 3 plots",4152,null,null,"1 plot","88 aller-retours 1 plot",2,57,"57 tours 2 plots",1,43,"43 tours 1plot",3,34,"34 tours 3 plots",5,28,"28 tours 5 plots",5,24,"24 tours 5 plots",5,21,"21 tours 5 plots",2,19,"19 tours 2 plots",3,17,"17 tours 3 plots",8,15,"15 tours 8 plots",5,14,"14 tours 5 plots",4,13,"13 tours 4 plots",5,12,"12 tours 5 plots",8,11,"11 tours 8 plots",13,10,"10 tours 13 plots",3,10,"10 tours 3 plots",11,9,"9 tours 11 plots",2,9,"9 tours 2 plots",13,8,"8 tours 13 plots",null,null,1100,18,20]
[4176,1105.0546903910667,5.0524991392034089,"00:18:25.055",18.188996901132274,"17 tours 4 plots",4176,null,89,"aller-retours ","89 aller-retours ",0,58,"58 tours ",2,43,"43 tours 2 plots",4,34,"34 tours 4 plots",0,29,"29 tours ",6,24,"24 tours 6 plots",6,21,"21 tours 6 plots",3,19,"19 tours 3 plots",4,17,"17 tours 4 plots",9,15,"15 tours 9 plots",6,14,"14 tours 6 plots",5,13,"13 tours 5 plots",6,12,"12 tours 6 plots",9,11,"11 tours 9 plots",14,10,"10 tours 14 plots",4,10,"10 tours 4 plots",12,9,"9 tours 12 plots",3,9,"9 tours 3 plots",14,8,"8 tours 14 plots",null,null,1105,18,25]
[4200,1109.7945109073589,5.0634828718734823,"00:18:29.795",18.228538338744539,"17 tours 5 plots",4200,null,null,"1 plot","89 aller-retours 1 plot",1,58,"58 tours 1plot",3,43,"43 tours 3 plots",0,35,"35 tours ",1,29,"29 tours 1plot",0,25,"25 tours ",7,21,"21 tours 7 plots",4,19,"19 tours 4 plots",5,17,"17 tours 5 plots",10,15,"15 tours 10 plots",7,14,"14 tours 7 plots",6,13,"13 tours 6 plots",7,12,"12 tours 7 plots",10,11,"11 tours 10 plots",15,10,"10 tours 15 plots",5,10,"10 tours 5 plots",13,9,"9 tours 13 plots",4,9,"9 tours 4 plots",15,8,"8 tours 15 plots",null,null,1110,18,30]
[4224,1114.5240941944567,5.074442829978655,"00:18:34.524",18.267994187923158,"17 tours 6 plots",4224,null,90,"aller-retour","90 aller-retour",2,58,"58 tours 2 plots",0,44,"44 tours ",1,35,"35 tours 1plot",2,29,"29 tours 2 plots",1,25,"25 tours 1plot",0,22,"22 tours ",5,19,"19 tours 5 plots",6,17,"17 tours 6 plots",0,16,"16 tours",8,14,"14 tours 8 plots",7,13,"13 tours 7 plots",8,12,"12 tours 8 plots",11,11,"11 tours 11 plots",0,11,"11 tours",6,10,"10 tours 6 plots",14,9,"9 tours 14 plots",5,9,"9 tours 5 plots",16,8,"8 tours 16 plots",null,null,1115,18,35]
[4248,1119.243506299382,5.0853791672383588,"00:18:39.244",18.307365002058091,"17 tours 7 plots",4248,null,null,"1 plot","90 aller-retour1 plot",0,59,"59 tours ",1,44,"44 tours 1plot",2,35,"35 tours 2 plots",3,29,"29 tours 3 plots",2,25,"25 tours 2 plots",1,22,"22 tours 1plot",6,19,"19 tours 6 plots",7,17,"17 tours 7 plots",1,16,"16 tours 1 plot",9,14,"14 tours 9 plots",8,13,"13 tours 8 plots",9,12,"12 tours 9 plots",12,11,"11 tours 12 plots",1,11,"11 tours 1 plot",7,10,"10 tours 7 plots",15,9,"9 tours 15 plots",6,9,"9 tours 6 plots",17,8,"8 tours 17 plots",null,null,1119,18,39]
[4272,1123.9528125620113,5.0962920357191486,"00:18:43.953",18.346651328588937,"17 tours 8 plots",4272,null,91,"aller-retours ","91 aller-retours ",1,59,"59 tours 1plot",2,44,"44 tours 2 plots",3,35,"35 tours 3 plots",4,29,"29 tours 4 plots",3,25,"25 tours 3 plots",2,22,"22 tours 2 plots",7,19,"19 tours 7 plots",8,17,"17 tours 8 plots",2,16,"16 tours 2 plots",10,14,"14 tours 10 plots",9,13,"13 tours 9 plots",10,12,"12 tours 10 plots",13,11,"11 tours 13 plots",2,11,"11 tours 2 plots",8,10,"10 tours 8 plots",16,9,"9 tours 16 plots",7,9,"9 tours 7 plots",18,8,"8 tours 18 plots",null,null,1124,18,44]
[4296,1128.6520776256273,5.1071815858654164,"00:18:48.652",18.385853709115498,"17 tours 9 plots",4296,null,null,"1 plot","91 aller-retours 1 plot",2,59,"59 tours 2 plots",3,44,"44 tours 3 plots",4,35,"35 tours 4 plots",5,29,"29 tours 5 plots",4,25,"25 tours 4 plots",3,22,"22 tours 3 plots",8,19,"19 tours 8 plots",9,17,"17 tours 9 plots",3,16,"16 tours 3 plots",11,14,"14 tours 11 plots",10,13,"13 tours 10 plots",11,12,"12 tours 11 plots",14,11,"11 tours 14 plots",3,11,"11 tours 3 plots",9,10,"10 tours 9 plots",17,9,"9 tours 17 plots",8,9,"9 tours 8 plots",19,8,"8 tours 19 plots",null,null,1129,18,49]
[4320,1133.3413654472731,5.118047966519673,"00:18:53.341",18.424972679470823,"18 tours ",4320,null,92,"aller-retours ","92 aller-retours ",0,60,"60 tours ",0,45,"45 tours ",0,36,"36 tours ",0,30,"30 tours ",5,25,"25 tours 5 plots",4,22,"22 tours 4 plots",0,20,"20 tours ",0,18,"18 tours ",4,16,"16 tours 4 plots",0,15,"15 tours",11,13,"13 tours 11 plots",12,12,"12 tours 12 plots",0,12,"12 tours",4,11,"11 tours 4 plots",10,10,"10 tours 10 plots",0,10,"10 tours",9,9,"9 tours 9 plots",0,9,"9 tours",null,null,1133,18,53]
[4344,1138.0207393079081,5.1288913249481576,"00:18:58.021",18.464008769813368,"18 tours 1plot",4344,null,null,"1 plot","92 aller-retours 1 plot",1,60,"60 tours 1plot",1,45,"45 tours 1plot",1,36,"36 tours 1plot",1,30,"30 tours 1plot",6,25,"25 tours 6 plots",5,22,"22 tours 5 plots",1,20,"20 tours 1plot",1,18,"18 tours 1plot",5,16,"16 tours 5 plots",1,15,"15 tours 1 plot",12,13,"13 tours 12 plots",13,12,"12 tours 13 plots",1,12,"12 tours 1 plot",5,11,"11 tours 5 plots",11,10,"10 tours 11 plots",1,10,"10 tours 1 plot",10,9,"9 tours 10 plots",1,9,"9 tours 1 plot",null,null,1138,18,58]
[4368,1142.690261822371,5.1397118068635539,"00:19:02.690",18.502962504708794,"18 tours 2 plots",4368,null,93,"aller-retours ","93 aller-retours ",2,60,"60 tours 2 plots",2,45,"45 tours 2 plots",2,36,"36 tours 2 plots",2,30,"30 tours 2 plots",0,26,"26 tours ",6,22,"22 tours 6 plots",2,20,"20 tours 2 plots",2,18,"18 tours 2 plots",6,16,"16 tours 6 plots",2,15,"15 tours 2 plots",0,14,"14 tours",0,13,"13 tours",2,12,"12 tours 2 plots",6,11,"11 tours 6 plots",12,10,"10 tours 12 plots",2,10,"10 tours 2 plots",11,9,"9 tours 11 plots",2,9,"9 tours 2 plots",null,null,1143,19,3]
[4392,1147.3499949491547,5.1505095564486396,"00:19:07.350",18.541834403215102,"18 tours 3 plots",4392,null,null,"1 plot","93 aller-retours 1 plot",0,61,"61 tours ",3,45,"45 tours 3 plots",3,36,"36 tours 3 plots",3,30,"30 tours 3 plots",1,26,"26 tours 1plot",7,22,"22 tours 7 plots",3,20,"20 tours 3 plots",3,18,"18 tours 3 plots",7,16,"16 tours 7 plots",3,15,"15 tours 3 plots",1,14,"14 tours 1 plot",1,13,"13 tours 1 plot",3,12,"12 tours 3 plots",7,11,"11 tours 7 plots",13,10,"10 tours 13 plots",3,10,"10 tours 3 plots",12,9,"9 tours 12 plots",3,9,"9 tours 3 plots",null,null,1147,19,7]
[4416,1151.9999999999998,5.1612847163764943,"00:19:12",18.580624978955381,"18 tours 4 plots",4416,null,94,"aller-retours ","94 aller-retours ",1,61,"61 tours 1plot",0,46,"46 tours ",4,36,"36 tours 4 plots",4,30,"30 tours 4 plots",2,26,"26 tours 2 plots",0,23,"23 tours ",4,20,"20 tours 4 plots",4,18,"18 tours 4 plots",8,16,"16 tours 8 plots",4,15,"15 tours 4 plots",2,14,"14 tours 2 plots",2,13,"13 tours 2 plots",4,12,"12 tours 4 plots",8,11,"11 tours 8 plots",14,10,"10 tours 14 plots",4,10,"10 tours 4 plots",13,9,"9 tours 13 plots",4,9,"9 tours 4 plots",null,null,1152,19,12]
[4440,1156.6403376493056,5.1720374278346579,"00:19:16.640",18.619334740204771,"18 tours 5 plots",4440,null,null,"1 plot","94 aller-retours 1 plot",2,61,"61 tours 2 plots",1,46,"46 tours 1plot",0,37,"37 tours ",5,30,"30 tours 5 plots",3,26,"26 tours 3 plots",1,23,"23 tours 1plot",5,20,"20 tours 5 plots",5,18,"18 tours 5 plots",9,16,"16 tours 9 plots",5,15,"15 tours 5 plots",3,14,"14 tours 3 plots",3,13,"13 tours 3 plots",5,12,"12 tours 5 plots",9,11,"11 tours 9 plots",15,10,"10 tours 15 plots",5,10,"10 tours 5 plots",14,9,"9 tours 14 plots",5,9,"9 tours 5 plots",null,null,1157,19,17]
[4464,1161.2710679433669,5.182767830546898,"00:19:21.271",18.657964189968833,"18 tours 6 plots",4464,null,95,"aller-retours ","95 aller-retours ",0,62,"62 tours ",2,46,"46 tours 2 plots",1,37,"37 tours 1plot",0,31,"31 tours ",4,26,"26 tours 4 plots",2,23,"23 tours 2 plots",6,20,"20 tours 6 plots",6,18,"18 tours 6 plots",10,16,"16 tours 10 plots",6,15,"15 tours 6 plots",4,14,"14 tours 4 plots",4,13,"13 tours 4 plots",6,12,"12 tours 6 plots",10,11,"11 tours 10 plots",16,10,"10 tours 16 plots",6,10,"10 tours 6 plots",15,9,"9 tours 15 plots",6,9,"9 tours 6 plots",null,null,1161,19,21]
[4488,1165.89225030944,5.1934760627926506,"00:19:25.892",18.696513826053543,"18 tours 7 plots",4488,null,null,"1 plot","95 aller-retours 1 plot",1,62,"62 tours 1plot",3,46,"46 tours 3 plots",2,37,"37 tours 2 plots",1,31,"31 tours 1plot",5,26,"26 tours 5 plots",3,23,"23 tours 3 plots",7,20,"20 tours 7 plots",7,18,"18 tours 7 plots",0,17,"17 tours",7,15,"15 tours 7 plots",5,14,"14 tours 5 plots",5,13,"13 tours 5 plots",7,12,"12 tours 7 plots",11,11,"11 tours 11 plots",0,11,"11 tours",7,10,"10 tours 7 plots",16,9,"9 tours 16 plots",7,9,"9 tours 7 plots",null,null,1166,19,26]
[4512,1170.5039435646408,5.2041622614283529,"00:19:30.504",18.734984141142071,"18 tours 8 plots",4512,null,96,"aller-retours ","96 aller-retours ",2,62,"62 tours 2 plots",0,47,"47 tours ",3,37,"37 tours 3 plots",2,31,"31 tours 2 plots",6,26,"26 tours 6 plots",4,23,"23 tours 4 plots",8,20,"20 tours 8 plots",8,18,"18 tours 8 plots",1,17,"17 tours 1 plot",8,15,"15 tours 8 plots",6,14,"14 tours 6 plots",6,13,"13 tours 6 plots",8,12,"12 tours 8 plots",12,11,"11 tours 12 plots",1,11,"11 tours 1 plot",8,10,"10 tours 8 plots",17,9,"9 tours 17 plots",8,9,"9 tours 8 plots",null,null,1171,19,31]
[4536,1175.106205924679,5.2148265619088061,"00:19:35.106",18.773375622871704,"18 tours 9 plots",4536,null,null,"1 plot","96 aller-retours 1 plot",0,63,"63 tours ",1,47,"47 tours 1plot",4,37,"37 tours 4 plots",3,31,"31 tours 3 plots",0,27,"27 tours ",5,23,"23 tours 5 plots",0,21,"21 tours ",9,18,"18 tours 9 plots",2,17,"17 tours 2 plots",9,15,"15 tours 9 plots",7,14,"14 tours 7 plots",7,13,"13 tours 7 plots",9,12,"12 tours 9 plots",13,11,"11 tours 13 plots",2,11,"11 tours 2 plots",9,10,"10 tours 9 plots",18,9,"9 tours 18 plots",9,9,"9 tours 9 plots",null,null,1175,19,35]
[4560,1179.6990950124311,5.2254690983069318,"00:19:39.699",18.811688753904956,"19 tours ",4560,null,97,"aller-retours ","97 aller-retours ",1,63,"63 tours 1plot",2,47,"47 tours 2 plots",0,38,"38 tours ",4,31,"31 tours 4 plots",1,27,"27 tours 1plot",6,23,"23 tours 6 plots",1,21,"21 tours 1plot",0,19,"19 tours ",3,17,"17 tours 3 plots",10,15,"15 tours 10 plots",8,14,"14 tours 8 plots",8,13,"13 tours 8 plots",10,12,"12 tours 10 plots",14,11,"11 tours 14 plots",3,11,"11 tours 3 plots",10,10,"10 tours 10 plots",0,10,"10 tours",10,9,"9 tours 10 plots",null,null,1180,19,40]
[4584,1184.2826678663596,5.2360900033322935,"00:19:44.283",18.849924011996258,"19 tours 1plot",4584,null,null,"1 plot","97 aller-retours 1 plot",2,63,"63 tours 2 plots",3,47,"47 tours 3 plots",1,38,"38 tours 1plot",5,31,"31 tours 5 plots",2,27,"27 tours 2 plots",7,23,"23 tours 7 plots",2,21,"21 tours 2 plots",1,19,"19 tours 1plot",4,17,"17 tours 4 plots",11,15,"15 tours 11 plots",9,14,"14 tours 9 plots",9,13,"13 tours 9 plots",11,12,"12 tours 11 plots",15,11,"11 tours 15 plots",4,11,"11 tours 4 plots",11,10,"10 tours 11 plots",1,10,"10 tours 1 plot",11,9,"9 tours 11 plots",null,null,1184,19,44]
[4608,1188.8569809487772,5.246689408350627,"00:19:48.857",18.888081870062258,"19 tours 2 plots",4608,null,98,"aller-retours ","98 aller-retours ",0,64,"64 tours ",0,48,"48 tours ",2,38,"38 tours 2 plots",0,32,"32 tours ",3,27,"27 tours 3 plots",0,24,"24 tours ",3,21,"21 tours 3 plots",2,19,"19 tours 2 plots",5,17,"17 tours 5 plots",0,16,"16 tours",10,14,"14 tours 10 plots",10,13,"13 tours 10 plots",12,12,"12 tours 12 plots",0,12,"12 tours",5,11,"11 tours 5 plots",12,10,"10 tours 12 plots",2,10,"10 tours 2 plots",12,9,"9 tours 12 plots",null,null,1189,19,49]
[4632,1193.42209015396,5.2572674434058655,"00:19:53.422",18.926162796261117,{"$f":"INDEX(F198:BM406, 1,$B$2*3)","v":"19 tours 3 plots"},4632,null,null,"1 plot","98 aller-retours 1 plot",1,64,"64 tours 1plot",1,48,"48 tours 1plot",3,38,"38 tours 3 plots",1,32,"32 tours 1plot",4,27,"27 tours 4 plots",1,24,"24 tours 1plot",4,21,"21 tours 4 plots",3,19,"19 tours 3 plots",6,17,{"$f":"IF(AK198=0,\"\",IF(AND(AJ198=0,AK198=1),AK198&\" \"&\"tour\",IF(AND(AJ198=0,AK198>1),AK198&\" \"&\"tours\",IF(AND(AK198>1,AJ198=1),AK198&\" \"&\"tours\"&\" \"&AJ198&\" \"&\"plot\",IF(AND(AK198=1,AJ198=1),AK198&\" \"&\"tour\"&\" \"&AJ198&\" \"&\"plot\",IF(AND(AK198=1,AJ198>0),AK198&\" \"&\"tour\"&\" \"&AJ198&\" \"&\"plots\",IF(AND(AK198>1,AJ198>1),AK198&\" \"&\"tours\"&\" \"&AJ198&\" \"&\"plots\")))))))","v":"17 tours 6 plots"},1,16,"16 tours 1 plot",11,14,"14 tours 11 plots",11,13,"13 tours 11 plots",13,12,"12 tours 13 plots",1,12,"12 tours 1 plot",6,11,"11 tours 6 plots",13,10,"10 tours 13 plots",3,10,"10 tours 3 plots",13,9,"9 tours 13 plots",null,null,1193,19,53]
[4656,1197.9780508161182,5.2678242372336266,{"$f":"B199*0.0000115740740740741","v":"00:19:57.978"},{"$f":"C199*3.6","v":18.964167254041055},"19 tours 4 plots",4656,null,99,"aller-retours ","99 aller-retours ",2,64,"64 tours 2 plots",2,48,"48 tours 2 plots",4,38,"38 tours 4 plots",2,32,"32 tours 2 plots",5,27,"27 tours 5 plots",2,24,"24 tours 2 plots",5,21,"21 tours 5 plots",4,19,"19 tours 4 plots",7,17,"17 tours 7 plots",2,16,"16 tours 2 plots",12,14,"14 tours 12 plots",12,13,"13 tours 12 plots",14,12,"12 tours 14 plots",2,12,"12 tours 2 plots",7,11,"11 tours 7 plots",14,10,"10 tours 14 plots",4,10,"10 tours 4 plots",14,9,"9 tours 14 plots",null,null,1198,{"$f":"QUOTIENT(BP199,60)","v":19},58]
[{"$f":"A199+$A$6","v":4680},{"$f":"(-$C$3+SQRT($C$3*$C$3+(4*$F$1*A200)))/(2*$F$1)","v":1202.5249177172195},5.2783599172843036,"00:20:02.525",19.002095702223492,"19 tours 5 plots",4680,null,null,"1 plot","99 aller-retours 1 plot",0,65,"65 tours ",3,48,"48 tours 3 plots",0,39,"39 tours ",3,32,"32 tours 3 plots",6,27,"27 tours 6 plots",3,24,"24 tours 3 plots",6,21,"21 tours 6 plots",5,19,"19 tours 5 plots",8,17,"17 tours 8 plots",3,16,"16 tours 3 plots",0,15,"15 tours",13,13,"13 tours 13 plots",0,13,"13 tours",3,12,"12 tours 3 plots",8,11,"11 tours 8 plots",15,10,"10 tours 15 plots",5,10,"10 tours 5 plots",15,9,"9 tours 15 plots",null,null,1203,20,3]
[4704,1207.062745094677,{"$f":"$E$3/(B201-B200)","v":5.2888746097360739},"00:20:07.063",19.039948595049868,"19 tours 6 plots",4704,null,100,"aller-retours ","100 aller-retours ",1,65,"65 tours 1plot",0,49,"49 tours ",1,39,"39 tours 1plot",4,32,"32 tours 4 plots",0,28,"28 tours ",4,24,"24 tours 4 plots",7,21,"21 tours 7 plots",6,19,"19 tours 6 plots",9,17,"17 tours 9 plots",4,16,"16 tours 4 plots",1,15,"15 tours 1 plot",0,14,"14 tours",1,13,"13 tours 1 plot",4,12,"12 tours 4 plots",9,11,"11 tours 9 plots",16,10,"10 tours 16 plots",6,10,"10 tours 6 plots",16,9,"9 tours 16 plots",null,null,1207,20,{"$f":"MOD(BP201,60)","v":7}]
[4728,1211.5915866488951,5.2993684395176972,"00:20:11.592",19.077726382263709,"19 tours 7 plots",4728,null,null,"1 plot","100 aller-retours 1 plot",2,65,"65 tours 2 plots",1,49,"49 tours 1plot",2,39,"39 tours 2 plots",5,32,"32 tours 5 plots",1,28,"28 tours 1plot",5,24,"24 tours 5 plots",8,21,"21 tours 8 plots",7,19,"19 tours 7 plots",10,17,"17 tours 10 plots",5,16,"16 tours 5 plots",2,15,"15 tours 2 plots",1,14,"14 tours 1 plot",2,13,"13 tours 2 plots",5,12,"12 tours 5 plots",10,11,"11 tours 10 plots",17,10,"10 tours 17 plots",7,10,"10 tours 7 plots",17,9,"9 tours 17 plots",null,null,1212,20,12]
[4752,1216.1114955506844,5.3098415303236566,"00:20:16.111",19.115429509165164,"19 tours 8 plots",4752,null,101,"aller-retours ","101 aller-retours ",0,66,"66 tours ",2,49,"49 tours 2 plots",3,39,"39 tours 3 plots",0,33,"33 tours ",2,28,"28 tours 2 plots",6,24,"24 tours 6 plots",0,22,"22 tours ",8,19,"19 tours 8 plots",0,18,"18 tours",6,16,"16 tours 6 plots",3,15,"15 tours 3 plots",2,14,"14 tours 2 plots",3,13,"13 tours 3 plots",6,12,"12 tours 6 plots",11,11,"11 tours 11 plots",0,11,"11 tours",8,10,"10 tours 8 plots",18,9,"9 tours 18 plots",null,null,1216,20,16]
[4776,1220.6225244485461,5.3202940046286002,"00:20:20.623",19.153058416662962,"19 tours 9 plots",4776,null,null,"1 plot",{"$f":"IF(I204=\"\",K203&J204,IF(I204>0,I204&\" \"&J204))","v":"101 aller-retours 1 plot"},1,66,"66 tours 1plot",3,49,"49 tours 3 plots",4,39,"39 tours 4 plots",1,33,"33 tours 1plot",3,28,"28 tours 3 plots",7,24,"24 tours 7 plots",1,22,"22 tours 1plot",9,19,"19 tours 9 plots",1,18,"18 tours 1 plot",7,16,"16 tours 7 plots",4,15,"15 tours 4 plots",3,14,"14 tours 3 plots",4,13,"13 tours 4 plots",7,12,"12 tours 7 plots",12,11,"11 tours 12 plots",1,11,"11 tours 1 plot",9,10,"10 tours 9 plots",19,9,"9 tours 19 plots",null,null,1221,20,21]
[4800,1225.1247254758255,5.3307259837090806,"00:20:25.125",19.19061354135269,"20 tours ",{"$f":"A205","v":4800},null,102,"aller-retours ","102 aller-retours ",2,66,"66 tours 2 plots",0,50,"50 tours ",0,40,"40 tours ",2,33,"33 tours 2 plots",4,28,"28 tours 4 plots",0,25,"25 tours ",2,22,"22 tours 2 plots",0,20,"20 tours ",2,18,"18 tours 2 plots",8,16,"16 tours 8 plots",5,15,"15 tours 5 plots",4,14,"14 tours 4 plots",5,13,"13 tours 5 plots",8,12,"12 tours 8 plots",13,11,"11 tours 13 plots",2,11,"11 tours 2 plots",10,10,"10 tours 10 plots",0,10,"10 tours",null,null,1225,20,25]
[4824,1229.6181502577433,5.3411375876545915,"00:20:29.618",19.22809531555653,"20 tours 1plot",4824,null,null,"1 plot","102 aller-retours 1 plot",0,67,"67 tours ",1,50,"50 tours 1plot",1,40,"40 tours 1plot",3,33,"33 tours 3 plots",5,28,"28 tours 5 plots",1,25,"25 tours 1plot",3,22,"22 tours 3 plots",1,20,"20 tours 1plot",3,18,"18 tours 3 plots",9,16,"16 tours 9 plots",6,15,"15 tours 6 plots",5,14,"14 tours 5 plots",6,13,"13 tours 6 plots",9,12,"12 tours 9 plots",14,11,"11 tours 14 plots",3,11,"11 tours 3 plots",11,10,"10 tours 11 plots",1,10,"10 tours 1 plot",null,null,1230,20,30]
[4848,1234.1028499183003,5.3515289353889992,"00:20:34.103",19.265504167400398,"20 tours 2 plots",4848,null,103,"aller-retour","103 aller-retour",1,67,"67 tours 1plot",2,50,"50 tours 2 plots",2,40,"40 tours 2 plots",4,33,"33 tours 4 plots",6,28,"28 tours 6 plots",2,25,"25 tours 2 plots",4,22,"22 tours 4 plots",2,20,"20 tours 2 plots",4,18,"18 tours 4 plots",10,16,"16 tours 10 plots",7,15,"15 tours 7 plots",6,14,"14 tours 6 plots",7,13,"13 tours 7 plots",10,12,"12 tours 10 plots",15,11,"11 tours 15 plots",4,11,"11 tours 4 plots",12,10,"10 tours 12 plots",2,10,"10 tours 2 plots",null,null,1234,20,34]
[4872,1238.5788750870652,5.3619001446818668,"00:20:38.579",19.302840520854723,"20 tours 3 plots",4872,null,null,"1 plot","103 aller-retour1 plot",2,67,"67 tours 2 plots",3,50,"50 tours 3 plots",3,40,"40 tours 3 plots",5,33,"33 tours 5 plots",0,29,"29 tours ",3,25,"25 tours 3 plots",5,22,"22 tours 5 plots",3,20,"20 tours 3 plots",5,18,"18 tours 5 plots",11,16,"16 tours 11 plots",8,15,"15 tours 8 plots",7,14,"14 tours 7 plots",8,13,"13 tours 8 plots",11,12,"12 tours 11 plots",16,11,"11 tours 16 plots",5,11,"11 tours 5 plots",13,10,"10 tours 13 plots",3,10,"10 tours 3 plots",null,null,1239,20,39]
[4896,1243.0462759058419,5.3722513321676599,"00:20:43.046",19.340104795803576,"20 tours 4 plots",4896,null,104,"aller-retours ","104 aller-retours ",0,68,"68 tours ",0,51,"51 tours ",4,40,"40 tours 4 plots",0,34,"34 tours ",1,29,"29 tours 1plot",4,25,"25 tours 4 plots",6,22,"22 tours 6 plots",4,20,"20 tours 4 plots",6,18,"18 tours 6 plots",0,17,{"$f":"IF(AN209=0,\"\",IF(AND(AM209=0,AN209=1),AN209&\" \"&\"tour\",IF(AND(AM209=0,AN209>1),AN209&\" \"&\"tours\",IF(AND(AN209>1,AM209=1),AN209&\" \"&\"tours\"&\" \"&AM209&\" \"&\"plot\",IF(AND(AN209=1,AM209=1),AN209&\" \"&\"tour\"&\" \"&AM209&\" \"&\"plot\",IF(AND(AN209=1,AM209>0),AN209&\" \"&\"tour\"&\" \"&AM209&\" \"&\"plots\",IF(AND(AN209>1,AM209>1),AN209&\" \"&\"tours\"&\" \"&AM209&\" \"&\"plots\")))))))","v":"17 tours"},9,15,"15 tours 9 plots",8,14,"14 tours 8 plots",9,13,"13 tours 9 plots",12,12,"12 tours 12 plots",0,12,"12 tours",6,11,"11 tours 6 plots",14,10,"10 tours 14 plots",4,10,"10 tours 4 plots",null,null,1243,20,43]
[4920,1247.5051020352241,5.3825826133581574,"00:20:47.505",19.377297408089365,"20 tours 5 plots",4920,null,null,"1 plot","104 aller-retours 1 plot",1,68,"68 tours 1plot",1,51,"51 tours 1plot",0,41,"41 tours ",1,34,"34 tours 1plot",2,29,"29 tours 2 plots",5,25,"25 tours 5 plots",7,22,"22 tours 7 plots",5,20,"20 tours 5 plots",7,18,"18 tours 7 plots",1,17,"17 tours 1 plot",10,15,{"$f":"IF(AQ210=0,\"\",IF(AND(AP210=0,AQ210=1),AQ210&\" \"&\"tour\",IF(AND(AP210=0,AQ210>1),AQ210&\" \"&\"tours\",IF(AND(AQ210>1,AP210=1),AQ210&\" \"&\"tours\"&\" \"&AP210&\" \"&\"plot\",IF(AND(AQ210=1,AP210=1),AQ210&\" \"&\"tour\"&\" \"&AP210&\" \"&\"plot\",IF(AND(AQ210=1,AP210>0),AQ210&\" \"&\"tour\"&\" \"&AP210&\" \"&\"plots\",IF(AND(AQ210>1,AP210>1),AQ210&\" \"&\"tours\"&\" \"&AP210&\" \"&\"plots\")))))))","v":"15 tours 10 plots"},9,14,"14 tours 9 plots",10,13,"13 tours 10 plots",13,12,"12 tours 13 plots",1,12,"12 tours 1 plot",7,11,"11 tours 7 plots",15,10,"10 tours 15 plots",5,10,"10 tours 5 plots",null,null,1248,20,48]
[4944,1251.9554026610372,5.3928941026574684,"00:20:51.955",19.414418769566886,"20 tours 6 plots",4944,null,105,"aller-retours ","105 aller-retours ",2,68,"68 tours 2 plots",2,51,"51 tours 2 plots",1,41,"41 tours 1plot",2,34,"34 tours 2 plots",3,29,"29 tours 3 plots",6,25,"25 tours 6 plots",8,22,"22 tours 8 plots",6,20,"20 tours 6 plots",8,18,"18 tours 8 plots",2,17,"17 tours 2 plots",11,15,{"$f":"IF(AQ211=0,\"\",IF(AND(AP211=0,AQ211=1),AQ211&\" \"&\"tour\",IF(AND(AP211=0,AQ211>1),AQ211&\" \"&\"tours\",IF(AND(AQ211>1,AP211=1),AQ211&\" \"&\"tours\"&\" \"&AP211&\" \"&\"plot\",IF(AND(AQ211=1,AP211=1),AQ211&\" \"&\"tour\"&\" \"&AP211&\" \"&\"plot\",IF(AND(AQ211=1,AP211>0),AQ211&\" \"&\"tour\"&\" \"&AP211&\" \"&\"plots\",IF(AND(AQ211>1,AP211>1),AQ211&\" \"&\"tours\"&\" \"&AP211&\" \"&\"plots\")))))))","v":"15 tours 11 plots"},10,14,{"$f":"IF(AT211=0,\"\",IF(AND(AS211=0,AT211=1),AT211&\" \"&\"tour\",IF(AND(AS211=0,AT211>1),AT211&\" \"&\"tours\",IF(AND(AT211>1,AS211=1),AT211&\" \"&\"tours\"&\" \"&AS211&\" \"&\"plot\",IF(AND(AT211=1,AS211=1),AT211&\" \"&\"tour\"&\" \"&AS211&\" \"&\"plot\",IF(AND(AT211=1,AS211>0),AT211&\" \"&\"tour\"&\" \"&AS211&\" \"&\"plots\",IF(AND(AT211>1,AS211>1),AT211&\" \"&\"tours\"&\" \"&AS211&\" \"&\"plots\")))))))","v":"14 tours 10 plots"},11,13,"13 tours 11 plots",14,12,"12 tours 14 plots",2,12,"12 tours 2 plots",8,11,"11 tours 8 plots",16,10,"10 tours 16 plots",6,10,"10 tours 6 plots",null,null,1252,20,52]
[4968,1256.3972265006653,5.4031859133813303,"00:20:56.397",19.451469288172788,"20 tours 7 plots",4968,null,null,"1 plot","105 aller-retours 1 plot",0,69,"69 tours ",3,51,"51 tours 3 plots",2,41,"41 tours 2 plots",3,34,"34 tours 3 plots",4,29,"29 tours 4 plots",7,25,"25 tours 7 plots",0,23,"23 tours ",7,20,"20 tours 7 plots",9,18,"18 tours 9 plots",3,17,"17 tours 3 plots",12,15,{"$f":"IF(AQ212=0,\"\",IF(AND(AP212=0,AQ212=1),AQ212&\" \"&\"tour\",IF(AND(AP212=0,AQ212>1),AQ212&\" \"&\"tours\",IF(AND(AQ212>1,AP212=1),AQ212&\" \"&\"tours\"&\" \"&AP212&\" \"&\"plot\",IF(AND(AQ212=1,AP212=1),AQ212&\" \"&\"tour\"&\" \"&AP212&\" \"&\"plot\",IF(AND(AQ212=1,AP212>0),AQ212&\" \"&\"tour\"&\" \"&AP212&\" \"&\"plots\",IF(AND(AQ212>1,AP212>1),AQ212&\" \"&\"tours\"&\" \"&AP212&\" \"&\"plots\")))))))","v":"15 tours 12 plots"},11,14,{"$f":"IF(AT212=0,\"\",IF(AND(AS212=0,AT212=1),AT212&\" \"&\"tour\",IF(AND(AS212=0,AT212>1),AT212&\" \"&\"tours\",IF(AND(AT212>1,AS212=1),AT212&\" \"&\"tours\"&\" \"&AS212&\" \"&\"plot\",IF(AND(AT212=1,AS212=1),AT212&\" \"&\"tour\"&\" \"&AS212&\" \"&\"plot\",IF(AND(AT212=1,AS212>0),AT212&\" \"&\"tour\"&\" \"&AS212&\" \"&\"plots\",IF(AND(AT212>1,AS212>1),AT212&\" \"&\"tours\"&\" \"&AS212&\" \"&\"plots\")))))))","v":"14 tours 11 plots"},12,13,{"$f":"IF(AW212=0,\"\",IF(AND(AV212=0,AW212=1),AW212&\" \"&\"tour\",IF(AND(AV212=0,AW212>1),AW212&\" \"&\"tours\",IF(AND(AW212>1,AV212=1),AW212&\" \"&\"tours\"&\" \"&AV212&\" \"&\"plot\",IF(AND(AW212=1,AV212=1),AW212&\" \"&\"tour\"&\" \"&AV212&\" \"&\"plot\",IF(AND(AW212=1,AV212>0),AW212&\" \"&\"tour\"&\" \"&AV212&\" \"&\"plots\",IF(AND(AW212>1,AV212>1),AW212&\" \"&\"tours\"&\" \"&AV212&\" \"&\"plots\")))))))","v":"13 tours 12 plots"},15,12,"12 tours 15 plots",3,12,"12 tours 3 plots",9,11,"11 tours 9 plots",17,10,"10 tours 17 plots",7,10,"10 tours 7 plots",null,null,{"$f":"ROUND(B212,0)","v":1256},20,56]
[4992,1260.8306218092755,5.4134581577665672,"00:21:00.831",19.488449367959642,"20 tours 8 plots",4992,null,106,"aller-retours ","106 aller-retours ",1,69,"69 tours 1plot",0,52,"52 tours ",3,41,"41 tours 3 plots",4,34,"34 tours 4 plots",5,29,"29 tours 5 plots",0,26,"26 tours ",1,23,"23 tours 1plot",8,20,"20 tours 8 plots",10,18,"18 tours 10 plots",4,17,"17 tours 4 plots",0,16,{"$f":"IF(AQ213=0,\"\",IF(AND(AP213=0,AQ213=1),AQ213&\" \"&\"tour\",IF(AND(AP213=0,AQ213>1),AQ213&\" \"&\"tours\",IF(AND(AQ213>1,AP213=1),AQ213&\" \"&\"tours\"&\" \"&AP213&\" \"&\"plot\",IF(AND(AQ213=1,AP213=1),AQ213&\" \"&\"tour\"&\" \"&AP213&\" \"&\"plot\",IF(AND(AQ213=1,AP213>0),AQ213&\" \"&\"tour\"&\" \"&AP213&\" \"&\"plots\",IF(AND(AQ213>1,AP213>1),AQ213&\" \"&\"tours\"&\" \"&AP213&\" \"&\"plots\")))))))","v":"16 tours"},12,14,{"$f":"IF(AT213=0,\"\",IF(AND(AS213=0,AT213=1),AT213&\" \"&\"tour\",IF(AND(AS213=0,AT213>1),AT213&\" \"&\"tours\",IF(AND(AT213>1,AS213=1),AT213&\" \"&\"tours\"&\" \"&AS213&\" \"&\"plot\",IF(AND(AT213=1,AS213=1),AT213&\" \"&\"tour\"&\" \"&AS213&\" \"&\"plot\",IF(AND(AT213=1,AS213>0),AT213&\" \"&\"tour\"&\" \"&AS213&\" \"&\"plots\",IF(AND(AT213>1,AS213>1),AT213&\" \"&\"tours\"&\" \"&AS213&\" \"&\"plots\")))))))","v":"14 tours 12 plots"},13,13,{"$f":"IF(AW213=0,\"\",IF(AND(AV213=0,AW213=1),AW213&\" \"&\"tour\",IF(AND(AV213=0,AW213>1),AW213&\" \"&\"tours\",IF(AND(AW213>1,AV213=1),AW213&\" \"&\"tours\"&\" \"&AV213&\" \"&\"plot\",IF(AND(AW213=1,AV213=1),AW213&\" \"&\"tour\"&\" \"&AV213&\" \"&\"plot\",IF(AND(AW213=1,AV213>0),AW213&\" \"&\"tour\"&\" \"&AV213&\" \"&\"plots\",IF(AND(AW213>1,AV213>1),AW213&\" \"&\"tours\"&\" \"&AV213&\" \"&\"plots\")))))))","v":"13 tours 13 plots"},0,13,{"$f":"IF(AZ213=0,\"\",IF(AND(AY213=0,AZ213=1),AZ213&\" \"&\"tour\",IF(AND(AY213=0,AZ213>1),AZ213&\" \"&\"tours\",IF(AND(AZ213>1,AY213=1),AZ213&\" \"&\"tours\"&\" \"&AY213&\" \"&\"plot\",IF(AND(AZ213=1,AY213=1),AZ213&\" \"&\"tour\"&\" \"&AY213&\" \"&\"plot\",IF(AND(AZ213=1,AY213>0),AZ213&\" \"&\"tour\"&\" \"&AY213&\" \"&\"plots\",IF(AND(AZ213>1,AY213>1),AZ213&\" \"&\"tours\"&\" \"&AY213&\" \"&\"plots\")))))))","v":"13 tours"},4,12,"12 tours 4 plots",10,11,"11 tours 10 plots",18,10,"10 tours 18 plots",8,10,"10 tours 8 plots",null,null,{"$f":"ROUND(B213,0)","v":1261},21,1]
[5016,1265.2556363859358,5.4237109469848992,"00:21:05.256",19.525359409145636,"20 tours 9 plots",5016,null,null,"1 plot","106 aller-retours 1 plot",2,69,"69 tours 2 plots",1,52,"52 tours 1plot",4,41,"41 tours 4 plots",5,34,"34 tours 5 plots",6,29,"29 tours 6 plots",1,26,"26 tours 1plot",2,23,"23 tours 2 plots",9,20,"20 tours 9 plots",0,19,"19 tours",5,17,"17 tours 5 plots",1,16,{"$f":"IF(AQ214=0,\"\",IF(AND(AP214=0,AQ214=1),AQ214&\" \"&\"tour\",IF(AND(AP214=0,AQ214>1),AQ214&\" \"&\"tours\",IF(AND(AQ214>1,AP214=1),AQ214&\" \"&\"tours\"&\" \"&AP214&\" \"&\"plot\",IF(AND(AQ214=1,AP214=1),AQ214&\" \"&\"tour\"&\" \"&AP214&\" \"&\"plot\",IF(AND(AQ214=1,AP214>0),AQ214&\" \"&\"tour\"&\" \"&AP214&\" \"&\"plots\",IF(AND(AQ214>1,AP214>1),AQ214&\" \"&\"tours\"&\" \"&AP214&\" \"&\"plots\")))))))","v":"16 tours 1 plot"},13,14,{"$f":"IF(AT214=0,\"\",IF(AND(AS214=0,AT214=1),AT214&\" \"&\"tour\",IF(AND(AS214=0,AT214>1),AT214&\" \"&\"tours\",IF(AND(AT214>1,AS214=1),AT214&\" \"&\"tours\"&\" \"&AS214&\" \"&\"plot\",IF(AND(AT214=1,AS214=1),AT214&\" \"&\"tour\"&\" \"&AS214&\" \"&\"plot\",IF(AND(AT214=1,AS214>0),AT214&\" \"&\"tour\"&\" \"&AS214&\" \"&\"plots\",IF(AND(AT214>1,AS214>1),AT214&\" \"&\"tours\"&\" \"&AS214&\" \"&\"plots\")))))))","v":"14 tours 13 plots"},14,13,{"$f":"IF(AW214=0,\"\",IF(AND(AV214=0,AW214=1),AW214&\" \"&\"tour\",IF(AND(AV214=0,AW214>1),AW214&\" \"&\"tours\",IF(AND(AW214>1,AV214=1),AW214&\" \"&\"tours\"&\" \"&AV214&\" \"&\"plot\",IF(AND(AW214=1,AV214=1),AW214&\" \"&\"tour\"&\" \"&AV214&\" \"&\"plot\",IF(AND(AW214=1,AV214>0),AW214&\" \"&\"tour\"&\" \"&AV214&\" \"&\"plots\",IF(AND(AW214>1,AV214>1),AW214&\" \"&\"tours\"&\" \"&AV214&\" \"&\"plots\")))))))","v":"13 tours 14 plots"},1,13,{"$f":"IF(AZ214=0,\"\",IF(AND(AY214=0,AZ214=1),AZ214&\" \"&\"tour\",IF(AND(AY214=0,AZ214>1),AZ214&\" \"&\"tours\",IF(AND(AZ214>1,AY214=1),AZ214&\" \"&\"tours\"&\" \"&AY214&\" \"&\"plot\",IF(AND(AZ214=1,AY214=1),AZ214&\" \"&\"tour\"&\" \"&AY214&\" \"&\"plot\",IF(AND(AZ214=1,AY214>0),AZ214&\" \"&\"tour\"&\" \"&AY214&\" \"&\"plots\",IF(AND(AZ214>1,AY214>1),AZ214&\" \"&\"tours\"&\" \"&AY214&\" \"&\"plots\")))))))","v":"13 tours 1 plot"},5,12,{"$f":"IF(BC214=0,\"\",IF(AND(BB214=0,BC214=1),BC214&\" \"&\"tour\",IF(AND(BB214=0,BC214>1),BC214&\" \"&\"tours\",IF(AND(BC214>1,BB214=1),BC214&\" \"&\"tours\"&\" \"&BB214&\" \"&\"plot\",IF(AND(BC214=1,BB214=1),BC214&\" \"&\"tour\"&\" \"&BB214&\" \"&\"plot\",IF(AND(BC214=1,BB214>0),BC214&\" \"&\"tour\"&\" \"&BB214&\" \"&\"plots\",IF(AND(BC214>1,BB214>1),BC214&\" \"&\"tours\"&\" \"&BB214&\" \"&\"plots\")))))))","v":"12 tours 5 plots"},11,11,"11 tours 11 plots",0,11,"11 tours",9,10,"10 tours 9 plots",null,null,{"$f":"ROUND(B214,0)","v":1265},21,5]
[null,null,null,null,null,null,null,null,null,null,null,null,null,null,null,null,null,null,null,null,null,null,null,null,null,null,null,null,null,null,null,null,null,null,null,null,null,null,null,null,null,null,null,null,null,null,null,null,null,null,null,null,null,null,null,null,null,null,null,null,null,null,null,null,null,null,null,{"$f":"ROUND(B215,0)","v":0}]

{"sheet":"Vitesses de Travail","index":3,"n_rows":67,"n_cols":12,"rows_kept":67,"cut":false,"hidden":false,"merged":[[34,5,34,6],[1,8,2,8],[35,1,37,1],[35,3,35,8],[36,3,37,3],[36,4,37,4],[36,5,37,5],[36,6,37,6],[36,7,37,7],[36,8,37,8],[0,1,2,1],[1,3,2,3],[1,4,2,4],[1,5,2,5],[1,6,2,6],[1,7,2,7]]}
[null,{"$f":"Classe!A1","v":303}]
[null,null,"Test",0.85,0.9,0.95,1,1.05,1.1000000000000001]
[null,null,"VMA"]
[1,{"$f":"Classe!A4","v":"AHMED Rouchdati"},{"$f":"IF(Classe!H4=\"\",\"\",Classe!H4)","v":""},{"$f":"IF($C4=\"\",\"\",$C4*D$2)","v":""},{"$f":"IF($C4=\"\",\"\",$C4*E$2)","v":""},"","","",""]
[2,{"$f":"Classe!A5","v":"ALAMELE Emeline"},{"$f":"IF(Classe!H5=\"\",\"\",Classe!H5)","v":""},{"$f":"IF($C5=\"\",\"\",$C5*D$2)","v":""},"","","","",""]
[3,{"$f":"Classe!A6","v":"ALLAMELE Gregory"},{"$f":"IF(Classe!H6=\"\",\"\",Classe!H6)","v":""},{"$f":"IF($C6=\"\",\"\",$C6*D$2)","v":""},"","","","",""]
[4,{"$f":"Classe!A7","v":"BABIN Estelle"},{"$f":"IF(Classe!H7=\"\",\"\",Classe!H7)","v":""},"","","","","",""]
[5,{"$f":"Classe!A8","v":"BERNOT Rachel"},{"$f":"IF(Classe!H8=\"\",\"\",Classe!H8)","v":""},"","","","","",""]
[6,{"$f":"Classe!A9","v":"BOINA Clifford"},{"$f":"IF(Classe!H9=\"\",\"\",Classe!H9)","v":""},"","","","","",""]
[7,{"$f":"Classe!A10","v":"BOURLY Marie-Lise"},{"$f":"IF(Classe!H10=\"\",\"\",Classe!H10)","v":""},"","","","","",""]
[8,{"$f":"Classe!A11","v":"BOURLY Nicolas"},{"$f":"IF(Classe!H11=\"\",\"\",Classe!H11)","v":""},"","","","","",""]
[9,{"$f":"Classe!A12","v":"CHAN-WING-YEN Xavier"},{"$f":"IF(Classe!H12=\"\",\"\",Classe!H12)","v":""},"","","","","",""]
[10,{"$f":"Classe!A13","v":"DE GUIGNE Alexandre"},{"$f":"IF(Classe!H13=\"\",\"\",Classe!H13)","v":""},"","","","","",""]
[11,{"$f":"Classe!A14","v":"DUBART Benoit"},{"$f":"IF(Classe!H14=\"\",\"\",Classe!H14)","v":""},"","","","","",""]
[12,{"$f":"Classe!A15","v":"DUCHEMANN Gregory"},{"$f":"IF(Classe!H15=\"\",\"\",Classe!H15)","v":""},"","","","","",""]
[13,{"$f":"Classe!A16","v":"EVRIN Yann"},{"$f":"IF(Classe!H16=\"\",\"\",Classe!H16)","v":""},"","","","","",""]
[14,{"$f":"Classe!A17","v":"GRONDIN Laurene"},{"$f":"IF(Classe!H17=\"\",\"\",Classe!H17)","v":""},"","","","","",""]
[15,{"$f":"Classe!A18","v":"HOAREAU M-Samantha"},{"$f":"IF(Classe!H18=\"\",\"\",Classe!H18)","v":""},"","","","","",""]
[16,{"$f":"Classe!A19","v":"JEAN-JACQUES Oceane"},{"$f":"IF(Classe!H19=\"\",\"\",Classe!H19)","v":""},"","","","","",""]
[17,{"$f":"Classe!A20","v":"LAVANILLE Lorraine"},{"$f":"IF(Classe!H20=\"\",\"\",Classe!H20)","v":""},"","","","","",""]
[18,{"$f":"Classe!A21","v":"MAILLOT Samuel"},{"$f":"IF(Classe!H21=\"\",\"\",Classe!H21)","v":""},"","","","","",""]
[19,{"$f":"Classe!A22","v":"MOMBRUN Rene"},{"$f":"IF(Classe!H22=\"\",\"\",Classe!H22)","v":""},"","","","","",""]
[20,{"$f":"Classe!A23","v":"MULOT Laetitia"},{"$f":"IF(Classe!H23=\"\",\"\",Classe!H23)","v":""},"","","","","",""]
[21,{"$f":"Classe!A24","v":"PAUSE Jean Mathieu"},{"$f":"IF(Classe!H24=\"\",\"\",Classe!H24)","v":""},"","","","","",""]
[22,{"$f":"Classe!A25","v":"RAZAKARIVONY  Anthony"},{"$f":"IF(Classe!H25=\"\",\"\",Classe!H25)","v":""},"","","","","",""]
[23,{"$f":"Classe!A26","v":"SAVIGNAN Loriane"},{"$f":"IF(Classe!H26=\"\",\"\",Classe!H26)","v":""},"","","","","",""]
[24,{"$f":"Classe!A27","v":"TATEYA Bryan"},{"$f":"IF(Classe!H27=\"\",\"\",Classe!H27)","v":""},"","","","","",""]
[25,{"$f":"Classe!A28","v":"VIDOT Frederique"},{"$f":"IF(Classe!H28=\"\",\"\",Classe!H28)","v":""},"","","","","",""]
[26,{"$f":"Classe!A29","v":"VOISIN Kathy"},{"$f":"IF(Classe!H29=\"\",\"\",Classe!H29)","v":""},"","","","","",""]
[27,{"$f":"Classe!A30","v":0},{"$f":"IF(Classe!H30=\"\",\"\",Classe!H30)","v":""},"","","","","",""]
[28,{"$f":"Classe!A31","v":0},{"$f":"IF(Classe!H31=\"\",\"\",Classe!H31)","v":""},"","","","","",""]
[29,{"$f":"Classe!A32","v":0},{"$f":"IF(Classe!H32=\"\",\"\",Classe!H32)","v":""},"","","","","",""]
[]
[]
[null,null,null,null,null,"Distance de Travail"]
[null,{"$f":"Classe!A1","v":303},null,200,null,null,null,null,null,null,"30/30"]
[null,null,"Test",0.85,0.9,0.95,1,1.05,1.1000000000000001,"30/30","30/30","30/30"]
[null,null,"VMA",null,null,null,null,null,null,1,1.05,1.1000000000000001]
[1,{"$f":"Classe!A4","v":"AHMED Rouchdati"},{"$f":"IF(Classe!H4=\"\",\"\",Classe!H4)","v":""},{"$f":"IF($C39=\"\",\"\",IF(LEN(CONCATENATE(QUOTIENT($D$36*3600/($C39*D$37*1000),60),\"'\",ROUND(MOD($D$36*3600/($C39*D$37*1000),60),0)))=3,CONCATENATE(QUOTIENT($D$36*3600/($C39*D$37*1000),60),\"'0\",ROUND(MOD($D$36*3600/($C39*D$37*1000),60),0)),CONCATENATE(QUOTIENT($D$36*3600/($C39*D$37*1000),60),\"'\",ROUND(MOD($D$36*3600/($C39*D$37*1000),60),0))))","v":""},{"$f":"IF($C39=\"\",\"\",IF(LEN(CONCATENATE(QUOTIENT($D$36*3600/($C39*E$37*1000),60),\"'\",ROUND(MOD($D$36*3600/($C39*E$37*1000),60),0)))=3,CONCATENATE(QUOTIENT($D$36*3600/($C39*E$37*1000),60),\"'0\",ROUND(MOD($D$36*3600/($C39*E$37*1000),60),0)),CONCATENATE(QUOTIENT($D$36*3600/($C39*E$37*1000),60),\"'\",ROUND(MOD($D$36*3600/($C39*E$37*1000),60),0))))","v":""},"","","","",{"$f":"IF($C39=\"\",\"\",$C39*G$37*1000/3600*30)","v":""},"",""]
[2,{"$f":"Classe!A5","v":"ALAMELE Emeline"},{"$f":"IF(Classe!H5=\"\",\"\",Classe!H5)","v":""},{"$f":"IF($C40=\"\",\"\",IF(LEN(CONCATENATE(QUOTIENT($D$36*3600/($C40*D$37*1000),60),\"'\",ROUND(MOD($D$36*3600/($C40*D$37*1000),60),0)))=3,CONCATENATE(QUOTIENT($D$36*3600/($C40*D$37*1000),60),\"'0\",ROUND(MOD($D$36*3600/($C40*D$37*1000),60),0)),CONCATENATE(QUOTIENT($D$36*3600/($C40*D$37*1000),60),\"'\",ROUND(MOD($D$36*3600/($C40*D$37*1000),60),0))))","v":""},"","","","","","","",""]
[3,{"$f":"Classe!A6","v":"ALLAMELE Gregory"},{"$f":"IF(Classe!H6=\"\",\"\",Classe!H6)","v":""},{"$f":"IF($C41=\"\",\"\",IF(LEN(CONCATENATE(QUOTIENT($D$36*3600/($C41*D$37*1000),60),\"'\",ROUND(MOD($D$36*3600/($C41*D$37*1000),60),0)))=3,CONCATENATE(QUOTIENT($D$36*3600/($C41*D$37*1000),60),\"'0\",ROUND(MOD($D$36*3600/($C41*D$37*1000),60),0)),CONCATENATE(QUOTIENT($D$36*3600/($C41*D$37*1000),60),\"'\",ROUND(MOD($D$36*3600/($C41*D$37*1000),60),0))))","v":""},"","","","","","","",""]
[4,{"$f":"Classe!A7","v":"BABIN Estelle"},{"$f":"IF(Classe!H7=\"\",\"\",Classe!H7)","v":""},"","","","","","","","",""]
[5,{"$f":"Classe!A8","v":"BERNOT Rachel"},{"$f":"IF(Classe!H8=\"\",\"\",Classe!H8)","v":""},"","","","","","","","",""]
[6,{"$f":"Classe!A9","v":"BOINA Clifford"},{"$f":"IF(Classe!H9=\"\",\"\",Classe!H9)","v":""},"","","","","","","","",""]
[7,{"$f":"Classe!A10","v":"BOURLY Marie-Lise"},{"$f":"IF(Classe!H10=\"\",\"\",Classe!H10)","v":""},"","","","","","","","",""]
[8,{"$f":"Classe!A11","v":"BOURLY Nicolas"},{"$f":"IF(Classe!H11=\"\",\"\",Classe!H11)","v":""},"","","","","","","","",""]
[9,{"$f":"Classe!A12","v":"CHAN-WING-YEN Xavier"},{"$f":"IF(Classe!H12=\"\",\"\",Classe!H12)","v":""},"","","","","","","","",""]
[10,{"$f":"Classe!A13","v":"DE GUIGNE Alexandre"},{"$f":"IF(Classe!H13=\"\",\"\",Classe!H13)","v":""},"","","","","","","","",""]
[11,{"$f":"Classe!A14","v":"DUBART Benoit"},{"$f":"IF(Classe!H14=\"\",\"\",Classe!H14)","v":""},"","","","","","","","",""]
[12,{"$f":"Classe!A15","v":"DUCHEMANN Gregory"},{"$f":"IF(Classe!H15=\"\",\"\",Classe!H15)","v":""},"","","","","","","","",""]
[13,{"$f":"Classe!A16","v":"EVRIN Yann"},{"$f":"IF(Classe!H16=\"\",\"\",Classe!H16)","v":""},"","","","","","","","",""]
[14,{"$f":"Classe!A17","v":"GRONDIN Laurene"},{"$f":"IF(Classe!H17=\"\",\"\",Classe!H17)","v":""},"","","","","","","","",""]
[15,{"$f":"Classe!A18","v":"HOAREAU M-Samantha"},{"$f":"IF(Classe!H18=\"\",\"\",Classe!H18)","v":""},"","","","","","","","",""]
[16,{"$f":"Classe!A19","v":"JEAN-JACQUES Oceane"},{"$f":"IF(Classe!H19=\"\",\"\",Classe!H19)","v":""},"","","","","","","","",""]
[17,{"$f":"Classe!A20","v":"LAVANILLE Lorraine"},{"$f":"IF(Classe!H20=\"\",\"\",Classe!H20)","v":""},"","","","","","","","",""]
[18,{"$f":"Classe!A21","v":"MAILLOT Samuel"},{"$f":"IF(Classe!H21=\"\",\"\",Classe!H21)","v":""},"","","","","","","","",""]
[19,{"$f":"Classe!A22","v":"MOMBRUN Rene"},{"$f":"IF(Classe!H22=\"\",\"\",Classe!H22)","v":""},"","","","","","","","",""]
[20,{"$f":"Classe!A23","v":"MULOT Laetitia"},{"$f":"IF(Classe!H23=\"\",\"\",Classe!H23)","v":""},"","","","","","","","",""]
[21,{"$f":"Classe!A24","v":"PAUSE Jean Mathieu"},{"$f":"IF(Classe!H24=\"\",\"\",Classe!H24)","v":""},"","","","","","","","",""]
[22,{"$f":"Classe!A25","v":"RAZAKARIVONY  Anthony"},{"$f":"IF(Classe!H25=\"\",\"\",Classe!H25)","v":""},"","","","","","","","",""]
[23,{"$f":"Classe!A26","v":"SAVIGNAN Loriane"},{"$f":"IF(Classe!H26=\"\",\"\",Classe!H26)","v":""},"","","","","","","","",""]
[24,{"$f":"Classe!A27","v":"TATEYA Bryan"},{"$f":"IF(Classe!H27=\"\",\"\",Classe!H27)","v":""},"","","","","","","","",""]
[25,{"$f":"Classe!A28","v":"VIDOT Frederique"},{"$f":"IF(Classe!H28=\"\",\"\",Classe!H28)","v":""},"","","","","","","","",""]
[26,{"$f":"Classe!A29","v":"VOISIN Kathy"},{"$f":"IF(Classe!H29=\"\",\"\",Classe!H29)","v":""},"","","","","","","","",""]
[27,{"$f":"Classe!A30","v":0},{"$f":"IF(Classe!H30=\"\",\"\",Classe!H30)","v":""},"","","","","","",{"$f":"IF($C65=\"\",\"\",$C65*G$37*1000/3600*30)","v":""},"",""]
[28,{"$f":"Classe!A31","v":0},{"$f":"IF(Classe!H31=\"\",\"\",Classe!H31)","v":""},"","","","","","","","",""]
[29,{"$f":"Classe!A32","v":0},{"$f":"IF(Classe!H32=\"\",\"\",Classe!H32)","v":""},"","","","","","","","",""]

{"sheet":"Feuille Observation","index":4,"n_rows":106,"n_cols":21,"rows_kept":106,"cut":false,"hidden":false,"merged":[[0,11,0,13],[0,17,0,19]]}
["Temps de passage","Nombre                 de tours","VMA                  en Km/h","Dist. En m",{"$f":"\"Résultats \"&\"                                            \"&\"Test VMA \"&'Caractéristiques test'!$B$5  &\" \"&\"Km/h\"","v":"Résultats                                             Test VMA 9 Km/h"},"Temps de passage","Nombre                 de tours","VMA                  en Km/h","Dist. En m",{"$f":"\"Résultats \"&\"                                            \"&\"Test VMA \"&'Caractéristiques test'!$B$5  &\" \"&\"Km/h\"","v":"Résultats                                             Test VMA 9 Km/h"},"Test VMA 8           temps de passage","Nombre de tours",null,null,"VMA                  en Km/h",null,"Test VMA 8           temps de passage","Nombre de tours",null,null,"VMA                  en Km/h"]
[]
[{"$f":"'Calculs pour VMA'!D6","v":"00:00:09.558"},{"$f":"'Calculs pour VMA'!F6","v":"1 plot"},{"$f":"'Calculs pour VMA'!E6","v":9.0398237851264298},{"$f":"'Caractéristiques test'!B6","v":24},null,{"$f":"'Calculs pour VMA'!D57","v":"00:06:58.223"},{"$f":"'Calculs pour VMA'!F57","v":"5 tours 2 plots"},{"$f":"'Calculs pour VMA'!E57","v":12.456290167167756},{"$f":"$D$3+D53","v":1248},null,"00:00:18",null,null,"1 plot",8,null,"00:11:19",16,"T","2 plots",14]
[{"$f":"'Calculs pour VMA'!D7","v":"00:00:19.032"},{"$f":"'Calculs pour VMA'!F7","v":"2 plots"},{"$f":"'Calculs pour VMA'!E7","v":9.1191250418685623},{"$f":"$D$3+D3","v":48},null,{"$f":"'Calculs pour VMA'!D58","v":"00:07:05.127"},{"$f":"'Calculs pour VMA'!F58","v":"5 tours 3 plots"},{"$f":"'Calculs pour VMA'!E58","v":12.513959102115344},{"$f":"$D$3+I3","v":1272},null,"00:00:36",null,null,"2 plots",8,null,"00:11:30",17,"T",null,14]
[{"$f":"'Calculs pour VMA'!D8","v":"00:00:28.426"},{"$f":"'Calculs pour VMA'!F8","v":"3 plots"},{"$f":"'Calculs pour VMA'!E8","v":9.197742552244403},{"$f":"$D$3+D4","v":72},null,{"$f":"'Calculs pour VMA'!D59","v":"00:07:12"},{"$f":"'Calculs pour VMA'!F59","v":"5 tours 4 plots"},{"$f":"'Calculs pour VMA'!E59","v":12.571363488110176},{"$f":"$D$3+I4","v":1296},null,"00:00:54",1,"T",null,8,null,"00:11:40",17,"T","1 plot",14]
[{"$f":"'Calculs pour VMA'!D9","v":"00:00:37.741"},{"$f":"'Calculs pour VMA'!F9","v":"4 plots"},{"$f":"'Calculs pour VMA'!E9","v":9.2756937043801528},96,null,{"$f":"'Calculs pour VMA'!D60","v":"00:07:18.842"},{"$f":"'Calculs pour VMA'!F60","v":"5 tours 5 plots"},{"$f":"'Calculs pour VMA'!E60","v":12.628506932918762},1320,null,"00:01:11",1,"T","1 plot",9,null,"00:11:51",17,"T","2 plots",14]
[{"$f":"'Calculs pour VMA'!D10","v":"00:00:46.978"},{"$f":"'Calculs pour VMA'!F10","v":"5 plots"},{"$f":"'Calculs pour VMA'!E10","v":9.3529951616276765},120,null,{"$f":"'Calculs pour VMA'!D61","v":"00:07:25.653"},{"$f":"'Calculs pour VMA'!F61","v":"5 tours 6 plots"},{"$f":"'Calculs pour VMA'!E61","v":12.685392963043645},1344,null,"00:01:28",1,"T","2 plots",9,null,"00:12:01",18,"T",null,14]
[{"$f":"'Calculs pour VMA'!D11","v":"00:00:56.141"},{"$f":"'Calculs pour VMA'!F11","v":"6 plots"},{"$f":"'Calculs pour VMA'!E11","v":9.4296629041672517},144,null,{"$f":"'Calculs pour VMA'!D62","v":"00:07:32.433"},{"$f":"'Calculs pour VMA'!F62","v":"5 tours 7 plots"},{"$f":"'Calculs pour VMA'!E62","v":12.742025026263052},1368,null,"00:01:45",2,"T",null,9,null,"00:12:12",18,"T","1 plot",14.5]
[{"$f":"'Calculs pour VMA'!D12","v":"00:01:05.230"},{"$f":"'Calculs pour VMA'!F12","v":"7 plots"},{"$f":"'Calculs pour VMA'!E12","v":9.5057122675940704},168,null,{"$f":"'Calculs pour VMA'!D63","v":"00:07:39.184"},{"$f":"'Calculs pour VMA'!F63","v":"5 tours 8 plots"},{"$f":"'Calculs pour VMA'!E63","v":12.798406494067576},1392,null,"00:02:01",2,"T","1 plot",9,null,"00:12:22",18,"T","2 plots",14.5]
[{"$f":"'Calculs pour VMA'!D13","v":"00:01:14.248"},{"$f":"'Calculs pour VMA'!F13","v":"8 plots"},{"$f":"'Calculs pour VMA'!E13","v":9.5811579787404462},192,null,{"$f":"'Calculs pour VMA'!D64","v":"00:07:45.906"},{"$f":"'Calculs pour VMA'!F64","v":"5 tours 9 plots"},{"$f":"'Calculs pour VMA'!E64","v":12.854540664004505},1416,null,"00:02:17",2,"T","2 plots",9.5,null,"00:12:33",19,"T",null,14.5]
[{"$f":"'Calculs pour VMA'!D14","v":"00:01:23.196"},{"$f":"'Calculs pour VMA'!F14","v":"9 plots"},{"$f":"'Calculs pour VMA'!E14","v":9.6560141889854858},216,null,{"$f":"'Calculs pour VMA'!D65","v":"00:07:52.598"},{"$f":"'Calculs pour VMA'!F65","v":"6 tours "},{"$f":"'Calculs pour VMA'!E65","v":12.910430761929605},1440,null,"00:02:33",3,"T",null,9.5,null,"00:12:43",19,"T","1 plot",14.5]
[{"$f":"'Calculs pour VMA'!D15","v":"00:01:32.075"},{"$f":"'Calculs pour VMA'!F15","v":"1 tour "},{"$f":"'Calculs pour VMA'!E15","v":9.7302945052509262},240,null,{"$f":"'Calculs pour VMA'!D66","v":"00:07:59.261"},{"$f":"'Calculs pour VMA'!F66","v":"6 tours 1plot"},{"$f":"'Calculs pour VMA'!E66","v":12.9660799441665},1464,null,"00:02:49",3,"T","1 plot",9.5,null,"00:12:53",19,"T","2 plots",14.5]
[{"$f":"'Calculs pour VMA'!D16","v":"00:01:40.888"},{"$f":"'Calculs pour VMA'!F16","v":"1 tour 1plot"},{"$f":"'Calculs pour VMA'!E16","v":9.8040120188869793},264,null,{"$f":"'Calculs pour VMA'!D67","v":"00:08:05.897"},{"$f":"'Calculs pour VMA'!F67","v":"6 tours 2 plots"},{"$f":"'Calculs pour VMA'!E67","v":13.021491299591959},1488,null,"00:03:04",3,"T","2 plots",10,null,"00:13:03",20,"T",null,15]
[{"$f":"'Calculs pour VMA'!D17","v":"00:01:49.635"},{"$f":"'Calculs pour VMA'!F17","v":"1 tour 2 plots"},{"$f":"'Calculs pour VMA'!E17","v":9.877179332614423},288,null,{"$f":"'Calculs pour VMA'!D68","v":"00:08:12.504"},{"$f":"'Calculs pour VMA'!F68","v":"6 tours 3 plots"},{"$f":"'Calculs pour VMA'!E68","v":13.076667851631948},1512,null,"00:03:20",4,"T",null,10,null,"00:13:13",20,"T","1 plot",15]
[{"$f":"'Calculs pour VMA'!D18","v":"00:01:58.319"},{"$f":"'Calculs pour VMA'!F18","v":"1 tour 3 plots"},{"$f":"'Calculs pour VMA'!E18","v":9.9498085856854193},312,null,{"$f":"'Calculs pour VMA'!D69","v":"00:08:19.083"},{"$f":"'Calculs pour VMA'!F69","v":"6 tours 4 plots"},{"$f":"'Calculs pour VMA'!E69","v":13.131612560190597},1536,null,"00:03:35",4,"T","1 plot",10,null,"00:13:23",20,"T","2 plots",15]
[{"$f":"'Calculs pour VMA'!D19","v":"00:02:06.940"},{"$f":"'Calculs pour VMA'!F19","v":"1 tour 4 plots"},{"$f":"'Calculs pour VMA'!E19","v":10.021911477400165},336,null,{"$f":"'Calculs pour VMA'!D70","v":"00:08:25.636"},{"$f":"'Calculs pour VMA'!F70","v":"6 tours 5 plots"},{"$f":"'Calculs pour VMA'!E70","v":13.186328323502419},1560,null,"00:03:50",4,"T","2 plots",10,null,"00:13:33",21,"T",null,15]
[{"$f":"'Calculs pour VMA'!D20","v":"00:02:15.500"},{"$f":"'Calculs pour VMA'!F20","v":"1 tour 5 plots"},{"$f":"'Calculs pour VMA'!E20","v":10.093499289112232},360,null,{"$f":"'Calculs pour VMA'!D71","v":"00:08:32.161"},{"$f":"'Calculs pour VMA'!F71","v":"6 tours 6 plots"},{"$f":"'Calculs pour VMA'!E71","v":13.240817979912221},1584,null,"00:04:05",5,"T",null,10.5,null,"00:13:43",21,"T","1 plot",15]
[{"$f":"'Calculs pour VMA'!D21","v":"00:02:24"},{"$f":"'Calculs pour VMA'!F21","v":"1 tour 6 plots"},{"$f":"'Calculs pour VMA'!E21","v":10.164582904840135},384,null,{"$f":"'Calculs pour VMA'!D72","v":"00:08:38.659"},{"$f":"'Calculs pour VMA'!F72","v":"6 tours 7 plots"},{"$f":"'Calculs pour VMA'!E72","v":13.295084309601195},1608,null,"00:04:19",5,"T","1 plot",10.5,null,"00:13:53",21,"T","2 plots",15]
[{"$f":"'Calculs pour VMA'!D22","v":"00:02:32.441"},{"$f":"'Calculs pour VMA'!F22","v":"1 tour 7 plots"},{"$f":"'Calculs pour VMA'!E22","v":10.235172830587249},408,null,{"$f":"'Calculs pour VMA'!D73","v":"00:08:45.132"},{"$f":"'Calculs pour VMA'!F73","v":"6 tours 8 plots"},{"$f":"'Calculs pour VMA'!E73","v":13.349130036234559},1632,null,"00:04:33",5,"T","2 plots",10.5,null,"00:14:03",22,"T",null,15.5]
[{"$f":"'Calculs pour VMA'!D23","v":"00:02:40.826"},{"$f":"'Calculs pour VMA'!F23","v":"1 tour 8 plots"},{"$f":"'Calculs pour VMA'!E23","v":10.305279212471305},432,null,{"$f":"'Calculs pour VMA'!D74","v":"00:08:51.578"},{"$f":"'Calculs pour VMA'!F74","v":"6 tours 9 plots"},{"$f":"'Calculs pour VMA'!E74","v":13.402957828562212},1656,null,"00:04:48",6,"T",null,10.5,null,"00:14:13",22,"T","1 plot",15.5]
[{"$f":"'Calculs pour VMA'!D24","v":"00:02:49.153"},{"$f":"'Calculs pour VMA'!F24","v":"1 tour 9 plots"},{"$f":"'Calculs pour VMA'!E24","v":10.374911853753378},456,null,{"$f":"'Calculs pour VMA'!D75","v":"00:08:57.999"},{"$f":"'Calculs pour VMA'!F75","v":"7 tours "},{"$f":"'Calculs pour VMA'!E75","v":13.456570301952846},1680,null,"00:05:02",6,"T","1 plot",11,null,"00:14:22",22,"T","2 plots",15.5]
[{"$f":"'Calculs pour VMA'!D25","v":"00:02:57.426"},{"$f":"'Calculs pour VMA'!F25","v":"2 tours "},{"$f":"'Calculs pour VMA'!E25","v":10.444080230841264},480,null,{"$f":"'Calculs pour VMA'!D76","v":"00:09:04.394"},{"$f":"'Calculs pour VMA'!F76","v":"7 tours 1plot"},{"$f":"'Calculs pour VMA'!E76","v":13.509970019880777},1704,null,"00:05:16",6,"T","2 plots",11,null,"00:14:32",23,"T",null,15.5]
[{"$f":"'Calculs pour VMA'!D26","v":"00:03:05.644"},{"$f":"'Calculs pour VMA'!F26","v":"2 tours 1plot"},{"$f":"'Calculs pour VMA'!E26","v":10.512793508346114},504,null,{"$f":"'Calculs pour VMA'!D77","v":"00:09:10.764"},{"$f":"'Calculs pour VMA'!F77","v":"7 tours 2 plots"},{"$f":"'Calculs pour VMA'!E77","v":13.563159495350403},1728,null,"00:05:29",7,"T",null,11,null,"00:14:42",23,"T","1 plot",15.5]
[{"$f":"'Calculs pour VMA'!D27","v":"00:03:13.810"},{"$f":"'Calculs pour VMA'!F27","v":"2 tours 2 plots"},{"$f":"'Calculs pour VMA'!E27","v":10.581060553260105},528,null,{"$f":"'Calculs pour VMA'!D78","v":"00:09:17.110"},{"$f":"'Calculs pour VMA'!F78","v":"7 tours 3 plots"},{"$f":"'Calculs pour VMA'!E78","v":13.61614119228495},1752,null,"00:05:43",7,"T","1 plot",11,null,"00:14:51",23,"T","2 plots",15.5]
[{"$f":"'Calculs pour VMA'!D28","v":"00:03:21.924"},{"$f":"'Calculs pour VMA'!F28","v":"2 tours 3 plots"},{"$f":"'Calculs pour VMA'!E28","v":10.64888994831572},552,null,{"$f":"'Calculs pour VMA'!D79","v":"00:09:23.431"},{"$f":"'Calculs pour VMA'!F79","v":"7 tours 4 plots"},{"$f":"'Calculs pour VMA'!E79","v":13.668917526849414},1776,null,"00:05:56",7,"T","2 plots",11,null,"00:15:01",24,"T",null,16]
[{"$f":"'Calculs pour VMA'!D29","v":"00:03:29.986"},{"$f":"'Calculs pour VMA'!F29","v":"2 tours 4 plots"},{"$f":"'Calculs pour VMA'!E29","v":10.716290004580248},576,null,{"$f":"'Calculs pour VMA'!D80","v":"00:09:29.727"},{"$f":"'Calculs pour VMA'!F80","v":"7 tours 5 plots"},{"$f":"'Calculs pour VMA'!E80","v":13.721490868741702},1800,null,"00:06:10",8,"T",null,11.5,null,"00:15:10",24,"T","1 plot",16]
[{"$f":"'Calculs pour VMA'!D30","v":"00:03:37.998"},{"$f":"'Calculs pour VMA'!F30","v":"2 tours 5 plots"},{"$f":"'Calculs pour VMA'!E30","v":10.78326877334659},600,null,{"$f":"'Calculs pour VMA'!D81","v":"00:09:36"},{"$f":"'Calculs pour VMA'!F81","v":"7 tours 6 plots"},{"$f":"'Calculs pour VMA'!E81","v":13.773863542433604},1824,null,"00:06:23",8,"T","1 plot",11.5,null,"00:15:19",24,"T","2 plots",16]
[{"$f":"'Calculs pour VMA'!D31","v":"00:03:45.962"},{"$f":"'Calculs pour VMA'!F31","v":"2 tours 6 plots"},{"$f":"'Calculs pour VMA'!E31","v":10.849834057361011},624,null,{"$f":"'Calculs pour VMA'!D82","v":"00:09:42.249"},{"$f":"'Calculs pour VMA'!F82","v":"7 tours 7 plots"},{"$f":"'Calculs pour VMA'!E82","v":13.826037828369213},1848,null,"00:06:36",8,"T","2 plots",11.5,null,"00:15:29",25,"T",null,16]
[{"$f":"'Calculs pour VMA'!D32","v":"00:03:53.877"},{"$f":"'Calculs pour VMA'!F32","v":"2 tours 7 plots"},{"$f":"'Calculs pour VMA'!E32","v":10.91599342143366},648,null,{"$f":"'Calculs pour VMA'!D83","v":"00:09:48.475"},{"$f":"'Calculs pour VMA'!F83","v":"7 tours 8 plots"},{"$f":"'Calculs pour VMA'!E83","v":13.878015964123223},1872,null,"00:06:49",9,"T",null,11.5,null,"00:15:38",25,"T","1 plot",16]
[{"$f":"'Calculs pour VMA'!D33","v":"00:04:01.744"},{"$f":"'Calculs pour VMA'!F33","v":"2 tours 8 plots"},{"$f":"'Calculs pour VMA'!E33","v":10.981754202474191},672,null,{"$f":"'Calculs pour VMA'!D84","v":"00:09:54.677"},{"$f":"'Calculs pour VMA'!F84","v":"7 tours 9 plots"},{"$f":"'Calculs pour VMA'!E84","v":13.929800145521556},1896,null,"00:07:02",9,"T","1 plot",12,null,"00:15:47",25,"T","2 plots",16]
[{"$f":"'Calculs pour VMA'!D34","v":"00:04:09.565"},{"$f":"'Calculs pour VMA'!F34","v":"2 tours 9 plots"},{"$f":"'Calculs pour VMA'!E34","v":11.047123518991452},696,null,{"$f":"'Calculs pour VMA'!D85","v":"00:10:00.857"},{"$f":"'Calculs pour VMA'!F85","v":"8 tours "},{"$f":"'Calculs pour VMA'!E85","v":13.981392527724854},1920,null,"00:07:15",9,"T","2 plots",12,null,"00:15:57",26,"T",null,16]
[{"$f":"'Calculs pour VMA'!D35","v":"00:04:17.341"},{"$f":"'Calculs pour VMA'!F35","v":"3 tours "},{"$f":"'Calculs pour VMA'!E35","v":11.112108280087927},720,null,{"$f":"'Calculs pour VMA'!D86","v":"00:10:07.014"},{"$f":"'Calculs pour VMA'!F86","v":"8 tours 1plot"},{"$f":"'Calculs pour VMA'!E86","v":14.032795226273581},1944,null,"00:07:27",10,"T",null,12,null,"00:16:06",26,"T","1 plot",16.5]
[{"$f":"'Calculs pour VMA'!D36","v":"00:04:25.071"},{"$f":"'Calculs pour VMA'!F36","v":"3 tours 1plot"},{"$f":"'Calculs pour VMA'!E36","v":11.176715193982744},744,null,{"$f":"'Calculs pour VMA'!D87","v":"00:10:13.149"},{"$f":"'Calculs pour VMA'!F87","v":"8 tours 2 plots"},{"$f":"'Calculs pour VMA'!E87","v":14.084010318098512},1968,null,"00:07:40",10,"T","1 plot",12,null,"00:16:15",26,"T","2 plots",16.5]
[{"$f":"'Calculs pour VMA'!D37","v":"00:04:32.757"},{"$f":"'Calculs pour VMA'!F37","v":"3 tours 2 plots"},{"$f":"'Calculs pour VMA'!E37","v":11.240950776097486},768,null,{"$f":"'Calculs pour VMA'!D88","v":"00:10:19.261"},{"$f":"'Calculs pour VMA'!F88","v":"8 tours 3 plots"},{"$f":"'Calculs pour VMA'!E88","v":14.135039842506508},1992,null,"00:07:52",10,"T","2 plots",12,null,"00:16:24",27,"T",null,16.5]
[{"$f":"'Calculs pour VMA'!D38","v":"00:04:40.400"},{"$f":"'Calculs pour VMA'!F38","v":"3 tours 3 plots"},{"$f":"'Calculs pour VMA'!E38","v":11.304821356724416},792,null,{"$f":"'Calculs pour VMA'!D89","v":"00:10:25.352"},{"$f":"'Calculs pour VMA'!F89","v":"8 tours 4 plots"},{"$f":"'Calculs pour VMA'!E89","v":14.185885802120326},2016,null,"00:08:04",11,"T",null,12.5,null,"00:16:33",27,"T","1 plot",16.5]
[{"$f":"'Calculs pour VMA'!D39","v":"00:04:48"},{"$f":"'Calculs pour VMA'!F39","v":"3 tours 4 plots"},{"$f":"'Calculs pour VMA'!E39","v":11.368333088306894},816,null,{"$f":"'Calculs pour VMA'!D90","v":"00:10:31.420"},{"$f":"'Calculs pour VMA'!F90","v":"8 tours 5 plots"},{"$f":"'Calculs pour VMA'!E90","v":14.236550163798794},2040,null,"00:08:16",11,"T","1 plot",12.5,null,"00:16:42",27,"T","2 plots",16.5]
[{"$f":"'Calculs pour VMA'!D40","v":"00:04:55.558"},{"$f":"'Calculs pour VMA'!F40","v":"3 tours 5 plots"},{"$f":"'Calculs pour VMA'!E40","v":11.431491952363132},840,null,{"$f":"'Calculs pour VMA'!D91","v":"00:10:37.468"},{"$f":"'Calculs pour VMA'!F91","v":"8 tours 6 plots"},{"$f":"'Calculs pour VMA'!E91","v":14.287034859528832},2064,null,"00:08:28",11,"T","2 plots",12.5,null,"00:16:51",28,"T",null,16.5]
[{"$f":"'Calculs pour VMA'!D41","v":"00:05:03.075"},{"$f":"'Calculs pour VMA'!F41","v":"3 tours 6 plots"},{"$f":"'Calculs pour VMA'!E41","v":11.494303766052422},864,null,{"$f":"'Calculs pour VMA'!D92","v":"00:10:43.494"},{"$f":"'Calculs pour VMA'!F92","v":"8 tours 7 plots"},{"$f":"'Calculs pour VMA'!E92","v":14.337341787277389},2088,null,"00:08:40",12,"T",null,12.5,null,"00:17:00",28,"T","1 plot",17]
[{"$f":"'Calculs pour VMA'!D42","v":"00:05:10.551"},{"$f":"'Calculs pour VMA'!F42","v":"3 tours 7 plots"},{"$f":"'Calculs pour VMA'!E42","v":11.556774188437906},888,null,{"$f":"'Calculs pour VMA'!D93","v":"00:10:49.499"},{"$f":"'Calculs pour VMA'!F93","v":"8 tours 8 plots"},{"$f":"'Calculs pour VMA'!E93","v":14.387472811830103},2112,null,"00:08:52",12,"T","1 plot",12.5,null,"00:17:09",28,"T","2 plots",17]
[{"$f":"'Calculs pour VMA'!D43","v":"00:05:17.987"},{"$f":"'Calculs pour VMA'!F43","v":"3 tours 8 plots"},{"$f":"'Calculs pour VMA'!E43","v":11.618908726432561},912,null,{"$f":"'Calculs pour VMA'!D94","v":"00:10:55.484"},{"$f":"'Calculs pour VMA'!F94","v":"8 tours 9 plots"},{"$f":"'Calculs pour VMA'!E94","v":14.437429765595118},2136,null,"00:09:04",12,"T","2 plots",13,null,"00:17:18",29,"T",null,17]
[{"$f":"'Calculs pour VMA'!D44","v":"00:05:25.384"},{"$f":"'Calculs pour VMA'!F44","v":"3 tours 9 plots"},{"$f":"'Calculs pour VMA'!E44","v":11.680712740467284},936,null,{"$f":"'Calculs pour VMA'!D95","v":"00:11:01.448"},{"$f":"'Calculs pour VMA'!F95","v":"9 tours "},{"$f":"'Calculs pour VMA'!E95","v":14.487214449385105},2160,null,"00:09:16",13,"T",null,13,null,"00:17:27",29,"T","1 plot",17]
[{"$f":"'Calculs pour VMA'!D45","v":"00:05:32.742"},{"$f":"'Calculs pour VMA'!F45","v":"4 tours "},{"$f":"'Calculs pour VMA'!E45","v":11.74219144988758},960,null,{"$f":"'Calculs pour VMA'!D96","v":"00:11:07.391"},{"$f":"'Calculs pour VMA'!F96","v":"9 tours 1plot"},{"$f":"'Calculs pour VMA'!E96","v":14.536828633175496},2184,null,"00:09:27",13,"T","1 plot",13,null,"00:17:35",29,"T","2 plots",17]
[{"$f":"'Calculs pour VMA'!D46","v":"00:05:40.062"},{"$f":"'Calculs pour VMA'!F46","v":"4 tours 1plot"},{"$f":"'Calculs pour VMA'!E46","v":11.803349938099363},984,null,{"$f":"'Calculs pour VMA'!D97","v":"00:11:13.315"},{"$f":"'Calculs pour VMA'!F97","v":"9 tours 2 plots"},{"$f":"'Calculs pour VMA'!E97","v":14.586274056838727},2208,null,"00:09:39",13,"T","2 plots",13,null,"00:17:44",30,"T",null,17]
[{"$f":"'Calculs pour VMA'!D47","v":"00:05:47.344"},{"$f":"'Calculs pour VMA'!F47","v":"4 tours 2 plots"},{"$f":"'Calculs pour VMA'!E47","v":11.864193157474435},1008,null,{"$f":"'Calculs pour VMA'!D98","v":"00:11:19.218"},{"$f":"'Calculs pour VMA'!F98","v":"9 tours 3 plots"},{"$f":"'Calculs pour VMA'!E98","v":14.635552430853767},2232,null,"00:09:50",14,"T",null,13,null,"00:17:53",30,"T","1 plot",17]
[{"$f":"'Calculs pour VMA'!D48","v":"00:05:54.590"},{"$f":"'Calculs pour VMA'!F48","v":"4 tours 3 plots"},{"$f":"'Calculs pour VMA'!E48","v":11.924725934031061},1032,null,{"$f":"'Calculs pour VMA'!D99","v":"00:11:25.102"},{"$f":"'Calculs pour VMA'!F99","v":"9 tours 4 plots"},{"$f":"'Calculs pour VMA'!E99","v":14.684665437001044},2256,null,"00:10:02",14,"T","1 plot",13,null,"00:18:01",30,"T","2 plots",17.5]
[{"$f":"'Calculs pour VMA'!D49","v":"00:06:01.799"},{"$f":"'Calculs pour VMA'!F49","v":"4 tours 4 plots"},{"$f":"'Calculs pour VMA'!E49","v":11.984952971901556},1056,null,{"$f":"'Calculs pour VMA'!D100","v":"00:11:30.966"},{"$f":"'Calculs pour VMA'!F100","v":"9 tours 5 plots"},{"$f":"'Calculs pour VMA'!E100","v":14.733614729027392},2280,null,"00:10:13",14,"T","2 plots",13.5,null,"00:18:10",31,"T",null,17.5]
[{"$f":"'Calculs pour VMA'!D50","v":"00:06:08.972"},{"$f":"'Calculs pour VMA'!F50","v":"4 tours 5 plots"},{"$f":"'Calculs pour VMA'!E50","v":12.044878857599668},1080,null,{"$f":"'Calculs pour VMA'!D101","v":"00:11:36.811"},{"$f":"'Calculs pour VMA'!F101","v":"9 tours 6 plots"},{"$f":"'Calculs pour VMA'!E101","v":14.782401933301825},2304,null,"00:10:24",15,"T",null,13.5,null,"00:18:19",31,"T","1 plot",17.5]
[{"$f":"'Calculs pour VMA'!D51","v":"00:06:16.110"},{"$f":"'Calculs pour VMA'!F51","v":"4 tours 6 plots"},{"$f":"'Calculs pour VMA'!E51","v":12.104508064096516},1104,null,{"$f":"'Calculs pour VMA'!D102","v":"00:11:42.636"},{"$f":"'Calculs pour VMA'!F102","v":"9 tours 7 plots"},{"$f":"'Calculs pour VMA'!E102","v":14.831028649435462},2328,null,"00:10:35",15,"T","1 plot",13.5,null,"00:18:27",31,"T","2 plots",17.5]
[{"$f":"'Calculs pour VMA'!D52","v":"00:06:23.213"},{"$f":"'Calculs pour VMA'!F52","v":"4 tours 7 plots"},{"$f":"'Calculs pour VMA'!E52","v":12.163844954717726},1128,null,{"$f":"'Calculs pour VMA'!D103","v":"00:11:48.443"},{"$f":"'Calculs pour VMA'!F103","v":"9 tours 8 plots"},{"$f":"'Calculs pour VMA'!E103","v":14.879496450908778},2352,null,"00:10:46",15,"T","2 plots",13.5,null,"00:18:36",32,"T",null,17.5]
[{"$f":"'Calculs pour VMA'!D53","v":"00:06:30.282"},{"$f":"'Calculs pour VMA'!F53","v":"4 tours 8 plots"},{"$f":"'Calculs pour VMA'!E53","v":12.222893786868948},1152,null,{"$f":"'Calculs pour VMA'!D104","v":"00:11:54.231"},{"$f":"'Calculs pour VMA'!F104","v":"9 tours 9 plots"},{"$f":"'Calculs pour VMA'!E104","v":14.927806885650579},2376,null,"00:10:57",16,"T",null,13.5,null,"00:18:44",32,"T","1 plot",17.5]
[{"$f":"'Calculs pour VMA'!D54","v":"00:06:37.316"},{"$f":"'Calculs pour VMA'!F54","v":"4 tours 9 plots"},{"$f":"'Calculs pour VMA'!E54","v":12.281658715603642},1176,null,{"$f":"'Calculs pour VMA'!D105","v":"00:12:00"},{"$f":"'Calculs pour VMA'!F105","v":"10 tours "},{"$f":"'Calculs pour VMA'!E105","v":14.975961476626162},2400]
[{"$f":"'Calculs pour VMA'!D55","v":"00:06:44.318"},{"$f":"'Calculs pour VMA'!F55","v":"5 tours "},{"$f":"'Calculs pour VMA'!E55","v":12.340143797031327},1200,null,{"$f":"'Calculs pour VMA'!D106","v":"00:12:05.751"},{"$f":"'Calculs pour VMA'!F106","v":"10 tours 1plot"},{"$f":"'Calculs pour VMA'!E106","v":15.023961722391258},2424]
[{"$f":"'Calculs pour VMA'!D56","v":"00:06:51.287"},{"$f":"'Calculs pour VMA'!F56","v":"5 tours 1plot"},{"$f":"'Calculs pour VMA'!E56","v":12.3983529915891},1224,null,{"$f":"'Calculs pour VMA'!D107","v":"00:12:11.483"},{"$f":"'Calculs pour VMA'!F107","v":"10 tours 2 plots"},{"$f":"'Calculs pour VMA'!E107","v":15.071809097636102},2448,null,"00:11:08",16,"T","1 plot",14,null,"00:18:53",32,"T","2 plots",17.5]
["Temps de passage","Nombre                 de tours","VMA                  en Km/h",null,{"$f":"\"Résultats \"&\"                                            \"&\"Test VMA \"&'Caractéristiques test'!$B$5  &\" \"&\"Km/h\"","v":"Résultats                                             Test VMA 9 Km/h"},"Temps de passage","Nombre                 de tours","VMA                  en Km/h",null,{"$f":"\"Résultats \"&\"                                            \"&\"Test VMA \"&'Caractéristiques test'!$B$5  &\" \"&\"Km/h\"","v":"Résultats                                             Test VMA 9 Km/h"}]
[]
[{"$f":"'Calculs pour VMA'!D108","v":"00:12:17.198"},{"$f":"'Calculs pour VMA'!F108","v":"10 tours 3 plots"},{"$f":"'Calculs pour VMA'!E108","v":15.119505053719951},null,null,{"$f":"'Calculs pour VMA'!D159","v":"00:16:48"},{"$f":"'Calculs pour VMA'!F159","v":"15 tours 4 plots"},{"$f":"'Calculs pour VMA'!E159","v":17.379285684894008}]
[{"$f":"'Calculs pour VMA'!D109","v":"00:12:22.894"},{"$f":"'Calculs pour VMA'!F109","v":"10 tours 4 plots"},{"$f":"'Calculs pour VMA'!E109","v":15.167051019177272},null,null,{"$f":"'Calculs pour VMA'!D160","v":"00:16:52.960"},{"$f":"'Calculs pour VMA'!F160","v":"15 tours 5 plots"},{"$f":"'Calculs pour VMA'!E160","v":17.420665112248525}]
[{"$f":"'Calculs pour VMA'!D110","v":"00:12:28.573"},{"$f":"'Calculs pour VMA'!F110","v":"10 tours 5 plots"},{"$f":"'Calculs pour VMA'!E110","v":15.214448400223162},null,null,{"$f":"'Calculs pour VMA'!D161","v":"00:16:57.908"},{"$f":"'Calculs pour VMA'!F161","v":"15 tours 6 plots"},{"$f":"'Calculs pour VMA'!E161","v":17.461946482848916}]
[{"$f":"'Calculs pour VMA'!D111","v":"00:12:34.234"},{"$f":"'Calculs pour VMA'!F111","v":"10 tours 6 plots"},{"$f":"'Calculs pour VMA'!E111","v":15.261698581234413},null,null,{"$f":"'Calculs pour VMA'!D162","v":"00:17:02.844"},{"$f":"'Calculs pour VMA'!F162","v":"15 tours 7 plots"},{"$f":"'Calculs pour VMA'!E162","v":17.50313049050721}]
[{"$f":"'Calculs pour VMA'!D112","v":"00:12:39.878"},{"$f":"'Calculs pour VMA'!F112","v":"10 tours 7 plots"},{"$f":"'Calculs pour VMA'!E112","v":15.308802925222782},null,null,{"$f":"'Calculs pour VMA'!D163","v":"00:17:07.768"},{"$f":"'Calculs pour VMA'!F163","v":"15 tours 8 plots"},{"$f":"'Calculs pour VMA'!E163","v":17.54421782088864}]
[{"$f":"'Calculs pour VMA'!D113","v":"00:12:45.505"},{"$f":"'Calculs pour VMA'!F113","v":"10 tours 8 plots"},{"$f":"'Calculs pour VMA'!E113","v":15.355762774294801},null,null,{"$f":"'Calculs pour VMA'!D164","v":"00:17:12.682"},{"$f":"'Calculs pour VMA'!F164","v":"15 tours 9 plots"},{"$f":"'Calculs pour VMA'!E164","v":17.58520915165586}]
[{"$f":"'Calculs pour VMA'!D114","v":"00:12:51.114"},{"$f":"'Calculs pour VMA'!F114","v":"10 tours 9 plots"},{"$f":"'Calculs pour VMA'!E114","v":15.402579450094656},null,null,{"$f":"'Calculs pour VMA'!D165","v":"00:17:17.584"},{"$f":"'Calculs pour VMA'!F165","v":"16 tours "},{"$f":"'Calculs pour VMA'!E165","v":17.626105152583673}]
[{"$f":"'Calculs pour VMA'!D115","v":"00:12:56.707"},{"$f":"'Calculs pour VMA'!F115","v":"11 tours "},{"$f":"'Calculs pour VMA'!E115","v":15.449254254246075},null,null,{"$f":"'Calculs pour VMA'!D166","v":"00:17:22.474"},{"$f":"'Calculs pour VMA'!F166","v":"16 tours 1plot"},{"$f":"'Calculs pour VMA'!E166","v":17.666906485701006}]
[{"$f":"'Calculs pour VMA'!D116","v":"00:13:02.282"},{"$f":"'Calculs pour VMA'!F116","v":"11 tours 1plot"},{"$f":"'Calculs pour VMA'!E116","v":15.495788468762925},null,null,{"$f":"'Calculs pour VMA'!D167","v":"00:17:27.353"},{"$f":"'Calculs pour VMA'!F167","v":"16 tours 2 plots"},{"$f":"'Calculs pour VMA'!E167","v":17.707613805407675}]
[{"$f":"'Calculs pour VMA'!D117","v":"00:13:07.842"},{"$f":"'Calculs pour VMA'!F117","v":"11 tours 2 plots"},{"$f":"'Calculs pour VMA'!E117","v":15.542183356470231},null,null,{"$f":"'Calculs pour VMA'!D168","v":"00:17:32.221"},{"$f":"'Calculs pour VMA'!F168","v":"16 tours 3 plots"},{"$f":"'Calculs pour VMA'!E168","v":17.748227758592755}]
[{"$f":"'Calculs pour VMA'!D118","v":"00:13:13.384"},{"$f":"'Calculs pour VMA'!F118","v":"11 tours 3 plots"},{"$f":"'Calculs pour VMA'!E118","v":15.588440161397768},null,null,{"$f":"'Calculs pour VMA'!D169","v":"00:17:37.078"},{"$f":"'Calculs pour VMA'!F169","v":"16 tours 4 plots"},{"$f":"'Calculs pour VMA'!E169","v":17.788748984769995}]
[{"$f":"'Calculs pour VMA'!D119","v":"00:13:18.910"},{"$f":"'Calculs pour VMA'!F119","v":"11 tours 4 plots"},{"$f":"'Calculs pour VMA'!E119","v":15.634560109175599},null,null,{"$f":"'Calculs pour VMA'!D170","v":"00:17:41.924"},{"$f":"'Calculs pour VMA'!F170","v":"16 tours 5 plots"},{"$f":"'Calculs pour VMA'!E170","v":17.829178116180049}]
[{"$f":"'Calculs pour VMA'!D120","v":"00:13:24.420"},{"$f":"'Calculs pour VMA'!F120","v":"11 tours 5 plots"},{"$f":"'Calculs pour VMA'!E120","v":15.680544407400241},null,null,{"$f":"'Calculs pour VMA'!D171","v":"00:17:46.759"},{"$f":"'Calculs pour VMA'!F171","v":"16 tours 6 plots"},{"$f":"'Calculs pour VMA'!E171","v":17.869515777911506}]
[{"$f":"'Calculs pour VMA'!D121","v":"00:13:29.914"},{"$f":"'Calculs pour VMA'!F121","v":"11 tours 6 plots"},{"$f":"'Calculs pour VMA'!E121","v":15.726394246026974},null,null,{"$f":"'Calculs pour VMA'!D172","v":"00:17:51.584"},{"$f":"'Calculs pour VMA'!F172","v":"16 tours 7 plots"},{"$f":"'Calculs pour VMA'!E172","v":17.909762588015393}]
[{"$f":"'Calculs pour VMA'!D122","v":"00:13:35.392"},{"$f":"'Calculs pour VMA'!F122","v":"11 tours 7 plots"},{"$f":"'Calculs pour VMA'!E122","v":15.772110797695678},null,null,{"$f":"'Calculs pour VMA'!D173","v":"00:17:56.397"},{"$f":"'Calculs pour VMA'!F173","v":"16 tours 8 plots"},{"$f":"'Calculs pour VMA'!E173","v":17.949919157613984}]
[{"$f":"'Calculs pour VMA'!D123","v":"00:13:40.855"},{"$f":"'Calculs pour VMA'!F123","v":"11 tours 8 plots"},{"$f":"'Calculs pour VMA'!E123","v":15.817695218119555},null,null,{"$f":"'Calculs pour VMA'!D174","v":"00:18:01.200"},{"$f":"'Calculs pour VMA'!F174","v":"16 tours 9 plots"},{"$f":"'Calculs pour VMA'!E174","v":17.989986091004848}]
[{"$f":"'Calculs pour VMA'!D124","v":"00:13:46.301"},{"$f":"'Calculs pour VMA'!F124","v":"11 tours 9 plots"},{"$f":"'Calculs pour VMA'!E124","v":15.86314864639094},null,null,{"$f":"'Calculs pour VMA'!D175","v":"00:18:05.992"},{"$f":"'Calculs pour VMA'!F175","v":"17 tours "},{"$f":"'Calculs pour VMA'!E175","v":18.029963985777329}]
[{"$f":"'Calculs pour VMA'!D125","v":"00:13:51.732"},{"$f":"'Calculs pour VMA'!F125","v":"12 tours "},{"$f":"'Calculs pour VMA'!E125","v":15.908472205334949},null,null,{"$f":"'Calculs pour VMA'!D176","v":"00:18:10.773"},{"$f":"'Calculs pour VMA'!F176","v":"17 tours 1plot"},{"$f":"'Calculs pour VMA'!E176","v":18.0698534329035}]
[{"$f":"'Calculs pour VMA'!D126","v":"00:13:57.148"},{"$f":"'Calculs pour VMA'!F126","v":"12 tours 1plot"},{"$f":"'Calculs pour VMA'!E126","v":15.953667001828183},null,null,{"$f":"'Calculs pour VMA'!D177","v":"00:18:15.544"},{"$f":"'Calculs pour VMA'!F177","v":"17 tours 2 plots"},{"$f":"'Calculs pour VMA'!E177","v":18.109655016850549}]
[{"$f":"'Calculs pour VMA'!D127","v":"00:14:02.548"},{"$f":"'Calculs pour VMA'!F127","v":"12 tours 2 plots"},{"$f":"'Calculs pour VMA'!E127","v":15.998734127107802},null,null,{"$f":"'Calculs pour VMA'!D178","v":"00:18:20.305"},{"$f":"'Calculs pour VMA'!F178","v":"17 tours 3 plots"},{"$f":"'Calculs pour VMA'!E178","v":18.149369315679181}]
[{"$f":"'Calculs pour VMA'!D128","v":"00:14:07.934"},{"$f":"'Calculs pour VMA'!F128","v":"12 tours 3 plots"},{"$f":"'Calculs pour VMA'!E128","v":16.043674657088818},null,null,{"$f":"'Calculs pour VMA'!D179","v":"00:18:25.055"},{"$f":"'Calculs pour VMA'!F179","v":"17 tours 4 plots"},{"$f":"'Calculs pour VMA'!E179","v":18.188996901132274}]
[{"$f":"'Calculs pour VMA'!D129","v":"00:14:13.304"},{"$f":"'Calculs pour VMA'!F129","v":"12 tours 4 plots"},{"$f":"'Calculs pour VMA'!E129","v":16.088489652655525},null,null,{"$f":"'Calculs pour VMA'!D180","v":"00:18:29.795"},{"$f":"'Calculs pour VMA'!F180","v":"17 tours 5 plots"},{"$f":"'Calculs pour VMA'!E180","v":18.228538338744539}]
[{"$f":"'Calculs pour VMA'!D130","v":"00:14:18.659"},{"$f":"'Calculs pour VMA'!F130","v":"12 tours 5 plots"},{"$f":"'Calculs pour VMA'!E130","v":16.133180159961238},null,null,{"$f":"'Calculs pour VMA'!D181","v":"00:18:34.524"},{"$f":"'Calculs pour VMA'!F181","v":"17 tours 6 plots"},{"$f":"'Calculs pour VMA'!E181","v":18.267994187923158}]
[{"$f":"'Calculs pour VMA'!D131","v":"00:14:24"},{"$f":"'Calculs pour VMA'!F131","v":"12 tours 6 plots"},{"$f":"'Calculs pour VMA'!E131","v":16.177747210701288},null,null,{"$f":"'Calculs pour VMA'!D182","v":"00:18:39.244"},{"$f":"'Calculs pour VMA'!F182","v":"17 tours 7 plots"},{"$f":"'Calculs pour VMA'!E182","v":18.307365002058091}]
[{"$f":"'Calculs pour VMA'!D132","v":"00:14:29.326"},{"$f":"'Calculs pour VMA'!F132","v":"12 tours 7 plots"},{"$f":"'Calculs pour VMA'!E132","v":16.222191822408274},null,null,{"$f":"'Calculs pour VMA'!D183","v":"00:18:43.953"},{"$f":"'Calculs pour VMA'!F183","v":"17 tours 8 plots"},{"$f":"'Calculs pour VMA'!E183","v":18.346651328588937}]
[{"$f":"'Calculs pour VMA'!D133","v":"00:14:34.638"},{"$f":"'Calculs pour VMA'!F133","v":"12 tours 8 plots"},{"$f":"'Calculs pour VMA'!E133","v":16.266514998707432},null,null,{"$f":"'Calculs pour VMA'!D184","v":"00:18:48.652"},{"$f":"'Calculs pour VMA'!F184","v":"17 tours 9 plots"},{"$f":"'Calculs pour VMA'!E184","v":18.385853709115498}]
[{"$f":"'Calculs pour VMA'!D134","v":"00:14:39.935"},{"$f":"'Calculs pour VMA'!F134","v":"12 tours 9 plots"},{"$f":"'Calculs pour VMA'!E134","v":16.310717729589264},null,null,{"$f":"'Calculs pour VMA'!D185","v":"00:18:53.341"},{"$f":"'Calculs pour VMA'!F185","v":"18 tours "},{"$f":"'Calculs pour VMA'!E185","v":18.424972679470823}]
[{"$f":"'Calculs pour VMA'!D135","v":"00:14:45.218"},{"$f":"'Calculs pour VMA'!F135","v":"13 tours "},{"$f":"'Calculs pour VMA'!E135","v":16.354800991663144},null,null,{"$f":"'Calculs pour VMA'!D186","v":"00:18:58.021"},{"$f":"'Calculs pour VMA'!F186","v":"18 tours 1plot"},{"$f":"'Calculs pour VMA'!E186","v":18.464008769813368}]
[{"$f":"'Calculs pour VMA'!D136","v":"00:14:50.486"},{"$f":"'Calculs pour VMA'!F136","v":"13 tours 1plot"},{"$f":"'Calculs pour VMA'!E136","v":16.398765748415919},null,null,{"$f":"'Calculs pour VMA'!D187","v":"00:19:02.690"},{"$f":"'Calculs pour VMA'!F187","v":"18 tours 2 plots"},{"$f":"'Calculs pour VMA'!E187","v":18.502962504708794}]
[{"$f":"'Calculs pour VMA'!D137","v":"00:14:55.741"},{"$f":"'Calculs pour VMA'!F137","v":"13 tours 2 plots"},{"$f":"'Calculs pour VMA'!E137","v":16.442612950449856},null,null,{"$f":"'Calculs pour VMA'!D188","v":"00:19:07.350"},{"$f":"'Calculs pour VMA'!F188","v":"18 tours 3 plots"},{"$f":"'Calculs pour VMA'!E188","v":18.541834403215102}]
[{"$f":"'Calculs pour VMA'!D138","v":"00:15:00.982"},{"$f":"'Calculs pour VMA'!F138","v":"13 tours 3 plots"},{"$f":"'Calculs pour VMA'!E138","v":16.486343535725172},null,null,{"$f":"'Calculs pour VMA'!D189","v":"00:19:12"},{"$f":"'Calculs pour VMA'!F189","v":"18 tours 4 plots"},{"$f":"'Calculs pour VMA'!E189","v":18.580624978955381}]
[{"$f":"'Calculs pour VMA'!D139","v":"00:15:06.208"},{"$f":"'Calculs pour VMA'!F139","v":"13 tours 4 plots"},{"$f":"'Calculs pour VMA'!E139","v":16.529958429799947},null,null,{"$f":"'Calculs pour VMA'!D190","v":"00:19:16.640"},{"$f":"'Calculs pour VMA'!F190","v":"18 tours 5 plots"},{"$f":"'Calculs pour VMA'!E190","v":18.619334740204771}]
[{"$f":"'Calculs pour VMA'!D140","v":"00:15:11.422"},{"$f":"'Calculs pour VMA'!F140","v":"13 tours 5 plots"},{"$f":"'Calculs pour VMA'!E140","v":16.573458546043561},null,null,{"$f":"'Calculs pour VMA'!D191","v":"00:19:21.271"},{"$f":"'Calculs pour VMA'!F191","v":"18 tours 6 plots"},{"$f":"'Calculs pour VMA'!E191","v":18.657964189968833}]
[{"$f":"'Calculs pour VMA'!D141","v":"00:15:16.621"},{"$f":"'Calculs pour VMA'!F141","v":"13 tours 6 plots"},{"$f":"'Calculs pour VMA'!E141","v":16.616844785881177},null,null,{"$f":"'Calculs pour VMA'!D192","v":"00:19:25.892"},{"$f":"'Calculs pour VMA'!F192","v":"18 tours 7 plots"},{"$f":"'Calculs pour VMA'!E192","v":18.696513826053543}]
[{"$f":"'Calculs pour VMA'!D142","v":"00:15:21.807"},{"$f":"'Calculs pour VMA'!F142","v":"13 tours 7 plots"},{"$f":"'Calculs pour VMA'!E142","v":16.660118038991328},null,null,{"$f":"'Calculs pour VMA'!D193","v":"00:19:30.504"},{"$f":"'Calculs pour VMA'!F193","v":"18 tours 8 plots"},{"$f":"'Calculs pour VMA'!E193","v":18.734984141142071}]
[{"$f":"'Calculs pour VMA'!D143","v":"00:15:26.980"},{"$f":"'Calculs pour VMA'!F143","v":"13 tours 8 plots"},{"$f":"'Calculs pour VMA'!E143","v":16.703279183535109},null,null,{"$f":"'Calculs pour VMA'!D194","v":"00:19:35.106"},{"$f":"'Calculs pour VMA'!F194","v":"18 tours 9 plots"},{"$f":"'Calculs pour VMA'!E194","v":18.773375622871704}]
[{"$f":"'Calculs pour VMA'!D144","v":"00:15:32.139"},{"$f":"'Calculs pour VMA'!F144","v":"13 tours 9 plots"},{"$f":"'Calculs pour VMA'!E144","v":16.746329086348258},null,null,{"$f":"'Calculs pour VMA'!D195","v":"00:19:39.699"},{"$f":"'Calculs pour VMA'!F195","v":"19 tours "},{"$f":"'Calculs pour VMA'!E195","v":18.811688753904956}]
[{"$f":"'Calculs pour VMA'!D145","v":"00:15:37.285"},{"$f":"'Calculs pour VMA'!F145","v":"14 tours "},{"$f":"'Calculs pour VMA'!E145","v":16.789268603162682},null,null,{"$f":"'Calculs pour VMA'!D196","v":"00:19:44.283"},{"$f":"'Calculs pour VMA'!F196","v":"19 tours 1plot"},{"$f":"'Calculs pour VMA'!E196","v":18.849924011996258}]
[{"$f":"'Calculs pour VMA'!D146","v":"00:15:42.418"},{"$f":"'Calculs pour VMA'!F146","v":"14 tours 1plot"},{"$f":"'Calculs pour VMA'!E146","v":16.832098578786105},null,null,{"$f":"'Calculs pour VMA'!D197","v":"00:19:48.857"},{"$f":"'Calculs pour VMA'!F197","v":"19 tours 2 plots"},{"$f":"'Calculs pour VMA'!E197","v":18.888081870062258}]
[{"$f":"'Calculs pour VMA'!D147","v":"00:15:47.538"},{"$f":"'Calculs pour VMA'!F147","v":"14 tours 2 plots"},{"$f":"'Calculs pour VMA'!E147","v":16.874819847310039},null,null,{"$f":"'Calculs pour VMA'!D198","v":"00:19:53.422"},{"$f":"'Calculs pour VMA'!F198","v":"19 tours 3 plots"},{"$f":"'Calculs pour VMA'!E198","v":18.926162796261117}]
[{"$f":"'Calculs pour VMA'!D148","v":"00:15:52.646"},{"$f":"'Calculs pour VMA'!F148","v":"14 tours 3 plots"},{"$f":"'Calculs pour VMA'!E148","v":16.917433232293309},null,null,{"$f":"'Calculs pour VMA'!D199","v":"00:19:57.978"},{"$f":"'Calculs pour VMA'!F199","v":"19 tours 4 plots"},{"$f":"'Calculs pour VMA'!E199","v":18.964167254041055}]
[{"$f":"'Calculs pour VMA'!D149","v":"00:15:57.740"},{"$f":"'Calculs pour VMA'!F149","v":"14 tours 4 plots"},{"$f":"'Calculs pour VMA'!E149","v":16.959939546946984},null,null,{"$f":"'Calculs pour VMA'!D200","v":"00:20:02.525"},{"$f":"'Calculs pour VMA'!F200","v":"19 tours 5 plots"},{"$f":"'Calculs pour VMA'!E200","v":19.002095702223492}]
[{"$f":"'Calculs pour VMA'!D150","v":"00:16:02.822"},{"$f":"'Calculs pour VMA'!F150","v":"14 tours 5 plots"},{"$f":"'Calculs pour VMA'!E150","v":17.002339594316791},null,null,{"$f":"'Calculs pour VMA'!D201","v":"00:20:07.063"},{"$f":"'Calculs pour VMA'!F201","v":"19 tours 6 plots"},{"$f":"'Calculs pour VMA'!E201","v":19.039948595049868}]
[{"$f":"'Calculs pour VMA'!D151","v":"00:16:07.891"},{"$f":"'Calculs pour VMA'!F151","v":"14 tours 6 plots"},{"$f":"'Calculs pour VMA'!E151","v":17.044634167464714},null,null,{"$f":"'Calculs pour VMA'!D202","v":"00:20:11.592"},{"$f":"'Calculs pour VMA'!F202","v":"19 tours 7 plots"},{"$f":"'Calculs pour VMA'!E202","v":19.077726382263709}]
[{"$f":"'Calculs pour VMA'!D152","v":"00:16:12.947"},{"$f":"'Calculs pour VMA'!F152","v":"14 tours 7 plots"},{"$f":"'Calculs pour VMA'!E152","v":17.086824049626319},null,null,{"$f":"'Calculs pour VMA'!D203","v":"00:20:16.111"},{"$f":"'Calculs pour VMA'!F203","v":"19 tours 8 plots"},{"$f":"'Calculs pour VMA'!E203","v":19.115429509165164}]
[{"$f":"'Calculs pour VMA'!D153","v":"00:16:17.991"},{"$f":"'Calculs pour VMA'!F153","v":"14 tours 8 plots"},{"$f":"'Calculs pour VMA'!E153","v":17.12891001440347},null,null,{"$f":"'Calculs pour VMA'!D204","v":"00:20:20.623"},{"$f":"'Calculs pour VMA'!F204","v":"19 tours 9 plots"},{"$f":"'Calculs pour VMA'!E204","v":19.153058416662962}]
[{"$f":"'Calculs pour VMA'!D154","v":"00:16:23.023"},{"$f":"'Calculs pour VMA'!F154","v":"14 tours 9 plots"},{"$f":"'Calculs pour VMA'!E154","v":17.170892825911142},null,null,{"$f":"'Calculs pour VMA'!D205","v":"00:20:25.125"},{"$f":"'Calculs pour VMA'!F205","v":"20 tours "},{"$f":"'Calculs pour VMA'!E205","v":19.19061354135269}]
[{"$f":"'Calculs pour VMA'!D155","v":"00:16:28.043"},{"$f":"'Calculs pour VMA'!F155","v":"15 tours "},{"$f":"'Calculs pour VMA'!E155","v":17.21277323894309},null,null,{"$f":"'Calculs pour VMA'!D206","v":"00:20:29.618"},{"$f":"'Calculs pour VMA'!F206","v":"20 tours 1plot"},{"$f":"'Calculs pour VMA'!E206","v":19.22809531555653}]
[{"$f":"'Calculs pour VMA'!D156","v":"00:16:33.050"},{"$f":"'Calculs pour VMA'!F156","v":"15 tours 1plot"},{"$f":"'Calculs pour VMA'!E156","v":17.254551999139416},null,null,{"$f":"'Calculs pour VMA'!D207","v":"00:20:34.103"},{"$f":"'Calculs pour VMA'!F207","v":"20 tours 2 plots"},{"$f":"'Calculs pour VMA'!E207","v":19.265504167400398}]
[{"$f":"'Calculs pour VMA'!D157","v":"00:16:38.045"},{"$f":"'Calculs pour VMA'!F157","v":"15 tours 2 plots"},{"$f":"'Calculs pour VMA'!E157","v":17.296229843130781},null,null,{"$f":"'Calculs pour VMA'!D208","v":"00:20:38.579"},{"$f":"'Calculs pour VMA'!F208","v":"20 tours 3 plots"},{"$f":"'Calculs pour VMA'!E208","v":19.302840520854723}]
[{"$f":"'Calculs pour VMA'!D158","v":"00:16:43.029"},{"$f":"'Calculs pour VMA'!F158","v":"15 tours 3 plots"},{"$f":"'Calculs pour VMA'!E158","v":17.337807498690243},null,null,{"$f":"'Calculs pour VMA'!D209","v":"00:20:43.046"},{"$f":"'Calculs pour VMA'!F209","v":"20 tours 4 plots"},{"$f":"'Calculs pour VMA'!E209","v":19.340104795803576}]

{"sheet":"TUTORIEL","index":5,"n_rows":0,"n_cols":0,"rows_kept":0,"cut":false,"hidden":false,"merged":[]}